Workbook

Sheet แผ่นงาน1
A1: สรุปการช่วยเหลือทางการเงินแก่ผู้เสียหายและจำเลยในคดีอาญา
A2: สำนักงานช่วยเหลือทางการเงินแก่ผู้เสียหายและจำเลยในคดีอาญา กรมคุ้มครองสิทธิและเสรีภาพ
A3: ประจำปีงบประมาณ 2567
A4: ประจำ เดือน | B4: ประเภท ผู้ยื่นคำขอ | C4: ส่วนกลาง | I4: ส่วนภูมิภาค | O4: รวมทั้งหมด
C5: ผู้มายื่น คำขอ | D5: ผลการพิจารณาคณะกรรมการ/คณะอนุกรรมการ | I5: ผู้มายื่น คำขอ | J5: ผลการพิจารณาคณะกรรมการ/คณะอนุกรรมการ | O5: ผู้มายื่น คำขอ | P5: ผลการพิจารณาคณะกรรมการ/คณะอนุกรรมการ
D6: จ่าย | E6: ไม่จ่าย | F6: รวม | G6: จำนวนเงิน (บาท) | J6: จ่าย | K6: ไม่จ่าย | L6: รวม | M6: จำนวนเงิน (บาท) | P6: จ่าย | Q6: ไม่จ่าย | R6: รวม | S6: จำนวนเงิน (บาท)
A7: ตุลาคม 2566 | B7: ผู้เสียหาย | C7: =[1]สำหรับหยอดผู้ยื่น!C4 -> 166 | D7: =[1]สำหรับหยอดผลพิจารณา!C4 -> 7 | E7: =[1]สำหรับหยอดผลพิจารณา!D4 -> 0 | F7: =[1]สำหรับหยอดผลพิจารณา!E4 -> 7 | G7: =[1]สำหรับหยอดผลพิจารณา!L4 -> 650000 | I7: =[1]สำหรับหยอดผู้ยื่น!D4 -> 1091 | J7: =[1]สำหรับหยอดผลพิจารณา!F4 -> 635 | K7: =[1]สำหรับหยอดผลพิจารณา!G4 -> 266 | L7: =[1]สำหรับหยอดผลพิจารณา!H4 -> 901 | M7: =[1]สำหรับหยอดผลพิจารณา!M4 -> 29240497 | O7: =C7+I7 -> 1257 | P7: =D7+J7 -> 642 | Q7: =E7+K7 -> 266 | R7: =F7+L7 -> 908 | S7: =G7+M7 -> 29890497
B8: จำเลย | C8: =[1]สำหรับหยอดผู้ยื่น!C5 -> 9 | D8: =[1]สำหรับหยอดผลพิจารณา!C5 -> 3 | E8: =[1]สำหรับหยอดผลพิจารณา!D5 -> 2 | F8: =[1]สำหรับหยอดผลพิจารณา!E5 -> 5 | G8: =[1]สำหรับหยอดผลพิจารณา!L5 -> 2092049 | I8: =[1]สำหรับหยอดผู้ยื่น!D5 -> 21 | J8: =[1]สำหรับหยอดผลพิจารณา!F5 -> 4 | K8: =[1]สำหรับหยอดผลพิจารณา!G5 -> 26 | L8: =[1]สำหรับหยอดผลพิจารณา!H5 -> 30 | M8: =[1]สำหรับหยอดผลพิจารณา!M5 -> 1532428 | O8: =C8+I8 -> 30 | P8: =D8+J8 -> 7 | Q8: =E8+K8 -> 28 | R8: =F8+L8 -> 35 | S8: =G8+M8 -> 3624477
B9: รวม | C9: =SUM(C7:C8) -> 175 | D9: =SUM(D7:D8) -> 10 | E9: =SUM(E7:E8) -> 2 | F9: =SUM(F7:F8) -> 12 | G9: =SUM(G7:G8) -> 2742049 | I9: =SUM(I7:I8) -> 1112 | J9: =SUM(J7:J8) -> 639 | K9: =SUM(K7:K8) -> 292 | L9: =SUM(L7:L8) -> 931 | M9: =SUM(M7:M8) -> 30772925 | O9: =C9+I9 -> 1287 | P9: =D9+J9 -> 649 | Q9: =E9+K9 -> 294 | R9: =F9+L9 -> 943 | S9: =G9+M9 -> 33514974
A10: พฤศจิกายน 2566 | B10: ผู้เสียหาย | C10: =[1]สำหรับหยอดผู้ยื่น!C7 -> 178 | D10: =[1]สำหรับหยอดผลพิจารณา!C7 -> 118 | E10: =[1]สำหรับหยอดผลพิจารณา!D7 -> 40 | F10: =[1]สำหรับหยอดผลพิจารณา!E7 -> 158 | G10: =[1]สำหรับหยอดผลพิจารณา!L7 -> 6935010.2 | I10: =[1]สำหรับหยอดผู้ยื่น!D7 -> 1075 | J10: =[1]สำหรับหยอดผลพิจารณา!F7 -> 772 | K10: =[1]สำหรับหยอดผลพิจารณา!G7 -> 384 | L10: =[1]สำหรับหยอดผลพิจารณา!H7 -> 1156 | M10: =[1]สำหรับหยอดผลพิจารณา!M7 -> 39537916 | O10: =C10+I10 -> 1253 | P10: =D10+J10 -> 890 | Q10: =E10+K10 -> 424 | R10: =F10+L10 -> 1314 | S10: =G10+M10 -> 46472926
B11: จำเลย | C11: =[1]สำหรับหยอดผู้ยื่น!C8 -> 10 | D11: =[1]สำหรับหยอดผลพิจารณา!C8 -> 0 | E11: =[1]สำหรับหยอดผลพิจารณา!D8 -> 0 | F11: =[1]สำหรับหยอดผลพิจารณา!E8 -> 0 | G11: =[1]สำหรับหยอดผลพิจารณา!L8 -> 0 | I11: =[1]สำหรับหยอดผู้ยื่น!D8 -> 30 | J11: =[1]สำหรับหยอดผลพิจารณา!F8 -> 2 | K11: =[1]สำหรับหยอดผลพิจารณา!G8 -> 14 | L11: =[1]สำหรับหยอดผลพิจารณา!H8 -> 16 | M11: =[1]สำหรับหยอดผลพิจารณา!M8 -> 274883 | O11: =C11+I11 -> 40 | P11: =D11+J11 -> 2 | Q11: =E11+K11 -> 14 | R11: =F11+L11 -> 16 | S11: =G11+M11 -> 274883
B12: รวม | C12: =SUM(C10:C11) -> 188 | D12: =SUM(D10:D11) -> 118 | E12: =SUM(E10:E11) -> 40 | F12: =SUM(F10:F11) -> 158 | G12: =SUM(G10:G11) -> 6935010.2 | I12: =SUM(I10:I11) -> 1105 | J12: =SUM(J10:J11) -> 774 | K12: =SUM(K10:K11) -> 398 | L12: =SUM(L10:L11) -> 1172 | M12: =SUM(M10:M11) -> 39812799 | O12: =SUM(O10:O11) -> 1293 | P12: =SUM(P10:P11) -> 892 | Q12: =SUM(Q10:Q11) -> 438 | R12: =SUM(R10:R11) -> 1330 | S12: =SUM(S10:S11) -> 46747809
A13: ธันวาคม 2566 | B13: ผู้เสียหาย | C13: =[1]สำหรับหยอดผู้ยื่น!C10 -> 121 | D13: =[1]สำหรับหยอดผลพิจารณา!C10 -> 123 | E13: =[1]สำหรับหยอดผลพิจารณา!D10 -> 37 | F13: =[1]สำหรับหยอดผลพิจารณา!E10 -> 160 | G13: =[1]สำหรับหยอดผลพิจารณา!L10 -> 6542993 | I13: =[1]สำหรับหยอดผู้ยื่น!D10 -> 917 | J13: =[1]สำหรับหยอดผลพิจารณา!F10 -> 749 | K13: =[1]สำหรับหยอดผลพิจารณา!G10 -> 334 | L13: =[1]สำหรับหยอดผลพิจารณา!H10 -> 1083 | M13: =[1]สำหรับหยอดผลพิจารณา!M10 -> 38572512 | O13: =C13+I13 -> 1038 | P13: =D13+J13 -> 872 | Q13: =E13+K13 -> 371 | R13: =F13+L13 -> 1243 | S13: =G13+M13 -> 45115505
B14: จำเลย | C14: =[1]สำหรับหยอดผู้ยื่น!C11 -> 8 | D14: =[1]สำหรับหยอดผลพิจารณา!C11 -> 3 | E14: =[1]สำหรับหยอดผลพิจารณา!D11 -> 4 | F14: =[1]สำหรับหยอดผลพิจารณา!E11 -> 7 | G14: =[1]สำหรับหยอดผลพิจารณา!L11 -> 1406128 | I14: =[1]สำหรับหยอดผู้ยื่น!D11 -> 22 | J14: =[1]สำหรับหยอดผลพิจารณา!F11 -> 5 | K14: =[1]สำหรับหยอดผลพิจารณา!G11 -> 17 | L14: =[1]สำหรับหยอดผลพิจารณา!H11 -> 22 | M14: =[1]สำหรับหยอดผลพิจารณา!M11 -> 1890775 | O14: =C14+I14 -> 30 | P14: =D14+J14 -> 8 | Q14: =E14+K14 -> 21 | R14: =F14+L14 -> 29 | S14: =G14+M14 -> 3296903
B15: รวม | C15: =SUM(C13:C14) -> 129 | D15: =SUM(D13:D14) -> 126 | E15: =SUM(E13:E14) -> 41 | F15: =SUM(F13:F14) -> 167 | G15: =SUM(G13:G14) -> 7949121 | I15: =SUM(I13:I14) -> 939 | J15: =SUM(J13:J14) -> 754 | K15: =SUM(K13:K14) -> 351 | L15: =SUM(L13:L14) -> 1105 | M15: =SUM(M13:M14) -> 40463287 | O15: =C15+I15 -> 1068 | P15: =D15+J15 -> 880 | Q15: =E15+K15 -> 392 | R15: =F15+L15 -> 1272 | S15: =G15+M15 -> 48412408
A16: มกราคม 2567 | B16: ผู้เสียหาย | C16: =[1]สำหรับหยอดผู้ยื่น!C13 -> 156 | D16: =[1]สำหรับหยอดผลพิจารณา!C13 -> 112 | E16: =[1]สำหรับหยอดผลพิจารณา!D13 -> 43 | F16: =[1]สำหรับหยอดผลพิจารณา!E13 -> 155 | G16: =[1]สำหรับหยอดผลพิจารณา!L13 -> 5280742.3 | I16: =[1]สำหรับหยอดผู้ยื่น!D13 -> 1144 | J16: =[1]สำหรับหยอดผลพิจารณา!F13 -> 730 | K16: =[1]สำหรับหยอดผลพิจารณา!G13 -> 277 | L16: =[1]สำหรับหยอดผลพิจารณา!H13 -> 1007 | M16: =[1]สำหรับหยอดผลพิจารณา!M13 -> 40870889 | O16: =C16+I16 -> 1300 | P16: =D16+J16 -> 842 | Q16: =E16+K16 -> 320 | R16: =F16+L16 -> 1162 | S16: =G16+M16 -> 46151632
B17: จำเลย | C17: =[1]สำหรับหยอดผู้ยื่น!C14 -> 6 | D17: =[1]สำหรับหยอดผลพิจารณา!C14 -> 5 | E17: =[1]สำหรับหยอดผลพิจารณา!D14 -> 4 | F17: =[1]สำหรับหยอดผลพิจารณา!E14 -> 9 | G17: =[1]สำหรับหยอดผลพิจารณา!L14 -> 1368349 | I17: =[1]สำหรับหยอดผู้ยื่น!D14 -> 17 | J17: =[1]สำหรับหยอดผลพิจารณา!F14 -> 5 | K17: =[1]สำหรับหยอดผลพิจารณา!G14 -> 28 | L17: =[1]สำหรับหยอดผลพิจารณา!H14 -> 33 | M17: =[1]สำหรับหยอดผลพิจารณา!M14 -> 1017522 | O17: =C17+I17 -> 23 | P17: =D17+J17 -> 10 | Q17: =E17+K17 -> 32 | R17: =F17+L17 -> 42 | S17: =G17+M17 -> 2385871
B18: รวม | C18: =SUM(C16:C17) -> 162 | D18: =SUM(D16:D17) -> 117 | E18: =SUM(E16:E17) -> 47 | F18: =SUM(F16:F17) -> 164 | G18: =SUM(G16:G17) -> 6649091.3 | I18: =SUM(I16:I17) -> 1161 | J18: =SUM(J16:J17) -> 735 | K18: =SUM(K16:K17) -> 305 | L18: =SUM(L16:L17) -> 1040 | M18: =SUM(M16:M17) -> 41888411 | O18: =SUM(O16:O17) -> 1323 | P18: =SUM(P16:P17) -> 852 | Q18: =SUM(Q16:Q17) -> 352 | R18: =SUM(R16:R17) -> 1204 | S18: =SUM(S16:S17) -> 48537503
A19: กุมภาพันธ์ 2567 | B19: ผู้เสียหาย | C19: =[1]สำหรับหยอดผู้ยื่น!C16 -> 150 | D19: =[1]สำหรับหยอดผลพิจารณา!C16 -> 115 | E19: =[1]สำหรับหยอดผลพิจารณา!D16 -> 32 | F19: =[1]สำหรับหยอดผลพิจารณา!E16 -> 147 | G19: =[1]สำหรับหยอดผลพิจารณา!L16 -> 6507857 | I19: =[1]สำหรับหยอดผู้ยื่น!D16 -> 1149 | J19: =[1]สำหรับหยอดผลพิจารณา!F16 -> 754 | K19: =[1]สำหรับหยอดผลพิจารณา!G16 -> 322 | L19: =[1]สำหรับหยอดผลพิจารณา!H16 -> 1076 | M19: =[1]สำหรับหยอดผลพิจารณา!M16 -> 39698826 | O19: =C19+I19 -> 1299 | P19: =D19+J19 -> 869 | Q19: =E19+K19 -> 354 | R19: =F19+L19 -> 1223 | S19: =G19+M19 -> 46206683
B20: จำเลย | C20: =[1]สำหรับหยอดผู้ยื่น!C17 -> 4 | D20: =[1]สำหรับหยอดผลพิจารณา!C17 -> 7 | E20: =[1]สำหรับหยอดผลพิจารณา!D17 -> 3 | F20: =[1]สำหรับหยอดผลพิจารณา!E17 -> 10 | G20: =[1]สำหรับหยอดผลพิจารณา!L17 -> 2132258 | I20: =[1]สำหรับหยอดผู้ยื่น!D17 -> 16 | J20: =[1]สำหรับหยอดผลพิจารณา!F17 -> 12 | K20: =[1]สำหรับหยอดผลพิจารณา!G17 -> 17 | L20: =[1]สำหรับหยอดผลพิจารณา!H17 -> 29 | M20: =[1]สำหรับหยอดผลพิจารณา!M17 -> 3337353 | O20: =C20+I20 -> 20 | P20: =D20+J20 -> 19 | Q20: =E20+K20 -> 20 | R20: =F20+L20 -> 39 | S20: =G20+M20 -> 5469611
B21: รวม | C21: =SUM(C19:C20) -> 154 | D21: =SUM(D19:D20) -> 122 | E21: =SUM(E19:E20) -> 35 | F21: =SUM(F19:F20) -> 157 | G21: =SUM(G19:G20) -> 8640114.9 | I21: =SUM(I19:I20) -> 1165 | J21: =SUM(J19:J20) -> 766 | K21: =SUM(K19:K20) -> 339 | L21: =SUM(L19:L20) -> 1105 | M21: =SUM(M19:M20) -> 43036179 | O21: =SUM(O19:O20) -> 1319 | P21: =SUM(P19:P20) -> 888 | Q21: =SUM(Q19:Q20) -> 374 | R21: =SUM(R19:R20) -> 1262 | S21: =SUM(S19:S20) -> 51676294
A22: มีนาคม 2567 | B22: ผู้เสียหาย | C22: =[1]สำหรับหยอดผู้ยื่น!C19 -> 176 | D22: =[1]สำหรับหยอดผลพิจารณา!C19 -> 88 | E22: =[1]สำหรับหยอดผลพิจารณา!D19 -> 35 | F22: =[1]สำหรับหยอดผลพิจารณา!E19 -> 123 | G22: =[1]สำหรับหยอดผลพิจารณา!L19 -> 4994297.2 | I22: =[1]สำหรับหยอดผู้ยื่น!D19 -> 1117 | J22: =[1]สำหรับหยอดผลพิจารณา!F19 -> 742 | K22: =[1]สำหรับหยอดผลพิจารณา!G19 -> 332 | L22: =[1]สำหรับหยอดผลพิจารณา!H19 -> 1074 | M22: =[1]สำหรับหยอดผลพิจารณา!M19 -> 36456227 | O22: =C22+I22 -> 1293 | P22: =D22+J22 -> 830 | Q22: =E22+K22 -> 367 | R22: =F22+L22 -> 1197 | S22: =G22+M22 -> 41450524
B23: จำเลย | C23: =[1]สำหรับหยอดผู้ยื่น!C20 -> 4 | D23: =[1]สำหรับหยอดผลพิจารณา!C20 -> 1 | E23: =[1]สำหรับหยอดผลพิจารณา!D20 -> 9 | F23: =[1]สำหรับหยอดผลพิจารณา!E20 -> 10 | G23: =[1]สำหรับหยอดผลพิจารณา!L20 -> 526097 | I23: =[1]สำหรับหยอดผู้ยื่น!D20 -> 26 | J23: =[1]สำหรับหยอดผลพิจารณา!F20 -> 6 | K23: =[1]สำหรับหยอดผลพิจารณา!G20 -> 22 | L23: =[1]สำหรับหยอดผลพิจารณา!H20 -> 28 | M23: =[1]สำหรับหยอดผลพิจารณา!M20 -> 628225 | O23: =C23+I23 -> 30 | P23: =D23+J23 -> 7 | Q23: =E23+K23 -> 31 | R23: =F23+L23 -> 38 | S23: =G23+M23 -> 1154322
B24: รวม | C24: =SUM(C22:C23) -> 180 | D24: 808 | E24: 396 | F24: 1204 | G24: 39233988 | I24: =SUM(I22:I23) -> 1143 | J24: =SUM(J22:J23) -> 748 | K24: =SUM(K22:K23) -> 354 | L24: =SUM(L22:L23) -> 1102 | M24: =SUM(M22:M23) -> 37084452 | O24: =SUM(O22:O23) -> 1323 | P24: =SUM(P22:P23) -> 837 | Q24: =SUM(Q22:Q23) -> 398 | R24: =SUM(R22:R23) -> 1235 | S24: =SUM(S22:S23) -> 42604846
A25: เมษายน 2567 | B25: ผู้เสียหาย | C25: =[1]สำหรับหยอดผู้ยื่น!C22 -> 141 | D25: =[1]สำหรับหยอดผลพิจารณา!C22 -> 75 | E25: =[1]สำหรับหยอดผลพิจารณา!D22 -> 29 | F25: =[1]สำหรับหยอดผลพิจารณา!E22 -> 104 | G25: =[1]สำหรับหยอดผลพิจารณา!L22 -> 4091968.4 | I25: =[1]สำหรับหยอดผู้ยื่น!D22 -> 1067 | J25: =[1]สำหรับหยอดผลพิจารณา!F22 -> 733 | K25: =[1]สำหรับหยอดผลพิจารณา!G22 -> 367 | L25: =[1]สำหรับหยอดผลพิจารณา!H22 -> 1100 | M25: =[1]สำหรับหยอดผลพิจารณา!M22 -> 35098040 | O25: =C25+I25 -> 1208 | P25: =D25+J25 -> 808 | Q25: =E25+K25 -> 396 | R25: =F25+L25 -> 1204 | S25: =G25+M25 -> 39190008
B26: จำเลย | C26: =[1]สำหรับหยอดผู้ยื่น!C23 -> 9 | D26: =[1]สำหรับหยอดผลพิจารณา!C23 -> 3 | E26: =[1]สำหรับหยอดผลพิจารณา!D23 -> 3 | F26: =[1]สำหรับหยอดผลพิจารณา!E23 -> 6 | G26: =[1]สำหรับหยอดผลพิจารณา!L23 -> 690589 | I26: =[1]สำหรับหยอดผู้ยื่น!D23 -> 21 | J26: =[1]สำหรับหยอดผลพิจารณา!F23 -> 3 | K26: =[1]สำหรับหยอดผลพิจารณา!G23 -> 22 | L26: =[1]สำหรับหยอดผลพิจารณา!H23 -> 25 | M26: =[1]สำหรับหยอดผลพิจารณา!M23 -> 458864 | O26: =C26+I26 -> 30 | P26: =D26+J26 -> 6 | Q26: =E26+K26 -> 25 | R26: =F26+L26 -> 31 | S26: =G26+M26 -> 1149453
B27: รวม | C27: =SUM(C25:C26) -> 150 | D27: =SUM(D25:D26) -> 78 | E27: =SUM(E25:E26) -> 32 | F27: =SUM(F25:F26) -> 110 | G27: =SUM(G25:G26) -> 4782557.4 | I27: =SUM(I25:I26) -> 1088 | J27: =SUM(J25:J26) -> 736 | K27: =SUM(K25:K26) -> 389 | L27: =SUM(L25:L26) -> 1125 | M27: =SUM(M25:M26) -> 35556904 | O27: =SUM(O25:O26) -> 1238 | P27: =SUM(P25:P26) -> 814 | Q27: =SUM(Q25:Q26) -> 421 | R27: =SUM(R25:R26) -> 1235 | S27: =SUM(S25:S26) -> 40339461
A28: พฤษภาคม 2567 | B28: ผู้เสียหาย | C28: =[1]สำหรับหยอดผู้ยื่น!C25 -> 140 | D28: =[1]สำหรับหยอดผลพิจารณา!C25 -> 65 | E28: =[1]สำหรับหยอดผลพิจารณา!D25 -> 23 | F28: =[1]สำหรับหยอดผลพิจารณา!E25 -> 88 | G28: =[1]สำหรับหยอดผลพิจารณา!L25 -> 3606453.2 | I28: =[1]สำหรับหยอดผู้ยื่น!D25 -> 1055 | J28: =[1]สำหรับหยอดผลพิจารณา!F25 -> 766 | K28: =[1]สำหรับหยอดผลพิจารณา!G25 -> 288 | L28: =[1]สำหรับหยอดผลพิจารณา!H25 -> 1054 | M28: =[1]สำหรับหยอดผลพิจารณา!M25 -> 37273942 | O28: =C28+I28 -> 1195 | P28: =D28+J28 -> 831 | Q28: =E28+K28 -> 311 | R28: =F28+L28 -> 1142 | S28: =G28+M28 -> 40880395
B29: จำเลย | C29: =[1]สำหรับหยอดผู้ยื่น!C26 -> 7 | D29: =[1]สำหรับหยอดผลพิจารณา!C26 -> 0 | E29: =[1]สำหรับหยอดผลพิจารณา!D26 -> 1 | F29: =[1]สำหรับหยอดผลพิจารณา!E26 -> 1 | G29: =[1]สำหรับหยอดผลพิจารณา!L26 -> 0 | I29: =[1]สำหรับหยอดผู้ยื่น!D26 -> 21 | J29: =[1]สำหรับหยอดผลพิจารณา!F26 -> 2 | K29: =[1]สำหรับหยอดผลพิจารณา!G26 -> 5 | L29: =[1]สำหรับหยอดผลพิจารณา!H26 -> 7 | M29: =[1]สำหรับหยอดผลพิจารณา!M26 -> 131155 | O29: =C29+I29 -> 28 | P29: =D29+J29 -> 2 | Q29: =E29+K29 -> 6 | R29: =F29+L29 -> 8 | S29: =G29+M29 -> 131155
B30: รวม | C30: =SUM(C28:C29) -> 147 | D30: =SUM(D28:D29) -> 65 | E30: =SUM(E28:E29) -> 24 | F30: =SUM(F28:F29) -> 89 | G30: =SUM(G28:G29) -> 3606453.2 | I30: =SUM(I28:I29) -> 1076 | J30: =SUM(J28:J29) -> 768 | K30: =SUM(K28:K29) -> 293 | L30: =SUM(L28:L29) -> 1061 | M30: =SUM(M28:M29) -> 37405097 | O30: =SUM(O28:O29) -> 1223 | P30: =SUM(P28:P29) -> 833 | Q30: =SUM(Q28:Q29) -> 317 | R30: =SUM(R28:R29) -> 1150 | S30: =SUM(S28:S29) -> 41011550
A31: มิถุนายน 2567 | B31: ผู้เสียหาย | C31: =[1]สำหรับหยอดผู้ยื่น!C28 -> 154 | D31: =[1]สำหรับหยอดผลพิจารณา!C28 -> 115 | E31: =[1]สำหรับหยอดผลพิจารณา!D28 -> 22 | F31: =[1]สำหรับหยอดผลพิจารณา!E28 -> 137 | G31: =[1]สำหรับหยอดผลพิจารณา!L28 -> 6543184.8 | I31: =[1]สำหรับหยอดผู้ยื่น!D28 -> 975 | J31: =[1]สำหรับหยอดผลพิจารณา!F28 -> 742 | K31: =[1]สำหรับหยอดผลพิจารณา!G28 -> 281 | L31: =[1]สำหรับหยอดผลพิจารณา!H28 -> 1023 | M31: =[1]สำหรับหยอดผลพิจารณา!M28 -> 35309736 | O31: =C31+I31 -> 1129 | P31: =D31+J31 -> 857 | Q31: =E31+K31 -> 303 | R31: =F31+L31 -> 1160 | S31: =G31+M31 -> 41852921
B32: จำเลย | C32: =[1]สำหรับหยอดผู้ยื่น!C29 -> 8 | D32: =[1]สำหรับหยอดผลพิจารณา!C29 -> 0 | E32: =[1]สำหรับหยอดผลพิจารณา!D29 -> 5 | F32: =[1]สำหรับหยอดผลพิจารณา!E29 -> 5 | G32: =[1]สำหรับหยอดผลพิจารณา!L29 -> 0 | I32: =[1]สำหรับหยอดผู้ยื่น!D29 -> 15 | J32: =[1]สำหรับหยอดผลพิจารณา!F29 -> 0 | K32: =[1]สำหรับหยอดผลพิจารณา!G29 -> 24 | L32: =[1]สำหรับหยอดผลพิจารณา!H29 -> 24 | M32: =[1]สำหรับหยอดผลพิจารณา!M29 -> 0 | O32: =C32+I32 -> 23 | P32: =D32+J32 -> 0 | Q32: =E32+K32 -> 29 | R32: =F32+L32 -> 29 | S32: =G32+M32 -> 0
B33: รวม | C33: =SUM(C31:C32) -> 162 | D33: =SUM(D31:D32) -> 115 | E33: =SUM(E31:E32) -> 27 | F33: =SUM(F31:F32) -> 142 | G33: =SUM(G31:G32) -> 6543184.8 | I33: =SUM(I31:I32) -> 990 | J33: =SUM(J31:J32) -> 742 | K33: =SUM(K31:K32) -> 305 | L33: =SUM(L31:L32) -> 1047 | M33: =SUM(M31:M32) -> 35309736 | O33: =SUM(O31:O32) -> 1152 | P33: =SUM(P31:P32) -> 857 | Q33: =SUM(Q31:Q32) -> 332 | R33: =SUM(R31:R32) -> 1189 | S33: =SUM(S31:S32) -> 41852921
A34: กรกฎาคม 2567 | B34: ผู้เสียหาย | C34: =[1]สำหรับหยอดผู้ยื่น!C31 -> 119 | D34: =[1]สำหรับหยอดผลพิจารณา!C31 -> 135 | E34: =[1]สำหรับหยอดผลพิจารณา!D31 -> 53 | F34: =[1]สำหรับหยอดผลพิจารณา!E31 -> 188 | G34: =[1]สำหรับหยอดผลพิจารณา!L31 -> 7693239.3 | I34: =[1]สำหรับหยอดผู้ยื่น!D31 -> 1007 | J34: =[1]สำหรับหยอดผลพิจารณา!F31 -> 662 | K34: =[1]สำหรับหยอดผลพิจารณา!G31 -> 263 | L34: =[1]สำหรับหยอดผลพิจารณา!H31 -> 925 | M34: =[1]สำหรับหยอดผลพิจารณา!M31 -> 34962256 | O34: =C34+I34 -> 1126 | P34: =D34+J34 -> 797 | Q34: =E34+K34 -> 316 | R34: =F34+L34 -> 1113 | S34: =G34+M34 -> 42655495
B35: จำเลย | C35: =[1]สำหรับหยอดผู้ยื่น!C32 -> 3 | D35: =[1]สำหรับหยอดผลพิจารณา!C32 -> 0 | E35: =[1]สำหรับหยอดผลพิจารณา!D32 -> 6 | F35: =[1]สำหรับหยอดผลพิจารณา!E32 -> 6 | G35: =[1]สำหรับหยอดผลพิจารณา!L32 -> 0 | I35: =[1]สำหรับหยอดผู้ยื่น!D32 -> 28 | J35: =[1]สำหรับหยอดผลพิจารณา!F32 -> 3 | K35: =[1]สำหรับหยอดผลพิจารณา!G32 -> 15 | L35: =[1]สำหรับหยอดผลพิจารณา!H32 -> 18 | M35: =[1]สำหรับหยอดผลพิจารณา!M32 -> 734753 | O35: =C35+I35 -> 31 | P35: =D35+J35 -> 3 | Q35: =E35+K35 -> 21 | R35: =F35+L35 -> 24 | S35: =G35+M35 -> 734753
B36: รวม | C36: =SUM(C34:C35) -> 122 | D36: =SUM(D34:D35) -> 135 | E36: =SUM(E34:E35) -> 59 | F36: =SUM(F34:F35) -> 194 | G36: =SUM(G34:G35) -> 7693239.3 | I36: =SUM(I34:I35) -> 1035 | J36: =SUM(J34:J35) -> 665 | K36: =SUM(K34:K35) -> 278 | L36: =SUM(L34:L35) -> 943 | M36: =SUM(M34:M35) -> 35697009 | O36: =SUM(O34:O35) -> 1157 | P36: =SUM(P34:P35) -> 800 | Q36: =SUM(Q34:Q35) -> 337 | R36: =SUM(R34:R35) -> 1137 | S36: =SUM(S34:S35) -> 43390248
A37: สิงหาคม 2567 | B37: ผู้เสียหาย | C37: =[1]สำหรับหยอดผู้ยื่น!C34 -> 112 | D37: =[1]สำหรับหยอดผลพิจารณา!C34 -> 107 | E37: =[1]สำหรับหยอดผลพิจารณา!D34 -> 46 | F37: =[1]สำหรับหยอดผลพิจารณา!E34 -> 153 | G37: =[1]สำหรับหยอดผลพิจารณา!L34 -> 5279280.5 | I37: =[1]สำหรับหยอดผู้ยื่น!D34 -> 968 | J37: =[1]สำหรับหยอดผลพิจารณา!F34 -> 768 | K37: =[1]สำหรับหยอดผลพิจารณา!G34 -> 346 | L37: =[1]สำหรับหยอดผลพิจารณา!H34 -> 1114 | M37: =[1]สำหรับหยอดผลพิจารณา!M34 -> 41210514 | O37: =C37+I37 -> 1080 | P37: =D37+J37 -> 875 | Q37: =E37+K37 -> 392 | R37: =F37+L37 -> 1267 | S37: =G37+M37 -> 46489794
B38: จำเลย | C38: =[1]สำหรับหยอดผู้ยื่น!C35 -> 15 | D38: =[1]สำหรับหยอดผลพิจารณา!C35 -> 0 | E38: =[1]สำหรับหยอดผลพิจารณา!D35 -> 7 | F38: =[1]สำหรับหยอดผลพิจารณา!E35 -> 7 | G38: =[1]สำหรับหยอดผลพิจารณา!L35 -> 0 | I38: =[1]สำหรับหยอดผู้ยื่น!D35 -> 18 | J38: =[1]สำหรับหยอดผลพิจารณา!F35 -> 0 | K38: =[1]สำหรับหยอดผลพิจารณา!G35 -> 12 | L38: =[1]สำหรับหยอดผลพิจารณา!H35 -> 12 | M38: =[1]สำหรับหยอดผลพิจารณา!M35 -> 0 | O38: =C38+I38 -> 33 | P38: =D38+J38 -> 0 | Q38: =E38+K38 -> 19 | R38: =F38+L38 -> 19 | S38: =G38+M38 -> 0
B39: รวม | C39: =SUM(C37:C38) -> 127 | D39: =SUM(D37:D38) -> 107 | E39: =SUM(E37:E38) -> 53 | F39: =SUM(F37:F38) -> 160 | G39: =SUM(G37:G38) -> 5279280.5 | I39: =SUM(I37:I38) -> 986 | J39: =SUM(J37:J38) -> 768 | K39: =SUM(K37:K38) -> 358 | L39: =SUM(L37:L38) -> 1126 | M39: =SUM(M37:M38) -> 41210514 | O39: =SUM(O37:O38) -> 1113 | P39: =SUM(P37:P38) -> 875 | Q39: =SUM(Q37:Q38) -> 411 | R39: =SUM(R37:R38) -> 1286 | S39: =SUM(S37:S38) -> 46489794
A40: กันยายน 2567 | B40: ผู้เสียหาย | C40: =[1]สำหรับหยอดผู้ยื่น!C37 -> 130 | D40: =[1]สำหรับหยอดผลพิจารณา!C37 -> 104 | E40: =[1]สำหรับหยอดผลพิจารณา!D37 -> 52 | F40: =[1]สำหรับหยอดผลพิจารณา!E37 -> 156 | G40: =[1]สำหรับหยอดผลพิจารณา!L37 -> 5322491.5 | I40: =[1]สำหรับหยอดผู้ยื่น!D37 -> 923 | J40: =[1]สำหรับหยอดผลพิจารณา!F37 -> 790 | K40: =[1]สำหรับหยอดผลพิจารณา!G37 -> 313 | L40: =[1]สำหรับหยอดผลพิจารณา!H37 -> 1103 | M40: =[1]สำหรับหยอดผลพิจารณา!M37 -> 42364055 | O40: =C40+I40 -> 1053 | P40: =D40+J40 -> 894 | Q40: =E40+K40 -> 365 | R40: =F40+L40 -> 1259 | S40: =G40+M40 -> 47686547
...
