Workbook

Sheet ดัชนี
A1: ดัชนีราคาผู้บริโภคของจังหวัดสมุทรสงคราม ปี 2566 - 2567 (ปีฐาน ปี 2562 = 100)
A2: หมวด | B2: ดัชนี
B3: 24077 | C3: 24108 | D3: 24139 | E3: 24167 | F3: 24198 | G3: 24228 | H3: 24259 | I3: 24289 | J3: 24320 | K3: 24351 | L3: 24381 | M3: 24412 | N3: 24442 | O3: 24473 | P3: 24504 | Q3: 24532 | R3: 24563 | S3: 24593 | T3: 24624 | U3: 24654 | V3: 24685 | W3: 24716 | X3: 24746 | Y3: 24777 | Z3: 24807
A4: ดัชนีราคาผู้บริโภคทั่วไป | B4: 108.6 | C4: 108.6 | D4: 108.2 | E4: 107.7 | F4: 108.1 | G4: 107.3 | H4: 107.8 | I4: 107.4 | J4: 107.9 | K4: 107.6 | L4: 107.5 | M4: 107.5 | N4: 107 | O4: 107 | P4: 107.4 | Q4: 107.1 | R4: 108.1 | S4: 108.8 | T4: 108.6 | U4: 108.5 | V4: 108.9 | W4: 107.9 | X4: 107.8 | Y4: 107.7
A5: หมวดอาหารและเครื่องดื่มไม่มีแอลกอฮอล์ | B5: 114.4 | C5: 113.1 | D5: 112.2 | E5: 111.9 | F5: 112.4 | G5: 112.6 | H5: 112.3 | I5: 110.4 | J5: 110.7 | K5: 110.9 | L5: 111.1 | M5: 111.8 | N5: 110.7 | O5: 110.7 | P5: 110.7 | Q5: 110.3 | R5: 111.8 | S5: 113.4 | T5: 112.9 | U5: 112.5 | V5: 113.6 | W5: 112.6 | X5: 112.4 | Y5: 112.1
A6: ข้าว แป้งและผลิตภัณฑ์จากแป้ง | B6: 97 | C6: 98.8 | D6: 97 | E6: 98.8 | F6: 98.7 | G6: 97.8 | H6: 97.4 | I6: 96.9 | J6: 101.1 | K6: 104.9 | L6: 105.4 | M6: 105.8 | N6: 105.8 | O6: 105.8 | P6: 105.5 | Q6: 106.8 | R6: 105.7 | S6: 105.9 | T6: 108.2 | U6: 108.3 | V6: 108 | W6: 107.7 | X6: 109.1 | Y6: 108.5
A7: เนื้อสัตว์ เป็ดไก่ และสัตว์น้ำ | B7: 114.9 | C7: 112.2 | D7: 110.2 | E7: 107.3 | F7: 107.1 | G7: 104.9 | H7: 105 | I7: 101.9 | J7: 101.5 | K7: 101.5 | L7: 98.7 | M7: 99.5 | N7: 98.9 | O7: 98.9 | P7: 98.8 | Q7: 97.5 | R7: 98 | S7: 99.7 | T7: 99.5 | U7: 99.7 | V7: 100.7 | W7: 101.1 | X7: 100.7 | Y7: 100.7
A8: - เนื้อสัตว์ | B8: 138.7 | C8: 132.8 | D8: 126.8 | E8: 118.8 | F8: 118.4 | G8: 113.9 | H8: 115.5 | I8: 111.4 | J8: 110.5 | K8: 110.4 | L8: 103 | M8: 104.6 | N8: 102.9 | O8: 102.9 | P8: 102.3 | Q8: 98.9 | R8: 100.4 | S8: 104.6 | T8: 104.1 | U8: 104.9 | V8: 107.3 | W8: 107.9 | X8: 107.9 | Y8: 107.9
A9: - เป็ดไก่ | B9: 101.2 | C9: 97.8 | D9: 98.3 | E9: 99.2 | F9: 99 | G9: 99 | H9: 99 | I9: 98.8 | J9: 97.9 | K9: 97.9 | L9: 97.9 | M9: 97.9 | N9: 98.5 | O9: 98.5 | P9: 99 | Q9: 98.1 | R9: 99.4 | S9: 99.6 | T9: 101 | U9: 100 | V9: 100.7 | W9: 100.9 | X9: 98.2 | Y9: 98.2
A10: - ปลาและสัตว์น้ำ | B10: 100.8 | C10: 100.9 | D10: 101.2 | E10: 101.3 | F10: 101.3 | G10: 100.3 | H10: 99.1 | I10: 96.1 | J10: 96.2 | K10: 96.2 | L10: 96.2 | M10: 96.7 | N10: 96.7 | O10: 96.7 | P10: 96.8 | Q10: 97 | R10: 96.5 | S10: 96.7 | T10: 96.2 | U10: 96.3 | V10: 96.4 | W10: 96.5 | X10: 96.4 | Y10: 96.5
A11: ไข่และผลิตภัณฑ์นม | B11: 112.2 | C11: 114.5 | D11: 115 | E11: 113.3 | F11: 116.5 | G11: 116.6 | H11: 117.7 | I11: 119.7 | J11: 120.3 | K11: 120.7 | L11: 120.1 | M11: 120.1 | N11: 118.6 | O11: 118.6 | P11: 116.7 | Q11: 115.7 | R11: 116.4 | S11: 119.7 | T11: 121.5 | U11: 121.5 | V11: 121.9 | W11: 121.7 | X11: 121.3 | Y11: 119.4
A12: ผักและผลไม้ | B12: 121.3 | C12: 114 | D12: 111.2 | E12: 112.4 | F12: 114.7 | G12: 119.7 | H12: 116.9 | I12: 108.2 | J12: 108.5 | K12: 107.3 | L12: 112.7 | M12: 116 | N12: 109.3 | O12: 109.3 | P12: 110.2 | Q12: 107.9 | R12: 117.9 | S12: 125.8 | T12: 119.9 | U12: 117.2 | V12: 123.4 | W12: 115.5 | X12: 114.2 | Y12: 112.9
A13: - ผักสด | B13: 125.4 | C13: 109 | D13: 107.6 | E13: 112.1 | F13: 114.7 | G13: 130.1 | H13: 124.8 | I13: 109.3 | J13: 108.2 | K13: 105.6 | L13: 117.1 | M13: 124.8 | N13: 108.7 | O13: 108.7 | P13: 108.2 | Q13: 105 | R13: 124.2 | S13: 145.2 | T13: 123.1 | U13: 114.8 | V13: 128.6 | W13: 118.6 | X13: 115.3 | Y13: 110.8
A14: - ผลไม้สด | B14: 112.4 | C14: 113 | D14: 110.5 | E14: 110.7 | F14: 113.4 | G14: 109.7 | H14: 108.7 | I14: 104.2 | J14: 105.1 | K14: 104.5 | L14: 105.7 | M14: 105.4 | N14: 106.4 | O14: 106.4 | P14: 110.2 | Q14: 108.3 | R14: 111.5 | S14: 109.4 | T14: 115.9 | U14: 116.7 | V14: 117.9 | W14: 110.7 | X14: 110.7 | Y14: 110.7
A15: เครื่องประกอบอาหาร | B15: 110.9 | C15: 111.5 | D15: 111.1 | E15: 111.3 | F15: 110.7 | G15: 110.8 | H15: 111.1 | I15: 110.7 | J15: 110.7 | K15: 110.5 | L15: 109.8 | M15: 110.7 | N15: 110.5 | O15: 110.5 | P15: 111.5 | Q15: 111.5 | R15: 111.4 | S15: 111.2 | T15: 113 | U15: 112.4 | V15: 112 | W15: 112.8 | X15: 111.5 | Y15: 112.3
... A33: - พลังงาน | B33: 116.9 | C33: 119.6 | D33: 119.8 | E33: 119.4 | F33: 119.7 | G33: 111.3 | H33: 117.1 | I33: 118.7 | J33: 121.7 | K33: 118.4 | L33: 115.9 | M33: 113.6 | N33: 113.2 | O33: 113.2 | P33: 115.7 | Q33: 116.3 | R33: 118.7 | S33: 118.7 | T33: 118.5 | U33: 119.5 | V33: 117.6 | W33: 116.2 | X33: 116.1 | Y33: 116.4

Sheet อัตราการเปลี่ยนแปลง
A1: อัตราการเปลี่ยนแปลงดัชนีราคาผู้บริโภคของจังหวัดสมุทรสงคราม ปี 2567
A2: หมวด | B2: อัตราการเปลี่ยนแปลง (เทียบเดือนเดียวกันของปีก่อน: %YoY) | N2: อัตราการเปลี่ยนแปลง (เทียบเดือนเดียวกันกับเดือนก่อน: %MoM)
B3: 24473 | C3: 24504 | D3: 24532 | E3: 24563 | F3: 24593 | G3: 24624 | H3: 24654 | I3: 24685 | J3: 24716 | K3: 24746 | L3: 24777 | M3: 24807 | N3: 24473 | O3: 24504 | P3: 24532 | Q3: 24563 | R3: 24593 | S3: 24624 | T3: 24654 | U3: 24685 | V3: 24716 | W3: 24746 | X3: 24777 | Y3: 24807
A4: ดัชนีราคาผู้บริโภคทั่วไป | B4: =ดัชนี!O4/ดัชนี!C4*100-100 -> -1.4732965 | C4: =ดัชนี!P4/ดัชนี!D4*100-100 -> -0.73937153 | D4: =ดัชนี!Q4/ดัชนี!E4*100-100 -> -0.55710306 | E4: =ดัชนี!R4/ดัชนี!F4*100-100 -> 0 | F4: =ดัชนี!S4/ดัชนี!G4*100-100 -> 1.3979497 | G4: =ดัชนี!T4/ดัชนี!H4*100-100 -> 0.74211503 | H4: =ดัชนี!U4/ดัชนี!I4*100-100 -> 1.0242086 | I4: =ดัชนี!V4/ดัชนี!J4*100-100 -> 0.92678406 | ... L4: =ดัชนี!Y4/ดัชนี!M4*100-100 -> 0.18604651 | N4: =ดัชนี!O4/ดัชนี!N4*100-100 -> 0 | O4: =ดัชนี!P4/ดัชนี!O4*100-100 -> 0.37383178 | P4: =ดัชนี!Q4/ดัชนี!P4*100-100 -> -0.27932961 | Q4: =ดัชนี!R4/ดัชนี!Q4*100-100 -> 0.93370682 | R4: =ดัชนี!S4/ดัชนี!R4*100-100 -> 0.64754857 | S4: =ดัชนี!T4/ดัชนี!S4*100-100 -> -0.18382353 | T4: =ดัชนี!U4/ดัชนี!T4*100-100 -> -0.092081031 | U4: =ดัชนี!V4/ดัชนี!U4*100-100 -> 0.36866359 | ... X4: =ดัชนี!Y4/ดัชนี!X4*100-100 -> -0.092764378
A5: หมวดอาหารและเครื่องดื่มไม่มีแอลกอฮอล์ | B5: =ดัชนี!O5/ดัชนี!C5*100-100 -> -2.1220159 | C5: =ดัชนี!P5/ดัชนี!D5*100-100 -> -1.3368984 | D5: =ดัชนี!Q5/ดัชนี!E5*100-100 -> -1.4298481 | E5: =ดัชนี!R5/ดัชนี!F5*100-100 -> -0.53380783 | F5: =ดัชนี!S5/ดัชนี!G5*100-100 -> 0.71047957 | G5: =ดัชนี!T5/ดัชนี!H5*100-100 -> 0.53428317 | H5: =ดัชนี!U5/ดัชนี!I5*100-100 -> 1.9021739 | I5: =ดัชนี!V5/ดัชนี!J5*100-100 -> 2.6196929 | ... L5: =ดัชนี!Y5/ดัชนี!M5*100-100 -> 0.26833631 | N5: =ดัชนี!O5/ดัชนี!N5*100-100 -> 0 | O5: =ดัชนี!P5/ดัชนี!O5*100-100 -> 0 | P5: =ดัชนี!Q5/ดัชนี!P5*100-100 -> -0.36133695 | Q5: =ดัชนี!R5/ดัชนี!Q5*100-100 -> 1.3599275 | R5: =ดัชนี!S5/ดัชนี!R5*100-100 -> 1.431127 | S5: =ดัชนี!T5/ดัชนี!S5*100-100 -> -0.44091711 | T5: =ดัชนี!U5/ดัชนี!T5*100-100 -> -0.35429584 | U5: =ดัชนี!V5/ดัชนี!U5*100-100 -> 0.97777778 | ... X5: =ดัชนี!Y5/ดัชนี!X5*100-100 -> -0.26690391
A6: ข้าว แป้งและผลิตภัณฑ์จากแป้ง | B6: =ดัชนี!O6/ดัชนี!C6*100-100 -> 7.0850202 | C6: =ดัชนี!P6/ดัชนี!D6*100-100 -> 8.7628866 | D6: =ดัชนี!Q6/ดัชนี!E6*100-100 -> 8.097166 | E6: =ดัชนี!R6/ดัชนี!F6*100-100 -> 7.0921986 | F6: =ดัชนี!S6/ดัชนี!G6*100-100 -> 8.2822086 | G6: =ดัชนี!T6/ดัชนี!H6*100-100 -> 11.088296 | H6: =ดัชนี!U6/ดัชนี!I6*100-100 -> 11.764706 | I6: =ดัชนี!V6/ดัชนี!J6*100-100 -> 6.8249258 | ... L6: =ดัชนี!Y6/ดัชนี!M6*100-100 -> 2.5519849 | N6: =ดัชนี!O6/ดัชนี!N6*100-100 -> 0 | O6: =ดัชนี!P6/ดัชนี!O6*100-100 -> -0.28355388 | P6: =ดัชนี!Q6/ดัชนี!P6*100-100 -> 1.2322275 | Q6: =ดัชนี!R6/ดัชนี!Q6*100-100 -> -1.0299625 | R6: =ดัชนี!S6/ดัชนี!R6*100-100 -> 0.18921476 | S6: =ดัชนี!T6/ดัชนี!S6*100-100 -> 2.1718602 | T6: =ดัชนี!U6/ดัชนี!T6*100-100 -> 0.092421442 | U6: =ดัชนี!V6/ดัชนี!U6*100-100 -> -0.27700831 | ... X6: =ดัชนี!Y6/ดัชนี!X6*100-100 -> -0.54995417
A7: เนื้อสัตว์ เป็ดไก่ และสัตว์น้ำ | B7: =ดัชนี!O7/ดัชนี!C7*100-100 -> -11.853832 | C7: =ดัชนี!P7/ดัชนี!D7*100-100 -> -10.344828 | D7: =ดัชนี!Q7/ดัชนี!E7*100-100 -> -9.1332712 | E7: =ดัชนี!R7/ดัชนี!F7*100-100 -> -8.496732 | F7: =ดัชนี!S7/ดัชนี!G7*100-100 -> -4.957102 | G7: =ดัชนี!T7/ดัชนี!H7*100-100 -> -5.2380952 | H7: =ดัชนี!U7/ดัชนี!I7*100-100 -> -2.1589794 | I7: =ดัชนี!V7/ดัชนี!J7*100-100 -> -0.78817734 | ... L7: =ดัชนี!Y7/ดัชนี!M7*100-100 -> 1.2060302 | N7: =ดัชนี!O7/ดัชนี!N7*100-100 -> 0 | O7: =ดัชนี!P7/ดัชนี!O7*100-100 -> -0.10111223 | P7: =ดัชนี!Q7/ดัชนี!P7*100-100 -> -1.3157895 | Q7: =ดัชนี!R7/ดัชนี!Q7*100-100 -> 0.51282051 | R7: =ดัชนี!S7/ดัชนี!R7*100-100 -> 1.7346939 | S7: =ดัชนี!T7/ดัชนี!S7*100-100 -> -0.20060181 | T7: =ดัชนี!U7/ดัชนี!T7*100-100 -> 0.20100503 | U7: =ดัชนี!V7/ดัชนี!U7*100-100 -> 1.003009 | ... X7: =ดัชนี!Y7/ดัชนี!X7*100-100 -> 0
A8: - เนื้อสัตว์ | B8: =ดัชนี!O8/ดัชนี!C8*100-100 -> -22.51506 | C8: =ดัชนี!P8/ดัชนี!D8*100-100 -> -19.321767 | D8: =ดัชนี!Q8/ดัชนี!E8*100-100 -> -16.750842 | E8: =ดัชนี!R8/ดัชนี!F8*100-100 -> -15.202703 | F8: =ดัชนี!S8/ดัชนี!G8*100-100 -> -8.1650571 | G8: =ดัชนี!T8/ดัชนี!H8*100-100 -> -9.8701299 | H8: =ดัชนี!U8/ดัชนี!I8*100-100 -> -5.8348294 | I8: =ดัชนี!V8/ดัชนี!J8*100-100 -> -2.8959276 | ... L8: =ดัชนี!Y8/ดัชนี!M8*100-100 -> 3.1548757 | N8: =ดัชนี!O8/ดัชนี!N8*100-100 -> 0 | O8: =ดัชนี!P8/ดัชนี!O8*100-100 -> -0.58309038 | P8: =ดัชนี!Q8/ดัชนี!P8*100-100 -> -3.3235582 | Q8: =ดัชนี!R8/ดัชนี!Q8*100-100 -> 1.5166835 | R8: =ดัชนี!S8/ดัชนี!R8*100-100 -> 4.1832669 | S8: =ดัชนี!T8/ดัชนี!S8*100-100 -> -0.47801147 | T8: =ดัชนี!U8/ดัชนี!T8*100-100 -> 0.76849183 | U8: =ดัชนี!V8/ดัชนี!U8*100-100 -> 2.2878932 | ... X8: =ดัชนี!Y8/ดัชนี!X8*100-100 -> 0
A9: - เป็ดไก่ | B9: =ดัชนี!O9/ดัชนี!C9*100-100 -> 0.71574642 | C9: =ดัชนี!P9/ดัชนี!D9*100-100 -> 0.7121058 | D9: =ดัชนี!Q9/ดัชนี!E9*100-100 -> -1.108871 | E9: =ดัชนี!R9/ดัชนี!F9*100-100 -> 0.4040404 | F9: =ดัชนี!S9/ดัชนี!G9*100-100 -> 0.60606061 | G9: =ดัชนี!T9/ดัชนี!H9*100-100 -> 2.020202 | H9: =ดัชนี!U9/ดัชนี!I9*100-100 -> 1.2145749 | I9: =ดัชนี!V9/ดัชนี!J9*100-100 -> 2.8600613 | ... L9: =ดัชนี!Y9/ดัชนี!M9*100-100 -> 0.30643514 | N9: =ดัชนี!O9/ดัชนี!N9*100-100 -> 0 | O9: =ดัชนี!P9/ดัชนี!O9*100-100 -> 0.50761421 | P9: =ดัชนี!Q9/ดัชนี!P9*100-100 -> -0.90909091 | Q9: =ดัชนี!R9/ดัชนี!Q9*100-100 -> 1.3251784 | R9: =ดัชนี!S9/ดัชนี!R9*100-100 -> 0.20120724 | S9: =ดัชนี!T9/ดัชนี!S9*100-100 -> 1.4056225 | T9: =ดัชนี!U9/ดัชนี!T9*100-100 -> -0.99009901 | U9: =ดัชนี!V9/ดัชนี!U9*100-100 -> 0.7 | ... X9: =ดัชนี!Y9/ดัชนี!X9*100-100 -> 0
A10: - ปลาและสัตว์น้ำ | B10: =ดัชนี!O10/ดัชนี!C10*100-100 -> -4.1625372 | C10: =ดัชนี!P10/ดัชนี!D10*100-100 -> -4.3478261 | D10: =ดัชนี!Q10/ดัชนี!E10*100-100 -> -4.2448174 | E10: =ดัชนี!R10/ดัชนี!F10*100-100 -> -4.7384008 | F10: =ดัชนี!S10/ดัชนี!G10*100-100 -> -3.5892323 | G10: =ดัชนี!T10/ดัชนี!H10*100-100 -> -2.926337 | H10: =ดัชนี!U10/ดัชนี!I10*100-100 -> 0.20811655 | I10: =ดัชนี!V10/ดัชนี!J10*100-100 -> 0.20790021 | ... L10: =ดัชนี!Y10/ดัชนี!M10*100-100 -> -0.20682523 | N10: =ดัชนี!O10/ดัชนี!N10*100-100 -> 0 | O10: =ดัชนี!P10/ดัชนี!O10*100-100 -> 0.10341262 | P10: =ดัชนี!Q10/ดัชนี!P10*100-100 -> 0.20661157 | Q10: =ดัชนี!R10/ดัชนี!Q10*100-100 -> -0.51546392 | R10: =ดัชนี!S10/ดัชนี!R10*100-100 -> 0.20725389 | S10: =ดัชนี!T10/ดัชนี!S10*100-100 -> -0.51706308 | T10: =ดัชนี!U10/ดัชนี!T10*100-100 -> 0.1039501 | U10: =ดัชนี!V10/ดัชนี!U10*100-100 -> 0.10384216 | ... X10: =ดัชนี!Y10/ดัชนี!X10*100-100 -> 0.10373444
A11: ไข่และผลิตภัณฑ์นม | B11: =ดัชนี!O11/ดัชนี!C11*100-100 -> 3.580786 | C11: =ดัชนี!P11/ดัชนี!D11*100-100 -> 1.4782609 | D11: =ดัชนี!Q11/ดัชนี!E11*100-100 -> 2.1182701 | E11: =ดัชนี!R11/ดัชนี!F11*100-100 -> -0.08583691 | F11: =ดัชนี!S11/ดัชนี!G11*100-100 -> 2.6586621 | G11: =ดัชนี!T11/ดัชนี!H11*100-100 -> 3.2285472 | H11: =ดัชนี!U11/ดัชนี!I11*100-100 -> 1.5037594 | I11: =ดัชนี!V11/ดัชนี!J11*100-100 -> 1.3300083 | ... L11: =ดัชนี!Y11/ดัชนี!M11*100-100 -> -0.58284763 | N11: =ดัชนี!O11/ดัชนี!N11*100-100 -> 0 | O11: =ดัชนี!P11/ดัชนี!O11*100-100 -> -1.6020236 | P11: =ดัชนี!Q11/ดัชนี!P11*100-100 -> -0.85689803 | Q11: =ดัชนี!R11/ดัชนี!Q11*100-100 -> 0.60501296 | R11: =ดัชนี!S11/ดัชนี!R11*100-100 -> 2.8350515 | S11: =ดัชนี!T11/ดัชนี!S11*100-100 -> 1.5037594 | T11: =ดัชนี!U11/ดัชนี!T11*100-100 -> 0 | U11: =ดัชนี!V11/ดัชนี!U11*100-100 -> 0.32921811 | ... X11: =ดัชนี!Y11/ดัชนี!X11*100-100 -> -1.5663644
A12: ผักและผลไม้ | B12: =ดัชนี!O12/ดัชนี!C12*100-100 -> -4.122807 | C12: =ดัชนี!P12/ดัชนี!D12*100-100 -> -0.89928058 | D12: =ดัชนี!Q12/ดัชนี!E12*100-100 -> -4.0035587 | E12: =ดัชนี!R12/ดัชนี!F12*100-100 -> 2.7898867 | F12: =ดัชนี!S12/ดัชนี!G12*100-100 -> 5.0960735 | G12: =ดัชนี!T12/ดัชนี!H12*100-100 -> 2.566296 | H12: =ดัชนี!U12/ดัชนี!I12*100-100 -> 8.3179298 | I12: =ดัชนี!V12/ดัชนี!J12*100-100 -> 13.732719 | ... L12: =ดัชนี!Y12/ดัชนี!M12*100-100 -> -2.6724138 | N12: =ดัชนี!O12/ดัชนี!N12*100-100 -> 0 | O12: =ดัชนี!P12/ดัชนี!O12*100-100 -> 0.82342177 | P12: =ดัชนี!Q12/ดัชนี!P12*100-100 -> -2.0871143 | Q12: =ดัชนี!R12/ดัชนี!Q12*100-100 -> 9.2678406 | R12: =ดัชนี!S12/ดัชนี!R12*100-100 -> 6.7005937 | S12: =ดัชนี!T12/ดัชนี!S12*100-100 -> -4.6899841 | T12: =ดัชนี!U12/ดัชนี!T12*100-100 -> -2.2518766 | U12: =ดัชนี!V12/ดัชนี!U12*100-100 -> 5.2901024 | ... X12: =ดัชนี!Y12/ดัชนี!X12*100-100 -> -1.1383538
A13: - ผักสด | B13: =ดัชนี!O13/ดัชนี!C13*100-100 -> -0.27522936 | C13: =ดัชนี!P13/ดัชนี!D13*100-100 -> 0.55762082 | D13: =ดัชนี!Q13/ดัชนี!E13*100-100 -> -6.3336307 | E13: =ดัชนี!R13/ดัชนี!F13*100-100 -> 8.282476 | F13: =ดัชนี!S13/ดัชนี!G13*100-100 -> 11.606457 | G13: =ดัชนี!T13/ดัชนี!H13*100-100 -> -1.3621795 | H13: =ดัชนี!U13/ดัชนี!I13*100-100 -> 5.032022 | I13: =ดัชนี!V13/ดัชนี!J13*100-100 -> 18.853974 | ... L13: =ดัชนี!Y13/ดัชนี!M13*100-100 -> -11.217949 | N13: =ดัชนี!O13/ดัชนี!N13*100-100 -> 0 | O13: =ดัชนี!P13/ดัชนี!O13*100-100 -> -0.4599816 | P13: =ดัชนี!Q13/ดัชนี!P13*100-100 -> -2.9574861 | Q13: =ดัชนี!R13/ดัชนี!Q13*100-100 -> 18.285714 | R13: =ดัชนี!S13/ดัชนี!R13*100-100 -> 16.908213 | S13: =ดัชนี!T13/ดัชนี!S13*100-100 -> -15.220386 | T13: =ดัชนี!U13/ดัชนี!T13*100-100 -> -6.7424858 | U13: =ดัชนี!V13/ดัชนี!U13*100-100 -> 12.020906 | ... X13: =ดัชนี!Y13/ดัชนี!X13*100-100 -> -3.9028621
A14: - ผลไม้สด | B14: =ดัชนี!O14/ดัชนี!C14*100-100 -> -5.840708 | C14: =ดัชนี!P14/ดัชนี!D14*100-100 -> -0.27149321 | D14: =ดัชนี!Q14/ดัชนี!E14*100-100 -> -2.1680217 | E14: =ดัชนี!R14/ดัชนี!F14*100-100 -> -1.675485 | F14: =ดัชนี!S14/ดัชนี!G14*100-100 -> -0.27347311 | G14: =ดัชนี!T14/ดัชนี!H14*100-100 -> 6.6237351 | H14: =ดัชนี!U14/ดัชนี!I14*100-100 -> 11.996161 | I14: =ดัชนี!V14/ดัชนี!J14*100-100 -> 12.178877 | ... L14: =ดัชนี!Y14/ดัชนี!M14*100-100 -> 5.028463 | N14: =ดัชนี!O14/ดัชนี!N14*100-100 -> 0 | O14: =ดัชนี!P14/ดัชนี!O14*100-100 -> 3.5714286 | P14: =ดัชนี!Q14/ดัชนี!P14*100-100 -> -1.7241379 | Q14: =ดัชนี!R14/ดัชนี!Q14*100-100 -> 2.9547553 | R14: =ดัชนี!S14/ดัชนี!R14*100-100 -> -1.8834081 | S14: =ดัชนี!T14/ดัชนี!S14*100-100 -> 5.9414991 | T14: =ดัชนี!U14/ดัชนี!T14*100-100 -> 0.69025022 | U14: =ดัชนี!V14/ดัชนี!U14*100-100 -> 1.0282776 | ... X14: =ดัชนี!Y14/ดัชนี!X14*100-100 -> 0
A15: เครื่องประกอบอาหาร | B15: =ดัชนี!O15/ดัชนี!C15*100-100 -> -0.89686099 | C15: =ดัชนี!P15/ดัชนี!D15*100-100 -> 0.360036 | D15: =ดัชนี!Q15/ดัชนี!E15*100-100 -> 0.17969452 | E15: =ดัชนี!R15/ดัชนี!F15*100-100 -> 0.63233966 | F15: =ดัชนี!S15/ดัชนี!G15*100-100 -> 0.36101083 | G15: =ดัชนี!T15/ดัชนี!H15*100-100 -> 1.710171 | H15: =ดัชนี!U15/ดัชนี!I15*100-100 -> 1.535682 | I15: =ดัชนี!V15/ดัชนี!J15*100-100 -> 1.1743451 | ... L15: =ดัชนี!Y15/ดัชนี!M15*100-100 -> 1.4453478 | N15: =ดัชนี!O15/ดัชนี!N15*100-100 -> 0 | O15: =ดัชนี!P15/ดัชนี!O15*100-100 -> 0.90497738 | P15: =ดัชนี!Q15/ดัชนี!P15*100-100 -> 0 | Q15: =ดัชนี!R15/ดัชนี!Q15*100-100 -> -0.089686099 | R15: =ดัชนี!S15/ดัชนี!R15*100-100 -> -0.17953321 | S15: =ดัชนี!T15/ดัชนี!S15*100-100 -> 1.618705 | T15: =ดัชนี!U15/ดัชนี!T15*100-100 -> -0.53097345 | U15: =ดัชนี!V15/ดัชนี!U15*100-100 -> -0.35587189 | ... X15: =ดัชนี!Y15/ดัชนี!X15*100-100 -> 0.71748879
... A33: - พลังงาน | B33: =ดัชนี!O33/ดัชนี!C33*100-100 -> -5.3511706 | C33: =ดัชนี!P33/ดัชนี!D33*100-100 -> -3.4223706 | D33: =ดัชนี!Q33/ดัชนี!E33*100-100 -> -2.5963149 | E33: =ดัชนี!R33/ดัชนี!F33*100-100 -> -0.83542189 | F33: =ดัชนี!S33/ดัชนี!G33*100-100 -> 6.6486972 | G33: =ดัชนี!T33/ดัชนี!H33*100-100 -> 1.1955594 | H33: =ดัชนี!U33/ดัชนี!I33*100-100 -> 0.67396799 | I33: =ดัชนี!V33/ดัชนี!J33*100-100 -> -3.36894 | ... L33: =ดัชนี!Y33/ดัชนี!M33*100-100 -> 2.4647887 | N33: =ดัชนี!O33/ดัชนี!N33*100-100 -> 0 | O33: =ดัชนี!P33/ดัชนี!O33*100-100 -> 2.2084806 | P33: =ดัชนี!Q33/ดัชนี!P33*100-100 -> 0.51858254 | Q33: =ดัชนี!R33/ดัชนี!Q33*100-100 -> 2.0636285 | R33: =ดัชนี!S33/ดัชนี!R33*100-100 -> 0 | S33: =ดัชนี!T33/ดัชนี!S33*100-100 -> -0.168492 | T33: =ดัชนี!U33/ดัชนี!T33*100-100 -> 0.84388186 | U33: =ดัชนี!V33/ดัชนี!U33*100-100 -> -1.5899582 | ... X33: =ดัชนี!Y33/ดัชนี!X33*100-100 -> 0.25839793
