Workbook

Sheet จำนวนผู้ลงทะเบียนบัตรสวัสดิการแ
A1: จำนวนผู้มีสิทธิสวัสดิการแห่งรัฐของจังหวัดนครสวรรค์
A2: ลำดับ | B2: อำเภอ | C2: 2562 | D2: 2563 | E2: 2564 | F2: 2565 | G2: 2566 | H2: 2567 | I2: 2568 | J2: 2569
A3: 1 | B3: เมืองนครสวรรค์ | C3: 40932 | D3: 8577 | E3: =+C3+D3 -> 49509 | F3: 43038 | G3: 43716 | H3: 41838 | I3: =[1]ฐานข้อมูล68!I90 -> 41262 | J3: 27974
A4: 2 | B4: ตาคลี | C4: 19198 | D4: 3258 | E4: =+C4+D4 -> 22456 | F4: 23046 | G4: 23389 | H4: 22396 | I4: =[1]ฐานข้อมูล68!I38 -> 22031 | J4: 16730
A5: 3 | B5: บรรพตพิสัย | C5: 13887 | D5: 4813 | E5: =+C5+D5 -> 18700 | F5: 20195 | G5: 20488 | H5: 19637 | I5: =[1]ฐานข้อมูล68!I58 -> 19351 | J5: 14951
A6: 4 | B6: ลาดยาว | C6: 17554 | D6: 3889 | E6: =+C6+D6 -> 21443 | F6: 19362 | G6: 19648 | H6: 18863 | I6: =[1]ฐานข้อมูล68!I112 -> 18530 | J6: 14000
A7: 5 | B7: ไพศาลี | C7: 15806 | D7: 5349 | E7: =+C7+D7 -> 21155 | F7: 18588 | G7: 18911 | H7: 18082 | I7: =[1]ฐานข้อมูล68!I82 -> 17826 | J7: 12966
A8: 6 | B8: หนองบัว | C8: 13908 | D8: 4164 | E8: =+C8+D8 -> 18072 | F8: 16551 | G8: 16854 | H8: 16030 | I8: =[1]ฐานข้อมูล68!I124 -> 15842 | J8: 11315
A9: 7 | B9: ท่าตะโก | C9: 12733 | D9: 4312 | E9: =+C9+D9 -> 17045 | F9: 16117 | G9: 16446 | H9: 15655 | I9: =[1]ฐานข้อมูล68!I48 -> 15410 | J9: 11291
A10: 8 | B10: ชุมแสง | C10: 12545 | D10: 3146 | E10: =+C10+D10 -> 15691 | F10: 16032 | G10: 16289 | H10: 15543 | I10: =[1]ฐานข้อมูล68!I19 -> 15328 | J10: 10918
A11: 9 | B11: พยุหะคีรี | C11: 11762 | D11: 3032 | E11: =+C11+D11 -> 14794 | F11: 14990 | G11: 15231 | H11: 14528 | I11: =[1]ฐานข้อมูล68!I71 -> 14314 | J11: 10282
A12: 10 | B12: แม่วงก์ | C12: 12976 | D12: 3701 | E12: =+C12+D12 -> 16677 | F12: 11846 | G12: 11989 | H12: 11438 | I12: =[1]ฐานข้อมูล68!I108 -> 11287 | J12: 8099
A13: 11 | B13: เก้าเลี้ยว | C13: 6769 | D13: 2073 | E13: =+C13+D13 -> 8842 | F13: 9471 | G13: 9635 | H13: 9238 | I13: =[1]ฐานข้อมูล68!I3 -> 9083 | J13: 6739
A14: 12 | B14: ตากฟ้า | C14: 6841 | D14: 2057 | E14: =+C14+D14 -> 8898 | F14: 8187 | G14: 8319 | H14: 7966 | I14: =[1]ฐานข้อมูล68!I31 -> 7881 | J14: 6143
A15: 13 | B15: โกรกพระ | C15: 6496 | D15: 2078 | E15: =+C15+D15 -> 8574 | F15: 8820 | G15: 8963 | H15: 8578 | I15: =[1]ฐานข้อมูล68!I8 -> 8467 | J15: 5927
A16: 14 | B16: แม่เปิน | C16: 5732 | D16: 1172 | E16: =+C16+D16 -> 6904 | F16: 5534 | G16: 5601 | H16: 5337 | I16: =[1]ฐานข้อมูล68!I107 -> 5273 | J16: 3912
A17: 15 | B17: ชุมตาบง | C17: 5300 | D17: 976 | E17: =+C17+D17 -> 6276 | F17: 4447 | G17: 4502 | H17: 4293 | I17: =[1]ฐานข้อมูล68!I17 -> 4248 | J17: 3094
B18: รวม | C18: =SUM(C3:C17) -> 202439 | D18: =SUM(D3:D17) -> 52597 | E18: =SUM(E3:E17) -> 255036 | F18: =SUM(F3:F17) -> 236224 | G18: =SUM(G3:G17) -> 239981 | H18: =SUM(H3:H17) -> 229422 | I18: =SUM(I3:I17) -> 226133 | J18: =SUM(J3:J17) -> 164341
H21: ข้อมูล ณ วันที่ 3 สิงหาคม 2569
