Workbook

Sheet รวมรายเดือน
A2: สถานีอุตุนิยมวิทยานครพนม
A3: โทร.042-513002 โทรสาร 042-515543 042-515543 http://www.tmd.go.th e-mail: 48357@metnet.tmd.go.th
A4: ตารางแสดงปริมาณฝนรวมของจังหวัดนครพนม(มิลลิเมตร) ปี 2565
A5: อำเภอ เดือน | B5: เมือง | C5: ธาตุ | D5: ท่า | E5: เรณู | F5: ศรีสง | G5: บ้าน | H5: นาแก | I5: นาทม | J5: วังยาง | K5: นาหว้า | L5: โพน | M5: ปลา | N5: เฉลี่ย
C6: พนม | D6: อุเทน | E6: นคร | F6: คราม | G6: แพง | L6: สวรรค์ | M6: ปาก
A7: มกราคม | B7: =[1]ม.ค.65!B39 -> 6.5 | C7: =[1]ม.ค.65!C39 -> 5.3 | D7: =[1]ม.ค.65!D39 -> 0 | E7: =[1]ม.ค.65!E39 -> 3 | F7: =[1]ม.ค.65!F39 -> 0 | G7: =[1]ม.ค.65!G39 -> 0 | H7: =[1]ม.ค.65!H39 -> 3.1 | I7: =[1]ม.ค.65!I39 -> 0 | ... M7: =[1]ม.ค.65!M39 -> 0 | N7: =AVERAGE(B7:M7) -> 1.4916667
A8: กุมภาพันธ์ | B8: =[1]ก.พ.65!B36 -> 21.7 | C8: =[1]ก.พ.65!C36 -> 13.4 | D8: =[1]ก.พ.65!D36 -> 82.5 | E8: =[1]ก.พ.65!E36 -> 41.3 | F8: =[1]ก.พ.65!F36 -> 117.8 | G8: =[1]ก.พ.65!G36 -> 93 | H8: =[1]ก.พ.65!H36 -> 24.6 | I8: =[1]ก.พ.65!I36 -> 107.1 | ... M8: =[1]ก.พ.65!M36 -> 20.7 | N8: =AVERAGE(B8:M8) -> 49.283333
A9: มีนาคม | B9: =[1]มี.ค.65!B39 -> 50.7 | C9: =[1]มี.ค.65!C39 -> 19.2 | D9: =[1]มี.ค.65!D39 -> 44 | E9: =[1]มี.ค.65!E39 -> 77 | F9: =[1]มี.ค.65!F39 -> 123.1 | G9: =[1]มี.ค.65!G39 -> 141 | H9: =[1]มี.ค.65!H39 -> 14.8 | I9: =[1]มี.ค.65!I39 -> 55.2 | ... M9: =[1]มี.ค.65!M39 -> 8.9 | N9: =AVERAGE(B9:M9) -> 59.583333
A10: เมษายน | B10: =[1]เม.ย.65!B39 -> 119.9 | C10: =[1]เม.ย.65!C39 -> 105.9 | D10: =[1]เม.ย.65!D39 -> 33.5 | E10: =[1]เม.ย.65!E39 -> 23.5 | F10: =[1]เม.ย.65!F39 -> 53.6 | G10: =[1]เม.ย.65!G39 -> 35.5 | H10: =[1]เม.ย.65!H39 -> 101.5 | I10: =[1]เม.ย.65!I39 -> 13.6 | ... M10: =[1]เม.ย.65!M39 -> 74 | N10: =AVERAGE(B10:M10) -> 62.808333
A11: พฤษภาคม | B11: =[1]พ.ค.65!B39 -> 257.32 | C11: =[1]พ.ค.65!C39 -> 230.7 | D11: =[1]พ.ค.65!D39 -> 240.5 | E11: =[1]พ.ค.65!E39 -> 251.1 | F11: =[1]พ.ค.65!F39 -> 299.1 | G11: =[1]พ.ค.65!G39 -> 349.5 | H11: =[1]พ.ค.65!H39 -> 350.7 | I11: =[1]พ.ค.65!I39 -> 247.8 | ... M11: =[1]พ.ค.65!M39 -> 97.7 | N11: =AVERAGE(B11:M11) -> 250.06
A12: มิถุนายน | B12: =[1]มิ.ย.65!B39 -> 223.8 | C12: =[1]มิ.ย.65!C39 -> 95.8 | D12: =[1]มิ.ย.65!D39 -> 239.6 | E12: =[1]มิ.ย.65!E39 -> 143.9 | F12: =[1]มิ.ย.65!F39 -> 474.2 | G12: =[1]มิ.ย.65!G39 -> 389 | H12: =[1]มิ.ย.65!H39 -> 96.1 | I12: =[1]มิ.ย.65!I39 -> 133.7 | ... M12: =[1]มิ.ย.65!M39 -> 31.8 | N12: =AVERAGE(B12:M12) -> 183.60833
A13: กรกฎาคม | B13: =[1]ก.ค.65!B39 -> 303.9 | C13: =[1]ก.ค.65!C39 -> 265.1 | D13: =[1]ก.ค.65!D39 -> 242.7 | E13: =[1]ก.ค.65!E39 -> 254.7 | F13: =[1]ก.ค.65!F39 -> 404.2 | G13: =[1]ก.ค.65!G39 -> 324 | H13: =[1]ก.ค.65!H39 -> 335.5 | I13: =[1]ก.ค.65!I39 -> 267.4 | ... M13: =[1]ก.ค.65!M39 -> 134.5 | N13: =AVERAGE(B13:M13) -> 242.54167
A14: สิงหาคม | B14: =[1]ส.ค.65!B39 -> 560.8 | C14: =[1]ส.ค.65!C39 -> 186 | D14: =[1]ส.ค.65!D39 -> 467.3 | E14: =[1]ส.ค.65!E39 -> 309.6 | F14: =[1]ส.ค.65!F39 -> 547.1 | G14: =[1]ส.ค.65!G39 -> 353 | H14: =[1]ส.ค.65!H39 -> 276.8 | I14: =[1]ส.ค.65!I39 -> 361.8 | ... M14: =[1]ส.ค.65!M39 -> 264.5 | N14: =AVERAGE(B14:M14) -> 319.925
A15: กันยายน | B15: ='[1]ก.ย.65 '!B39 -> 283.2 | C15: ='[1]ก.ย.65 '!C39 -> 209.3 | D15: ='[1]ก.ย.65 '!D39 -> 208.3 | E15: ='[1]ก.ย.65 '!E39 -> 254.5 | F15: ='[1]ก.ย.65 '!F39 -> 281.7 | G15: ='[1]ก.ย.65 '!G39 -> 275.5 | H15: ='[1]ก.ย.65 '!H39 -> 99.2 | I15: ='[1]ก.ย.65 '!I39 -> 271 | ... M15: ='[1]ก.ย.65 '!M39 -> 258.2 | N15: =AVERAGE(B15:M15) -> 212.16667
A16: ตุลาคม | B16: =[1]ต.ค.65!B39 -> 50.6 | C16: =[1]ต.ค.65!C39 -> 19.1 | D16: =[1]ต.ค.65!D39 -> 10.8 | E16: =[1]ต.ค.65!E39 -> 31 | F16: =[1]ต.ค.65!F39 -> 102.3 | G16: =[1]ต.ค.65!G39 -> 63.5 | H16: =[1]ต.ค.65!H39 -> 39.2 | I16: =[1]ต.ค.65!I39 -> 36.9 | ... M16: =[1]ต.ค.65!M39 -> 10.3 | N16: =AVERAGE(B16:M16) -> 39.241667
A17: พฤศจิกายน | B17: =[1]พ.ย.65!B38 -> 29.7 | C17: =[1]พ.ย.65!C38 -> 19.7 | D17: =[1]พ.ย.65!D38 -> 11.5 | E17: =[1]พ.ย.65!E38 -> 21 | F17: =[1]พ.ย.65!F38 -> 28.8 | G17: =[1]พ.ย.65!G38 -> 0 | H17: =[1]พ.ย.65!H38 -> 0 | I17: =[1]พ.ย.65!I38 -> 3.7 | ... N17: =[1]พ.ย.65!N38 -> 19.9
A18: ธันวาคม | B18: =[1]ธ.ค.65!B39 -> 0 | C18: =[1]ธ.ค.65!C39 -> 0 | D18: =[1]ธ.ค.65!D39 -> 0 | E18: =[1]ธ.ค.65!E39 -> 0 | F18: =[1]ธ.ค.65!F39 -> 0 | G18: =[1]ธ.ค.65!G39 -> 0 | H18: =[1]ธ.ค.65!H39 -> 0 | I18: =[1]ธ.ค.65!I39 -> 0 | ... N18: =[1]ธ.ค.65!N39 -> 0
A19: ฝนรวม | B19: =SUM(B7:B18) -> 1908.12 | C19: =SUM(C7:C18) -> 1169.5 | D19: =SUM(D7:D18) -> 1580.7 | E19: =SUM(E7:E18) -> 1410.6 | F19: =SUM(F7:F18) -> 2431.9 | G19: =SUM(G7:G18) -> 2024 | H19: =SUM(H7:H18) -> 1341.5 | I19: =SUM(I7:I18) -> 1498.2 | ... N19: =SUM(N7:N18) -> 1440.61
E20: หมายเหตุ | G20: T = ฝนตกเล็กน้อยวัดปริมาณได้น้อยกว่า 0.1 ม.ม. | M20: =SUM(B19:M19) -> 17287.32
