Workbook

Sheet รวมรายอำเภอ
A2: สถานีอุตุนิยมวิทยานครพนม
A3: โทร.042-513002 โทรสาร 042-515543 042-515543 http://www.tmd.go.th e-mail: 48357@metnet.tmd.go.th
A4: ตารางแสดงปริมาณฝนรวมของจังหวัดนครพนม(มิลลิเมตร) ปี 2564
A5: อำเภอ เดือน | B5: เมือง | C5: ธาตุ | D5: ท่า | E5: เรณู | F5: ศรีสง | G5: บ้าน | H5: นาแก | I5: นาทม | J5: วังยาง | K5: นาหว้า | L5: โพน | M5: ปลา | N5: กกษ | O5: เฉลี่ย
C6: พนม | D6: อุเทน | E6: นคร | F6: คราม | G6: แพง | L6: สวรรค์ | M6: ปาก
A7: มกราคม | B7: =[1]ม.ค.64!B39 -> 0 | C7: =[1]ม.ค.64!C39 -> 0 | D7: =[1]ม.ค.64!D39 -> 0 | E7: =[1]ม.ค.64!E39 -> 0 | F7: =[1]ม.ค.64!F39 -> 0 | G7: =[1]ม.ค.64!G39 -> 0 | H7: =[1]ม.ค.64!H39 -> 0 | I7: =[1]ม.ค.64!I39 -> 0 | ... M7: =[1]ม.ค.64!M39 -> 0 | N7: =AVERAGE(B7:M7) -> 0 | O7: =AVERAGE(B7:N7) -> 0
A8: กุมภาพันธ์ | B8: =[1]ก.พ.64!B36 -> 30.9 | C8: =[1]ก.พ.64!C36 -> 58.6 | D8: =[1]ก.พ.64!D36 -> 47.1 | E8: 46.1 | F8: 61.3 | G8: 80.5 | H8: 102 | I8: 101.7 | J8: 71 | K8: 28.5 | L8: 28.5 | M8: 25.9 | N8: 43.2 | O8: =AVERAGE(B8:N8) -> 55.792308
A9: มีนาคม | B9: =[1]มี.ค.64!B39 -> 49.8 | C9: 8.9 | D9: 20.6 | E9: 4.5 | F9: 50.8 | G9: 51.3 | H9: 44.1 | I9: 8.6 | J9: 28 | K9: 22 | L9: 48.3 | M9: 27.4 | N9: 26.1 | O9: =AVERAGE(B9:N9) -> 30.030769
A10: เมษายน | B10: =[1]เม.ย.64!B39 -> 97.8 | C10: =[1]เม.ย.64!C39 -> 138.2 | D10: =[1]เม.ย.64!D39 -> 81.4 | E10: =[1]เม.ย.64!E39 -> 141.4 | F10: =[1]เม.ย.64!F39 -> 62.8 | G10: =[1]เม.ย.64!G39 -> 77 | H10: =[1]เม.ย.64!H39 -> 125.6 | I10: =[1]เม.ย.64!I39 -> 80.8 | ... M10: =[1]เม.ย.64!M39 -> 95 | N10: 163.6 | O10: =AVERAGE(B10:N10) -> 103.57692
A11: พฤษภาคม | B11: =[1]พ.ค.64!B39 -> 238.9 | C11: 173.7 | D11: 61.1 | E11: 79.1 | F11: 186 | G11: 101.5 | H11: 145.7 | I11: 247.1 | J11: 43.8 | K11: =[1]พ.ค.64!K39 -> 89.2 | L11: =[1]พ.ค.64!L39 -> 47.1 | M11: =[1]พ.ค.64!M39 -> 39.2 | N11: 80 | O11: =AVERAGE(B11:N11) -> 117.87692
A12: มิถุนายน | B12: 494.7 | C12: 303.7 | D12: 437.3 | E12: 296.9 | F12: 674 | G12: 600.5 | H12: 312.7 | I12: 487.8 | J12: 222.4 | K12: 170.1 | L12: 466.3 | M12: 275.8 | N12: 86 | O12: =AVERAGE(B12:N12) -> 371.4
A13: กรกฎาคม | B13: 570.4 | C13: 287.6 | D13: 551.2 | E13: 233.5 | F13: 526.7 | G13: 497.5 | H13: 215.5 | I13: 478.1 | J13: 217.7 | K13: 227.2 | L13: 226.7 | M13: 199 | N13: 434.2 | O13: =AVERAGE(B13:N13) -> 358.86923
A14: สิงหาคม | B14: 241.4 | C14: 136.8 | D14: 267.2 | E14: 141.9 | F14: 289.7 | G14: 433 | H14: 100 | I14: 219.4 | J14: 145.9 | K14: 158.5 | L14: 169.8 | M14: 138.6 | N14: 156.8 | O14: =AVERAGE(B14:N14) -> 199.92308
A15: กันยายน | B15: 282.8 | C15: 263.6 | D15: 277.2 | E15: 192.8 | F15: 411.8 | G15: 428 | H15: 203.7 | I15: 266.8 | J15: 170.3 | K15: 240.6 | L15: 179.6 | M15: 184.8 | N15: 293.1 | O15: =AVERAGE(B15:N15) -> 261.16154
A16: ตุลาคม | B16: 157.6 | C16: 119 | D16: 118.1 | E16: 235.8 | F16: 202.5 | G16: 82.5 | H16: 184.3 | I16: 141.5 | J16: 189 | K16: 107.4 | L16: 251.2 | M16: 209 | N16: 308.1 | O16: =AVERAGE(B16:N16) -> 177.38462
A17: พฤศจิกายน | B17: 0 | C17: 0 | D17: 0 | E17: 0 | F17: 0 | G17: 0 | H17: 0 | I17: 0 | J17: 0 | K17: 0 | L17: 0 | M17: 0 | N17: 0 | O17: =AVERAGE(B17:N17) -> 0
A18: ธันวาคม | B18: 0 | C18: 0 | D18: 0 | E18: 0 | F18: 0 | G18: 0 | H18: 0 | I18: 0 | J18: 0 | K18: 0 | L18: 0 | M18: 0 | N18: 0 | O18: =AVERAGE(B18:N18) -> 0
A19: ฝนรวม | B19: =SUM(B7:B18) -> 2164.3 | C19: =SUM(C7:C18) -> 1490.1 | D19: =SUM(D7:D18) -> 1861.2 | E19: =SUM(E7:E18) -> 1372 | F19: =SUM(F7:F18) -> 2465.6 | G19: =SUM(G7:G18) -> 2351.8 | H19: =SUM(H7:H18) -> 1433.6 | I19: =SUM(I7:I18) -> 2031.8 | ... N19: =SUM(N7:N18) -> 1591.1 | O19: =AVERAGE(B19:N19) -> 1676.0154
E20: หมายเหตุ | G20: T = ฝนตกเล็กน้อยวัดปริมาณได้น้อยกว่า 0.1 ม.ม.
