Workbook

Sheet ต.ค.66
A1: รายงานข้อมูลการให้บริการประชาชน กรมพัฒนาสังคมและสวัสดิการ
A2: กองพัฒนาสังคมกลุ่มเป้าหมายพิเศษ
A3: ประจำปีงบประมาณ พ.ศ. 2567 (ประจำเดือนตุลาคม พ.ศ. 2566)
A5: ที่ | B5: งานที่ให้บริการ | C5: หน่วยนับ | D5: จำนวนการให้บริการ
C6: (คน) | D6: (ครั้ง)
A7: 1 | B7: ติดต่อการขอใช้ประโยชน์ที่ดิน | C7: 212 | D7: 212
A8: 2 | B8: ให้ความช่วยเหลือการจัดสวัสดิการสังคม/ช่วยเหลือกลุ่มเปราะบาง | C8: 18 | D8: 18
A9: 3 | B9: การจัดกิจกรรมโครงการ | C9: 14 | D9: 14
A10: 4 | B10: ติดต่องานทะเบียนและหนังสือสำคัญ | C10: 4450 | D10: 4450
A11: 5 | B11: ติดต่องานจัดทรัพยากรนิคมสร้างตนเอง | C11: 240 | D11: 240
A12: 6 | B12: ติดต่องานสินเชื่อ | C12: 6 | D12: 6
A13: 7 | B13: ติดต่องานรังวัดและแผนที่ | C13: 2360 | D13: 2360
A14: 8 | B14: ปฏิบัติหน้าที่ศูนย์ช่วยเหลือสังคม สายด่วน พม. 1300 | C14: 0 | D14: 0
A15: 9 | B15: การให้บริการด้านอื่นๆ | C15: 0 | D15: 0
A16: รวม | C16: =SUM(C7:C15) -> 7300 | D16: =SUM(D7:D15) -> 7300

Sheet พ.ย.66
A1: รายงานข้อมูลการให้บริการประชาชน กรมพัฒนาสังคมและสวัสดิการ
A2: กองพัฒนาสังคมกลุ่มเป้าหมายพิเศษ
A3: ประจำปีงบประมาณ พ.ศ. 2567 (ประจำเดือนพฤศจิกายน พ.ศ. 2566)
A5: ที่ | B5: งานที่ให้บริการ | C5: หน่วยนับ | D5: จำนวนการให้บริการ
C6: (คน) | D6: (ครั้ง)
A7: 1 | B7: ติดต่อการขอใช้ประโยชน์ที่ดิน | C7: 433 | D7: 433
A8: 2 | B8: ให้ความช่วยเหลือการจัดสวัสดิการสังคม/ช่วยเหลือกลุ่มเปราะบาง | C8: 28 | D8: 28
A9: 3 | B9: การจัดกิจกรรมโครงการ | C9: 8 | D9: 8
A10: 4 | B10: ติดต่องานทะเบียนและหนังสือสำคัญ | C10: 3323 | D10: 3323
A11: 5 | B11: ติดต่องานจัดทรัพยากรนิคมสร้างตนเอง | C11: 560 | D11: 560
A12: 6 | B12: ติดต่องานสินเชื่อ | C12: 7 | D12: 7
A13: 7 | B13: ติดต่องานรังวัดและแผนที่ | C13: 3220 | D13: 3220
A14: 8 | B14: ปฏิบัติหน้าที่ศูนย์ช่วยเหลือสังคม สายด่วน พม. 1300 | C14: 0 | D14: 0
A15: 9 | B15: การให้บริการด้านอื่นๆ | C15: 0 | D15: 0
A16: รวม | C16: =SUM(C7:C15) -> 7579 | D16: =SUM(D7:D15) -> 7579

Sheet ธ.ค.66
A1: รายงานข้อมูลการให้บริการประชาชน กรมพัฒนาสังคมและสวัสดิการ
A2: กองพัฒนาสังคมกลุ่มเป้าหมายพิเศษ
A3: ประจำปีงบประมาณ พ.ศ. 2567 (ประจำเดือนธันวาคม พ.ศ. 2566)
A5: ที่ | B5: งานที่ให้บริการ | C5: หน่วยนับ | D5: จำนวนการให้บริการ
C6: (คน) | D6: (ครั้ง)
A7: 1 | B7: ติดต่อการขอใช้ประโยชน์ที่ดิน | C7: 765 | D7: 765
A8: 2 | B8: ให้ความช่วยเหลือการจัดสวัสดิการสังคม/ช่วยเหลือกลุ่มเปราะบาง | C8: 6 | D8: 6
A9: 3 | B9: การจัดกิจกรรมโครงการ | C9: 12 | D9: 12
A10: 4 | B10: ติดต่องานทะเบียนและหนังสือสำคัญ | C10: 2343 | D10: 2343
A11: 5 | B11: ติดต่องานจัดทรัพยากรนิคมสร้างตนเอง | C11: 231 | D11: 231
A12: 6 | B12: ติดต่องานสินเชื่อ | C12: 15 | D12: 15
A13: 7 | B13: ติดต่องานรังวัดและแผนที่ | C13: 2567 | D13: 2567
A14: 8 | B14: ปฏิบัติหน้าที่ศูนย์ช่วยเหลือสังคม สายด่วน พม. 1300 | C14: 8 | D14: 8
A15: 9 | B15: การให้บริการด้านอื่นๆ | C15: 0 | D15: 0
A16: รวม | C16: =SUM(C7:C15) -> 5947 | D16: =SUM(D7:D15) -> 5947

Sheet ม.ค.67
A1: รายงานข้อมูลการให้บริการประชาชน กรมพัฒนาสังคมและสวัสดิการ
A2: กองพัฒนาสังคมกลุ่มเป้าหมายพิเศษ
A3: ประจำปีงบประมาณ พ.ศ. 2567 (ประจำเดือนมกราคม พ.ศ. 2567)
A5: ที่ | B5: งานที่ให้บริการ | C5: หน่วยนับ | D5: จำนวนการให้บริการ
C6: (คน) | D6: (ครั้ง)
A7: 1 | B7: ติดต่อการขอใช้ประโยชน์ที่ดิน | C7: 156 | D7: 156
A8: 2 | B8: ให้ความช่วยเหลือการจัดสวัสดิการสังคม/ช่วยเหลือกลุ่มเปราะบาง | C8: 419 | D8: 419
A9: 3 | B9: การจัดกิจกรรมโครงการ | C9: 327 | D9: 327
A10: 4 | B10: ติดต่องานทะเบียนและหนังสือสำคัญ | C10: 1140 | D10: 1140
A11: 5 | B11: ติดต่องานจัดทรัพยากรนิคมสร้างตนเอง | C11: 228 | D11: 228
A12: 6 | B12: ติดต่องานสินเชื่อ | C12: 16 | D12: 16
A13: 7 | B13: ติดต่องานรังวัดและแผนที่ | C13: 865 | D13: 865
A14: 8 | B14: ปฏิบัติหน้าที่ศูนย์ช่วยเหลือสังคม สายด่วน พม. 1300 | C14: 0 | D14: 0
A15: 9 | B15: การให้บริการด้านอื่นๆ | C15: 0 | D15: 0
A16: รวม | C16: =SUM(C7:C15) -> 3151 | D16: =SUM(D7:D15) -> 3151

Sheet ก.พ.67
A1: รายงานข้อมูลการให้บริการประชาชน กรมพัฒนาสังคมและสวัสดิการ
A2: กองพัฒนาสังคมกลุ่มเป้าหมายพิเศษ
A3: ประจำปีงบประมาณ พ.ศ. 2567 (ประจำเดือนกุมภาพันธ์ พ.ศ. 2567)
A5: ที่ | B5: งานที่ให้บริการ | C5: หน่วยนับ | D5: จำนวนการให้บริการ
C6: (คน) | D6: (ครั้ง)
A7: 1 | B7: ติดต่อการขอใช้ประโยชน์ที่ดิน | C7: 44 | D7: 44
A8: 2 | B8: ให้ความช่วยเหลือการจัดสวัสดิการสังคม/ช่วยเหลือกลุ่มเปราะบาง | C8: 787 | D8: 787
A9: 3 | B9: การจัดกิจกรรมโครงการ | C9: 1534 | D9: 1534
A10: 4 | B10: ติดต่องานทะเบียนและหนังสือสำคัญ | C10: 539 | D10: 539
A11: 5 | B11: ติดต่องานจัดทรัพยากรนิคมสร้างตนเอง | C11: 322 | D11: 322
A12: 6 | B12: ติดต่องานสินเชื่อ | C12: 49 | D12: 49
A13: 7 | B13: ติดต่องานรังวัดและแผนที่ | C13: 179 | D13: 179
A14: 8 | B14: ปฏิบัติหน้าที่ศูนย์ช่วยเหลือสังคม สายด่วน พม. 1300 | C14: 17 | D14: 17
A15: 9 | B15: การให้บริการด้านอื่นๆ | C15: 436 | D15: 436
A16: รวม | C16: =SUM(C7:C15) -> 3907 | D16: =SUM(D7:D15) -> 3907

Sheet มี.ค.67
A1: รายงานข้อมูลการให้บริการประชาชน กรมพัฒนาสังคมและสวัสดิการ
A2: กองพัฒนาสังคมกลุ่มเป้าหมายพิเศษ
A3: ประจำปีงบประมาณ พ.ศ. 2567 (ประจำเดือนมีนาคม พ.ศ. 2567)
A5: ที่ | B5: งานที่ให้บริการ | C5: หน่วยนับ | D5: จำนวนการให้บริการ
C6: (คน) | D6: (ครั้ง)
A7: 1 | B7: ติดต่อการขอใช้ประโยชน์ที่ดิน | C7: 217 | D7: 217
A8: 2 | B8: ให้ความช่วยเหลือการจัดสวัสดิการสังคม/ช่วยเหลือกลุ่มเปราะบาง | C8: 860 | D8: 860
A9: 3 | B9: การจัดกิจกรรมโครงการ | C9: 2335 | D9: 2335
A10: 4 | B10: ติดต่องานทะเบียนและหนังสือสำคัญ | C10: 2460 | D10: 2460
A11: 5 | B11: ติดต่องานจัดทรัพยากรนิคมสร้างตนเอง | C11: 445 | D11: 445
A12: 6 | B12: ติดต่องานสินเชื่อ | C12: 23 | D12: 23
A13: 7 | B13: ติดต่องานรังวัดและแผนที่ | C13: 1450 | D13: 1450
A14: 8 | B14: ปฏิบัติหน้าที่ศูนย์ช่วยเหลือสังคม สายด่วน พม. 1300 | C14: 8 | D14: 8
A15: 9 | B15: การให้บริการด้านอื่นๆ | C15: 65 | D15: 65
A16: รวม | C16: =SUM(C7:C15) -> 7863 | D16: =SUM(D7:D15) -> 7863

Sheet เม.ย.67
A1: รายงานข้อมูลการให้บริการประชาชน กรมพัฒนาสังคมและสวัสดิการ
A2: กองพัฒนาสังคมกลุ่มเป้าหมายพิเศษ
A3: ประจำปีงบประมาณ พ.ศ. 2567 (ประจำเดือนเมษายน พ.ศ. 2567)
A5: ที่ | B5: งานที่ให้บริการ | C5: หน่วยนับ | D5: จำนวนการให้บริการ
C6: (คน) | D6: (ครั้ง)
A7: 1 | B7: ติดต่อการขอใช้ประโยชน์ที่ดิน | C7: 114 | D7: 114
A8: 2 | B8: ให้ความช่วยเหลือการจัดสวัสดิการสังคม/ช่วยเหลือกลุ่มเปราะบาง | C8: 1430 | D8: 1430
A9: 3 | B9: การจัดกิจกรรมโครงการ | C9: 1040 | D9: 1040
A10: 4 | B10: ติดต่องานทะเบียนและหนังสือสำคัญ | C10: 1855 | D10: 1855
A11: 5 | B11: ติดต่องานจัดทรัพยากรนิคมสร้างตนเอง | C11: 236 | D11: 236
A12: 6 | B12: ติดต่องานสินเชื่อ | C12: 45 | D12: 45
A13: 7 | B13: ติดต่องานรังวัดและแผนที่ | C13: 2010 | D13: 2010
A14: 8 | B14: ปฏิบัติหน้าที่ศูนย์ช่วยเหลือสังคม สายด่วน พม. 1300 | C14: 14 | D14: 14
A15: 9 | B15: การให้บริการด้านอื่นๆ | C15: 223 | D15: 223
A16: รวม | C16: =SUM(C7:C15) -> 6967 | D16: =SUM(D7:D15) -> 6967

Sheet รวม
A1: รายงานข้อมูลการให้บริการประชาชน กรมพัฒนาสังคมและสวัสดิการ
A2: กองพัฒนาสังคมกลุ่มเป้าหมายพิเศษ
A3: ประจำปีงบประมาณ พ.ศ. 2567
A5: ที่ | B5: งานที่ให้บริการ | C5: หน่วยนับ | D5: จำนวนการให้บริการ
C6: (คน) | D6: (ครั้ง)
A7: 1 | B7: ติดต่อการขอใช้ประโยชน์ที่ดิน | C7: =SUM(ต.ค.66!C7+พ.ย.66!C7+ธ.ค.66!C7+ม.ค.67!C7+ก.พ.67!C7+มี.ค.67!C7+เม.ย.67!C7) -> 1941 | D7: =SUM(ต.ค.66!D7+พ.ย.66!D7+ธ.ค.66!D7+ม.ค.67!D7+ก.พ.67!D7+มี.ค.67!D7+เม.ย.67!D7) -> 1941
A8: 2 | B8: ให้ความช่วยเหลือการจัดสวัสดิการสังคม/ช่วยเหลือกลุ่มเปราะบาง | C8: =SUM(ต.ค.66!C8+พ.ย.66!C8+ธ.ค.66!C8+ม.ค.67!C8+ก.พ.67!C8+มี.ค.67!C8+เม.ย.67!C8) -> 3548 | D8: =SUM(ต.ค.66!D8+พ.ย.66!D8+ธ.ค.66!D8+ม.ค.67!D8+ก.พ.67!D8+มี.ค.67!D8+เม.ย.67!D8) -> 3548
A9: 3 | B9: การจัดกิจกรรมโครงการ | C9: =SUM(ต.ค.66!C9+พ.ย.66!C9+ธ.ค.66!C9+ม.ค.67!C9+ก.พ.67!C9+มี.ค.67!C9+เม.ย.67!C9) -> 5270 | D9: =SUM(ต.ค.66!D9+พ.ย.66!D9+ธ.ค.66!D9+ม.ค.67!D9+ก.พ.67!D9+มี.ค.67!D9+เม.ย.67!D9) -> 5270
A10: 4 | B10: ติดต่องานทะเบียนและหนังสือสำคัญ | C10: =SUM(ต.ค.66!C10+พ.ย.66!C10+ธ.ค.66!C10+ม.ค.67!C10+ก.พ.67!C10+มี.ค.67!C10+เม.ย.67!C10) -> 16110 | D10: =SUM(ต.ค.66!D10+พ.ย.66!D10+ธ.ค.66!D10+ม.ค.67!D10+ก.พ.67!D10+มี.ค.67!D10+เม.ย.67!D10) -> 16110
A11: 5 | B11: ติดต่องานจัดทรัพยากรนิคมสร้างตนเอง | C11: =SUM(ต.ค.66!C11+พ.ย.66!C11+ธ.ค.66!C11+ม.ค.67!C11+ก.พ.67!C11+มี.ค.67!C11+เม.ย.67!C11) -> 2262 | D11: =SUM(ต.ค.66!D11+พ.ย.66!D11+ธ.ค.66!D11+ม.ค.67!D11+ก.พ.67!D11+มี.ค.67!D11+เม.ย.67!D11) -> 2262
A12: 6 | B12: ติดต่องานสินเชื่อ | C12: =SUM(ต.ค.66!C12+พ.ย.66!C12+ธ.ค.66!C12+ม.ค.67!C12+ก.พ.67!C12+มี.ค.67!C12+เม.ย.67!C12) -> 161 | D12: =SUM(ต.ค.66!D12+พ.ย.66!D12+ธ.ค.66!D12+ม.ค.67!D12+ก.พ.67!D12+มี.ค.67!D12+เม.ย.67!D12) -> 161
A13: 7 | B13: ติดต่องานรังวัดและแผนที่ | C13: =SUM(ต.ค.66!C13+พ.ย.66!C13+ธ.ค.66!C13+ม.ค.67!C13+ก.พ.67!C13+มี.ค.67!C13+เม.ย.67!C13) -> 12651 | D13: =SUM(ต.ค.66!D13+พ.ย.66!D13+ธ.ค.66!D13+ม.ค.67!D13+ก.พ.67!D13+มี.ค.67!D13+เม.ย.67!D13) -> 12651
A14: 8 | B14: ปฏิบัติหน้าที่ศูนย์ช่วยเหลือสังคม สายด่วน พม. 1300 | C14: =SUM(ต.ค.66!C14+พ.ย.66!C14+ธ.ค.66!C14+ม.ค.67!C14+ก.พ.67!C14+มี.ค.67!C14+เม.ย.67!C14) -> 47 | D14: =SUM(ต.ค.66!D14+พ.ย.66!D14+ธ.ค.66!D14+ม.ค.67!D14+ก.พ.67!D14+มี.ค.67!D14+เม.ย.67!D14) -> 47
A15: 9 | B15: การให้บริการด้านอื่นๆ | C15: =SUM(ต.ค.66!C15+พ.ย.66!C15+ธ.ค.66!C15+ม.ค.67!C15+ก.พ.67!C15+มี.ค.67!C15+เม.ย.67!C15) -> 724 | D15: =SUM(ต.ค.66!D15+พ.ย.66!D15+ธ.ค.66!D15+ม.ค.67!D15+ก.พ.67!D15+มี.ค.67!D15+เม.ย.67!D15) -> 724
A16: รวม | C16: =SUM(C7:C15) -> 42714 | D16: =SUM(D7:D15) -> 42714
