Workbook

Sheet ต.ค.66
A1: รายงานข้อมูลการให้บริการประชาชน กรมพัฒนาสังคมและสวัสดิการ
A2: กองคุ้มครองสวัสดิภาพและเสริมสร้างคุณภาพชีวิต
A3: ประจำปีงบประมาณ พ.ศ.2567 (ประจำเดือนตุลาคม 2566)
A4: ลำดับที่ | B4: งานที่ให้บริการ | C4: หน่วยนับ | D4: จำนวนการให้บริการ | E4: รวม
A5: 1 | B5: ศูนย์คุ้มครองคนไร้ที่พึ่ง 77 แห่ง | D5: =SUM(D6+D7) -> 1474 | E5: =SUM(E6+E7) -> 1474
B6: - รับเข้าคุ้มครองภายใน | C6: คน | D6: 298 | E6: 298
B7: - ให้บริการภายนอก | C7: คน | D7: 1176 | E7: 1176
A8: 2 | B8: สถานคุ้มครองคนไร้ที่พึ่ง 11 แห่ง | D8: =SUM(D9) -> 4770 | E8: =SUM(E9) -> 4770
B9: - รับเข้าคุ้มครองภายใน | C9: คน | D9: 4770 | E9: 4770
A10: 3 | B10: ศูนย์ส่งเสริมและพัฒนาทักษะชีวิต 3 ศูนย์ | D10: =SUM(D11) -> 201 | E10: =SUM(E11) -> 201
B11: - รับเข้าคุ้มครองภายใน | C11: คน | D11: 201 | E11: 201
A12: รวม | E12: =SUM(E5+E8+E10) -> 6445

Sheet พ.ย.66
A1: รายงานข้อมูลการให้บริการประชาชน กรมพัฒนาสังคมและสวัสดิการ
A2: กองคุ้มครองสวัสดิภาพและเสริมสร้างคุณภาพชีวิต
A3: ประจำปีงบประมาณ พ.ศ.2567 (ประจำเดือนพฤศจิกายน 2566)
A4: ลำดับที่ | B4: งานที่ให้บริการ | C4: หน่วยนับ | D4: จำนวนการให้บริการ | E4: รวม
A5: 1 | B5: ศูนย์คุ้มครองคนไร้ที่พึ่ง 77 แห่ง | D5: =SUM(D6+D7) -> 2513 | E5: =SUM(E6+E7) -> 2513
B6: - รับเข้าคุ้มครองภายใน | C6: คน | D6: 369 | E6: 369
B7: - ให้บริการภายนอก | C7: คน | D7: 2144 | E7: 2144
A8: 2 | B8: สถานคุ้มครองคนไร้ที่พึ่ง 11 แห่ง | D8: =SUM(D9) -> 4815 | E8: =SUM(E9) -> 4815
B9: - รับเข้าคุ้มครองภายใน | C9: คน | D9: 4815 | E9: 4815
A10: 3 | B10: ศูนย์ส่งเสริมและพัฒนาทักษะชีวิต 3 ศูนย์ | D10: =SUM(D11) -> 201 | E10: =SUM(E11) -> 201
B11: - รับเข้าคุ้มครองภายใน | C11: คน | D11: 201 | E11: 201
A12: รวม | E12: =SUM(E5+E8+E10) -> 7529

Sheet ธ.ค.66
A1: รายงานข้อมูลการให้บริการประชาชน กรมพัฒนาสังคมและสวัสดิการ
A2: กองคุ้มครองสวัสดิภาพและเสริมสร้างคุณภาพชีวิต
A3: ประจำปีงบประมาณ พ.ศ.2567 (ประจำเดือนธันวาคม 2566)
A4: ลำดับที่ | B4: งานที่ให้บริการ | C4: หน่วยนับ | D4: จำนวนการให้บริการ | E4: รวม
A5: 1 | B5: ศูนย์คุ้มครองคนไร้ที่พึ่ง 77 แห่ง | D5: =SUM(D6+D7) -> 1210 | E5: =SUM(E6+E7) -> 1210
B6: - รับเข้าคุ้มครองภายใน | C6: คน | D6: 184 | E6: 184
B7: - ให้บริการภายนอก | C7: คน | D7: 1026 | E7: 1026
A8: 2 | B8: สถานคุ้มครองคนไร้ที่พึ่ง 11 แห่ง | D8: =SUM(D9) -> 3182 | E8: =SUM(E9) -> 3182
B9: - รับเข้าคุ้มครองภายใน | C9: คน | D9: 3182 | E9: 3182
A10: 3 | B10: ศูนย์ส่งเสริมและพัฒนาทักษะชีวิต 3 ศูนย์ | D10: =SUM(D11) -> 194 | E10: =SUM(E11) -> 194
B11: - รับเข้าคุ้มครองภายใน | C11: คน | D11: 194 | E11: 194
A12: รวม | E12: =SUM(E5+E8+E10) -> 4586

Sheet ม.ค.67
A1: รายงานข้อมูลการให้บริการประชาชน กรมพัฒนาสังคมและสวัสดิการ
A2: กองคุ้มครองสวัสดิภาพและเสริมสร้างคุณภาพชีวิต
A3: ประจำปีงบประมาณ พ.ศ.2567 (ประจำเดือนมกราคม 2567)
A4: ลำดับที่ | B4: งานที่ให้บริการ | C4: หน่วยนับ | D4: จำนวนการให้บริการ | E4: รวม
A5: 1 | B5: ศูนย์คุ้มครองคนไร้ที่พึ่ง 77 แห่ง | D5: =D6+D7 -> 3792 | E5: =E6+E7 -> 3792
B6: - รับเข้าคุ้มครองภายใน | C6: คน | D6: 287 | E6: 287
B7: - ให้บริการภายนอก | C7: คน | D7: 3505 | E7: 3505
A8: 2 | B8: สถานคุ้มครองคนไร้ที่พึ่ง 11 แห่ง | D8: =SUM(D9) -> 3182 | E8: =SUM(E9) -> 3182
B9: - รับเข้าคุ้มครองภายใน | C9: คน | D9: 3182 | E9: 3182
A10: 3 | B10: ศูนย์ส่งเสริมและพัฒนาทักษะชีวิต 3 ศูนย์ | D10: =SUM(D11) -> 202 | E10: =SUM(E11) -> 202
B11: - รับเข้าคุ้มครองภายใน | C11: คน | D11: 202 | E11: 202
A12: รวม | E12: =SUM(E5+E8+E10) -> 7176

Sheet ก.พ.67
A1: รายงานข้อมูลการให้บริการประชาชน กรมพัฒนาสังคมและสวัสดิการ
A2: กองคุ้มครองสวัสดิภาพและเสริมสร้างคุณภาพชีวิต
A3: ประจำปีงบประมาณ พ.ศ.2566 (ประจำเดือนกุมภาพันธ์ 2567)
A4: ลำดับที่ | B4: งานที่ให้บริการ | C4: หน่วยนับ | D4: จำนวนการให้บริการ | E4: รวม
A5: 1 | B5: ศูนย์คุ้มครองคนไร้ที่พึ่ง 77 แห่ง | D5: =SUM(D6+D7) -> 5245 | E5: =SUM(E6+E7) -> 5245
B6: - รับเข้าคุ้มครองภายใน | C6: คน | D6: 352 | E6: 352
B7: - ให้บริการภายนอก | C7: คน | D7: 4893 | E7: 4893
A8: 2 | B8: สถานคุ้มรองคนไร้ที่พึ่ง 11 แห่ง | D8: =SUM(D9) -> 4833 | E8: =SUM(E9) -> 4833
B9: - รับเข้าคุ้มครองภายใน | C9: คน | D9: 4833 | E9: 4833
A10: 3 | B10: ศูนย์ส่งเสริมและพัฒนาทักษะชีวิต 3 ศูนย์ | D10: =SUM(D11) -> 206 | E10: =SUM(E11) -> 206
B11: - รับเข้าคุ้มครองภายใน | C11: คน | D11: 206 | E11: 206
A12: รวม | E12: =SUM(E5+E8+E10) -> 10284

Sheet มี.ค.67
A1: รายงานข้อมูลการให้บริการประชาชน กรมพัฒนาสังคมและสวัสดิการ
A2: กองคุ้มครองสวัสดิภาพและเสริมสร้างคุณภาพชีวิต
A3: ประจำปีงบประมาณ พ.ศ.2566 (ประจำเดือน มีนาคม 2567)
A4: ลำดับที่ | B4: งานที่ให้บริการ | C4: หน่วยนับ | D4: จำนวนการให้บริการ | E4: รวม
A5: 1 | B5: ศูนย์คุ้มครองคนไร้ที่พึ่ง 77 แห่ง | D5: =SUM(D6+D7) -> 1155 | E5: =SUM(E6+E7) -> 1155
B6: - รับเข้าคุ้มครองภายใน | C6: คน | D6: 618 | E6: 618
B7: - ให้บริการภายนอก | C7: คน | D7: 537 | E7: 537
A8: 2 | B8: สถานคุ้มรองคนไร้ที่พึ่ง 11 แห่ง | D8: =SUM(D9) -> 4893 | E8: =SUM(E9) -> 4893
B9: - รับเข้าคุ้มครองภายใน | C9: คน | D9: 4893 | E9: 4893
A10: 3 | B10: ศูนย์ส่งเสริมและพัฒนาทักษะชีวิต 3 ศูนย์ | D10: =SUM(D11) -> 205 | E10: =SUM(E11) -> 205
B11: - รับเข้าคุ้มครองภายใน | C11: คน | D11: 205 | E11: 205
A12: รวม | E12: =SUM(E5+E8+E10) -> 6253

Sheet เม.ย.67
A1: รายงานข้อมูลการให้บริการประชาชน กรมพัฒนาสังคมและสวัสดิการ
A2: กองคุ้มครองสวัสดิภาพและเสริมสร้างคุณภาพชีวิต
A3: ประจำปีงบประมาณ พ.ศ.2566 (ประจำเดือน เมษายน 2567)
A4: ลำดับที่ | B4: งานที่ให้บริการ | C4: หน่วยนับ | D4: จำนวนการให้บริการ | E4: รวม
A5: 1 | B5: ศูนย์คุ้มครองคนไร้ที่พึ่ง 77 แห่ง | D5: =SUM(D6+D7) -> 948 | E5: =SUM(E6+E7) -> 948
B6: - รับเข้าคุ้มครองภายใน | C6: คน | D6: 536 | E6: 536
B7: - ให้บริการภายนอก | C7: คน | D7: 412 | E7: 412
A8: 2 | B8: สถานคุ้มรองคนไร้ที่พึ่ง 11 แห่ง | D8: =SUM(D9) -> 4895 | E8: =SUM(E9) -> 4895
B9: - รับเข้าคุ้มครองภายใน | C9: คน | D9: 4895 | E9: 4895
A10: 3 | B10: ศูนย์ส่งเสริมและพัฒนาทักษะชีวิต 3 ศูนย์ | D10: =SUM(D11) -> 205 | E10: =SUM(E11) -> 205
B11: - รับเข้าคุ้มครองภายใน | C11: คน | D11: 205 | E11: 205
A12: รวม | E12: =SUM(E5+E8+E10) -> 6048

Sheet รวม
A1: รายงานข้อมูลการให้บริการประชาชน กรมพัฒนาสังคมและสวัสดิการ
A2: กองคุ้มครองสวัสดิภาพและเสริมสร้างคุณภาพชีวิต
A3: ประจำปีงบประมาณ พ.ศ.2567
A4: ลำดับที่ | B4: งานที่ให้บริการ | C4: หน่วยนับ | D4: จำนวนการให้บริการ | E4: รวม
A5: 1 | B5: ศูนย์คุ้มครองคนไร้ที่พึ่ง 77 แห่ง | D5: =SUM(D6:D7) -> 16337 | E5: =SUM(E6:E7) -> 16337
B6: - รับเข้าคุ้มครองภายใน | C6: คน | D6: =SUM(ต.ค.66!D6+พ.ย.66!D6+ธ.ค.66!D6+ม.ค.67!D6+ก.พ.67!D6+มี.ค.67!D6+เม.ย.67!D6) -> 2644 | E6: =SUM(ต.ค.66!E6+พ.ย.66!E6+ธ.ค.66!E6+ม.ค.67!E6+ก.พ.67!E6+มี.ค.67!E6+เม.ย.67!E6) -> 2644
B7: - ให้บริการภายนอก | C7: คน | D7: =SUM(ต.ค.66!D7+พ.ย.66!D7+ธ.ค.66!D7+ม.ค.67!D7+ก.พ.67!D7+มี.ค.67!D7+เม.ย.67!D7) -> 13693 | E7: =SUM(ต.ค.66!E7+พ.ย.66!E7+ธ.ค.66!E7+ม.ค.67!E7+ก.พ.67!E7+มี.ค.67!E7+เม.ย.67!E7) -> 13693
A8: 2 | B8: สถานคุ้มครองคนไร้ที่พึ่ง 11 แห่ง | D8: =SUM(ต.ค.66!D8+พ.ย.66!D8+ธ.ค.66!D8+ม.ค.67!D8+ก.พ.67!D8+มี.ค.67!D8+เม.ย.67!D8) -> 30570 | E8: =SUM(ต.ค.66!D8+พ.ย.66!D8+ธ.ค.66!D8+ม.ค.67!D8+ก.พ.67!D8+มี.ค.67!D8+เม.ย.67!D8) -> 30570
B9: - รับเข้าคุ้มครองภายใน | C9: คน | D9: =SUM(ต.ค.66!D9+พ.ย.66!D9+ธ.ค.66!D9+ม.ค.67!D9+ก.พ.67!D9+มี.ค.67!D9+เม.ย.67!D9) -> 30570 | E9: =SUM(ต.ค.66!E9+พ.ย.66!E9+ธ.ค.66!E9+ม.ค.67!E9+ก.พ.67!E9+มี.ค.67!E9+เม.ย.67!E9) -> 30570
A10: 3 | B10: ศูนย์ส่งเสริมและพัฒนาทักษะชีวิต 3 ศูนย์ | D10: =SUM(ต.ค.66!D10+พ.ย.66!D10+ธ.ค.66!D10+ม.ค.67!D10+ก.พ.67!D10+มี.ค.67!D10+เม.ย.67!D10) -> 1414 | E10: =SUM(ต.ค.66!E10+พ.ย.66!E10+ธ.ค.66!E10+ม.ค.67!E10+ก.พ.67!E10+มี.ค.67!E10+เม.ย.67!E10) -> 1414
B11: - รับเข้าคุ้มครองภายใน | C11: คน | D11: =SUM(ต.ค.66!D11+พ.ย.66!D11+ธ.ค.66!D11+ม.ค.67!D11+ก.พ.67!D11+มี.ค.67!D11+เม.ย.67!D11) -> 1414 | E11: =SUM(ต.ค.66!E11+พ.ย.66!E11+ธ.ค.66!E11+ม.ค.67!E11+ก.พ.67!E11+มี.ค.67!E11+เม.ย.67!E11) -> 1414
A12: รวม | E12: =SUM(E5+E8+E10) -> 48321
