Workbook

Sheet กราฟ 25 7 67 (2)
A2: 19 กรกฎาคม 67 ประเทศ
B4: ภาพรวม | C4: ประจำ | D4: ลงทุน
A5: งบประมาณ | B5: =+C5+D5 -> 617383.76 | C5: 319399.7 | D5: 297984.06
A6: เบิกจ่าย | B6: =+C6+D6 -> 368291.16 | C6: 275078.92 | D6: 93212.237
A7: เป้าหมายเบิกจ่าย Q4 | B7: 0.93 | C7: 0.98 | D7: 0.75
A8: ร้อยละการเบิกจ่ายภาพรวมของประเทศ | B8: =+B6/B5 -> 0.59653523 | C8: =+C6/C5 -> 0.86123726 | D8: =+D6/D5 -> 0.31280947
B10: =+B8-B7 -> -0.33346477 | C10: =+C8-C7 -> -0.11876274 | D10: =+D8-D7 -> -0.43719053
B12: ภาพรวม | C12: ประจำ | D12: ลงทุน
A13: งบประมาณ | B13: =+C13+D13 -> 617383.76 | C13: =+'กราฟ 25 7 67 (2)'!C5 -> 319399.7 | D13: =+D5 -> 297984.06
A14: ใช้จ่าย | B14: =+C14+D14 -> 483582.86 | C14: 277441.89 | D14: 206140.96
A15: เป้าหมายใช้จ่าย Q4 | B15: 1 | C15: 1 | D15: 1
A16: ร้อยละการใช้จ่ายภาพรวมของประเทศ | B16: =+B14/B13 -> 0.78327758 | C16: =+C14/C13 -> 0.86863541 | D16: =+D14/D13 -> 0.69178521
B18: =+B16-B15 -> -0.21672242 | C18: =+C16-C15 -> -0.13136459 | D18: =+D16-D15 -> -0.30821479
A20: 25 07 67 จังหวัดเชียงใหม่
B21: ภาพรวม | C21: ประจำ | D21: ลงทุน
A22: งบประมาณ | B22: =+C22+D22 -> 2.9302739e+10 | C22: 1.8518186e+10 | D22: 1.0784552e+10
A23: เบิกจ่าย | B23: =+C23+D23 -> 2.2144497e+10 | C23: 1.6763187e+10 | D23: 5.3813096e+09 | G23: =+H23+I23 -> 809456 | H23: 809456 | I23: 0 | K23: =+L23+M23 -> 2267171.7 | L23: 2267171.7 | M23: 0
A24: เป้าหมายเบิกจ่าย Q4 | B24: 0.51 | C24: 0.58 | D24: 0.21
A25: ร้อยละการเบิกจ่ายของจังหวัดเชียงใหม่ | B25: 0.93 | C25: 0.98 | D25: 0.75
B26: =+B25-B24 -> 0.42 | C26: =+C25-C24 -> 0.4 | D26: =+D25-D24 -> 0.54
B33: ภาพรวม | C33: ประจำ | D33: ลงทุน
A34: งบประมาณ | B34: =+C34+D34 -> 2.9302739e+10 | C34: =+C22 -> 1.8518186e+10 | D34: =+D22 -> 1.0784552e+10
A35: การใช้จ่าย | B35: =+C35+D35 -> 2.5117498e+10 | C35: 1.6879114e+10 | D35: 8.2383831e+09
A36: เป้าหมายใช้จ่าย Q4 | B36: 1 | C36: 1 | D36: 1
A37: ร้อยละการใช้จ่ายของจังหวัดเชียงใหม่ | B37: =+B35/B34 -> 0.85717236 | C37: =+C35/C34 -> 0.91148854 | D37: =+D35/D34 -> 0.7639059
B39: =+B37-B36 -> -0.14282764 | C39: =+C37-C36 -> -0.088511463 | D39: =+D37-D36 -> -0.2360941
A52: 25 07 67
A54: เงินกันไว้เบิก เหลื่อมปี | B54: เบิกจ่าย | C54: คงเหลือ
A55: 1793.75 | B55: 1494.78 | C55: =+A55-B55 -> 298.97
B56: =+B55/A55 -> 0.83332683 | C56: =+C55/A55 -> 0.16667317
A70: 18 01 67
B71: ภาพรวม | C71: เงินกู้ | D71: งบกลาง
A72: งบประมาณ | B72: 3.3633955e+09 | C72: 2.807294e+09 | D72: 5.5610153e+08
A73: เบิกจ่าย | B73: 3.1861978e+09 | C73: 2.6351595e+09 | D73: 5.5103827e+08
A74: การใช้จ่าย | B74: 3.2053173e+09 | C74: 2.6542152e+09 | D74: 5.5110202e+08
A75: ร้อยละ เบิก | B75: =+B73/B72 -> 0.94731583 | C75: =+C73/C72 -> 0.93868314 | D75: =+D73/D72 -> 0.99089507
A76: ร้อยละ ใช้จ่าย | B76: =+B74/B72 -> 0.9530004 | C76: =+C74/C72 -> 0.94547107 | D76: =+D74/D72 -> 0.9910097
A88: 30 11 66
A90: เงินกันไว้เบิก เหลื่อมปี | B90: ใช้จ่าย | C90: คงเหลือ
A91: 1.8118128e+09 | B91: 1.5833264e+09 | C91: =+A91-B91 -> 2.2848647e+08
B92: =+B91/A91 -> 0.87389069 | C92: =+C91/A91 -> 0.12610931
B109: ภาพรวม
A110: งบประมาณ | B110: 27036.421
A111: เบิกจ่าย | B111: 24792.706
A112: ร้อยละการเบิกจ่าย | B112: =+B111/B110 -> 0.91701137
A113: เป้าหมาย Q4 | B113: 1
B115: =+B112-B113 -> -0.082988625

Sheet กราฟ 24 10 66
A2: 24 10 66 ประเทศ
B4: ภาพรวม | C4: ประจำ | D4: ลงทุน
A5: งบประมาณ | B5: =+C5+D5 -> 118341.68 | C5: 103762.77 | D5: 14578.906
A6: เบิกจ่าย | B6: =+C6+D6 -> 46710.37 | C6: 46361.681 | D6: 348.68895
A7: เป้าหมาย Q4
A8: ร้อยละการเบิกจ่ายภาพรวมของประเทศ | B8: =+B6/B5 -> 0.39470768 | C8: =+C6/C5 -> 0.44680456 | D8: =+D6/D5 -> 0.02391736
B10: =+B8-B7 -> 0.39470768 | C10: =+C8-C7 -> 0.44680456 | D10: =+D8-D7 -> 0.02391736
B12: ภาพรวม | C12: ประจำ | D12: ลงทุน
A13: งบประมาณ | B13: =+C13+D13 -> 118341.68 | C13: 103762.77 | D13: 14578.906
A14: ใช้จ่าย | B14: =+C14+D14 -> 47230.194 | C14: 46503.847 | D14: 726.34705
A15: เป้าหมาย Q4
A16: ร้อยละการใช้จ่ายภาพรวมของประเทศ | B16: =+B14/B13 -> 0.39910025 | C16: =+C14/C13 -> 0.44817467 | D16: =+D14/D13 -> 0.049821779
B18: =+B16-B15 -> 0.39910025 | C18: =+C16-C15 -> 0.44817467 | D18: =+D16-D15 -> 0.049821779
A20: 24 10 66 จังหวัดเชียงใหม่
B21: ภาพรวม | C21: ประจำ | D21: ลงทุน
A22: งบประมาณ | B22: =+C22+D22 -> 8.4054991e+09 | C22: 7.6058963e+09 | D22: 7.9960286e+08
A23: เบิกจ่าย | B23: =+C23+D23 -> 5.2128256e+09 | C23: 5.0458275e+09 | D23: 1.6699809e+08
A24: เป้าหมาย Q4
A25: ร้อยละการเบิกจ่ายของจังหวัดเชียงใหม่ | B25: =+B23/B22 -> 0.62016848 | C25: =+C23/C22 -> 0.66340999 | D25: =+D23/D22 -> 0.20885129
B27: =+B24-B25 -> -0.62016848 | C27: =+C24-C25 -> -0.66340999 | D27: =+D24-D25 -> -0.20885129
B33: ภาพรวม | C33: ประจำ | D33: ลงทุน
A34: งบประมาณ | B34: =+C34+D34 -> 8.4054991e+09 | C34: 7.6058963e+09 | D34: 7.9960286e+08
A35: การใช้จ่าย | B35: =+C35+D35 -> 5.2632233e+09 | C35: 5.0516297e+09 | D35: 2.1159356e+08
A36: เป้าหมาย Q4
A37: ร้อยละการใช้จ่ายของจังหวัดเชียงใหม่ | B37: =+B35/B34 -> 0.62616428 | C37: =+C35/C34 -> 0.66417284 | D37: =+D35/D34 -> 0.26462331
B39: =+B37-B36 -> 0.62616428 | C39: =+C37-C36 -> 0.66417284 | D39: =+D37-D36 -> 0.26462331
A52: 24 10 66
A54: งบประมาณ เหลื่อมปี | B54: เบิกจ่าย | C54: คงเหลือ
A55: 1.8113979e+09 | B55: 1.12499e+08 | C55: 1.6988989e+09
B56: =+B55/A55 -> 0.062106181 | C56: =+C55/A55 -> 0.93789382
A70: 24 10 66
B71: ภาพรวม | C71: เงินกู้ | D71: งบกลาง
A72: งบประมาณ | B72: 3.3633955e+09 | C72: 2.807294e+09 | D72: 5.5610153e+08
A73: เบิกจ่าย | B73: 3.1861978e+09 | C73: 2.6351595e+09 | D73: 5.5103827e+08
A74: การใช้จ่าย | B74: 3.2053173e+09 | C74: 2.6542152e+09 | D74: 5.5110202e+08
A75: ร้อยละ เบิก | B75: =+B73/B72 -> 0.94731583 | C75: =+C73/C72 -> 0.93868314 | D75: =+D73/D72 -> 0.99089507
A76: ร้อยละ ใช้จ่าย | B76: =+B74/B72 -> 0.9530004 | C76: =+C74/C72 -> 0.94547107 | D76: =+D74/D72 -> 0.9910097
A88: 24 10 66
A90: งบประมาณ เหลื่อมปี | B90: ใช้จ่าย | C90: คงเหลือ
A91: 1.8113979e+09 | B91: 1.4844144e+09 | C91: 1.6988989e+09
B92: =+B91/A91 -> 0.81948558 | C92: =+C91/A91 -> 0.93789382
B109: ภาพรวม
A110: งบประมาณ | B110: 27036.421
A111: เบิกจ่าย | B111: 24792.706
A112: ร้อยละการเบิกจ่าย | B112: =+B111/B110 -> 0.91701137
A113: เป้าหมาย Q4 | B113: 1
B115: =+B112-B113 -> -0.082988625

Sheet เป้าหมายปี 29.09.66
A1: เป้าหมายการเบิกจ่ายและการใช้จ่ายงบประมาณ พ.ศ. 2566 | Q1: source
A2: รายการ | B2: ไตรมาสที่ 1 | D2: ไตรมาสที่ 2 | F2: ไตรมาสที่ 3 | H2: ไตรมาสที่ 4
B3: เบิกจ่าย | C3: ใช้จ่าย | D3: เบิกจ่าย | E3: ใช้จ่าย | F3: เบิกจ่าย | G3: ใช้จ่าย | H3: เบิกจ่าย | I3: ใช้จ่าย
A4: ภาพรวม | B4: 32 | C4: 34.08 | D4: =20+32 -> 52 | E4: =+C4+22.16 -> 56.24 | F4: =23+D4 -> 75 | G4: =+E4+25.5 -> 81.74 | H4: =18+F4 -> 93 | I4: =+G4+18.26 -> 100
A5: ประจำ | B5: 35 | C5: 35.33 | D5: =20+35 -> 55 | E5: =20.45+C5 -> 55.78 | F5: =25+D5 -> 80 | G5: =25.98+E5 -> 81.76 | H5: =18+F5 -> 98 | I5: =18.24+G5 -> 100
A6: ลงทุน | B6: 19 | C6: 28.96 | D6: =20+19 -> 39 | E6: =29.19+C6 -> 58.15 | F6: =+D6+18 -> 57 | G6: =23.5+E6 -> 81.65 | H6: =18+F6 -> 75 | I6: =18.35+G6 -> 100
A7: ผลการใช้จ่ายงบประมาณรายจ่าย ประจำปีงบประมาณ พ.ศ. 2566 | M7: ข้อมูล ณ วันที่ 29 กันยายน 2566
A8: รายการ | B8: งบประมาณ | C8: สำรองเงินมีหนี้ | D8: PO | E8: เบิกจ่าย | F8: ร้อยละ เบิกจ่าย | G8: เป้าหมาย Q4 | H8: */- เป้าหมาย | I8: การใช้จ่าย (PO+เบิกจ่าย+สำรองมีหนี้) | J8: ร้อยละ การใช้จ่าย | K8: เป้าหมาย Q4 | L8: */- เป้าหมาย | M8: คงเหลือ หลังหักใช้จ่าย | N8: ลำดับเบิกจ่าย | O8: ลำดับ ใช้จ่าย
A9: งบประมาณรายจ่ายประจำปี พ.ศ.2566 (ภาพรวมทั้งประเทศ)
A10: ภาพรวม | B10: =+B11+B12 -> 644915.87 | D10: =+D11+D12 -> 63333.43 | E10: =+E11+E12 -> 579613.55 | F10: =+E10*100/B10 -> 89.87429 | G10: 93 | H10: =+F10-G10 -> -3.1257105 | I10: =+I11+I12 -> 642946.98 | J10: =+I10*100/B10 -> 99.694707 | K10: 100 | L10: =+J10-K10 -> -0.30529313 | M10: =+B10-I10 -> 1968.8839
A11: ประจำ | B11: 341280.35 | D11: 8356.808 | E11: 331887.24 | F11: =+E11*100/B11 -> 97.247685 | G11: 98 | H11: =+F11-G11 -> -0.75231499 | I11: =+D11+E11 -> 340244.05 | J11: =+I11*100/B11 -> 99.696349 | K11: 100 | L11: =+J11-K11 -> -0.30365132 | M11: =+B11-I11 -> 1036.3023
A12: ลงทุน | B12: 303635.51 | D12: 54976.622 | E12: 247726.31 | F12: =+E12*100/B12 -> 81.586738 | G12: 75 | H12: =+F12-G12 -> 6.5867378 | I12: =+D12+E12 -> 302702.93 | J12: =+I12*100/B12 -> 99.692862 | K12: 100 | L12: =+J12-K12 -> -0.3071385 | M12: =+B12-I12 -> 932.58156
A13: ผลการใช้จ่ายงบประมาณรายจ่ายจังหวัดเชียงใหม่ ประจำปีงบประมาณ พ.ศ. 2566 | M13: ข้อมูล ณ วันที่ 29 กันยายน 2566
A14: รายการ | B14: งบประมาณ | C14: สำรองเงินมีหนี้ | D14: PO | E14: เบิกจ่าย | F14: ร้อยละ เบิกจ่าย | G14: เป้าหมาย Q4 | H14: */- เป้าหมาย | I14: การใช้จ่าย (PO+เบิกจ่าย+สำรองมีหนี้) | J14: ร้อยละ การใช้จ่าย | K14: เป้าหมาย Q4 | L14: */- เป้าหมาย | M14: คงเหลือ หลังหักใช้จ่าย | N14: ลำดับเบิกจ่าย | O14: ลำดับ ใช้จ่าย | Q14: 9 สรุปผลการใช้จ่าย A08 รวม ปจ ลท 66
A15: งบประมาณรายจ่ายประจำปี พ.ศ.2566 (จังหวัดเชียงใหม่)
A16: ภาพรวม | B16: =+B17+B18 -> 2.9606141e+10 | C16: =+C17+C18 -> 3.4491769e+08 | D16: =+D17+D18 -> 1.4495904e+09 | E16: =+E17+E18 -> 2.7752159e+10 | F16: =+E16*100/B16 -> 93.737845 | G16: 93 | H16: =+F16-G16 -> 0.73784527 | I16: =+C16+D16+E16 -> 2.9546667e+10 | J16: =+I16*100/B16 -> 99.799115 | K16: 100 | L16: =+J16-K16 -> -0.20088499 | M16: =+B16-I16 -> 59474294 | N16: 6 | O16: 26 | Q16: racking worning | S16: =+E16+C16+D16 -> 2.9546667e+10
A17: ประจำ | B17: 1.9134476e+10 | C17: 38356186 | D17: 68869305 | E17: 1.8996557e+10 | F17: =+E17*100/B17 -> 99.279213 | G17: 98 | H17: =+F17-G17 -> 1.2792125 | I17: =+C17+D17+E17 -> 1.9103782e+10 | J17: =+I17*100/B17 -> 99.839591 | K17: 100 | L17: =+J17-K17 -> -0.16040896 | M17: =+B17-I17 -> 30693413 | N17: 8 | O17: 55 | Q17: PO เรียกจาก (รายงานเงินกันปี 67)
A18: ลงทุน | B18: 1.0471666e+10 | C18: 3.0656151e+08 | D18: 1.3807211e+09 | E18: 8.7556023e+09 | F18: =+E18*100/B18 -> 83.612316 | G18: 75 | H18: =+F18-G18 -> 8.6123162 | I18: =+C18+D18+E18 -> 1.0442885e+10 | J18: =+I18*100/B18 -> 99.725155 | K18: 100 | L18: =+J18-K18 -> -0.2748453 | M18: =+B18-I18 -> 28780881 | N18: 26 | O18: 51
A19: งบกรมจังหวัด
A20: งบกลุ่มจังหวัดภาคเหนือตอนบน 1
A21: ภาพรวม | B21: =+B22+B23 -> 89547000 | D21: =+D22+D23 -> 1159 | E21: =+E22+E23 -> 809456 | F21: =+E21*100/B21 -> 0.90394541 | G21: 52 | H21: =+F21-G21 -> -51.096055 | I21: =+D21+E21 -> 810615 | J21: =+I21*100/B21 -> 0.90523971 | K21: 56.24 | L21: =+J21-K21 -> -55.33476 | M21: =+B21-I21 -> 88736385
A22: ประจำ | B22: 14945000 | D22: 1159 | E22: 809456 | F22: =+E22*100/B22 -> 5.4162329 | G22: 55 | H22: =+F22-G22 -> -49.583767 | I22: =+D22+E22 -> 810615 | J22: =+I22*100/B22 -> 5.423988 | K22: 55.78 | L22: =+J22-K22 -> -50.356012 | M22: =+B22-I22 -> 14134385
A23: ลงทุน | B23: 74602000 | D23: 0 | E23: 0 | F23: =+E23*100/B23 -> 0 | G23: 39 | H23: =+F23-G23 -> -39 | I23: =+D23+E23 -> 0 | J23: =+I23*100/B23 -> 0 | K23: 58.15 | L23: =+J23-K23 -> -58.15 | M23: =+B23-I23 -> 74602000
A24: งบพัฒนาจังหวัด | I24: =+D24+E24 -> 0 | M24: =+B24-I24 -> 0
A25: ภาพรวม | B25: =+B26+B27 -> 317032400 | D25: =+D26+D27 -> 467150.06 | E25: =+E26+E27 -> 2267171.7 | F25: =+E25*100/B25 -> 0.71512303 | G25: 52 | H25: =+F25-G25 -> -51.284877 | I25: =+I26+I27 -> 2734321.8 | J25: =+I25*100/B25 -> 0.86247392 | K25: 56.24 | L25: =+J25-K25 -> -55.377526 | M25: =+B25-I25 -> 3.1429808e+08
A26: ประจำ | B26: 23468600 | D26: 467150.06 | E26: 2267171.7 | F26: =+E26*100/B26 -> 9.6604472 | G26: 55 | H26: =+F26-G26 -> -45.339553 | I26: =+D26+E26 -> 2734321.8 | J26: =+I26*100/B26 -> 11.650979 | K26: 55.78 | L26: =+J26-K26 -> -44.129021 | M26: =+B26-I26 -> 20734278
A27: ลงทุน | B27: 293563800 | D27: 0 | E27: 0 | F27: =+E27*100/B27 -> 0 | G27: 39 | H27: =+F27-G27 -> -39 | I27: =+D27+E27 -> 0 | J27: =+I27*100/B27 -> 0 | K27: 58.15 | L27: =+J27-K27 -> -58.15 | M27: =+B27-I27 -> 293563800
A28: ค่าใช้จ่ายบรรเทาผลกระทบจากการแพร่ระบาดของ COVID-19 จังหวัดเชียงใหม่
A29: ภาพรวม | B29: =+B30+B35 -> 3.3633955e+09 | C29: =+C30+C35 -> 63748.32 | D29: =+D30+D35 -> 19055725 | E29: =+E30+E35 -> 3.1861978e+09 | F29: =+E29*100/B29 -> 94.731583 | I29: =+C29+D29+E29 -> 3.2053173e+09 | J29: =+I29*100/B29 -> 95.30004 | M29: =+B29-I29 -> 1.5807824e+08 | T29: 63748.32 | U29: 19055725 | V29: 3.1650481e+09 | W29: 94.625612 | X29: 3.1841675e+09 | Y29: 95.197228 | Z29: 1.6064364e+08
A30: เงินกู้ | B30: =+SUM(B31:B34) -> 2.807294e+09 | D30: =+SUM(D31:D34) -> 19055725 | E30: =+SUM(E31:E34) -> 2.6351595e+09 | F30: =+E30*100/B30 -> 93.868314 | I30: =+SUM(I31:I34) -> 2.6542152e+09 | J30: =+I30*100/B30 -> 94.547107 | M30: =+SUM(M31:M34) -> 1.5307873e+08 | Q30: 15 เงินกู้ใช้ทำรายงาน 190766 | T30: 19055725 | U30: 2.6325941e+09 | V30: 93.776931 | W30: 2.6516498e+09 | X30: 94.455724 | Y30: 1.5564412e+08
A31: ปี 2563 | B31: 24020888 | D31: 0 | E31: 24020888 | F31: =+E31*100/B31 -> 100 | I31: 24020888 | J31: =+I31*100/B31 -> 100 | M31: =+B31-I31 -> 0
A32: ปี 2564 | B32: 1.7723931e+09 | C32: 0 | D32: 1059233.4 | E32: 1.7194309e+09 | F32: =+E32*100/B32 -> 97.011829 | I32: 1.7204902e+09 | J32: =+I32*100/B32 -> 97.071592 | M32: =+B32-I32 -> 51902895
A33: ปี 2565 | B33: 8.4311721e+08 | C33: 0 | D33: 17996491 | E33: 7.288522e+08 | F33: =+E33*100/B33 -> 86.447316 | I33: 7.468487e+08 | J33: =+I33*100/B33 -> 88.581835 | M33: =+B33-I33 -> 96268518
A34: ปี 2566 | B34: 167762814 | C34: 0 | D34: 0 | E34: 1.628555e+08 | F34: =+E34*100/B34 -> 97.074851 | I34: 1.628555e+08 | J34: =+I34*100/B34 -> 97.074851 | M34: =+B34-I34 -> 4907312.3
A35: งบกลาง | B35: =B36+B37+B38 -> 5.5610153e+08 | C35: =+C36+C37+C38 -> 63748.32 | D35: =D36+D37+D38 -> 0 | E35: =+E36+E37+E38 -> 5.5103827e+08 | F35: =+E35*100/B35 -> 99.089507 | I35: =+I36+I37+I38 -> 5.5110202e+08 | J35: =+I35*100/B35 -> 99.10097 | M35: =+M36+M37+M38 -> 4999517.9 | Q35: check จาก 11
A36: ปี 2564 | B36: 3.8419143e+08 | C36: 53748.32 | D36: 0 | E36: 3.7913817e+08 | F36: =+E36*100/B36 -> 98.684701 | I36: =+C36+D36+E36 -> 3.7919192e+08 | J36: =+I36*100/B36 -> 98.698691 | M36: =+B36-I36 -> 4999517.9 | Q36: รหัส ปีงบ 65 90909620043
A37: ปี 2565 | B37: 1.5332578e+08 | C37: 10000 | D37: 0 | E37: 1.5331578e+08 | F37: =+E37*100/B37 -> 99.993478 | I37: =+C37+D37+E37 -> 1.5332578e+08 | J37: =+I37*100/B37 -> 100 | M37: =+B37-I37 -> 0 | Q37: รหัส ปีงบ 66 9090961004300
A38: ปี 2566 | B38: 18584316 | C38: 0 | D38: 0 | E38: 18584316 | F38: =+E38*100/B38 -> 100 | I38: =+C38+D38+E38 -> 18584316 | J38: =+I38*100/B38 -> 100 | M38: =+B38-I38 -> 0
A39: งบประมาณเหลื่อมปี
A40: รายการ | B40: งบประมาณ | C40: สำรองเงิน แบบมีหนี้ เหลื่อมปี | D40: ใบสั่งซื้อ เหลื่อมปี | E40: เบิกจ่าย | F40: ร้อยละ เบิกจ่าย | I40: การใช้จ่าย | J40: ร้อยละ การใช้จ่าย | L40: คงเหลือ สรก. อยู่ระหว่างดำเนินการ | M40: เงินเหลือจ่ายไม่ขอขยายเวลาเบิกจ่าย | N40: คงเหลือรวม | Q40: 12
A41: ปี 65 | B41: 1.8113979e+09 | C41: 3.2631477e+08 | D41: 1.3719154e+09 | E41: 1.12499e+08 | F41: =+E41*100/B41 -> 6.2106181 | I41: =+E41+D41 -> 1.4844144e+09 | J41: =+I41*100/B41 -> 81.948558 | L41: 668669.12 | M41: 3.624009e-07 | N41: 1.6988989e+09 | Q41: รอพี่แต้วตรวจ | R41: 53803559
A42: ที่มา : ระบบการบริหารการเงินการคลังภาครัฐแบบอิเล็กทรอนิกส์ใหม่ (New GFMIS Thai)
A43: ข้อมูล ณ 29 กันยายน 2566
A46: รายการ | B46: งบประมาณ | C46: PO | G46: สูงกว่าเป้าหมาย | H46: ผลการใช้จ่าย | I46: ร้อยละ
G47: ไตรมาส 2 | H47: (PO + เบิกจ่าย) | I47: การใช้จ่าย
A48: ภาพรวม | B48: =+B49+B50 -> 2.9606141e+10 | C48: =+C49+C50 -> 1.4495904e+09 | G48: =+E48-F48 -> 0 | H48: =+C48+D48 -> 1.4495904e+09 | I48: =+H48*100/B48 -> 4.896249
A49: ประจำ | B49: =+B17 -> 1.9134476e+10 | C49: =+D17 -> 68869305 | G49: =+E49-F49 -> 0 | H49: =+C49+D49 -> 68869305 | I49: =+H49*100/B49 -> 0.35992261
A50: ลงทุน | B50: =+B18 -> 1.0471666e+10 | C50: =D18 -> 1.3807211e+09 | G50: =+E50-F50 -> 0 | H50: =+C50+D50 -> 1.3807211e+09 | I50: =+H50*100/B50 -> 13.185305
A53: รายการ | B53: งบประมาณ | C53: ผลเบิกจ่าย
A55: ภาพรวม | B55: 2.7561714e+09 | C55: 2.1411871e+09
A56: เงินกู้ | B56: 2.3945595e+09 | C56: 1.804633e+09
A57: -ปี 2563 | B57: 26618196 | C57: 24037520
A58: -ปี 2564 | B58: 1.8079115e+09 | C58: 1.6598534e+09
A59: -ปี 2565 | B59: 560029820 | C59: 120742101
A60: งบกลาง ปี 2564 | B60: 3.6161187e+08 | C60: 3.3655414e+08
A62: งบประมาณ | B62: ผลเบิกจ่าย | C62: ร้อยละเบิกจ่าย
A64: 2272.61 | B64: 1304.35 | C64: 57.394362
A71: งบประมาณ | B71: 31พค65 | C71: 17มิย65 | I71: ล้านบาท
I72: 1.1933253e+09
A73: รวม | B73: 23377.21 | C73: 25633.058 | I73: 2.7725496e+08
A74: ประจำ | B74: 14084.97 | C74: 16258.638 | I74: 2.3887144e+08
A75: ลงทุน | B75: 9292.24 | C75: 9374.4202 | I75: 1.3988455e+08
I76: 92066800
I77: 50191100
I78: 26977000
H79: รวม | I79: =SUM(I72:I78) -> 2.0185712e+09
I80: 53357700
A82: ลงตารางรายงานา ผวจ
A83: รายการ | B83: งบประมาณ | C83: ผลเบิกจ่าย | G83: ร้อยละ | H83: สูงกว่าเป้าหมาย
A84: รวม | B84: =+B85+B86 -> 2.9606141e+10 | C84: =+C85+C86 -> 2.7752159e+10 | G84: =+F84*100/B84 -> 0 | H84: =+G84-G4 -> -81.74
A85: ประจำ | B85: =+B17 -> 1.9134476e+10 | C85: =+E17 -> 1.8996557e+10 | G85: =+F85*100/B85 -> 0 | H85: =+G85-G5 -> -81.76
A86: ลงทุน | B86: =+B18 -> 1.0471666e+10 | C86: =+E18 -> 8.7556023e+09 | G86: =+F86*100/B86 -> 0 | H86: =+G86-G6 -> -81.65
A88: รายการ | B88: งบประมาณ | C88: ผลเบิกจ่าย
A90: ภาพรวม | B90: =+B29 -> 3.3633955e+09 | C90: =+E29 -> 3.1861978e+09
A91: เงินกู้ | B91: =+B30 -> 2.807294e+09 | C91: =+E30 -> 2.6351595e+09
A92: ปี 2563 | B92: =+B31 -> 24020888 | C92: =+E31 -> 24020888
A93: ปี 2564 | B93: =+B32 -> 1.7723931e+09 | C93: =+E32 -> 1.7194309e+09
A94: ปี 2565 | B94: =+B33 -> 8.4311721e+08 | C94: =+E33 -> 7.288522e+08
A95: ปี 2566 | B95: =+B34 -> 167762814 | C95: =+E34 -> 1.628555e+08
A96: งบกลาง | B96: =+B35 -> 5.5610153e+08 | C96: =+E35 -> 5.5103827e+08
A97: ปี 2564 | B97: =+B36 -> 3.8419143e+08 | C97: =+E36 -> 3.7913817e+08
A98: ปี 2565 | B98: =+B37 -> 1.5332578e+08 | C98: =+E37 -> 1.5331578e+08
A102: ประชุม กรมการจังหวัด
A103: รายการ | B103: งบประมาณ | C103: เบิกจ่าย | G103: การใช้จ่าย | L103: PO
C104: จำนวน | G104: จำนวน | H104: ร้อยละ | I104: เป้าหมาย
I105: Q 3
I106: ร้อยละ
A107: ภาพรวม | B107: =+B108+B109 -> 2.9606141e+10 | C107: =+C108+C109 -> 2.7752159e+10 | G107: =+K107+L107+C107 -> 2.9201749e+10 | H107: =+G107*100/B107 -> 98.634094 | I107: 81.74 | L107: =+L108+L109 -> 1.4495904e+09
A108: ประจำ | B108: =+B17 -> 1.9134476e+10 | C108: =+E17 -> 1.8996557e+10 | G108: =+K108+L108+C108 -> 1.9065426e+10 | H108: =+G108*100/B108 -> 99.639135 | I108: 81.76 | L108: =+D17 -> 68869305
A109: ลงทุน | B109: =+B18 -> 1.0471666e+10 | C109: =+E18 -> 8.7556023e+09 | G109: =+K109+L109+C109 -> 1.0136323e+10 | H109: =+G109*100/B109 -> 96.797621 | I109: 81.65 | L109: =+D18 -> 1.3807211e+09
A111: ประชุม กรมการ จว
A112: รายการ | B112: งบประมาณ | C112: เบิกจ่าย | L112: PO
C113: จำนวน
A114: ภาพรวม | B114: =+B29 -> 3.3633955e+09 | C114: =+E29 -> 3.1861978e+09 | L114: =+D29 -> 19055725
A115: เงินกู้ | B115: =+B30 -> 2.807294e+09 | C115: =+E30 -> 2.6351595e+09 | L115: =+D30 -> 19055725
A116: ปี 2563 | B116: =+B31 -> 24020888 | C116: =+E31 -> 24020888 | L116: =+D31 -> 0
A117: ปี 2564 | B117: =+B32 -> 1.7723931e+09 | C117: =+E32 -> 1.7194309e+09 | L117: =+D32 -> 1059233.4
A118: ปี 2565 | B118: =+B33 -> 8.4311721e+08 | C118: =+E33 -> 7.288522e+08 | L118: =+D33 -> 17996491
A119: ปี 2566 | B119: =+B34 -> 167762814 | C119: =+E34 -> 1.628555e+08 | L119: =+D34 -> 0
A120: งบกลาง | B120: =+B35 -> 5.5610153e+08 | C120: =+E35 -> 5.5103827e+08 | L120: =+D35 -> 0
...

Sheet เป้าหมายปี 24.10.66
A1: เป้าหมายการเบิกจ่ายและการใช้จ่ายงบประมาณ พ.ศ. 2567 | Q1: source
A2: รายการ | B2: ไตรมาสที่ 1 | D2: ไตรมาสที่ 2 | F2: ไตรมาสที่ 3 | H2: ไตรมาสที่ 4
B3: เบิกจ่าย | C3: ใช้จ่าย | D3: เบิกจ่าย | E3: ใช้จ่าย | F3: เบิกจ่าย | G3: ใช้จ่าย | H3: เบิกจ่าย | I3: ใช้จ่าย
A4: ภาพรวม | B4: 32 | C4: 34.08 | D4: =20+32 -> 52 | E4: =+C4+22.16 -> 56.24 | F4: =23+D4 -> 75 | G4: =+E4+25.5 -> 81.74 | H4: =18+F4 -> 93 | I4: =+G4+18.26 -> 100
A5: ประจำ | B5: 35 | C5: 35.33 | D5: =20+35 -> 55 | E5: =20.45+C5 -> 55.78 | F5: =25+D5 -> 80 | G5: =25.98+E5 -> 81.76 | H5: =18+F5 -> 98 | I5: =18.24+G5 -> 100
A6: ลงทุน | B6: 19 | C6: 28.96 | D6: =20+19 -> 39 | E6: =29.19+C6 -> 58.15 | F6: =+D6+18 -> 57 | G6: =23.5+E6 -> 81.65 | H6: =18+F6 -> 75 | I6: =18.35+G6 -> 100
A7: ผลการใช้จ่ายงบประมาณรายจ่าย ประจำปีงบประมาณ พ.ศ. 2567 | M7: ข้อมูล ณ วันที่ 20 ตุลาคม 2566
A8: รายการ | B8: งบประมาณ | C8: สำรองเงินมีหนี้ | D8: PO | E8: เบิกจ่าย | F8: ร้อยละ เบิกจ่าย | G8: เป้าหมาย Q4 | H8: */- เป้าหมาย | I8: การใช้จ่าย (PO+เบิกจ่าย+สำรองมีหนี้) | J8: ร้อยละ การใช้จ่าย | K8: เป้าหมาย Q4 | L8: */- เป้าหมาย | M8: คงเหลือ หลังหักใช้จ่าย | N8: ลำดับเบิกจ่าย | O8: ลำดับ ใช้จ่าย
A9: งบประมาณรายจ่ายประจำปี พ.ศ.2567 (ภาพรวมทั้งประเทศ)
A10: ภาพรวม | B10: =+B11+B12 -> 118341.68 | D10: =+D11+D12 -> 519.82438 | E10: =+E11+E12 -> 46710.37 | F10: =+E10*100/B10 -> 39.470768 | G10: 93 | H10: =+F10-G10 -> -53.529232 | I10: =+I11+I12 -> 47230.194 | J10: =+I10*100/B10 -> 39.910025 | K10: 100 | L10: =+J10-K10 -> -60.089975 | M10: =+B10-I10 -> 71111.486
A11: ประจำ | B11: 103762.77 | D11: 142.16628 | E11: 46361.681 | F11: =+E11*100/B11 -> 44.680456 | G11: 98 | H11: =+F11-G11 -> -53.319544 | I11: 46503.847 | J11: =+I11*100/B11 -> 44.817467 | K11: 100 | L11: =+J11-K11 -> -55.182533 | M11: =+B11-I11 -> 57258.926
A12: ลงทุน | B12: 14578.906 | D12: 377.6581 | E12: 348.68895 | F12: =+E12*100/B12 -> 2.391736 | G12: 75 | H12: =+F12-G12 -> -72.608264 | I12: 726.34705 | J12: =+I12*100/B12 -> 4.9821779 | K12: 100 | L12: =+J12-K12 -> -95.017822 | M12: =+B12-I12 -> 13852.559
A13: ผลการใช้จ่ายงบประมาณรายจ่ายจังหวัดเชียงใหม่ ประจำปีงบประมาณ พ.ศ. 2567 | M13: ข้อมูล ณ วันที่ 24 ตุลาคม 2566
A14: รายการ | B14: งบประมาณ | C14: สำรองเงินมีหนี้ | D14: PO | E14: เบิกจ่าย | F14: ร้อยละ เบิกจ่าย | G14: เป้าหมาย Q4 | H14: =+F14-G14 -> #VALUE! | I14: การใช้จ่าย (PO+เบิกจ่าย+สำรองมีหนี้) | J14: ร้อยละ การใช้จ่าย | K14: เป้าหมาย Q4 | L14: */- เป้าหมาย | M14: คงเหลือ หลังหักใช้จ่าย | N14: ลำดับเบิกจ่าย | O14: ลำดับ ใช้จ่าย | Q14: 9 สรุปผลการใช้จ่าย A08 รวม ปจ ลท 66
A15: งบประมาณรายจ่ายประจำปี พ.ศ.2567 (จังหวัดเชียงใหม่)
A16: ภาพรวม | B16: =+B17+B18 -> 8.4054991e+09 | C16: =+C17+C18 -> 0 | D16: =+D17+D18 -> 50397630 | E16: =+E17+E18 -> 5.2128256e+09 | F16: =+E16*100/B16 -> 62.016848 | G16: 93 | H16: =+F16-G16 -> -30.983152 | I16: =+C16+D16+E16 -> 5.2632233e+09 | J16: =+I16*100/B16 -> 62.616428 | K16: 100 | L16: =+J16-K16 -> -37.383572 | M16: =+B16-I16 -> 3.1422759e+09 | N16: 2 | O16: 1 | Q16: racking worning | S16: =+E16+C16+D16 -> 5.2632233e+09
A17: ประจำ | B17: 7.6058963e+09 | C17: 0 | D17: 5802165.9 | E17: 5.0458275e+09 | F17: =+E17*100/B17 -> 66.340999 | G17: 98 | H17: =+F17-G17 -> -31.659001 | I17: 5.0516297e+09 | J17: =+I17*100/B17 -> 66.417284 | K17: 100 | L17: =+J17-K17 -> -33.582716 | M17: =+B17-I17 -> 2.5542666e+09 | Q17: PO เรียกจาก (รายงานเงินกันปี 67)
A18: ลงทุน | B18: 7.9960286e+08 | C18: 0 | D18: 44595464 | E18: 1.6699809e+08 | F18: =+E18*100/B18 -> 20.885129 | G18: 75 | H18: =+F18-G18 -> -54.114871 | I18: 2.1159356e+08 | J18: =+I18*100/B18 -> 26.462331 | K18: 100 | L18: =+J18-K18 -> -73.537669 | M18: =+B18-I18 -> 5.880093e+08 | N18: 1 | O18: 6
A19: งบกรมจังหวัด
A20: งบกลุ่มจังหวัดภาคเหนือตอนบน 1
A21: ภาพรวม | B21: =+B22+B23 -> 89547000 | D21: =+D22+D23 -> 1159 | E21: =+E22+E23 -> 809456 | F21: =+E21*100/B21 -> 0.90394541 | G21: 52 | H21: =+F21-G21 -> -51.096055 | I21: =+D21+E21 -> 810615 | J21: =+I21*100/B21 -> 0.90523971 | K21: 56.24 | L21: =+J21-K21 -> -55.33476 | M21: =+B21-I21 -> 88736385
A22: ประจำ | B22: 14945000 | D22: 1159 | E22: 809456 | F22: =+E22*100/B22 -> 5.4162329 | G22: 55 | H22: =+F22-G22 -> -49.583767 | I22: =+D22+E22 -> 810615 | J22: =+I22*100/B22 -> 5.423988 | K22: 55.78 | L22: =+J22-K22 -> -50.356012 | M22: =+B22-I22 -> 14134385
A23: ลงทุน | B23: 74602000 | D23: 0 | E23: 0 | F23: =+E23*100/B23 -> 0 | G23: 39 | H23: =+F23-G23 -> -39 | I23: =+D23+E23 -> 0 | J23: =+I23*100/B23 -> 0 | K23: 58.15 | L23: =+J23-K23 -> -58.15 | M23: =+B23-I23 -> 74602000
A24: งบพัฒนาจังหวัด | I24: =+D24+E24 -> 0 | M24: =+B24-I24 -> 0
A25: ภาพรวม | B25: =+B26+B27 -> 317032400 | D25: =+D26+D27 -> 467150.06 | E25: =+E26+E27 -> 2267171.7 | F25: =+E25*100/B25 -> 0.71512303 | G25: 52 | H25: =+F25-G25 -> -51.284877 | I25: =+I26+I27 -> 2734321.8 | J25: =+I25*100/B25 -> 0.86247392 | K25: 56.24 | L25: =+J25-K25 -> -55.377526 | M25: =+B25-I25 -> 3.1429808e+08
A26: ประจำ | B26: 23468600 | D26: 467150.06 | E26: 2267171.7 | F26: =+E26*100/B26 -> 9.6604472 | G26: 55 | H26: =+F26-G26 -> -45.339553 | I26: =+D26+E26 -> 2734321.8 | J26: =+I26*100/B26 -> 11.650979 | K26: 55.78 | L26: =+J26-K26 -> -44.129021 | M26: =+B26-I26 -> 20734278
A27: ลงทุน | B27: 293563800 | D27: 0 | E27: 0 | F27: =+E27*100/B27 -> 0 | G27: 39 | H27: =+F27-G27 -> -39 | I27: =+D27+E27 -> 0 | J27: =+I27*100/B27 -> 0 | K27: 58.15 | L27: =+J27-K27 -> -58.15 | M27: =+B27-I27 -> 293563800
A28: ค่าใช้จ่ายบรรเทาผลกระทบจากการแพร่ระบาดของ COVID-19 จังหวัดเชียงใหม่
A29: ภาพรวม | B29: =+B30+B35 -> 3.3633955e+09 | C29: =+C30+C35 -> 63748.32 | D29: =+D30+D35 -> 19055725 | E29: =+E30+E35 -> 3.1861978e+09 | F29: =+E29*100/B29 -> 94.731583 | I29: =+C29+D29+E29 -> 3.2053173e+09 | J29: =+I29*100/B29 -> 95.30004 | M29: =+B29-I29 -> 1.5807824e+08 | T29: 63748.32 | U29: 19055725 | V29: 3.1650481e+09 | W29: 94.625612 | X29: 3.1841675e+09 | Y29: 95.197228 | Z29: 1.6064364e+08
A30: เงินกู้ | B30: =+SUM(B31:B34) -> 2.807294e+09 | D30: =+SUM(D31:D34) -> 19055725 | E30: =+SUM(E31:E34) -> 2.6351595e+09 | F30: =+E30*100/B30 -> 93.868314 | I30: =+SUM(I31:I34) -> 2.6542152e+09 | J30: =+I30*100/B30 -> 94.547107 | M30: =+SUM(M31:M34) -> 1.5307873e+08 | Q30: 15 เงินกู้ใช้ทำรายงาน 190766 | T30: 19055725 | U30: 2.6325941e+09 | V30: 93.776931 | W30: 2.6516498e+09 | X30: 94.455724 | Y30: 1.5564412e+08
A31: ปี 2563 | B31: 24020888 | D31: 0 | E31: 24020888 | F31: =+E31*100/B31 -> 100 | I31: 24020888 | J31: =+I31*100/B31 -> 100 | M31: =+B31-I31 -> 0
A32: ปี 2564 | B32: 1.7723931e+09 | C32: 0 | D32: 1059233.4 | E32: 1.7194309e+09 | F32: =+E32*100/B32 -> 97.011829 | I32: 1.7204902e+09 | J32: =+I32*100/B32 -> 97.071592 | M32: =+B32-I32 -> 51902895
A33: ปี 2565 | B33: 8.4311721e+08 | C33: 0 | D33: 17996491 | E33: 7.288522e+08 | F33: =+E33*100/B33 -> 86.447316 | I33: 7.468487e+08 | J33: =+I33*100/B33 -> 88.581835 | M33: =+B33-I33 -> 96268518
A34: ปี 2566 | B34: 167762814 | C34: 0 | D34: 0 | E34: 1.628555e+08 | F34: =+E34*100/B34 -> 97.074851 | I34: 1.628555e+08 | J34: =+I34*100/B34 -> 97.074851 | M34: =+B34-I34 -> 4907312.3
A35: งบกลาง | B35: =B36+B37+B38 -> 5.5610153e+08 | C35: =+C36+C37+C38 -> 63748.32 | D35: =D36+D37+D38 -> 0 | E35: =+E36+E37+E38 -> 5.5103827e+08 | F35: =+E35*100/B35 -> 99.089507 | I35: =+I36+I37+I38 -> 5.5110202e+08 | J35: =+I35*100/B35 -> 99.10097 | M35: =+M36+M37+M38 -> 4999517.9 | Q35: check จาก 11
A36: ปี 2564 | B36: 3.8419143e+08 | C36: 53748.32 | D36: 0 | E36: 3.7913817e+08 | F36: =+E36*100/B36 -> 98.684701 | I36: =+C36+D36+E36 -> 3.7919192e+08 | J36: =+I36*100/B36 -> 98.698691 | M36: =+B36-I36 -> 4999517.9 | Q36: รหัส ปีงบ 65 90909620043
A37: ปี 2565 | B37: 1.5332578e+08 | C37: 10000 | D37: 0 | E37: 1.5331578e+08 | F37: =+E37*100/B37 -> 99.993478 | I37: =+C37+D37+E37 -> 1.5332578e+08 | J37: =+I37*100/B37 -> 100 | M37: =+B37-I37 -> 0 | Q37: รหัส ปีงบ 66 9090961004300
A38: ปี 2566 | B38: 18584316 | C38: 0 | D38: 0 | E38: 18584316 | F38: =+E38*100/B38 -> 100 | I38: =+C38+D38+E38 -> 18584316 | J38: =+I38*100/B38 -> 100 | M38: =+B38-I38 -> 0
A39: งบประมาณเหลื่อมปี
A40: รายการ | B40: งบประมาณ | C40: สำรองเงิน แบบมีหนี้ เหลื่อมปี | D40: ใบสั่งซื้อ เหลื่อมปี | E40: เบิกจ่าย | F40: ร้อยละ เบิกจ่าย | I40: การใช้จ่าย | J40: ร้อยละ การใช้จ่าย | L40: คงเหลือ สรก. อยู่ระหว่างดำเนินการ | M40: คงเหลือรวม | Q40: 12
A41: ปี 66 | B41: 1.8113979e+09 | C41: 3.2631477e+08 | D41: 1.3719154e+09 | E41: 1.12499e+08 | F41: 6.2106181 | I41: =+D41+E41 -> 1.4844144e+09 | J41: 81.948558 | L41: 668669.12 | M41: 1.6988989e+09 | Q41: รอพี่แต้วตรวจ | R41: 53803559
A42: ที่มา : ระบบการบริหารการเงินการคลังภาครัฐแบบอิเล็กทรอนิกส์ใหม่ (New GFMIS Thai)
A43: ข้อมูล ณ 24 ตุลาคม 2566 | H43: =C41+D41+E41+L41 -> 1.8113979e+09
A46: รายการ | B46: งบประมาณ | C46: PO | G46: สูงกว่าเป้าหมาย | H46: ผลการใช้จ่าย | I46: ร้อยละ | J46: เป้าหมาย Q4 | K46: สูงกว่าเป้าหมาย
G47: ไตรมาส 2 | H47: (PO + เบิกจ่าย) | I47: การใช้จ่าย | K47: ไตรมาส 2
A48: ภาพรวม | B48: =+B49+B50 -> 8.4054991e+09 | C48: =+C49+C50 -> 50397630 | G48: =+E48-F48 -> 0 | H48: =+C48+D48 -> 50397630 | I48: =+H48*100/B48 -> 0.59957927 | J48: 100 | K48: =+I48-J48 -> -99.400421
A49: ประจำ | B49: =+B17 -> 7.6058963e+09 | C49: =+D17 -> 5802165.9 | G49: =+E49-F49 -> 0 | H49: =+C49+D49 -> 5802165.9 | I49: =+H49*100/B49 -> 0.076285104 | J49: 100 | K49: =+I49-J49 -> -99.923715
A50: ลงทุน | B50: =+B18 -> 7.9960286e+08 | C50: =D18 -> 44595464 | G50: =+E50-F50 -> 0 | H50: =+C50+D50 -> 44595464 | I50: =+H50*100/B50 -> 5.5772017 | J50: 100 | K50: =+I50-J50 -> -94.422798
A53: รายการ | B53: งบประมาณ | C53: ผลเบิกจ่าย
A55: ภาพรวม | B55: 2.7561714e+09 | C55: 2.1411871e+09
A56: เงินกู้ | B56: 2.3945595e+09 | C56: 1.804633e+09
A57: -ปี 2563 | B57: 26618196 | C57: 24037520
A58: -ปี 2564 | B58: 1.8079115e+09 | C58: 1.6598534e+09
A59: -ปี 2565 | B59: 560029820 | C59: 120742101
A60: งบกลาง ปี 2564 | B60: 3.6161187e+08 | C60: 3.3655414e+08
A62: งบประมาณ | B62: ผลเบิกจ่าย | C62: ร้อยละเบิกจ่าย
A64: 2272.61 | B64: 1304.35 | C64: 57.394362
A71: งบประมาณ | B71: 31พค65 | C71: 17มิย65 | I71: ล้านบาท
I72: 1.1933253e+09
A73: รวม | B73: 23377.21 | C73: 25633.058 | I73: 2.7725496e+08
A74: ประจำ | B74: 14084.97 | C74: 16258.638 | I74: 2.3887144e+08
A75: ลงทุน | B75: 9292.24 | C75: 9374.4202 | I75: 1.3988455e+08
I76: 92066800
I77: 50191100
I78: 26977000
H79: รวม | I79: =SUM(I72:I78) -> 2.0185712e+09
I80: 53357700
A82: ลงตารางรายงานา ผวจ
A83: รายการ | B83: งบประมาณ | C83: ผลเบิกจ่าย | G83: ร้อยละ | H83: สูงกว่าเป้าหมาย
A84: รวม | B84: =+B85+B86 -> 8.4054991e+09 | C84: =+C85+C86 -> 5.2128256e+09 | G84: =+F84*100/B84 -> 0 | H84: =+G84-G4 -> -81.74
A85: ประจำ | B85: =+B17 -> 7.6058963e+09 | C85: =+E17 -> 5.0458275e+09 | G85: =+F85*100/B85 -> 0 | H85: =+G85-G5 -> -81.76
A86: ลงทุน | B86: =+B18 -> 7.9960286e+08 | C86: =+E18 -> 1.6699809e+08 | G86: =+F86*100/B86 -> 0 | H86: =+G86-G6 -> -81.65
A88: รายการ | B88: งบประมาณ | C88: ผลเบิกจ่าย
A90: ภาพรวม | B90: =+B29 -> 3.3633955e+09 | C90: =+E29 -> 3.1861978e+09
A91: เงินกู้ | B91: =+B30 -> 2.807294e+09 | C91: =+E30 -> 2.6351595e+09
A92: ปี 2563 | B92: =+B31 -> 24020888 | C92: =+E31 -> 24020888
A93: ปี 2564 | B93: =+B32 -> 1.7723931e+09 | C93: =+E32 -> 1.7194309e+09
A94: ปี 2565 | B94: =+B33 -> 8.4311721e+08 | C94: =+E33 -> 7.288522e+08
A95: ปี 2566 | B95: =+B34 -> 167762814 | C95: =+E34 -> 1.628555e+08
A96: งบกลาง | B96: =+B35 -> 5.5610153e+08 | C96: =+E35 -> 5.5103827e+08
A97: ปี 2564 | B97: =+B36 -> 3.8419143e+08 | C97: =+E36 -> 3.7913817e+08
A98: ปี 2565 | B98: =+B37 -> 1.5332578e+08 | C98: =+E37 -> 1.5331578e+08
A102: ประชุม กรมการจังหวัด
A103: รายการ | B103: งบประมาณ | C103: เบิกจ่าย | G103: การใช้จ่าย | K103: สำรองเงินมีหนี้ | L103: PO
C104: จำนวน | G104: จำนวน | H104: ร้อยละ | I104: เป้าหมาย | J104: สูงกว่าเป้าหมายร้อยละ
I105: Q 3
I106: ร้อยละ
A107: ภาพรวม | B107: =+B108+B109 -> 8.4054991e+09 | C107: =+C108+C109 -> 5.2128256e+09 | G107: =+K107+L107+C107 -> 5.2632233e+09 | H107: =+G107*100/B107 -> 62.616428 | I107: 81.74 | J107: =+H107-I107 -> -19.123572 | K107: =+K108+K109 -> 0 | L107: =+L108+L109 -> 50397630
A108: ประจำ | B108: =+B17 -> 7.6058963e+09 | C108: =+E17 -> 5.0458275e+09 | G108: =+K108+L108+C108 -> 5.0516297e+09 | H108: =+G108*100/B108 -> 66.417284 | I108: 81.76 | J108: =+H108-I108 -> -15.342716 | K108: =+C17 -> 0 | L108: =+D17 -> 5802165.9
A109: ลงทุน | B109: =+B18 -> 7.9960286e+08 | C109: =+E18 -> 1.6699809e+08 | G109: =+K109+L109+C109 -> 2.1159356e+08 | H109: =+G109*100/B109 -> 26.462331 | I109: 81.65 | J109: =+H109-I109 -> -55.187669 | K109: =+C18 -> 0 | L109: =+D18 -> 44595464
A111: ประชุม กรมการ จว
A112: รายการ | B112: งบประมาณ | C112: เบิกจ่าย | K112: สำรองเงิน | L112: PO
C113: จำนวน | K113: มีหนี้
A114: ภาพรวม | B114: =+B29 -> 3.3633955e+09 | C114: =+E29 -> 3.1861978e+09 | K114: =+C29 -> 63748.32 | L114: =+D29 -> 19055725
A115: เงินกู้ | B115: =+B30 -> 2.807294e+09 | C115: =+E30 -> 2.6351595e+09 | K115: =+C30 -> 0 | L115: =+D30 -> 19055725
A116: ปี 2563 | B116: =+B31 -> 24020888 | C116: =+E31 -> 24020888 | K116: =+C31 -> 0 | L116: =+D31 -> 0
A117: ปี 2564 | B117: =+B32 -> 1.7723931e+09 | C117: =+E32 -> 1.7194309e+09 | K117: =+C32 -> 0 | L117: =+D32 -> 1059233.4
A118: ปี 2565 | B118: =+B33 -> 8.4311721e+08 | C118: =+E33 -> 7.288522e+08 | K118: =+C33 -> 0 | L118: =+D33 -> 17996491
A119: ปี 2566 | B119: =+B34 -> 167762814 | C119: =+E34 -> 1.628555e+08 | K119: =+C34 -> 0 | L119: =+D34 -> 0
A120: งบกลาง | B120: =+B35 -> 5.5610153e+08 | C120: =+E35 -> 5.5103827e+08 | K120: =+C35 -> 63748.32 | L120: =+D35 -> 0
...

Sheet เป้าหมายปี 31.10.66
A1: เป้าหมายการเบิกจ่ายและการใช้จ่ายงบประมาณ พ.ศ. 2567 | Q1: source
A2: รายการ | B2: ไตรมาสที่ 1 | D2: ไตรมาสที่ 2 | F2: ไตรมาสที่ 3 | H2: ไตรมาสที่ 4
B3: เบิกจ่าย | C3: ใช้จ่าย | D3: เบิกจ่าย | E3: ใช้จ่าย | F3: เบิกจ่าย | G3: ใช้จ่าย | H3: เบิกจ่าย | I3: ใช้จ่าย
A4: ภาพรวม | B4: 32 | C4: 34.08 | D4: =20+32 -> 52 | E4: =+C4+22.16 -> 56.24 | F4: =23+D4 -> 75 | G4: =+E4+25.5 -> 81.74 | H4: =18+F4 -> 93 | I4: =+G4+18.26 -> 100
A5: ประจำ | B5: 35 | C5: 35.33 | D5: =20+35 -> 55 | E5: =20.45+C5 -> 55.78 | F5: =25+D5 -> 80 | G5: =25.98+E5 -> 81.76 | H5: =18+F5 -> 98 | I5: =18.24+G5 -> 100
A6: ลงทุน | B6: 19 | C6: 28.96 | D6: =20+19 -> 39 | E6: =29.19+C6 -> 58.15 | F6: =+D6+18 -> 57 | G6: =23.5+E6 -> 81.65 | H6: =18+F6 -> 75 | I6: =18.35+G6 -> 100
A7: ผลการใช้จ่ายงบประมาณรายจ่าย ประจำปีงบประมาณ พ.ศ. 2566 ไปพลางก่อน | M7: ข้อมูล ณ วันที่ 31 ตุลาคม 2566
A8: รายการ | B8: งบประมาณ | C8: สำรองเงินมีหนี้ | D8: PO+สำรองมีหนี้ | E8: เบิกจ่าย | F8: ร้อยละ เบิกจ่าย | G8: เป้าหมาย Q4 | H8: */- เป้าหมาย | I8: การใช้จ่าย (PO+เบิกจ่าย+สำรองมีหนี้) | J8: ร้อยละ การใช้จ่าย | K8: เป้าหมาย Q4 | L8: */- เป้าหมาย | M8: คงเหลือ หลังหักใช้จ่าย | N8: ลำดับเบิกจ่าย | O8: ลำดับ ใช้จ่าย
A9: งบประมาณรายจ่ายประจำปี พ.ศ.2566 ไปพลางก่อน (ภาพรวมทั้งประเทศ)
A10: ภาพรวม | B10: =+B11+B12 -> 146474.5 | D10: =+D11+D12 -> 1929.0456 | E10: =+E11+E12 -> 55601.576 | F10: =+E10*100/B10 -> 37.959901 | G10: 93 | H10: =+F10-G10 -> -55.040099 | I10: =+I11+I12 -> 57530.622 | J10: =+I10*100/B10 -> 39.276885 | K10: 100 | L10: =+J10-K10 -> -60.723115 | M10: =+B10-I10 -> 88943.881
A11: ประจำ | B11: 124732.74 | D11: 235.72892 | E11: 54832.081 | F11: =+E11*100/B11 -> 43.959655 | G11: 98 | H11: =+F11-G11 -> -54.040345 | I11: =+D11+E11 -> 55067.809 | J11: =+I11*100/B11 -> 44.148642 | K11: 100 | L11: =+J11-K11 -> -55.851358 | M11: =+B11-I11 -> 69664.926
A12: ลงทุน | B12: 21741.767 | D12: 1693.3167 | E12: 769.49565 | F12: =+E12*100/B12 -> 3.5392508 | G12: 75 | H12: =+F12-G12 -> -71.460749 | I12: =+D12+E12 -> 2462.8123 | J12: =+I12*100/B12 -> 11.327563 | K12: 100 | L12: =+J12-K12 -> -88.672437 | M12: =+B12-I12 -> 19278.954
A13: ผลการใช้จ่ายงบประมาณรายจ่ายจังหวัดเชียงใหม่ ประจำปีงบประมาณ พ.ศ. 2566 ไปพลางก่อน | M13: ข้อมูล ณ วันที่ 31 ตุลาคม 2566
A14: รายการ | B14: งบประมาณ | C14: สำรองเงินมีหนี้ | D14: PO | E14: เบิกจ่าย | F14: ร้อยละ เบิกจ่าย | G14: เป้าหมาย Q4 | H14: =+F14-G14 -> #VALUE! | I14: การใช้จ่าย (PO+เบิกจ่าย+สำรองมีหนี้) | J14: ร้อยละ การใช้จ่าย | K14: เป้าหมาย Q4 | L14: */- เป้าหมาย | M14: คงเหลือ หลังหักใช้จ่าย | N14: ลำดับเบิกจ่าย | O14: ลำดับ ใช้จ่าย | Q14: 9 สรุปผลการใช้จ่าย A08 รวม ปจ ลท 66
A15: งบประมาณรายจ่ายประจำปี พ.ศ.2566 ไปพลางก่อน (จังหวัดเชียงใหม่)
A16: ภาพรวม | B16: =+B17+B18 -> 9.2663269e+09 | C16: =+C17+C18 -> 0 | D16: =+D17+D18 -> 79543434 | E16: =+E17+E18 -> 5.4111047e+09 | F16: =+E16*100/B16 -> 58.395358 | G16: 93 | H16: =+F16-G16 -> -34.604642 | I16: =+C16+D16+E16 -> 5.4906481e+09 | J16: =+I16*100/B16 -> 59.253771 | K16: 100 | L16: =+J16-K16 -> -40.746229 | M16: =+B16-I16 -> 3.7756787e+09 | N16: 2 | O16: 3 | Q16: racking worning | S16: =+E16+C16+D16 -> 5.4906481e+09
A17: ประจำ | B17: 7.9204138e+09 | C17: 0 | D17: 21641238 | E17: 5.2373054e+09 | F17: =+E17*100/B17 -> 66.124139 | G17: 98 | H17: =+F17-G17 -> -31.875861 | I17: 5.2589467e+09 | J17: =+I17*100/B17 -> 66.397373 | K17: 100 | L17: =+J17-K17 -> -33.602627 | M17: =+B17-I17 -> 2.6614671e+09 | Q17: PO เรียกจาก (รายงานเงินกันปี 67)
A18: ลงทุน | B18: 1.3459131e+09 | C18: 0 | D18: 57902196 | E18: 1.7379929e+08 | F18: =+E18*100/B18 -> 12.913114 | G18: 75 | H18: =+F18-G18 -> -62.086886 | I18: 2.3170148e+08 | J18: =+I18*100/B18 -> 17.215189 | K18: 100 | L18: =+J18-K18 -> -82.784811 | M18: =+B18-I18 -> 1.1142116e+09 | N18: 4 | O18: 14
A19: งบกรมจังหวัด
A20: งบกลุ่มจังหวัดภาคเหนือตอนบน 1
A21: ภาพรวม | B21: =+B22+B23 -> 89547000 | D21: =+D22+D23 -> 1159 | E21: =+E22+E23 -> 809456 | F21: =+E21*100/B21 -> 0.90394541 | G21: 52 | H21: =+F21-G21 -> -51.096055 | I21: =+D21+E21 -> 810615 | J21: =+I21*100/B21 -> 0.90523971 | K21: 56.24 | L21: =+J21-K21 -> -55.33476 | M21: =+B21-I21 -> 88736385
A22: ประจำ | B22: 14945000 | D22: 1159 | E22: 809456 | F22: =+E22*100/B22 -> 5.4162329 | G22: 55 | H22: =+F22-G22 -> -49.583767 | I22: =+D22+E22 -> 810615 | J22: =+I22*100/B22 -> 5.423988 | K22: 55.78 | L22: =+J22-K22 -> -50.356012 | M22: =+B22-I22 -> 14134385
A23: ลงทุน | B23: 74602000 | D23: 0 | E23: 0 | F23: =+E23*100/B23 -> 0 | G23: 39 | H23: =+F23-G23 -> -39 | I23: =+D23+E23 -> 0 | J23: =+I23*100/B23 -> 0 | K23: 58.15 | L23: =+J23-K23 -> -58.15 | M23: =+B23-I23 -> 74602000
A24: งบพัฒนาจังหวัด | I24: =+D24+E24 -> 0 | M24: =+B24-I24 -> 0
A25: ภาพรวม | B25: =+B26+B27 -> 317032400 | D25: =+D26+D27 -> 467150.06 | E25: =+E26+E27 -> 2267171.7 | F25: =+E25*100/B25 -> 0.71512303 | G25: 52 | H25: =+F25-G25 -> -51.284877 | I25: =+I26+I27 -> 2734321.8 | J25: =+I25*100/B25 -> 0.86247392 | K25: 56.24 | L25: =+J25-K25 -> -55.377526 | M25: =+B25-I25 -> 3.1429808e+08
A26: ประจำ | B26: 23468600 | D26: 467150.06 | E26: 2267171.7 | F26: =+E26*100/B26 -> 9.6604472 | G26: 55 | H26: =+F26-G26 -> -45.339553 | I26: =+D26+E26 -> 2734321.8 | J26: =+I26*100/B26 -> 11.650979 | K26: 55.78 | L26: =+J26-K26 -> -44.129021 | M26: =+B26-I26 -> 20734278
A27: ลงทุน | B27: 293563800 | D27: 0 | E27: 0 | F27: =+E27*100/B27 -> 0 | G27: 39 | H27: =+F27-G27 -> -39 | I27: =+D27+E27 -> 0 | J27: =+I27*100/B27 -> 0 | K27: 58.15 | L27: =+J27-K27 -> -58.15 | M27: =+B27-I27 -> 293563800
A28: ค่าใช้จ่ายบรรเทาผลกระทบจากการแพร่ระบาดของ COVID-19 จังหวัดเชียงใหม่
A29: ภาพรวม | B29: =+B30+B35 -> 3.3633955e+09 | C29: =+C30+C35 -> 63748.32 | D29: =+D30+D35 -> 19055725 | E29: =+E30+E35 -> 3.1861978e+09 | F29: =+E29*100/B29 -> 94.731583 | I29: =+C29+D29+E29 -> 3.2053173e+09 | J29: =+I29*100/B29 -> 95.30004 | M29: =+B29-I29 -> 1.5807824e+08 | T29: 63748.32 | U29: 19055725 | V29: 3.1650481e+09 | W29: 94.625612 | X29: 3.1841675e+09 | Y29: 95.197228 | Z29: 1.6064364e+08
A30: เงินกู้ | B30: =+SUM(B31:B34) -> 2.807294e+09 | D30: =+SUM(D31:D34) -> 19055725 | E30: =+SUM(E31:E34) -> 2.6351595e+09 | F30: =+E30*100/B30 -> 93.868314 | I30: =+SUM(I31:I34) -> 2.6542152e+09 | J30: =+I30*100/B30 -> 94.547107 | M30: =+SUM(M31:M34) -> 1.5307873e+08 | Q30: 15 เงินกู้ใช้ทำรายงาน 190766 | T30: 19055725 | U30: 2.6325941e+09 | V30: 93.776931 | W30: 2.6516498e+09 | X30: 94.455724 | Y30: 1.5564412e+08
A31: ปี 2563 | B31: 24020888 | D31: 0 | E31: 24020888 | F31: =+E31*100/B31 -> 100 | I31: 24020888 | J31: =+I31*100/B31 -> 100 | M31: =+B31-I31 -> 0
A32: ปี 2564 | B32: 1.7723931e+09 | C32: 0 | D32: 1059233.4 | E32: 1.7194309e+09 | F32: =+E32*100/B32 -> 97.011829 | I32: 1.7204902e+09 | J32: =+I32*100/B32 -> 97.071592 | M32: =+B32-I32 -> 51902895
A33: ปี 2565 | B33: 8.4311721e+08 | C33: 0 | D33: 17996491 | E33: 7.288522e+08 | F33: =+E33*100/B33 -> 86.447316 | I33: 7.468487e+08 | J33: =+I33*100/B33 -> 88.581835 | M33: =+B33-I33 -> 96268518
A34: ปี 2566 | B34: 167762814 | C34: 0 | D34: 0 | E34: 1.628555e+08 | F34: =+E34*100/B34 -> 97.074851 | I34: 1.628555e+08 | J34: =+I34*100/B34 -> 97.074851 | M34: =+B34-I34 -> 4907312.3
A35: งบกลาง | B35: =B36+B37+B38 -> 5.5610153e+08 | C35: =+C36+C37+C38 -> 63748.32 | D35: =D36+D37+D38 -> 0 | E35: =+E36+E37+E38 -> 5.5103827e+08 | F35: =+E35*100/B35 -> 99.089507 | I35: =+I36+I37+I38 -> 5.5110202e+08 | J35: =+I35*100/B35 -> 99.10097 | M35: =+M36+M37+M38 -> 4999517.9 | Q35: check จาก 11
A36: ปี 2564 | B36: 3.8419143e+08 | C36: 53748.32 | D36: 0 | E36: 3.7913817e+08 | F36: =+E36*100/B36 -> 98.684701 | I36: =+C36+D36+E36 -> 3.7919192e+08 | J36: =+I36*100/B36 -> 98.698691 | M36: =+B36-I36 -> 4999517.9 | Q36: รหัส ปีงบ 65 90909620043
A37: ปี 2565 | B37: 1.5332578e+08 | C37: 10000 | D37: 0 | E37: 1.5331578e+08 | F37: =+E37*100/B37 -> 99.993478 | I37: =+C37+D37+E37 -> 1.5332578e+08 | J37: =+I37*100/B37 -> 100 | M37: =+B37-I37 -> 0 | Q37: รหัส ปีงบ 66 9090961004300
A38: ปี 2566 | B38: 18584316 | C38: 0 | D38: 0 | E38: 18584316 | F38: =+E38*100/B38 -> 100 | I38: =+C38+D38+E38 -> 18584316 | J38: =+I38*100/B38 -> 100 | M38: =+B38-I38 -> 0
A39: งบประมาณเหลื่อมปี
A40: รายการ | B40: งบประมาณ | C40: สำรองเงิน แบบมีหนี้ เหลื่อมปี | D40: ใบสั่งซื้อ เหลื่อมปี | E40: เบิกจ่าย | F40: ร้อยละ เบิกจ่าย | I40: การใช้จ่าย | J40: ร้อยละ การใช้จ่าย | L40: คงเหลือ สรก. อยู่ระหว่างดำเนินการ | M40: คงเหลือรวม | Q40: 12
A41: ปี 66 | B41: 1.8115817e+09 | C41: 2.961244e+08 | D41: 1.359425e+09 | E41: 1.5406914e+08 | F41: =+E41*100/B41 -> 8.5046751 | I41: =+D41+E41 -> 1.5134942e+09 | J41: =+I41*100/B41 -> 83.545453 | L41: 1963169.1 | M41: 1.6575126e+09 | Q41: รอพี่แต้วตรวจ | R41: 53803559
A42: ที่มา : ระบบการบริหารการเงินการคลังภาครัฐแบบอิเล็กทรอนิกส์ใหม่ (New GFMIS Thai)
A43: ข้อมูล ณ 31 ตุลาคม 2566
H44: =C41+D41+E41+L41 -> 1.8115817e+09
A46: รายการ | B46: งบประมาณ | C46: PO | G46: สูงกว่าเป้าหมาย | H46: ผลการใช้จ่าย | I46: ร้อยละ | J46: เป้าหมาย Q4 | K46: สูงกว่าเป้าหมาย
G47: ไตรมาส 2 | H47: (PO + เบิกจ่าย) | I47: การใช้จ่าย | K47: ไตรมาส 2
A48: ภาพรวม | B48: =+B49+B50 -> 9.2663269e+09 | C48: =+C49+C50 -> 79543434 | G48: =+E48-F48 -> 0 | H48: =+C48+D48 -> 79543434 | I48: =+H48*100/B48 -> 0.85841386 | J48: 100 | K48: =+I48-J48 -> -99.141586
A49: ประจำ | B49: =+B17 -> 7.9204138e+09 | C49: =+D17 -> 21641238 | G49: =+E49-F49 -> 0 | H49: =+C49+D49 -> 21641238 | I49: =+H49*100/B49 -> 0.27323367 | J49: 100 | K49: =+I49-J49 -> -99.726766
A50: ลงทุน | B50: =+B18 -> 1.3459131e+09 | C50: =D18 -> 57902196 | G50: =+E50-F50 -> 0 | H50: =+C50+D50 -> 57902196 | I50: =+H50*100/B50 -> 4.3020755 | J50: 100 | K50: =+I50-J50 -> -95.697925
A53: รายการ | B53: งบประมาณ | C53: ผลเบิกจ่าย
A55: ภาพรวม | B55: 2.7561714e+09 | C55: 2.1411871e+09
A56: เงินกู้ | B56: 2.3945595e+09 | C56: 1.804633e+09
A57: -ปี 2563 | B57: 26618196 | C57: 24037520
A58: -ปี 2564 | B58: 1.8079115e+09 | C58: 1.6598534e+09
A59: -ปี 2565 | B59: 560029820 | C59: 120742101
A60: งบกลาง ปี 2564 | B60: 3.6161187e+08 | C60: 3.3655414e+08
A62: งบประมาณ | B62: ผลเบิกจ่าย | C62: ร้อยละเบิกจ่าย
A64: 2272.61 | B64: 1304.35 | C64: 57.394362
A71: งบประมาณ | B71: 31พค65 | C71: 17มิย65 | I71: ล้านบาท
I72: 1.1933253e+09
A73: รวม | B73: 23377.21 | C73: 25633.058 | I73: 2.7725496e+08
A74: ประจำ | B74: 14084.97 | C74: 16258.638 | I74: 2.3887144e+08
A75: ลงทุน | B75: 9292.24 | C75: 9374.4202 | I75: 1.3988455e+08
I76: 92066800
I77: 50191100
I78: 26977000
H79: รวม | I79: =SUM(I72:I78) -> 2.0185712e+09
I80: 53357700
A82: ลงตารางรายงานา ผวจ
A83: รายการ | B83: งบประมาณ | C83: ผลเบิกจ่าย | G83: ร้อยละ | H83: สูงกว่าเป้าหมาย
A84: รวม | B84: =+B85+B86 -> 9.2663269e+09 | C84: =+C85+C86 -> 5.4111047e+09 | G84: =+F84*100/B84 -> 0 | H84: =+G84-G4 -> -81.74
A85: ประจำ | B85: =+B17 -> 7.9204138e+09 | C85: =+E17 -> 5.2373054e+09 | G85: =+F85*100/B85 -> 0 | H85: =+G85-G5 -> -81.76
A86: ลงทุน | B86: =+B18 -> 1.3459131e+09 | C86: =+E18 -> 1.7379929e+08 | G86: =+F86*100/B86 -> 0 | H86: =+G86-G6 -> -81.65
A88: รายการ | B88: งบประมาณ | C88: ผลเบิกจ่าย
A90: ภาพรวม | B90: =+B29 -> 3.3633955e+09 | C90: =+E29 -> 3.1861978e+09
A91: เงินกู้ | B91: =+B30 -> 2.807294e+09 | C91: =+E30 -> 2.6351595e+09
A92: ปี 2563 | B92: =+B31 -> 24020888 | C92: =+E31 -> 24020888
A93: ปี 2564 | B93: =+B32 -> 1.7723931e+09 | C93: =+E32 -> 1.7194309e+09
A94: ปี 2565 | B94: =+B33 -> 8.4311721e+08 | C94: =+E33 -> 7.288522e+08
A95: ปี 2566 | B95: =+B34 -> 167762814 | C95: =+E34 -> 1.628555e+08
A96: งบกลาง | B96: =+B35 -> 5.5610153e+08 | C96: =+E35 -> 5.5103827e+08
A97: ปี 2564 | B97: =+B36 -> 3.8419143e+08 | C97: =+E36 -> 3.7913817e+08
A98: ปี 2565 | B98: =+B37 -> 1.5332578e+08 | C98: =+E37 -> 1.5331578e+08
A102: ประชุม กรมการจังหวัด
A103: รายการ | B103: งบประมาณ | C103: เบิกจ่าย | G103: การใช้จ่าย | K103: สำรองเงินมีหนี้ | L103: PO
C104: จำนวน | G104: จำนวน | H104: ร้อยละ | I104: เป้าหมาย | J104: สูงกว่าเป้าหมายร้อยละ
I105: Q 3
I106: ร้อยละ
A107: ภาพรวม | B107: =+B108+B109 -> 9.2663269e+09 | C107: =+C108+C109 -> 5.4111047e+09 | G107: =+K107+L107+C107 -> 5.4906481e+09 | H107: =+G107*100/B107 -> 59.253771 | I107: 81.74 | J107: =+H107-I107 -> -22.486229 | K107: =+K108+K109 -> 0 | L107: =+L108+L109 -> 79543434
A108: ประจำ | B108: =+B17 -> 7.9204138e+09 | C108: =+E17 -> 5.2373054e+09 | G108: =+K108+L108+C108 -> 5.2589467e+09 | H108: =+G108*100/B108 -> 66.397373 | I108: 81.76 | J108: =+H108-I108 -> -15.362627 | K108: =+C17 -> 0 | L108: =+D17 -> 21641238
A109: ลงทุน | B109: =+B18 -> 1.3459131e+09 | C109: =+E18 -> 1.7379929e+08 | G109: =+K109+L109+C109 -> 2.3170148e+08 | H109: =+G109*100/B109 -> 17.215189 | I109: 81.65 | J109: =+H109-I109 -> -64.434811 | K109: =+C18 -> 0 | L109: =+D18 -> 57902196
A111: ประชุม กรมการ จว
A112: รายการ | B112: งบประมาณ | C112: เบิกจ่าย | K112: สำรองเงิน | L112: PO
C113: จำนวน | K113: มีหนี้
A114: ภาพรวม | B114: =+B29 -> 3.3633955e+09 | C114: =+E29 -> 3.1861978e+09 | K114: =+C29 -> 63748.32 | L114: =+D29 -> 19055725
A115: เงินกู้ | B115: =+B30 -> 2.807294e+09 | C115: =+E30 -> 2.6351595e+09 | K115: =+C30 -> 0 | L115: =+D30 -> 19055725
A116: ปี 2563 | B116: =+B31 -> 24020888 | C116: =+E31 -> 24020888 | K116: =+C31 -> 0 | L116: =+D31 -> 0
A117: ปี 2564 | B117: =+B32 -> 1.7723931e+09 | C117: =+E32 -> 1.7194309e+09 | K117: =+C32 -> 0 | L117: =+D32 -> 1059233.4
A118: ปี 2565 | B118: =+B33 -> 8.4311721e+08 | C118: =+E33 -> 7.288522e+08 | K118: =+C33 -> 0 | L118: =+D33 -> 17996491
A119: ปี 2566 | B119: =+B34 -> 167762814 | C119: =+E34 -> 1.628555e+08 | K119: =+C34 -> 0 | L119: =+D34 -> 0
...

Sheet เป้าหมายปี 20.11.66
A1: เป้าหมายการเบิกจ่ายและการใช้จ่ายงบประมาณ พ.ศ. 2567 | Q1: source
A2: รายการ | B2: ไตรมาสที่ 1 | D2: ไตรมาสที่ 2 | F2: ไตรมาสที่ 3 | H2: ไตรมาสที่ 4
B3: เบิกจ่าย | C3: ใช้จ่าย | D3: เบิกจ่าย | E3: ใช้จ่าย | F3: เบิกจ่าย | G3: ใช้จ่าย | H3: เบิกจ่าย | I3: ใช้จ่าย
A4: ภาพรวม | B4: 32 | C4: 34.08 | D4: =20+32 -> 52 | E4: =+C4+22.16 -> 56.24 | F4: =23+D4 -> 75 | G4: =+E4+25.5 -> 81.74 | H4: =18+F4 -> 93 | I4: =+G4+18.26 -> 100
A5: ประจำ | B5: 35 | C5: 35.33 | D5: =20+35 -> 55 | E5: =20.45+C5 -> 55.78 | F5: =25+D5 -> 80 | G5: =25.98+E5 -> 81.76 | H5: =18+F5 -> 98 | I5: =18.24+G5 -> 100
A6: ลงทุน | B6: 19 | C6: 28.96 | D6: =20+19 -> 39 | E6: =29.19+C6 -> 58.15 | F6: =+D6+18 -> 57 | G6: =23.5+E6 -> 81.65 | H6: =18+F6 -> 75 | I6: =18.35+G6 -> 100
A7: ผลการใช้จ่ายงบประมาณรายจ่าย ประจำปีงบประมาณ พ.ศ. 2566 ไปพลางก่อน | M7: ข้อมูล ณ วันที่ 17 พฤศจิกายน 2566
A8: รายการ | B8: งบประมาณ | C8: สำรองเงินมีหนี้ | D8: PO+สำรองมีหนี้ | E8: เบิกจ่าย | F8: ร้อยละ เบิกจ่าย | G8: เป้าหมาย Q4 | H8: */- เป้าหมาย | I8: การใช้จ่าย (PO+เบิกจ่าย+สำรองมีหนี้) | J8: ร้อยละ การใช้จ่าย | K8: เป้าหมาย Q4 | L8: */- เป้าหมาย | M8: คงเหลือ หลังหักใช้จ่าย | N8: ลำดับเบิกจ่าย | O8: ลำดับ ใช้จ่าย
A9: งบประมาณรายจ่ายประจำปี พ.ศ.2566 ไปพลางก่อน (ภาพรวมทั้งประเทศ)
A10: ภาพรวม | B10: =+B11+B12 -> 171864.67 | D10: =+D11+D12 -> 5052.8545 | E10: =+E11+E12 -> 79993.057 | F10: =+E10*100/B10 -> 46.544211 | G10: 93 | H10: =+F10-G10 -> -46.455789 | I10: =+I11+I12 -> 85045.911 | J10: =+I10*100/B10 -> 49.48423 | K10: 100 | L10: =+J10-K10 -> -50.51577 | M10: =+B10-I10 -> 86818.763
A11: ประจำ | B11: 148546.54 | D11: 644.24072 | E11: 76523.42 | F11: =+E11*100/B11 -> 51.514779 | G11: 98 | H11: =+F11-G11 -> -46.485221 | I11: 77167.661 | J11: =+I11*100/B11 -> 51.948475 | K11: 100 | L11: =+J11-K11 -> -48.051525 | M11: =+B11-I11 -> 71378.877
A12: ลงทุน | B12: 23318.136 | D12: 4408.6138 | E12: 3469.6364 | F12: =+E12*100/B12 -> 14.879562 | G12: 75 | H12: =+F12-G12 -> -60.120438 | I12: 7878.2503 | J12: =+I12*100/B12 -> 33.785935 | K12: 100 | L12: =+J12-K12 -> -66.214065 | M12: =+B12-I12 -> 15439.885
A13: ผลการใช้จ่ายงบประมาณรายจ่ายจังหวัดเชียงใหม่ ประจำปีงบประมาณ พ.ศ. 2566 ไปพลางก่อน | M13: ข้อมูล ณ วันที่ 20 พฤศจิกายน 2566
A14: รายการ | B14: งบประมาณ | C14: สำรองเงินมีหนี้ | D14: PO | E14: เบิกจ่าย | F14: ร้อยละ เบิกจ่าย | G14: เป้าหมาย Q4 | H14: =+F14-G14 -> #VALUE! | I14: การใช้จ่าย (PO+เบิกจ่าย+สำรองมีหนี้) | J14: ร้อยละ การใช้จ่าย | K14: เป้าหมาย Q4 | L14: */- เป้าหมาย | M14: คงเหลือ หลังหักใช้จ่าย | N14: ลำดับเบิกจ่าย | O14: ลำดับ ใช้จ่าย | Q14: 9 สรุปผลการใช้จ่าย A08 รวม ปจ ลท 66
A15: งบประมาณรายจ่ายประจำปี พ.ศ.2566 ไปพลางก่อน (จังหวัดเชียงใหม่)
A16: ภาพรวม | B16: =+B17+B18 -> 1.0327718e+10 | C16: =+C17+C18 -> 0 | D16: =+D17+D18 -> 3.8463678e+08 | E16: =+E17+E18 -> 6.5430201e+09 | F16: =+E16*100/B16 -> 63.353976 | G16: 93 | H16: =+F16-G16 -> -29.646024 | I16: =+C16+D16+E16 -> 6.9276569e+09 | J16: =+I16*100/B16 -> 67.078291 | K16: 100 | L16: =+J16-K16 -> -32.921709 | M16: =+B16-I16 -> 3.4000613e+09 | N16: 3 | O16: 2 | Q16: racking worning | S16: =+E16+C16+D16 -> 6.9276569e+09
A17: ประจำ | B17: 8.8844944e+09 | C17: 0 | D17: 22635555 | E17: 6.150052e+09 | F17: =+E17*100/B17 -> 69.222307 | G17: 98 | H17: =+F17-G17 -> -28.777693 | I17: 6.1726876e+09 | J17: =+I17*100/B17 -> 69.477083 | K17: 100 | L17: =+J17-K17 -> -30.522917 | M17: =+B17-I17 -> 2.7118069e+09 | Q17: PO เรียกจาก (รายงานเงินกันปี 67)
A18: ลงทุน | B18: 1.4432237e+09 | C18: 0 | D18: 3.6200122e+08 | E18: 3.9296806e+08 | F18: =+E18*100/B18 -> 27.228492 | G18: 75 | H18: =+F18-G18 -> -47.771508 | I18: 7.5496928e+08 | J18: =+I18*100/B18 -> 52.311313 | K18: 100 | L18: =+J18-K18 -> -47.688687 | M18: =+B18-I18 -> 6.8825445e+08 | N18: 7 | O18: 10
A19: งบกรมจังหวัด
A20: งบกลุ่มจังหวัดภาคเหนือตอนบน 1
A21: ภาพรวม | B21: =+B22+B23 -> 89547000 | D21: =+D22+D23 -> 1159 | E21: =+E22+E23 -> 809456 | F21: =+E21*100/B21 -> 0.90394541 | G21: 52 | H21: =+F21-G21 -> -51.096055 | I21: =+D21+E21 -> 810615 | J21: =+I21*100/B21 -> 0.90523971 | K21: 56.24 | L21: =+J21-K21 -> -55.33476 | M21: =+B21-I21 -> 88736385
A22: ประจำ | B22: 14945000 | D22: 1159 | E22: 809456 | F22: =+E22*100/B22 -> 5.4162329 | G22: 55 | H22: =+F22-G22 -> -49.583767 | I22: =+D22+E22 -> 810615 | J22: =+I22*100/B22 -> 5.423988 | K22: 55.78 | L22: =+J22-K22 -> -50.356012 | M22: =+B22-I22 -> 14134385
A23: ลงทุน | B23: 74602000 | D23: 0 | E23: 0 | F23: =+E23*100/B23 -> 0 | G23: 39 | H23: =+F23-G23 -> -39 | I23: =+D23+E23 -> 0 | J23: =+I23*100/B23 -> 0 | K23: 58.15 | L23: =+J23-K23 -> -58.15 | M23: =+B23-I23 -> 74602000
A24: งบพัฒนาจังหวัด | I24: =+D24+E24 -> 0 | M24: =+B24-I24 -> 0
A25: ภาพรวม | B25: =+B26+B27 -> 317032400 | D25: =+D26+D27 -> 467150.06 | E25: =+E26+E27 -> 2267171.7 | F25: =+E25*100/B25 -> 0.71512303 | G25: 52 | H25: =+F25-G25 -> -51.284877 | I25: =+I26+I27 -> 2734321.8 | J25: =+I25*100/B25 -> 0.86247392 | K25: 56.24 | L25: =+J25-K25 -> -55.377526 | M25: =+B25-I25 -> 3.1429808e+08
A26: ประจำ | B26: 23468600 | D26: 467150.06 | E26: 2267171.7 | F26: =+E26*100/B26 -> 9.6604472 | G26: 55 | H26: =+F26-G26 -> -45.339553 | I26: =+D26+E26 -> 2734321.8 | J26: =+I26*100/B26 -> 11.650979 | K26: 55.78 | L26: =+J26-K26 -> -44.129021 | M26: =+B26-I26 -> 20734278
A27: ลงทุน | B27: 293563800 | D27: 0 | E27: 0 | F27: =+E27*100/B27 -> 0 | G27: 39 | H27: =+F27-G27 -> -39 | I27: =+D27+E27 -> 0 | J27: =+I27*100/B27 -> 0 | K27: 58.15 | L27: =+J27-K27 -> -58.15 | M27: =+B27-I27 -> 293563800
A28: ค่าใช้จ่ายบรรเทาผลกระทบจากการแพร่ระบาดของ COVID-19 จังหวัดเชียงใหม่
A29: ภาพรวม | B29: =+B30+B35 -> 3.3633955e+09 | C29: =+C30+C35 -> 63748.32 | D29: =+D30+D35 -> 19055725 | E29: =+E30+E35 -> 3.1861978e+09 | F29: =+E29*100/B29 -> 94.731583 | I29: =+C29+D29+E29 -> 3.2053173e+09 | J29: =+I29*100/B29 -> 95.30004 | M29: =+B29-I29 -> 1.5807824e+08 | T29: 63748.32 | U29: 19055725 | V29: 3.1650481e+09 | W29: 94.625612 | X29: 3.1841675e+09 | Y29: 95.197228 | Z29: 1.6064364e+08
A30: เงินกู้ | B30: =+SUM(B31:B34) -> 2.807294e+09 | D30: =+SUM(D31:D34) -> 19055725 | E30: =+SUM(E31:E34) -> 2.6351595e+09 | F30: =+E30*100/B30 -> 93.868314 | I30: =+SUM(I31:I34) -> 2.6542152e+09 | J30: =+I30*100/B30 -> 94.547107 | M30: =+SUM(M31:M34) -> 1.5307873e+08 | Q30: 15 เงินกู้ใช้ทำรายงาน 190766 | T30: 19055725 | U30: 2.6325941e+09 | V30: 93.776931 | W30: 2.6516498e+09 | X30: 94.455724 | Y30: 1.5564412e+08
A31: ปี 2563 | B31: 24020888 | D31: 0 | E31: 24020888 | F31: =+E31*100/B31 -> 100 | I31: 24020888 | J31: =+I31*100/B31 -> 100 | M31: =+B31-I31 -> 0
A32: ปี 2564 | B32: 1.7723931e+09 | C32: 0 | D32: 1059233.4 | E32: 1.7194309e+09 | F32: =+E32*100/B32 -> 97.011829 | I32: 1.7204902e+09 | J32: =+I32*100/B32 -> 97.071592 | M32: =+B32-I32 -> 51902895
A33: ปี 2565 | B33: 8.4311721e+08 | C33: 0 | D33: 17996491 | E33: 7.288522e+08 | F33: =+E33*100/B33 -> 86.447316 | I33: 7.468487e+08 | J33: =+I33*100/B33 -> 88.581835 | M33: =+B33-I33 -> 96268518
A34: ปี 2566 | B34: 167762814 | C34: 0 | D34: 0 | E34: 1.628555e+08 | F34: =+E34*100/B34 -> 97.074851 | I34: 1.628555e+08 | J34: =+I34*100/B34 -> 97.074851 | M34: =+B34-I34 -> 4907312.3
A35: งบกลาง | B35: =B36+B37+B38 -> 5.5610153e+08 | C35: =+C36+C37+C38 -> 63748.32 | D35: =D36+D37+D38 -> 0 | E35: =+E36+E37+E38 -> 5.5103827e+08 | F35: =+E35*100/B35 -> 99.089507 | I35: =+I36+I37+I38 -> 5.5110202e+08 | J35: =+I35*100/B35 -> 99.10097 | M35: =+M36+M37+M38 -> 4999517.9 | Q35: check จาก 11
A36: ปี 2564 | B36: 3.8419143e+08 | C36: 53748.32 | D36: 0 | E36: 3.7913817e+08 | F36: =+E36*100/B36 -> 98.684701 | I36: =+C36+D36+E36 -> 3.7919192e+08 | J36: =+I36*100/B36 -> 98.698691 | M36: =+B36-I36 -> 4999517.9 | Q36: รหัส ปีงบ 65 90909620043
A37: ปี 2565 | B37: 1.5332578e+08 | C37: 10000 | D37: 0 | E37: 1.5331578e+08 | F37: =+E37*100/B37 -> 99.993478 | I37: =+C37+D37+E37 -> 1.5332578e+08 | J37: =+I37*100/B37 -> 100 | M37: =+B37-I37 -> 0 | Q37: รหัส ปีงบ 66 9090961004300
A38: ปี 2566 | B38: 18584316 | C38: 0 | D38: 0 | E38: 18584316 | F38: =+E38*100/B38 -> 100 | I38: =+C38+D38+E38 -> 18584316 | J38: =+I38*100/B38 -> 100 | M38: =+B38-I38 -> 0
A39: งบประมาณเหลื่อมปี
A40: รายการ | B40: งบประมาณ | C40: สำรองเงิน แบบมีหนี้ เหลื่อมปี | D40: ใบสั่งซื้อ เหลื่อมปี | E40: เบิกจ่าย | F40: ร้อยละ เบิกจ่าย | I40: การใช้จ่าย | J40: ร้อยละ การใช้จ่าย | L40: คงเหลือ สรก. อยู่ระหว่างดำเนินการ | M40: คงเหลือรวม | Q40: 12
A41: ปี 66 | B41: 1.8117833e+09 | C41: 2.531366e+08 | D41: 1.1904479e+09 | E41: 3.6732063e+08 | F41: =+E41*100/B41 -> 20.273983 | I41: =+D41+E41 -> 1.5577686e+09 | J41: =+I41*100/B41 -> 85.979852 | L41: 878089.9 | M41: 1.4444626e+09 | Q41: รอพี่แต้วตรวจ | R41: 53803559
A42: ที่มา : ระบบการบริหารการเงินการคลังภาครัฐแบบอิเล็กทรอนิกส์ใหม่ (New GFMIS Thai)
A43: ข้อมูล ณ 20 พฤศจิกายน 2566
H44: =C41+D41+E41+L41 -> 1.8117833e+09 | I44: =B41-E41 -> 1.4444626e+09
A46: รายการ | B46: งบประมาณ | C46: PO | I46: ร้อยละ | J46: เป้าหมาย Q4 | K46: สูงกว่าเป้าหมาย
I47: การใช้จ่าย | K47: ไตรมาส 2
A48: ภาพรวม | B48: =+B49+B50 -> 1.0327718e+10 | C48: =+C49+C50 -> 3.8463678e+08 | I48: =+H48*100/B48 -> 0 | J48: 100 | K48: =+I48-J48 -> -100
A49: ประจำ | B49: =+B17 -> 8.8844944e+09 | C49: =+D17 -> 22635555 | I49: =+H49*100/B49 -> 0 | J49: 100 | K49: =+I49-J49 -> -100
A50: ลงทุน | B50: =+B18 -> 1.4432237e+09 | C50: =D18 -> 3.6200122e+08 | I50: =+H50*100/B50 -> 0 | J50: 100 | K50: =+I50-J50 -> -100
A53: รายการ | B53: งบประมาณ | C53: ผลเบิกจ่าย
A55: ภาพรวม | B55: 2.7561714e+09 | C55: 2.1411871e+09
A56: เงินกู้ | B56: 2.3945595e+09 | C56: 1.804633e+09
A57: -ปี 2563 | B57: 26618196 | C57: 24037520
A58: -ปี 2564 | B58: 1.8079115e+09 | C58: 1.6598534e+09
A59: -ปี 2565 | B59: 560029820 | C59: 120742101
A60: งบกลาง ปี 2564 | B60: 3.6161187e+08 | C60: 3.3655414e+08
A62: งบประมาณ | B62: ผลเบิกจ่าย | C62: ร้อยละเบิกจ่าย
A64: 2272.61 | B64: 1304.35 | C64: 57.394362
A71: งบประมาณ | B71: 31พค65 | C71: 17มิย65 | I71: ล้านบาท
I72: 1.1933253e+09
A73: รวม | B73: 23377.21 | C73: 25633.058 | I73: 2.7725496e+08
A74: ประจำ | B74: 14084.97 | C74: 16258.638 | I74: 2.3887144e+08
A75: ลงทุน | B75: 9292.24 | C75: 9374.4202 | I75: 1.3988455e+08
I76: 92066800
I77: 50191100
I78: 26977000
I79: =SUM(I72:I78) -> 2.0185712e+09
I80: 53357700
A82: ลงตารางรายงานา ผวจ
A83: รายการ | B83: งบประมาณ | C83: ผลเบิกจ่าย
A84: รวม | B84: =+B85+B86 -> 1.0327718e+10 | C84: =+C85+C86 -> 6.5430201e+09
A85: ประจำ | B85: =+B17 -> 8.8844944e+09 | C85: =+E17 -> 6.150052e+09
A86: ลงทุน | B86: =+B18 -> 1.4432237e+09 | C86: =+E18 -> 3.9296806e+08
A88: รายการ | B88: งบประมาณ | C88: ผลเบิกจ่าย
A90: ภาพรวม | B90: =+B29 -> 3.3633955e+09 | C90: =+E29 -> 3.1861978e+09
A91: เงินกู้ | B91: =+B30 -> 2.807294e+09 | C91: =+E30 -> 2.6351595e+09
A92: ปี 2563 | B92: =+B31 -> 24020888 | C92: =+E31 -> 24020888
A93: ปี 2564 | B93: =+B32 -> 1.7723931e+09 | C93: =+E32 -> 1.7194309e+09
A94: ปี 2565 | B94: =+B33 -> 8.4311721e+08 | C94: =+E33 -> 7.288522e+08
A95: ปี 2566 | B95: =+B34 -> 167762814 | C95: =+E34 -> 1.628555e+08
A96: งบกลาง | B96: =+B35 -> 5.5610153e+08 | C96: =+E35 -> 5.5103827e+08
A97: ปี 2564 | B97: =+B36 -> 3.8419143e+08 | C97: =+E36 -> 3.7913817e+08
A98: ปี 2565 | B98: =+B37 -> 1.5332578e+08 | C98: =+E37 -> 1.5331578e+08
A102: ประชุม กรมการจังหวัด
A103: รายการ | B103: งบประมาณ | C103: เบิกจ่าย | K103: สำรองเงินมีหนี้ | L103: PO
C104: จำนวน | I104: เป้าหมาย | J104: สูงกว่าเป้าหมายร้อยละ
I105: Q 3
I106: ร้อยละ
A107: ภาพรวม | B107: =+B108+B109 -> 1.0327718e+10 | C107: =+C108+C109 -> 6.5430201e+09 | I107: 81.74 | J107: =+H107-I107 -> -81.74 | K107: =+K108+K109 -> 0 | L107: =+L108+L109 -> 3.8463678e+08
A108: ประจำ | B108: =+B17 -> 8.8844944e+09 | C108: =+E17 -> 6.150052e+09 | I108: 81.76 | J108: =+H108-I108 -> -81.76 | K108: =+C17 -> 0 | L108: =+D17 -> 22635555
A109: ลงทุน | B109: =+B18 -> 1.4432237e+09 | C109: =+E18 -> 3.9296806e+08 | I109: 81.65 | J109: =+H109-I109 -> -81.65 | K109: =+C18 -> 0 | L109: =+D18 -> 3.6200122e+08
A111: ประชุม กรมการ จว
A112: รายการ | B112: งบประมาณ | C112: เบิกจ่าย | K112: สำรองเงิน | L112: PO
C113: จำนวน | K113: มีหนี้
A114: ภาพรวม | B114: =+B29 -> 3.3633955e+09 | C114: =+E29 -> 3.1861978e+09 | K114: =+C29 -> 63748.32 | L114: =+D29 -> 19055725
A115: เงินกู้ | B115: =+B30 -> 2.807294e+09 | C115: =+E30 -> 2.6351595e+09 | K115: =+C30 -> 0 | L115: =+D30 -> 19055725
A116: ปี 2563 | B116: =+B31 -> 24020888 | C116: =+E31 -> 24020888 | K116: =+C31 -> 0 | L116: =+D31 -> 0
A117: ปี 2564 | B117: =+B32 -> 1.7723931e+09 | C117: =+E32 -> 1.7194309e+09 | K117: =+C32 -> 0 | L117: =+D32 -> 1059233.4
A118: ปี 2565 | B118: =+B33 -> 8.4311721e+08 | C118: =+E33 -> 7.288522e+08 | K118: =+C33 -> 0 | L118: =+D33 -> 17996491
A119: ปี 2566 | B119: =+B34 -> 167762814 | C119: =+E34 -> 1.628555e+08 | K119: =+C34 -> 0 | L119: =+D34 -> 0
...

Sheet เป้าหมายปี 30.11.66
A1: เป้าหมายการเบิกจ่ายและการใช้จ่ายงบประมาณ พ.ศ. 2567 | Q1: source
A2: รายการ | B2: ไตรมาสที่ 1 | D2: ไตรมาสที่ 2 | F2: ไตรมาสที่ 3 | H2: ไตรมาสที่ 4
B3: เบิกจ่าย | C3: ใช้จ่าย | D3: เบิกจ่าย | E3: ใช้จ่าย | F3: เบิกจ่าย | G3: ใช้จ่าย | H3: เบิกจ่าย | I3: ใช้จ่าย
A4: ภาพรวม | B4: 32 | C4: 34.08 | D4: =20+32 -> 52 | E4: =+C4+22.16 -> 56.24 | F4: =23+D4 -> 75 | G4: =+E4+25.5 -> 81.74 | H4: =18+F4 -> 93 | I4: =+G4+18.26 -> 100
A5: ประจำ | B5: 35 | C5: 35.33 | D5: =20+35 -> 55 | E5: =20.45+C5 -> 55.78 | F5: =25+D5 -> 80 | G5: =25.98+E5 -> 81.76 | H5: =18+F5 -> 98 | I5: =18.24+G5 -> 100
A6: ลงทุน | B6: 19 | C6: 28.96 | D6: =20+19 -> 39 | E6: =29.19+C6 -> 58.15 | F6: =+D6+18 -> 57 | G6: =23.5+E6 -> 81.65 | H6: =18+F6 -> 75 | I6: =18.35+G6 -> 100
A7: ผลการใช้จ่ายงบประมาณรายจ่าย ประจำปีงบประมาณ พ.ศ. 2566 ไปพลางก่อน | M7: ข้อมูล ณ วันที่ 30 พฤศจิกายน 2566
A8: รายการ | B8: งบประมาณ | C8: สำรองเงินมีหนี้ | D8: PO+สำรองมีหนี้ | E8: เบิกจ่าย | F8: ร้อยละ เบิกจ่าย | G8: เป้าหมาย Q4 | H8: */- เป้าหมาย | I8: การใช้จ่าย (PO+เบิกจ่าย+สำรองมีหนี้) | J8: ร้อยละ การใช้จ่าย | K8: เป้าหมาย Q4 | L8: */- เป้าหมาย | M8: คงเหลือ หลังหักใช้จ่าย | N8: ลำดับเบิกจ่าย | O8: ลำดับ ใช้จ่าย
A9: งบประมาณรายจ่ายประจำปี พ.ศ.2566 ไปพลางก่อน (ภาพรวมทั้งประเทศ)
A10: ภาพรวม | B10: =+B11+B12 -> 177244.75 | D10: =+D11+D12 -> 5479.9165 | E10: =+E11+E12 -> 88246.828 | F10: =+E10*100/B10 -> 49.788118 | G10: 93 | H10: =+F10-G10 -> -43.211882 | I10: =+I11+I12 -> 93726.744 | J10: =+I10*100/B10 -> 52.879841 | K10: 100 | L10: =+J10-K10 -> -47.120159 | M10: =+B10-I10 -> 83518.011
A11: ประจำ | B11: 152692.46 | D11: 811.73118 | E11: 83733.014 | F11: =+E11*100/B11 -> 54.837689 | G11: 98 | H11: =+F11-G11 -> -43.162311 | I11: 84544.745 | J11: =+I11*100/B11 -> 55.3693 | K11: 100 | L11: =+J11-K11 -> -44.6307 | M11: =+B11-I11 -> 68147.712
A12: ลงทุน | B12: 24552.298 | D12: 4668.1853 | E12: 4513.8135 | F12: =+E12*100/B12 -> 18.384485 | G12: 75 | H12: =+F12-G12 -> -56.615515 | I12: =+E12+D12 -> 9181.9988 | J12: =+I12*100/B12 -> 37.397717 | K12: 100 | L12: =+J12-K12 -> -62.602283 | M12: =+B12-I12 -> 15370.299
A13: ผลการใช้จ่ายงบประมาณรายจ่ายจังหวัดเชียงใหม่ ประจำปีงบประมาณ พ.ศ. 2566 ไปพลางก่อน | M13: ข้อมูล ณ วันที่ 30 พฤศจิกายน 2566
A14: รายการ | B14: งบประมาณ | C14: สำรองเงินมีหนี้ | D14: PO | E14: เบิกจ่าย | F14: ร้อยละ เบิกจ่าย | G14: เป้าหมาย Q4 | H14: =+F14-G14 -> #VALUE! | I14: การใช้จ่าย (PO+เบิกจ่าย+สำรองมีหนี้) | J14: ร้อยละ การใช้จ่าย | K14: เป้าหมาย Q4 | L14: */- เป้าหมาย | M14: คงเหลือ หลังหักใช้จ่าย | N14: ลำดับเบิกจ่าย | O14: ลำดับ ใช้จ่าย | Q14: 9 สรุปผลการใช้จ่าย A08 รวม ปจ ลท 66
A15: งบประมาณรายจ่ายประจำปี พ.ศ.2566 ไปพลางก่อน (จังหวัดเชียงใหม่)
A16: ภาพรวม | B16: =+B17+B18 -> 1.0700527e+10 | C16: =+C17+C18 -> 0 | D16: =+D17+D18 -> 3.9201341e+08 | E16: =+E17+E18 -> 6.739491e+09 | F16: =+E16*100/B16 -> 62.982793 | G16: 93 | H16: =+F16-G16 -> -30.017207 | I16: =+C16+D16+E16 -> 7131504411 | J16: =+I16*100/B16 -> 66.646289 | K16: 100 | L16: =+J16-K16 -> -33.353711 | M16: =+B16-I16 -> 3.5690229e+09 | N16: 3 | O16: 3 | Q16: racking worning | S16: =+E16+C16+D16 -> 7131504411
A17: ประจำ | B17: 9.1962292e+09 | C17: 0 | D17: 31060224 | E17: 6.3019957e+09 | F17: =+E17*100/B17 -> 68.528042 | G17: 98 | H17: =+F17-G17 -> -29.471958 | I17: 6.333056e+09 | J17: =+I17*100/B17 -> 68.865791 | K17: 100 | L17: =+J17-K17 -> -31.134209 | M17: =+B17-I17 -> 2.8631732e+09 | Q17: PO เรียกจาก (รายงานเงินกันปี 67)
A18: ลงทุน | B18: 1.5042982e+09 | C18: 0 | D18: 3.6095319e+08 | E18: 4.3749525e+08 | F18: =+E18*100/B18 -> 29.083014 | G18: 75 | H18: =+F18-G18 -> -45.916986 | I18: 7.9844844e+08 | J18: =+I18*100/B18 -> 53.077804 | K18: 100 | L18: =+J18-K18 -> -46.922196 | M18: =+B18-I18 -> 7.0584974e+08 | N18: 7 | O18: 12
A19: งบกรมจังหวัด
A20: งบกลุ่มจังหวัดภาคเหนือตอนบน 1
A21: ภาพรวม | B21: =+B22+B23 -> 89547000 | D21: =+D22+D23 -> 1159 | E21: =+E22+E23 -> 809456 | F21: =+E21*100/B21 -> 0.90394541 | G21: 52 | H21: =+F21-G21 -> -51.096055 | I21: =+D21+E21 -> 810615 | J21: =+I21*100/B21 -> 0.90523971 | K21: 56.24 | L21: =+J21-K21 -> -55.33476 | M21: =+B21-I21 -> 88736385
A22: ประจำ | B22: 14945000 | D22: 1159 | E22: 809456 | F22: =+E22*100/B22 -> 5.4162329 | G22: 55 | H22: =+F22-G22 -> -49.583767 | I22: =+D22+E22 -> 810615 | J22: =+I22*100/B22 -> 5.423988 | K22: 55.78 | L22: =+J22-K22 -> -50.356012 | M22: =+B22-I22 -> 14134385
A23: ลงทุน | B23: 74602000 | D23: 0 | E23: 0 | F23: =+E23*100/B23 -> 0 | G23: 39 | H23: =+F23-G23 -> -39 | I23: =+D23+E23 -> 0 | J23: =+I23*100/B23 -> 0 | K23: 58.15 | L23: =+J23-K23 -> -58.15 | M23: =+B23-I23 -> 74602000
A24: งบพัฒนาจังหวัด | I24: =+D24+E24 -> 0 | M24: =+B24-I24 -> 0
A25: ภาพรวม | B25: =+B26+B27 -> 317032400 | D25: =+D26+D27 -> 467150.06 | E25: =+E26+E27 -> 2267171.7 | F25: =+E25*100/B25 -> 0.71512303 | G25: 52 | H25: =+F25-G25 -> -51.284877 | I25: =+I26+I27 -> 2734321.8 | J25: =+I25*100/B25 -> 0.86247392 | K25: 56.24 | L25: =+J25-K25 -> -55.377526 | M25: =+B25-I25 -> 3.1429808e+08
A26: ประจำ | B26: 23468600 | D26: 467150.06 | E26: 2267171.7 | F26: =+E26*100/B26 -> 9.6604472 | G26: 55 | H26: =+F26-G26 -> -45.339553 | I26: =+D26+E26 -> 2734321.8 | J26: =+I26*100/B26 -> 11.650979 | K26: 55.78 | L26: =+J26-K26 -> -44.129021 | M26: =+B26-I26 -> 20734278
A27: ลงทุน | B27: 293563800 | D27: 0 | E27: 0 | F27: =+E27*100/B27 -> 0 | G27: 39 | H27: =+F27-G27 -> -39 | I27: =+D27+E27 -> 0 | J27: =+I27*100/B27 -> 0 | K27: 58.15 | L27: =+J27-K27 -> -58.15 | M27: =+B27-I27 -> 293563800
A28: ค่าใช้จ่ายบรรเทาผลกระทบจากการแพร่ระบาดของ COVID-19 จังหวัดเชียงใหม่
A29: ภาพรวม | B29: =+B30+B35 -> 3.3633955e+09 | C29: =+C30+C35 -> 63748.32 | D29: =+D30+D35 -> 19055725 | E29: =+E30+E35 -> 3.1861978e+09 | F29: =+E29*100/B29 -> 94.731583 | I29: =+C29+D29+E29 -> 3.2053173e+09 | J29: =+I29*100/B29 -> 95.30004 | M29: =+B29-I29 -> 1.5807824e+08 | T29: 63748.32 | U29: 19055725 | V29: 3.1650481e+09 | W29: 94.625612 | X29: 3.1841675e+09 | Y29: 95.197228 | Z29: 1.6064364e+08
A30: เงินกู้ | B30: =+SUM(B31:B34) -> 2.807294e+09 | D30: =+SUM(D31:D34) -> 19055725 | E30: =+SUM(E31:E34) -> 2.6351595e+09 | F30: =+E30*100/B30 -> 93.868314 | I30: =+SUM(I31:I34) -> 2.6542152e+09 | J30: =+I30*100/B30 -> 94.547107 | M30: =+SUM(M31:M34) -> 1.5307873e+08 | Q30: 15 เงินกู้ใช้ทำรายงาน 190766 | T30: 19055725 | U30: 2.6325941e+09 | V30: 93.776931 | W30: 2.6516498e+09 | X30: 94.455724 | Y30: 1.5564412e+08
A31: ปี 2563 | B31: 24020888 | D31: 0 | E31: 24020888 | F31: =+E31*100/B31 -> 100 | I31: 24020888 | J31: =+I31*100/B31 -> 100 | M31: =+B31-I31 -> 0
A32: ปี 2564 | B32: 1.7723931e+09 | C32: 0 | D32: 1059233.4 | E32: 1.7194309e+09 | F32: =+E32*100/B32 -> 97.011829 | I32: 1.7204902e+09 | J32: =+I32*100/B32 -> 97.071592 | M32: =+B32-I32 -> 51902895
A33: ปี 2565 | B33: 8.4311721e+08 | C33: 0 | D33: 17996491 | E33: 7.288522e+08 | F33: =+E33*100/B33 -> 86.447316 | I33: 7.468487e+08 | J33: =+I33*100/B33 -> 88.581835 | M33: =+B33-I33 -> 96268518
A34: ปี 2566 | B34: 167762814 | C34: 0 | D34: 0 | E34: 1.628555e+08 | F34: =+E34*100/B34 -> 97.074851 | I34: 1.628555e+08 | J34: =+I34*100/B34 -> 97.074851 | M34: =+B34-I34 -> 4907312.3
A35: งบกลาง | B35: =B36+B37+B38 -> 5.5610153e+08 | C35: =+C36+C37+C38 -> 63748.32 | D35: =D36+D37+D38 -> 0 | E35: =+E36+E37+E38 -> 5.5103827e+08 | F35: =+E35*100/B35 -> 99.089507 | I35: =+I36+I37+I38 -> 5.5110202e+08 | J35: =+I35*100/B35 -> 99.10097 | M35: =+M36+M37+M38 -> 4999517.9 | Q35: check จาก 11
A36: ปี 2564 | B36: 3.8419143e+08 | C36: 53748.32 | D36: 0 | E36: 3.7913817e+08 | F36: =+E36*100/B36 -> 98.684701 | I36: =+C36+D36+E36 -> 3.7919192e+08 | J36: =+I36*100/B36 -> 98.698691 | M36: =+B36-I36 -> 4999517.9 | Q36: รหัส ปีงบ 65 90909620043
A37: ปี 2565 | B37: 1.5332578e+08 | C37: 10000 | D37: 0 | E37: 1.5331578e+08 | F37: =+E37*100/B37 -> 99.993478 | I37: =+C37+D37+E37 -> 1.5332578e+08 | J37: =+I37*100/B37 -> 100 | M37: =+B37-I37 -> 0 | Q37: รหัส ปีงบ 66 9090961004300
A38: ปี 2566 | B38: 18584316 | C38: 0 | D38: 0 | E38: 18584316 | F38: =+E38*100/B38 -> 100 | I38: =+C38+D38+E38 -> 18584316 | J38: =+I38*100/B38 -> 100 | M38: =+B38-I38 -> 0
A39: งบประมาณเหลื่อมปี
A40: รายการ | B40: งบประมาณ | C40: สำรองเงิน แบบมีหนี้ เหลื่อมปี | D40: ใบสั่งซื้อ เหลื่อมปี | E40: เบิกจ่าย | F40: ร้อยละ เบิกจ่าย | I40: การใช้จ่าย | J40: ร้อยละ การใช้จ่าย | L40: คงเหลือ สรก. อยู่ระหว่างดำเนินการ | M40: คงเหลือรวม | Q40: 12
A41: ปี 66 | B41: 1.8118128e+09 | C41: 2.2760838e+08 | D41: 1.1231824e+09 | E41: 4.6014395e+08 | F41: =+E41*100/B41 -> 25.396881 | I41: =+D41+E41 -> 1.5833264e+09 | J41: =+I41*100/B41 -> 87.389069 | L41: 878089.9 | M41: =B41-E41 -> 1.3516689e+09 | Q41: รอพี่แต้วตรวจ | R41: 53803559
A42: ที่มา : ระบบการบริหารการเงินการคลังภาครัฐแบบอิเล็กทรอนิกส์ใหม่ (New GFMIS Thai)
A43: ข้อมูล ณ 30 พฤศจิกายน 2566
H44: =C41+D41+E41+L41 -> 1.8118128e+09 | I44: =B41-E41 -> 1.3516689e+09
A46: รายการ | B46: งบประมาณ | C46: PO | I46: ร้อยละ | J46: เป้าหมาย Q4 | K46: สูงกว่าเป้าหมาย
I47: การใช้จ่าย | K47: ไตรมาส 2
A48: ภาพรวม | B48: =+B49+B50 -> 1.0700527e+10 | C48: =+C49+C50 -> 3.9201341e+08 | I48: =+H48*100/B48 -> 0 | J48: 100 | K48: =+I48-J48 -> -100
A49: ประจำ | B49: =+B17 -> 9.1962292e+09 | C49: =+D17 -> 31060224 | I49: =+H49*100/B49 -> 0 | J49: 100 | K49: =+I49-J49 -> -100
A50: ลงทุน | B50: =+B18 -> 1.5042982e+09 | C50: =D18 -> 3.6095319e+08 | I50: =+H50*100/B50 -> 0 | J50: 100 | K50: =+I50-J50 -> -100
A53: รายการ | B53: งบประมาณ | C53: ผลเบิกจ่าย
A55: ภาพรวม | B55: 2.7561714e+09 | C55: 2.1411871e+09
A56: เงินกู้ | B56: 2.3945595e+09 | C56: 1.804633e+09
A57: -ปี 2563 | B57: 26618196 | C57: 24037520
A58: -ปี 2564 | B58: 1.8079115e+09 | C58: 1.6598534e+09
A59: -ปี 2565 | B59: 560029820 | C59: 120742101
A60: งบกลาง ปี 2564 | B60: 3.6161187e+08 | C60: 3.3655414e+08
A62: งบประมาณ | B62: ผลเบิกจ่าย | C62: ร้อยละเบิกจ่าย
A64: 2272.61 | B64: 1304.35 | C64: 57.394362
A71: งบประมาณ | B71: 31พค65 | C71: 17มิย65 | I71: ล้านบาท
I72: 1.1933253e+09
A73: รวม | B73: 23377.21 | C73: 25633.058 | I73: 2.7725496e+08
A74: ประจำ | B74: 14084.97 | C74: 16258.638 | I74: 2.3887144e+08
A75: ลงทุน | B75: 9292.24 | C75: 9374.4202 | I75: 1.3988455e+08
I76: 92066800
I77: 50191100
I78: 26977000
I79: =SUM(I72:I78) -> 2.0185712e+09
I80: 53357700
A82: ลงตารางรายงานา ผวจ
A83: รายการ | B83: งบประมาณ | C83: ผลเบิกจ่าย
A84: รวม | B84: =+B85+B86 -> 1.0700527e+10 | C84: =+C85+C86 -> 6.739491e+09
A85: ประจำ | B85: =+B17 -> 9.1962292e+09 | C85: =+E17 -> 6.3019957e+09
A86: ลงทุน | B86: =+B18 -> 1.5042982e+09 | C86: =+E18 -> 4.3749525e+08
A88: รายการ | B88: งบประมาณ | C88: ผลเบิกจ่าย
A90: ภาพรวม | B90: =+B29 -> 3.3633955e+09 | C90: =+E29 -> 3.1861978e+09
A91: เงินกู้ | B91: =+B30 -> 2.807294e+09 | C91: =+E30 -> 2.6351595e+09
A92: ปี 2563 | B92: =+B31 -> 24020888 | C92: =+E31 -> 24020888
A93: ปี 2564 | B93: =+B32 -> 1.7723931e+09 | C93: =+E32 -> 1.7194309e+09
A94: ปี 2565 | B94: =+B33 -> 8.4311721e+08 | C94: =+E33 -> 7.288522e+08
A95: ปี 2566 | B95: =+B34 -> 167762814 | C95: =+E34 -> 1.628555e+08
A96: งบกลาง | B96: =+B35 -> 5.5610153e+08 | C96: =+E35 -> 5.5103827e+08
A97: ปี 2564 | B97: =+B36 -> 3.8419143e+08 | C97: =+E36 -> 3.7913817e+08
A98: ปี 2565 | B98: =+B37 -> 1.5332578e+08 | C98: =+E37 -> 1.5331578e+08
A102: ประชุม กรมการจังหวัด
A103: รายการ | B103: งบประมาณ | C103: เบิกจ่าย | K103: สำรองเงินมีหนี้ | L103: PO
C104: จำนวน | I104: เป้าหมาย | J104: สูงกว่าเป้าหมายร้อยละ
I105: Q 3
I106: ร้อยละ
A107: ภาพรวม | B107: =+B108+B109 -> 1.0700527e+10 | C107: =+C108+C109 -> 6.739491e+09 | I107: 81.74 | J107: =+H107-I107 -> -81.74 | K107: =+K108+K109 -> 0 | L107: =+L108+L109 -> 3.9201341e+08
A108: ประจำ | B108: =+B17 -> 9.1962292e+09 | C108: =+E17 -> 6.3019957e+09 | I108: 81.76 | J108: =+H108-I108 -> -81.76 | K108: =+C17 -> 0 | L108: =+D17 -> 31060224
A109: ลงทุน | B109: =+B18 -> 1.5042982e+09 | C109: =+E18 -> 4.3749525e+08 | I109: 81.65 | J109: =+H109-I109 -> -81.65 | K109: =+C18 -> 0 | L109: =+D18 -> 3.6095319e+08
A111: ประชุม กรมการ จว
A112: รายการ | B112: งบประมาณ | C112: เบิกจ่าย | K112: สำรองเงิน | L112: PO
C113: จำนวน | K113: มีหนี้
A114: ภาพรวม | B114: =+B29 -> 3.3633955e+09 | C114: =+E29 -> 3.1861978e+09 | K114: =+C29 -> 63748.32 | L114: =+D29 -> 19055725
A115: เงินกู้ | B115: =+B30 -> 2.807294e+09 | C115: =+E30 -> 2.6351595e+09 | K115: =+C30 -> 0 | L115: =+D30 -> 19055725
A116: ปี 2563 | B116: =+B31 -> 24020888 | C116: =+E31 -> 24020888 | K116: =+C31 -> 0 | L116: =+D31 -> 0
A117: ปี 2564 | B117: =+B32 -> 1.7723931e+09 | C117: =+E32 -> 1.7194309e+09 | K117: =+C32 -> 0 | L117: =+D32 -> 1059233.4
A118: ปี 2565 | B118: =+B33 -> 8.4311721e+08 | C118: =+E33 -> 7.288522e+08 | K118: =+C33 -> 0 | L118: =+D33 -> 17996491
A119: ปี 2566 | B119: =+B34 -> 167762814 | C119: =+E34 -> 1.628555e+08 | K119: =+C34 -> 0 | L119: =+D34 -> 0
...

Sheet เป้าหมายปี 7 12 66
A1: เป้าหมายการเบิกจ่ายและการใช้จ่ายงบประมาณ พ.ศ. 2567 | Q1: source
A2: รายการ | B2: ไตรมาสที่ 1 | D2: ไตรมาสที่ 2 | F2: ไตรมาสที่ 3 | H2: ไตรมาสที่ 4
B3: เบิกจ่าย | C3: ใช้จ่าย | D3: เบิกจ่าย | E3: ใช้จ่าย | F3: เบิกจ่าย | G3: ใช้จ่าย | H3: เบิกจ่าย | I3: ใช้จ่าย
A4: ภาพรวม | B4: 32 | C4: 34.08 | D4: =20+32 -> 52 | E4: =+C4+22.16 -> 56.24 | F4: =23+D4 -> 75 | G4: =+E4+25.5 -> 81.74 | H4: =18+F4 -> 93 | I4: =+G4+18.26 -> 100
A5: ประจำ | B5: 35 | C5: 35.33 | D5: =20+35 -> 55 | E5: =20.45+C5 -> 55.78 | F5: =25+D5 -> 80 | G5: =25.98+E5 -> 81.76 | H5: =18+F5 -> 98 | I5: =18.24+G5 -> 100
A6: ลงทุน | B6: 19 | C6: 28.96 | D6: =20+19 -> 39 | E6: =29.19+C6 -> 58.15 | F6: =+D6+18 -> 57 | G6: =23.5+E6 -> 81.65 | H6: =18+F6 -> 75 | I6: =18.35+G6 -> 100
A7: ผลการใช้จ่ายงบประมาณรายจ่าย ประจำปีงบประมาณ พ.ศ. 2566 ไปพลางก่อน
A8: รายการ | B8: งบประมาณ | C8: สำรองเงินมีหนี้ | D8: PO+สำรองมีหนี้ | E8: เบิกจ่าย | F8: ร้อยละ เบิกจ่าย | G8: เป้าหมาย Q4 | H8: */- เป้าหมาย | I8: การใช้จ่าย (PO+เบิกจ่าย+สำรองมีหนี้) | J8: ร้อยละ การใช้จ่าย | K8: เป้าหมาย Q4 | L8: */- เป้าหมาย | M8: คงเหลือ หลังหักใช้จ่าย | N8: ลำดับเบิกจ่าย | O8: ลำดับ ใช้จ่าย
A9: งบประมาณรายจ่ายประจำปี พ.ศ.2566 ไปพลางก่อน (ภาพรวมทั้งประเทศ)
A10: ภาพรวม | B10: =+B11+B12 -> 177244.75 | D10: =+D11+D12 -> 5479.9165 | E10: =+E11+E12 -> 88246.828 | F10: =+E10*100/B10 -> 49.788118 | G10: 93 | H10: =+F10-G10 -> -43.211882 | I10: =+I11+I12 -> 93726.744 | J10: =+I10*100/B10 -> 52.879841 | K10: 100 | L10: =+J10-K10 -> -47.120159 | M10: =+B10-I10 -> 83518.011
A11: ประจำ | B11: 152692.46 | D11: 811.73118 | E11: 83733.014 | F11: =+E11*100/B11 -> 54.837689 | G11: 98 | H11: =+F11-G11 -> -43.162311 | I11: 84544.745 | J11: =+I11*100/B11 -> 55.3693 | K11: 100 | L11: =+J11-K11 -> -44.6307 | M11: =+B11-I11 -> 68147.712
A12: ลงทุน | B12: 24552.298 | D12: 4668.1853 | E12: 4513.8135 | F12: =+E12*100/B12 -> 18.384485 | G12: 75 | H12: =+F12-G12 -> -56.615515 | I12: =+E12+D12 -> 9181.9988 | J12: =+I12*100/B12 -> 37.397717 | K12: 100 | L12: =+J12-K12 -> -62.602283 | M12: =+B12-I12 -> 15370.299
A13: ผลการใช้จ่ายงบประมาณรายจ่ายจังหวัดเชียงใหม่ ประจำปีงบประมาณ พ.ศ. 2566 ไปพลางก่อน | M13: ข้อมูล ณ วันที่ 7 ธันวาคม 2566
A14: รายการ | B14: งบประมาณ | C14: สำรองเงินมีหนี้ | D14: PO | E14: เบิกจ่าย | F14: ร้อยละ เบิกจ่าย | G14: เป้าหมาย Q4 | H14: =+F14-G14 -> #VALUE! | I14: การใช้จ่าย (PO+เบิกจ่าย+สำรองมีหนี้) | J14: ร้อยละ การใช้จ่าย | K14: เป้าหมาย Q4 | L14: */- เป้าหมาย | M14: คงเหลือ หลังหักใช้จ่าย | N14: ลำดับเบิกจ่าย | O14: ลำดับ ใช้จ่าย | Q14: 9 สรุปผลการใช้จ่าย A08 รวม ปจ ลท 66
A15: งบประมาณรายจ่ายประจำปี พ.ศ.2566 ไปพลางก่อน (จังหวัดเชียงใหม่)
A16: ภาพรวม | B16: =+B17+B18 -> 1.0886024e+10 | C16: =+C17+C18 -> 0 | D16: =+D17+D18 -> 4.6227504e+08 | E16: =+E17+E18 -> 6.7388165e+09 | F16: =+E16*100/B16 -> 61.903378 | G16: 93 | H16: =+F16-G16 -> -31.096622 | I16: =+C16+D16+E16 -> 7.2010915e+09 | J16: =+I16*100/B16 -> 66.149879 | K16: 100 | L16: =+J16-K16 -> -33.850121 | M16: =+B16-I16 -> 3.6849322e+09 | Q16: racking worning | S16: =+E16+C16+D16 -> 7.2010915e+09
A17: ประจำ | B17: 9.3817156e+09 | C17: 0 | D17: 75465565 | E17: 6.3013212e+09 | F17: =+E17*100/B17 -> 67.16598 | G17: 98 | H17: =+F17-G17 -> -30.83402 | I17: 6.3767868e+09 | J17: =+I17*100/B17 -> 67.97037 | K17: 100 | L17: =+J17-K17 -> -32.02963 | M17: =+B17-I17 -> 3.0049288e+09 | Q17: PO เรียกจาก (รายงานเงินกันปี 67)
A18: ลงทุน | B18: 1.5043082e+09 | C18: 0 | D18: 3.8680947e+08 | E18: 4.3749525e+08 | F18: =+E18*100/B18 -> 29.082821 | G18: 75 | H18: =+F18-G18 -> -45.917179 | I18: 8.2430473e+08 | J18: =+I18*100/B18 -> 54.796267 | K18: 100 | L18: =+J18-K18 -> -45.203733 | M18: =+B18-I18 -> 6.8000345e+08
A19: งบกรมจังหวัด
A20: งบกลุ่มจังหวัดภาคเหนือตอนบน 1
A21: ภาพรวม | B21: =+B22+B23 -> 89547000 | D21: =+D22+D23 -> 1159 | E21: =+E22+E23 -> 809456 | F21: =+E21*100/B21 -> 0.90394541 | G21: 52 | H21: =+F21-G21 -> -51.096055 | I21: =+D21+E21 -> 810615 | J21: =+I21*100/B21 -> 0.90523971 | K21: 56.24 | L21: =+J21-K21 -> -55.33476 | M21: =+B21-I21 -> 88736385
A22: ประจำ | B22: 14945000 | D22: 1159 | E22: 809456 | F22: =+E22*100/B22 -> 5.4162329 | G22: 55 | H22: =+F22-G22 -> -49.583767 | I22: =+D22+E22 -> 810615 | J22: =+I22*100/B22 -> 5.423988 | K22: 55.78 | L22: =+J22-K22 -> -50.356012 | M22: =+B22-I22 -> 14134385
A23: ลงทุน | B23: 74602000 | D23: 0 | E23: 0 | F23: =+E23*100/B23 -> 0 | G23: 39 | H23: =+F23-G23 -> -39 | I23: =+D23+E23 -> 0 | J23: =+I23*100/B23 -> 0 | K23: 58.15 | L23: =+J23-K23 -> -58.15 | M23: =+B23-I23 -> 74602000
A24: งบพัฒนาจังหวัด | I24: =+D24+E24 -> 0 | M24: =+B24-I24 -> 0
A25: ภาพรวม | B25: =+B26+B27 -> 317032400 | D25: =+D26+D27 -> 467150.06 | E25: =+E26+E27 -> 2267171.7 | F25: =+E25*100/B25 -> 0.71512303 | G25: 52 | H25: =+F25-G25 -> -51.284877 | I25: =+I26+I27 -> 2734321.8 | J25: =+I25*100/B25 -> 0.86247392 | K25: 56.24 | L25: =+J25-K25 -> -55.377526 | M25: =+B25-I25 -> 3.1429808e+08
A26: ประจำ | B26: 23468600 | D26: 467150.06 | E26: 2267171.7 | F26: =+E26*100/B26 -> 9.6604472 | G26: 55 | H26: =+F26-G26 -> -45.339553 | I26: =+D26+E26 -> 2734321.8 | J26: =+I26*100/B26 -> 11.650979 | K26: 55.78 | L26: =+J26-K26 -> -44.129021 | M26: =+B26-I26 -> 20734278
A27: ลงทุน | B27: 293563800 | D27: 0 | E27: 0 | F27: =+E27*100/B27 -> 0 | G27: 39 | H27: =+F27-G27 -> -39 | I27: =+D27+E27 -> 0 | J27: =+I27*100/B27 -> 0 | K27: 58.15 | L27: =+J27-K27 -> -58.15 | M27: =+B27-I27 -> 293563800
A28: ค่าใช้จ่ายบรรเทาผลกระทบจากการแพร่ระบาดของ COVID-19 จังหวัดเชียงใหม่
A29: ภาพรวม | B29: =+B30+B35 -> 3.3633955e+09 | C29: =+C30+C35 -> 63748.32 | D29: =+D30+D35 -> 19055725 | E29: =+E30+E35 -> 3.1861978e+09 | F29: =+E29*100/B29 -> 94.731583 | I29: =+C29+D29+E29 -> 3.2053173e+09 | J29: =+I29*100/B29 -> 95.30004 | M29: =+B29-I29 -> 1.5807824e+08 | T29: 63748.32 | U29: 19055725 | V29: 3.1650481e+09 | W29: 94.625612 | X29: 3.1841675e+09 | Y29: 95.197228 | Z29: 1.6064364e+08
A30: เงินกู้ | B30: =+SUM(B31:B34) -> 2.807294e+09 | D30: =+SUM(D31:D34) -> 19055725 | E30: =+SUM(E31:E34) -> 2.6351595e+09 | F30: =+E30*100/B30 -> 93.868314 | I30: =+SUM(I31:I34) -> 2.6542152e+09 | J30: =+I30*100/B30 -> 94.547107 | M30: =+SUM(M31:M34) -> 1.5307873e+08 | Q30: 15 เงินกู้ใช้ทำรายงาน 190766 | T30: 19055725 | U30: 2.6325941e+09 | V30: 93.776931 | W30: 2.6516498e+09 | X30: 94.455724 | Y30: 1.5564412e+08
A31: ปี 2563 | B31: 24020888 | D31: 0 | E31: 24020888 | F31: =+E31*100/B31 -> 100 | I31: 24020888 | J31: =+I31*100/B31 -> 100 | M31: =+B31-I31 -> 0
A32: ปี 2564 | B32: 1.7723931e+09 | C32: 0 | D32: 1059233.4 | E32: 1.7194309e+09 | F32: =+E32*100/B32 -> 97.011829 | I32: 1.7204902e+09 | J32: =+I32*100/B32 -> 97.071592 | M32: =+B32-I32 -> 51902895
A33: ปี 2565 | B33: 8.4311721e+08 | C33: 0 | D33: 17996491 | E33: 7.288522e+08 | F33: =+E33*100/B33 -> 86.447316 | I33: 7.468487e+08 | J33: =+I33*100/B33 -> 88.581835 | M33: =+B33-I33 -> 96268518
A34: ปี 2566 | B34: 167762814 | C34: 0 | D34: 0 | E34: 1.628555e+08 | F34: =+E34*100/B34 -> 97.074851 | I34: 1.628555e+08 | J34: =+I34*100/B34 -> 97.074851 | M34: =+B34-I34 -> 4907312.3
A35: งบกลาง | B35: =B36+B37+B38 -> 5.5610153e+08 | C35: =+C36+C37+C38 -> 63748.32 | D35: =D36+D37+D38 -> 0 | E35: =+E36+E37+E38 -> 5.5103827e+08 | F35: =+E35*100/B35 -> 99.089507 | I35: =+I36+I37+I38 -> 5.5110202e+08 | J35: =+I35*100/B35 -> 99.10097 | M35: =+M36+M37+M38 -> 4999517.9 | Q35: check จาก 11
A36: ปี 2564 | B36: 3.8419143e+08 | C36: 53748.32 | D36: 0 | E36: 3.7913817e+08 | F36: =+E36*100/B36 -> 98.684701 | I36: =+C36+D36+E36 -> 3.7919192e+08 | J36: =+I36*100/B36 -> 98.698691 | M36: =+B36-I36 -> 4999517.9 | Q36: รหัส ปีงบ 65 90909620043
A37: ปี 2565 | B37: 1.5332578e+08 | C37: 10000 | D37: 0 | E37: 1.5331578e+08 | F37: =+E37*100/B37 -> 99.993478 | I37: =+C37+D37+E37 -> 1.5332578e+08 | J37: =+I37*100/B37 -> 100 | M37: =+B37-I37 -> 0 | Q37: รหัส ปีงบ 66 9090961004300
A38: ปี 2566 | B38: 18584316 | C38: 0 | D38: 0 | E38: 18584316 | F38: =+E38*100/B38 -> 100 | I38: =+C38+D38+E38 -> 18584316 | J38: =+I38*100/B38 -> 100 | M38: =+B38-I38 -> 0
A39: งบประมาณเหลื่อมปี
A40: รายการ | B40: งบประมาณ | C40: สำรองเงิน แบบมีหนี้ เหลื่อมปี | D40: ใบสั่งซื้อ เหลื่อมปี | E40: เบิกจ่าย | F40: ร้อยละ เบิกจ่าย | I40: การใช้จ่าย | J40: ร้อยละ การใช้จ่าย | L40: คงเหลือ สรก. อยู่ระหว่างดำเนินการ | M40: คงเหลือรวม | Q40: 12
A41: ปี 66 | B41: 1.8118128e+09 | C41: 2.0900104e+08 | D41: 1.0603966e+09 | E41: 5.4153715e+08 | F41: =+E41*100/B41 -> 29.889243 | I41: =+D41+E41 -> 1.6019337e+09 | J41: =+I41*100/B41 -> 88.41607 | L41: 878089.9 | M41: =B41-E41 -> 1.2702757e+09 | R41: 53803559
A42: ที่มา : ระบบการบริหารการเงินการคลังภาครัฐแบบอิเล็กทรอนิกส์ใหม่ (New GFMIS Thai)
A43: ข้อมูล ณ 7 ธันวาคม 2566
H44: =C41+D41+E41+L41 -> 1.8118128e+09 | I44: =B41-E41 -> 1.2702757e+09
A46: รายการ | B46: งบประมาณ | C46: PO | I46: ร้อยละ | J46: เป้าหมาย Q4 | K46: สูงกว่าเป้าหมาย
I47: การใช้จ่าย | K47: ไตรมาส 2
A48: ภาพรวม | B48: =+B49+B50 -> 1.0886024e+10 | C48: =+C49+C50 -> 4.6227504e+08 | I48: =+H48*100/B48 -> 0 | J48: 100 | K48: =+I48-J48 -> -100
A49: ประจำ | B49: =+B17 -> 9.3817156e+09 | C49: =+D17 -> 75465565 | I49: =+H49*100/B49 -> 0 | J49: 100 | K49: =+I49-J49 -> -100
A50: ลงทุน | B50: =+B18 -> 1.5043082e+09 | C50: =D18 -> 3.8680947e+08 | I50: =+H50*100/B50 -> 0 | J50: 100 | K50: =+I50-J50 -> -100
A53: รายการ | B53: งบประมาณ | C53: ผลเบิกจ่าย
A55: ภาพรวม | B55: 2.7561714e+09 | C55: 2.1411871e+09
A56: เงินกู้ | B56: 2.3945595e+09 | C56: 1.804633e+09
A57: -ปี 2563 | B57: 26618196 | C57: 24037520
A58: -ปี 2564 | B58: 1.8079115e+09 | C58: 1.6598534e+09
A59: -ปี 2565 | B59: 560029820 | C59: 120742101
A60: งบกลาง ปี 2564 | B60: 3.6161187e+08 | C60: 3.3655414e+08
A62: งบประมาณ | B62: ผลเบิกจ่าย | C62: ร้อยละเบิกจ่าย
A64: 2272.61 | B64: 1304.35 | C64: 57.394362
A71: งบประมาณ | B71: 31พค65 | C71: 17มิย65 | I71: ล้านบาท
I72: 1.1933253e+09
A73: รวม | B73: 23377.21 | C73: 25633.058 | I73: 2.7725496e+08
A74: ประจำ | B74: 14084.97 | C74: 16258.638 | I74: 2.3887144e+08
A75: ลงทุน | B75: 9292.24 | C75: 9374.4202 | I75: 1.3988455e+08
I76: 92066800
I77: 50191100
I78: 26977000
I79: =SUM(I72:I78) -> 2.0185712e+09
I80: 53357700
A82: ลงตารางรายงานา ผวจ
A83: รายการ | B83: งบประมาณ | C83: ผลเบิกจ่าย
A84: รวม | B84: =+B85+B86 -> 1.0886024e+10 | C84: =+C85+C86 -> 6.7388165e+09
A85: ประจำ | B85: =+B17 -> 9.3817156e+09 | C85: =+E17 -> 6.3013212e+09
A86: ลงทุน | B86: =+B18 -> 1.5043082e+09 | C86: =+E18 -> 4.3749525e+08
A88: รายการ | B88: งบประมาณ | C88: ผลเบิกจ่าย
A90: ภาพรวม | B90: =+B29 -> 3.3633955e+09 | C90: =+E29 -> 3.1861978e+09
A91: เงินกู้ | B91: =+B30 -> 2.807294e+09 | C91: =+E30 -> 2.6351595e+09
A92: ปี 2563 | B92: =+B31 -> 24020888 | C92: =+E31 -> 24020888
A93: ปี 2564 | B93: =+B32 -> 1.7723931e+09 | C93: =+E32 -> 1.7194309e+09
A94: ปี 2565 | B94: =+B33 -> 8.4311721e+08 | C94: =+E33 -> 7.288522e+08
A95: ปี 2566 | B95: =+B34 -> 167762814 | C95: =+E34 -> 1.628555e+08
A96: งบกลาง | B96: =+B35 -> 5.5610153e+08 | C96: =+E35 -> 5.5103827e+08
A97: ปี 2564 | B97: =+B36 -> 3.8419143e+08 | C97: =+E36 -> 3.7913817e+08
A98: ปี 2565 | B98: =+B37 -> 1.5332578e+08 | C98: =+E37 -> 1.5331578e+08
A102: ประชุม กรมการจังหวัด
A103: รายการ | B103: งบประมาณ | C103: เบิกจ่าย | K103: สำรองเงินมีหนี้ | L103: PO
C104: จำนวน | I104: เป้าหมาย | J104: สูงกว่าเป้าหมายร้อยละ
I105: Q 3
I106: ร้อยละ
A107: ภาพรวม | B107: =+B108+B109 -> 1.0886024e+10 | C107: =+C108+C109 -> 6.7388165e+09 | I107: 81.74 | J107: =+H107-I107 -> -81.74 | K107: =+K108+K109 -> 0 | L107: =+L108+L109 -> 4.6227504e+08
A108: ประจำ | B108: =+B17 -> 9.3817156e+09 | C108: =+E17 -> 6.3013212e+09 | I108: 81.76 | J108: =+H108-I108 -> -81.76 | K108: =+C17 -> 0 | L108: =+D17 -> 75465565
A109: ลงทุน | B109: =+B18 -> 1.5043082e+09 | C109: =+E18 -> 4.3749525e+08 | I109: 81.65 | J109: =+H109-I109 -> -81.65 | K109: =+C18 -> 0 | L109: =+D18 -> 3.8680947e+08
A111: ประชุม กรมการ จว
A112: รายการ | B112: งบประมาณ | C112: เบิกจ่าย | K112: สำรองเงิน | L112: PO
C113: จำนวน | K113: มีหนี้
A114: ภาพรวม | B114: =+B29 -> 3.3633955e+09 | C114: =+E29 -> 3.1861978e+09 | K114: =+C29 -> 63748.32 | L114: =+D29 -> 19055725
A115: เงินกู้ | B115: =+B30 -> 2.807294e+09 | C115: =+E30 -> 2.6351595e+09 | K115: =+C30 -> 0 | L115: =+D30 -> 19055725
A116: ปี 2563 | B116: =+B31 -> 24020888 | C116: =+E31 -> 24020888 | K116: =+C31 -> 0 | L116: =+D31 -> 0
A117: ปี 2564 | B117: =+B32 -> 1.7723931e+09 | C117: =+E32 -> 1.7194309e+09 | K117: =+C32 -> 0 | L117: =+D32 -> 1059233.4
A118: ปี 2565 | B118: =+B33 -> 8.4311721e+08 | C118: =+E33 -> 7.288522e+08 | K118: =+C33 -> 0 | L118: =+D33 -> 17996491
A119: ปี 2566 | B119: =+B34 -> 167762814 | C119: =+E34 -> 1.628555e+08 | K119: =+C34 -> 0 | L119: =+D34 -> 0
...

Sheet เป้าหมายปี 13 12 66
A1: เป้าหมายการเบิกจ่ายและการใช้จ่ายงบประมาณ พ.ศ. 2567 | Q1: source
A2: รายการ | B2: ไตรมาสที่ 1 | D2: ไตรมาสที่ 2 | F2: ไตรมาสที่ 3 | H2: ไตรมาสที่ 4
B3: เบิกจ่าย | C3: ใช้จ่าย | D3: เบิกจ่าย | E3: ใช้จ่าย | F3: เบิกจ่าย | G3: ใช้จ่าย | H3: เบิกจ่าย | I3: ใช้จ่าย
A4: ภาพรวม | B4: 32 | C4: 34.08 | D4: =20+32 -> 52 | E4: =+C4+22.16 -> 56.24 | F4: =23+D4 -> 75 | G4: =+E4+25.5 -> 81.74 | H4: =18+F4 -> 93 | I4: =+G4+18.26 -> 100
A5: ประจำ | B5: 35 | C5: 35.33 | D5: =20+35 -> 55 | E5: =20.45+C5 -> 55.78 | F5: =25+D5 -> 80 | G5: =25.98+E5 -> 81.76 | H5: =18+F5 -> 98 | I5: =18.24+G5 -> 100
A6: ลงทุน | B6: 19 | C6: 28.96 | D6: =20+19 -> 39 | E6: =29.19+C6 -> 58.15 | F6: =+D6+18 -> 57 | G6: =23.5+E6 -> 81.65 | H6: =18+F6 -> 75 | I6: =18.35+G6 -> 100
A7: ผลการใช้จ่ายงบประมาณรายจ่าย ประจำปีงบประมาณ พ.ศ. 2566 ไปพลางก่อน | M7: ข้อมูล ณ วันที่ 15 ธันวาคม 2566
A8: รายการ | B8: งบประมาณ | C8: สำรองเงินมีหนี้ | D8: PO+สำรองมีหนี้ | E8: เบิกจ่าย | F8: ร้อยละ เบิกจ่าย | G8: เป้าหมาย Q4 | H8: */- เป้าหมาย | I8: การใช้จ่าย (PO+เบิกจ่าย+สำรองมีหนี้) | J8: ร้อยละ การใช้จ่าย | K8: เป้าหมาย Q4 | L8: */- เป้าหมาย | M8: คงเหลือ หลังหักใช้จ่าย | N8: ลำดับเบิกจ่าย | O8: ลำดับ ใช้จ่าย
A9: งบประมาณรายจ่ายประจำปี พ.ศ.2566 ไปพลางก่อน (ภาพรวมทั้งประเทศ)
A10: ภาพรวม | B10: =+B11+B12 -> 177244.75 | D10: =+D11+D12 -> 5479.9165 | E10: =+E11+E12 -> 88246.828 | F10: =+E10*100/B10 -> 49.788118 | G10: 93 | H10: =+F10-G10 -> -43.211882 | I10: =+I11+I12 -> 93726.744 | J10: =+I10*100/B10 -> 52.879841 | K10: 100 | L10: =+J10-K10 -> -47.120159 | M10: =+B10-I10 -> 83518.011
A11: ประจำ | B11: 152692.46 | D11: 811.73118 | E11: 83733.014 | F11: =+E11*100/B11 -> 54.837689 | G11: 98 | H11: =+F11-G11 -> -43.162311 | I11: 84544.745 | J11: =+I11*100/B11 -> 55.3693 | K11: 100 | L11: =+J11-K11 -> -44.6307 | M11: =+B11-I11 -> 68147.712
A12: ลงทุน | B12: 24552.298 | D12: 4668.1853 | E12: 4513.8135 | F12: =+E12*100/B12 -> 18.384485 | G12: 75 | H12: =+F12-G12 -> -56.615515 | I12: =+E12+D12 -> 9181.9988 | J12: =+I12*100/B12 -> 37.397717 | K12: 100 | L12: =+J12-K12 -> -62.602283 | M12: =+B12-I12 -> 15370.299
A13: ผลการใช้จ่ายงบประมาณรายจ่ายจังหวัดเชียงใหม่ ประจำปีงบประมาณ พ.ศ. 2566 ไปพลางก่อน | M13: ข้อมูล ณ วันที่ 13 ธันวาคม 2566
A14: รายการ | B14: งบประมาณ | C14: สำรองเงินมีหนี้ | D14: PO | E14: เบิกจ่าย | F14: ร้อยละ เบิกจ่าย | G14: เป้าหมาย Q4 | H14: =+F14-G14 -> #VALUE! | I14: การใช้จ่าย (PO+เบิกจ่าย+สำรองมีหนี้) | J14: ร้อยละ การใช้จ่าย | K14: เป้าหมาย Q4 | L14: */- เป้าหมาย | M14: คงเหลือ หลังหักใช้จ่าย | N14: ลำดับเบิกจ่าย | O14: ลำดับ ใช้จ่าย | Q14: 9 สรุปผลการใช้จ่าย A08 รวม ปจ ลท 66
A15: งบประมาณรายจ่ายประจำปี พ.ศ.2566 ไปพลางก่อน (จังหวัดเชียงใหม่)
A16: ภาพรวม | B16: =+B17+B18 -> 1.0961543e+10 | C16: =+C17+C18 -> 0 | D16: =+D17+D18 -> 5.0183696e+08 | E16: =+E17+E18 -> 6.7387624e+09 | F16: =+E16*100/B16 -> 61.476402 | G16: 93 | H16: =+F16-G16 -> -31.523598 | I16: =+C16+D16+E16 -> 7.2405993e+09 | J16: =+I16*100/B16 -> 66.054561 | K16: 100 | L16: =+J16-K16 -> -33.945439 | M16: =+B16-I16 -> 3.720944e+09 | Q16: racking worning | S16: =+E16+C16+D16 -> 7.2405993e+09
A17: ประจำ | B17: 9.4211489e+09 | C17: 0 | D17: 82401145 | E17: 6.3012671e+09 | F17: =+E17*100/B17 -> 66.884275 | G17: 98 | H17: =+F17-G17 -> -31.115725 | I17: 6.3836683e+09 | J17: =+I17*100/B17 -> 67.758915 | K17: 100 | L17: =+J17-K17 -> -32.241085 | M17: =+B17-I17 -> 3.0374806e+09 | Q17: PO เรียกจาก (รายงานเงินกันปี 67)
A18: ลงทุน | B18: 1.5403944e+09 | C18: 0 | D18: 4.1943581e+08 | E18: 4.3749525e+08 | F18: =+E18*100/B18 -> 28.401509 | G18: 75 | H18: =+F18-G18 -> -46.598491 | I18: 8.5693106e+08 | J18: =+I18*100/B18 -> 55.630628 | K18: 100 | L18: =+J18-K18 -> -44.369372 | M18: =+B18-I18 -> 6.8346331e+08
A19: งบกรมจังหวัด
A20: งบกลุ่มจังหวัดภาคเหนือตอนบน 1
A21: ภาพรวม | B21: =+B22+B23 -> 89547000 | D21: =+D22+D23 -> 1159 | E21: =+E22+E23 -> 809456 | F21: =+E21*100/B21 -> 0.90394541 | G21: 52 | H21: =+F21-G21 -> -51.096055 | I21: =+D21+E21 -> 810615 | J21: =+I21*100/B21 -> 0.90523971 | K21: 56.24 | L21: =+J21-K21 -> -55.33476 | M21: =+B21-I21 -> 88736385
A22: ประจำ | B22: 14945000 | D22: 1159 | E22: 809456 | F22: =+E22*100/B22 -> 5.4162329 | G22: 55 | H22: =+F22-G22 -> -49.583767 | I22: =+D22+E22 -> 810615 | J22: =+I22*100/B22 -> 5.423988 | K22: 55.78 | L22: =+J22-K22 -> -50.356012 | M22: =+B22-I22 -> 14134385
A23: ลงทุน | B23: 74602000 | D23: 0 | E23: 0 | F23: =+E23*100/B23 -> 0 | G23: 39 | H23: =+F23-G23 -> -39 | I23: =+D23+E23 -> 0 | J23: =+I23*100/B23 -> 0 | K23: 58.15 | L23: =+J23-K23 -> -58.15 | M23: =+B23-I23 -> 74602000
A24: งบพัฒนาจังหวัด | I24: =+D24+E24 -> 0 | M24: =+B24-I24 -> 0
A25: ภาพรวม | B25: =+B26+B27 -> 317032400 | D25: =+D26+D27 -> 467150.06 | E25: =+E26+E27 -> 2267171.7 | F25: =+E25*100/B25 -> 0.71512303 | G25: 52 | H25: =+F25-G25 -> -51.284877 | I25: =+I26+I27 -> 2734321.8 | J25: =+I25*100/B25 -> 0.86247392 | K25: 56.24 | L25: =+J25-K25 -> -55.377526 | M25: =+B25-I25 -> 3.1429808e+08
A26: ประจำ | B26: 23468600 | D26: 467150.06 | E26: 2267171.7 | F26: =+E26*100/B26 -> 9.6604472 | G26: 55 | H26: =+F26-G26 -> -45.339553 | I26: =+D26+E26 -> 2734321.8 | J26: =+I26*100/B26 -> 11.650979 | K26: 55.78 | L26: =+J26-K26 -> -44.129021 | M26: =+B26-I26 -> 20734278
A27: ลงทุน | B27: 293563800 | D27: 0 | E27: 0 | F27: =+E27*100/B27 -> 0 | G27: 39 | H27: =+F27-G27 -> -39 | I27: =+D27+E27 -> 0 | J27: =+I27*100/B27 -> 0 | K27: 58.15 | L27: =+J27-K27 -> -58.15 | M27: =+B27-I27 -> 293563800
A28: ค่าใช้จ่ายบรรเทาผลกระทบจากการแพร่ระบาดของ COVID-19 จังหวัดเชียงใหม่
A29: ภาพรวม | B29: =+B30+B35 -> 3.3633955e+09 | C29: =+C30+C35 -> 63748.32 | D29: =+D30+D35 -> 19055725 | E29: =+E30+E35 -> 3.1861978e+09 | F29: =+E29*100/B29 -> 94.731583 | I29: =+C29+D29+E29 -> 3.2053173e+09 | J29: =+I29*100/B29 -> 95.30004 | M29: =+B29-I29 -> 1.5807824e+08 | T29: 63748.32 | U29: 19055725 | V29: 3.1650481e+09 | W29: 94.625612 | X29: 3.1841675e+09 | Y29: 95.197228 | Z29: 1.6064364e+08
A30: เงินกู้ | B30: =+SUM(B31:B34) -> 2.807294e+09 | D30: =+SUM(D31:D34) -> 19055725 | E30: =+SUM(E31:E34) -> 2.6351595e+09 | F30: =+E30*100/B30 -> 93.868314 | I30: =+SUM(I31:I34) -> 2.6542152e+09 | J30: =+I30*100/B30 -> 94.547107 | M30: =+SUM(M31:M34) -> 1.5307873e+08 | Q30: 15 เงินกู้ใช้ทำรายงาน 190766 | T30: 19055725 | U30: 2.6325941e+09 | V30: 93.776931 | W30: 2.6516498e+09 | X30: 94.455724 | Y30: 1.5564412e+08
A31: ปี 2563 | B31: 24020888 | D31: 0 | E31: 24020888 | F31: =+E31*100/B31 -> 100 | I31: 24020888 | J31: =+I31*100/B31 -> 100 | M31: =+B31-I31 -> 0
A32: ปี 2564 | B32: 1.7723931e+09 | C32: 0 | D32: 1059233.4 | E32: 1.7194309e+09 | F32: =+E32*100/B32 -> 97.011829 | I32: 1.7204902e+09 | J32: =+I32*100/B32 -> 97.071592 | M32: =+B32-I32 -> 51902895
A33: ปี 2565 | B33: 8.4311721e+08 | C33: 0 | D33: 17996491 | E33: 7.288522e+08 | F33: =+E33*100/B33 -> 86.447316 | I33: 7.468487e+08 | J33: =+I33*100/B33 -> 88.581835 | M33: =+B33-I33 -> 96268518
A34: ปี 2566 | B34: 167762814 | C34: 0 | D34: 0 | E34: 1.628555e+08 | F34: =+E34*100/B34 -> 97.074851 | I34: 1.628555e+08 | J34: =+I34*100/B34 -> 97.074851 | M34: =+B34-I34 -> 4907312.3
A35: งบกลาง | B35: =B36+B37+B38 -> 5.5610153e+08 | C35: =+C36+C37+C38 -> 63748.32 | D35: =D36+D37+D38 -> 0 | E35: =+E36+E37+E38 -> 5.5103827e+08 | F35: =+E35*100/B35 -> 99.089507 | I35: =+I36+I37+I38 -> 5.5110202e+08 | J35: =+I35*100/B35 -> 99.10097 | M35: =+M36+M37+M38 -> 4999517.9 | Q35: check จาก 11
A36: ปี 2564 | B36: 3.8419143e+08 | C36: 53748.32 | D36: 0 | E36: 3.7913817e+08 | F36: =+E36*100/B36 -> 98.684701 | I36: =+C36+D36+E36 -> 3.7919192e+08 | J36: =+I36*100/B36 -> 98.698691 | M36: =+B36-I36 -> 4999517.9 | Q36: รหัส ปีงบ 65 90909620043
A37: ปี 2565 | B37: 1.5332578e+08 | C37: 10000 | D37: 0 | E37: 1.5331578e+08 | F37: =+E37*100/B37 -> 99.993478 | I37: =+C37+D37+E37 -> 1.5332578e+08 | J37: =+I37*100/B37 -> 100 | M37: =+B37-I37 -> 0 | Q37: รหัส ปีงบ 66 9090961004300
A38: ปี 2566 | B38: 18584316 | C38: 0 | D38: 0 | E38: 18584316 | F38: =+E38*100/B38 -> 100 | I38: =+C38+D38+E38 -> 18584316 | J38: =+I38*100/B38 -> 100 | M38: =+B38-I38 -> 0
A39: งบประมาณเหลื่อมปี
A40: รายการ | B40: งบประมาณ | C40: สำรองเงิน แบบมีหนี้ เหลื่อมปี | D40: ใบสั่งซื้อ เหลื่อมปี | E40: เบิกจ่าย | F40: ร้อยละ เบิกจ่าย | I40: การใช้จ่าย | J40: ร้อยละ การใช้จ่าย | L40: คงเหลือ สรก. อยู่ระหว่างดำเนินการ | M40: คงเหลือรวม | Q40: 12
A41: ปี 66 | B41: 1.8119523e+09 | C41: 2.0569127e+08 | D41: 1.0291273e+09 | E41: 5.7625565e+08 | F41: =+E41*100/B41 -> 31.803025 | I41: =+D41+E41 -> 1.605383e+09 | J41: =+I41*100/B41 -> 88.599625 | L41: 878089.9 | M41: =B41-E41 -> 1.2356967e+09 | R41: 53803559
A42: ที่มา : ระบบการบริหารการเงินการคลังภาครัฐแบบอิเล็กทรอนิกส์ใหม่ (New GFMIS Thai)
A43: ข้อมูล ณ 13 ธันวาคม 2566
H44: =C41+D41+E41+L41 -> 1.8119523e+09 | I44: =B41-E41 -> 1.2356967e+09
A46: รายการ | B46: งบประมาณ | C46: PO | I46: ร้อยละ | J46: เป้าหมาย Q4 | K46: สูงกว่าเป้าหมาย
I47: การใช้จ่าย | K47: ไตรมาส 2
A48: ภาพรวม | B48: =+B49+B50 -> 1.0961543e+10 | C48: =+C49+C50 -> 5.0183696e+08 | I48: =+H48*100/B48 -> 0 | J48: 100 | K48: =+I48-J48 -> -100
A49: ประจำ | B49: =+B17 -> 9.4211489e+09 | C49: =+D17 -> 82401145 | I49: =+H49*100/B49 -> 0 | J49: 100 | K49: =+I49-J49 -> -100
A50: ลงทุน | B50: =+B18 -> 1.5403944e+09 | C50: =D18 -> 4.1943581e+08 | I50: =+H50*100/B50 -> 0 | J50: 100 | K50: =+I50-J50 -> -100
A53: รายการ | B53: งบประมาณ | C53: ผลเบิกจ่าย
A55: ภาพรวม | B55: 2.7561714e+09 | C55: 2.1411871e+09
A56: เงินกู้ | B56: 2.3945595e+09 | C56: 1.804633e+09
A57: -ปี 2563 | B57: 26618196 | C57: 24037520
A58: -ปี 2564 | B58: 1.8079115e+09 | C58: 1.6598534e+09
A59: -ปี 2565 | B59: 560029820 | C59: 120742101
A60: งบกลาง ปี 2564 | B60: 3.6161187e+08 | C60: 3.3655414e+08
A62: งบประมาณ | B62: ผลเบิกจ่าย | C62: ร้อยละเบิกจ่าย
A64: 2272.61 | B64: 1304.35 | C64: 57.394362
A71: งบประมาณ | B71: 31พค65 | C71: 17มิย65 | I71: ล้านบาท
I72: 1.1933253e+09
A73: รวม | B73: 23377.21 | C73: 25633.058 | I73: 2.7725496e+08
A74: ประจำ | B74: 14084.97 | C74: 16258.638 | I74: 2.3887144e+08
A75: ลงทุน | B75: 9292.24 | C75: 9374.4202 | I75: 1.3988455e+08
I76: 92066800
I77: 50191100
I78: 26977000
I79: =SUM(I72:I78) -> 2.0185712e+09
I80: 53357700
A82: ลงตารางรายงานา ผวจ
A83: รายการ | B83: งบประมาณ | C83: ผลเบิกจ่าย
A84: รวม | B84: =+B85+B86 -> 1.0961543e+10 | C84: =+C85+C86 -> 6.7387624e+09
A85: ประจำ | B85: =+B17 -> 9.4211489e+09 | C85: =+E17 -> 6.3012671e+09
A86: ลงทุน | B86: =+B18 -> 1.5403944e+09 | C86: =+E18 -> 4.3749525e+08
A88: รายการ | B88: งบประมาณ | C88: ผลเบิกจ่าย
A90: ภาพรวม | B90: =+B29 -> 3.3633955e+09 | C90: =+E29 -> 3.1861978e+09
A91: เงินกู้ | B91: =+B30 -> 2.807294e+09 | C91: =+E30 -> 2.6351595e+09
A92: ปี 2563 | B92: =+B31 -> 24020888 | C92: =+E31 -> 24020888
A93: ปี 2564 | B93: =+B32 -> 1.7723931e+09 | C93: =+E32 -> 1.7194309e+09
A94: ปี 2565 | B94: =+B33 -> 8.4311721e+08 | C94: =+E33 -> 7.288522e+08
A95: ปี 2566 | B95: =+B34 -> 167762814 | C95: =+E34 -> 1.628555e+08
A96: งบกลาง | B96: =+B35 -> 5.5610153e+08 | C96: =+E35 -> 5.5103827e+08
A97: ปี 2564 | B97: =+B36 -> 3.8419143e+08 | C97: =+E36 -> 3.7913817e+08
A98: ปี 2565 | B98: =+B37 -> 1.5332578e+08 | C98: =+E37 -> 1.5331578e+08
A102: ประชุม กรมการจังหวัด
A103: รายการ | B103: งบประมาณ | C103: เบิกจ่าย | K103: สำรองเงินมีหนี้ | L103: PO
C104: จำนวน | I104: เป้าหมาย | J104: สูงกว่าเป้าหมายร้อยละ
I105: Q 3
I106: ร้อยละ
A107: ภาพรวม | B107: =+B108+B109 -> 1.0961543e+10 | C107: =+C108+C109 -> 6.7387624e+09 | I107: 81.74 | J107: =+H107-I107 -> -81.74 | K107: =+K108+K109 -> 0 | L107: =+L108+L109 -> 5.0183696e+08
A108: ประจำ | B108: =+B17 -> 9.4211489e+09 | C108: =+E17 -> 6.3012671e+09 | I108: 81.76 | J108: =+H108-I108 -> -81.76 | K108: =+C17 -> 0 | L108: =+D17 -> 82401145
A109: ลงทุน | B109: =+B18 -> 1.5403944e+09 | C109: =+E18 -> 4.3749525e+08 | I109: 81.65 | J109: =+H109-I109 -> -81.65 | K109: =+C18 -> 0 | L109: =+D18 -> 4.1943581e+08
A111: ประชุม กรมการ จว
A112: รายการ | B112: งบประมาณ | C112: เบิกจ่าย | K112: สำรองเงิน | L112: PO
C113: จำนวน | K113: มีหนี้
A114: ภาพรวม | B114: =+B29 -> 3.3633955e+09 | C114: =+E29 -> 3.1861978e+09 | K114: =+C29 -> 63748.32 | L114: =+D29 -> 19055725
A115: เงินกู้ | B115: =+B30 -> 2.807294e+09 | C115: =+E30 -> 2.6351595e+09 | K115: =+C30 -> 0 | L115: =+D30 -> 19055725
A116: ปี 2563 | B116: =+B31 -> 24020888 | C116: =+E31 -> 24020888 | K116: =+C31 -> 0 | L116: =+D31 -> 0
A117: ปี 2564 | B117: =+B32 -> 1.7723931e+09 | C117: =+E32 -> 1.7194309e+09 | K117: =+C32 -> 0 | L117: =+D32 -> 1059233.4
A118: ปี 2565 | B118: =+B33 -> 8.4311721e+08 | C118: =+E33 -> 7.288522e+08 | K118: =+C33 -> 0 | L118: =+D33 -> 17996491
A119: ปี 2566 | B119: =+B34 -> 167762814 | C119: =+E34 -> 1.628555e+08 | K119: =+C34 -> 0 | L119: =+D34 -> 0
...

Sheet เป้าหมายปี 19 12 66
A1: เป้าหมายการเบิกจ่ายและการใช้จ่ายงบประมาณ พ.ศ. 2567 | Q1: source
A2: รายการ | B2: ไตรมาสที่ 1 | D2: ไตรมาสที่ 2 | F2: ไตรมาสที่ 3 | H2: ไตรมาสที่ 4
B3: เบิกจ่าย | C3: ใช้จ่าย | D3: เบิกจ่าย | E3: ใช้จ่าย | F3: เบิกจ่าย | G3: ใช้จ่าย | H3: เบิกจ่าย | I3: ใช้จ่าย
A4: ภาพรวม | B4: 32 | C4: 34.08 | D4: =20+32 -> 52 | E4: =+C4+22.16 -> 56.24 | F4: =23+D4 -> 75 | G4: =+E4+25.5 -> 81.74 | H4: =18+F4 -> 93 | I4: =+G4+18.26 -> 100
A5: ประจำ | B5: 35 | C5: 35.33 | D5: =20+35 -> 55 | E5: =20.45+C5 -> 55.78 | F5: =25+D5 -> 80 | G5: =25.98+E5 -> 81.76 | H5: =18+F5 -> 98 | I5: =18.24+G5 -> 100
A6: ลงทุน | B6: 19 | C6: 28.96 | D6: =20+19 -> 39 | E6: =29.19+C6 -> 58.15 | F6: =+D6+18 -> 57 | G6: =23.5+E6 -> 81.65 | H6: =18+F6 -> 75 | I6: =18.35+G6 -> 100
A7: ผลการใช้จ่ายงบประมาณรายจ่าย ประจำปีงบประมาณ พ.ศ. 2566 ไปพลางก่อน | M7: ข้อมูล ณ วันที่ 15 ธันวาคม 2566
A8: รายการ | B8: งบประมาณ | C8: สำรองเงินมีหนี้ | D8: PO+สำรองมีหนี้ | E8: เบิกจ่าย | F8: ร้อยละ เบิกจ่าย | G8: เป้าหมาย Q4 | H8: */- เป้าหมาย | I8: การใช้จ่าย (PO+เบิกจ่าย+สำรองมีหนี้) | J8: ร้อยละ การใช้จ่าย | K8: เป้าหมาย Q4 | L8: */- เป้าหมาย | M8: คงเหลือ หลังหักใช้จ่าย | N8: ลำดับเบิกจ่าย | O8: ลำดับ ใช้จ่าย
A9: งบประมาณรายจ่ายประจำปี พ.ศ.2566 ไปพลางก่อน (ภาพรวมทั้งประเทศ)
A10: ภาพรวม | B10: =+B11+B12 -> 187709.97 | D10: =+D11+D12 -> 6194.4662 | E10: =+E11+E12 -> 101189.21 | F10: =+E10*100/B10 -> 53.907214 | G10: 93 | H10: =+F10-G10 -> -39.092786 | I10: =+I11+I12 -> 107383.68 | J10: =+I10*100/B10 -> 57.207233 | K10: 100 | L10: =+J10-K10 -> -42.792767 | M10: =+B10-I10 -> 80326.288
A11: ประจำ | B11: 160395.46 | D11: 941.15296 | E11: 95386.701 | F11: =+E11*100/B11 -> 59.4697 | G11: 98 | H11: =+F11-G11 -> -38.5303 | I11: 96327.854 | J11: =+I11*100/B11 -> 60.05647 | K11: 100 | L11: =+J11-K11 -> -39.94353 | M11: =+B11-I11 -> 64067.61
A12: ลงทุน | B12: 27314.504 | D12: 5253.3132 | E12: 5802.5123 | F12: =+E12*100/B12 -> 21.243338 | G12: 75 | H12: =+F12-G12 -> -53.756662 | I12: 11055.826 | J12: =+I12*100/B12 -> 40.476026 | K12: 100 | L12: =+J12-K12 -> -59.523974 | M12: =+B12-I12 -> 16258.678
A13: ผลการใช้จ่ายงบประมาณรายจ่ายจังหวัดเชียงใหม่ ประจำปีงบประมาณ พ.ศ. 2566 ไปพลางก่อน | M13: ข้อมูล ณ วันที่ 19 ธันวาคม 2566
A14: รายการ | B14: งบประมาณ | C14: สำรองเงินมีหนี้ | D14: PO | E14: เบิกจ่าย | F14: ร้อยละ เบิกจ่าย | G14: เป้าหมาย Q4 | H14: =+F14-G14 -> #VALUE! | I14: การใช้จ่าย (PO+เบิกจ่าย+สำรองมีหนี้) | J14: ร้อยละ การใช้จ่าย | K14: เป้าหมาย Q4 | L14: */- เป้าหมาย | M14: คงเหลือ หลังหักใช้จ่าย | N14: ลำดับเบิกจ่าย | O14: ลำดับ ใช้จ่าย | Q14: 9 สรุปผลการใช้จ่าย A08 รวม ปจ ลท 66
A15: งบประมาณรายจ่ายประจำปี พ.ศ.2566 ไปพลางก่อน (จังหวัดเชียงใหม่)
A16: ภาพรวม | B16: =+B17+B18 -> 1.1303087e+10 | C16: =+C17+C18 -> 0 | D16: =+D17+D18 -> 5.3531889e+08 | E16: =+E17+E18 -> 6.7387624e+09 | F16: =+E16*100/B16 -> 59.618778 | G16: 93 | H16: =+F16-G16 -> -33.381222 | I16: =+C16+D16+E16 -> 7.2740813e+09 | J16: =+I16*100/B16 -> 64.354819 | K16: 100 | L16: =+J16-K16 -> -35.645181 | M16: =+B16-I16 -> 4.0290058e+09 | N16: 4 | O16: 4 | Q16: racking worning
A17: ประจำ | B17: 9.7409735e+09 | C17: 0 | D17: 97385226 | E17: 6.3012671e+09 | F17: =+E17*100/B17 -> 64.688269 | G17: 98 | H17: =+F17-G17 -> -33.311731 | I17: 6.3986524e+09 | J17: =+I17*100/B17 -> 65.688017 | K17: 100 | L17: =+J17-K17 -> -34.311983 | M17: =+B17-I17 -> 3.3423212e+09 | Q17: PO เรียกจาก (รายงานเงินกันปี 67)
A18: ลงทุน | B18: 1.5621135e+09 | C18: 0 | D18: 4.3793366e+08 | E18: 4.3749525e+08 | F18: =+E18*100/B18 -> 28.006623 | G18: 75 | H18: =+F18-G18 -> -46.993377 | I18: 8.7542891e+08 | J18: =+I18*100/B18 -> 56.041311 | K18: 100 | L18: =+J18-K18 -> -43.958689 | M18: =+B18-I18 -> 6.8668463e+08 | N18: 8 | O18: 13
A19: งบกรมจังหวัด
A20: งบกลุ่มจังหวัดภาคเหนือตอนบน 1
A21: ภาพรวม | B21: =+B22+B23 -> 89547000 | D21: =+D22+D23 -> 1159 | E21: =+E22+E23 -> 809456 | F21: =+E21*100/B21 -> 0.90394541 | G21: 52 | H21: =+F21-G21 -> -51.096055 | I21: =+D21+E21 -> 810615 | J21: =+I21*100/B21 -> 0.90523971 | K21: 56.24 | L21: =+J21-K21 -> -55.33476 | M21: =+B21-I21 -> 88736385
A22: ประจำ | B22: 14945000 | D22: 1159 | E22: 809456 | F22: =+E22*100/B22 -> 5.4162329 | G22: 55 | H22: =+F22-G22 -> -49.583767 | I22: =+D22+E22 -> 810615 | J22: =+I22*100/B22 -> 5.423988 | K22: 55.78 | L22: =+J22-K22 -> -50.356012 | M22: =+B22-I22 -> 14134385
A23: ลงทุน | B23: 74602000 | D23: 0 | E23: 0 | F23: =+E23*100/B23 -> 0 | G23: 39 | H23: =+F23-G23 -> -39 | I23: =+D23+E23 -> 0 | J23: =+I23*100/B23 -> 0 | K23: 58.15 | L23: =+J23-K23 -> -58.15 | M23: =+B23-I23 -> 74602000
A24: งบพัฒนาจังหวัด | I24: =+D24+E24 -> 0 | M24: =+B24-I24 -> 0
A25: ภาพรวม | B25: =+B26+B27 -> 317032400 | D25: =+D26+D27 -> 467150.06 | E25: =+E26+E27 -> 2267171.7 | F25: =+E25*100/B25 -> 0.71512303 | G25: 52 | H25: =+F25-G25 -> -51.284877 | I25: =+I26+I27 -> 2734321.8 | J25: =+I25*100/B25 -> 0.86247392 | K25: 56.24 | L25: =+J25-K25 -> -55.377526 | M25: =+B25-I25 -> 3.1429808e+08
A26: ประจำ | B26: 23468600 | D26: 467150.06 | E26: 2267171.7 | F26: =+E26*100/B26 -> 9.6604472 | G26: 55 | H26: =+F26-G26 -> -45.339553 | I26: =+D26+E26 -> 2734321.8 | J26: =+I26*100/B26 -> 11.650979 | K26: 55.78 | L26: =+J26-K26 -> -44.129021 | M26: =+B26-I26 -> 20734278
A27: ลงทุน | B27: 293563800 | D27: 0 | E27: 0 | F27: =+E27*100/B27 -> 0 | G27: 39 | H27: =+F27-G27 -> -39 | I27: =+D27+E27 -> 0 | J27: =+I27*100/B27 -> 0 | K27: 58.15 | L27: =+J27-K27 -> -58.15 | M27: =+B27-I27 -> 293563800
A28: ค่าใช้จ่ายบรรเทาผลกระทบจากการแพร่ระบาดของ COVID-19 จังหวัดเชียงใหม่
A29: ภาพรวม | B29: =+B30+B35 -> 3.3633955e+09 | C29: =+C30+C35 -> 63748.32 | D29: =+D30+D35 -> 19055725 | E29: =+E30+E35 -> 3.1861978e+09 | F29: =+E29*100/B29 -> 94.731583 | I29: =+C29+D29+E29 -> 3.2053173e+09 | J29: =+I29*100/B29 -> 95.30004 | M29: =+B29-I29 -> 1.5807824e+08 | T29: 63748.32 | U29: 19055725 | V29: 3.1650481e+09 | W29: 94.625612 | X29: 3.1841675e+09 | Y29: 95.197228 | Z29: 1.6064364e+08
A30: เงินกู้ | B30: =+SUM(B31:B34) -> 2.807294e+09 | D30: =+SUM(D31:D34) -> 19055725 | E30: =+SUM(E31:E34) -> 2.6351595e+09 | F30: =+E30*100/B30 -> 93.868314 | I30: =+SUM(I31:I34) -> 2.6542152e+09 | J30: =+I30*100/B30 -> 94.547107 | M30: =+SUM(M31:M34) -> 1.5307873e+08 | Q30: 15 เงินกู้ใช้ทำรายงาน 190766 | T30: 19055725 | U30: 2.6325941e+09 | V30: 93.776931 | W30: 2.6516498e+09 | X30: 94.455724 | Y30: 1.5564412e+08
A31: ปี 2563 | B31: 24020888 | D31: 0 | E31: 24020888 | F31: =+E31*100/B31 -> 100 | I31: 24020888 | J31: =+I31*100/B31 -> 100 | M31: =+B31-I31 -> 0
A32: ปี 2564 | B32: 1.7723931e+09 | C32: 0 | D32: 1059233.4 | E32: 1.7194309e+09 | F32: =+E32*100/B32 -> 97.011829 | I32: 1.7204902e+09 | J32: =+I32*100/B32 -> 97.071592 | M32: =+B32-I32 -> 51902895
A33: ปี 2565 | B33: 8.4311721e+08 | C33: 0 | D33: 17996491 | E33: 7.288522e+08 | F33: =+E33*100/B33 -> 86.447316 | I33: 7.468487e+08 | J33: =+I33*100/B33 -> 88.581835 | M33: =+B33-I33 -> 96268518
A34: ปี 2566 | B34: 167762814 | C34: 0 | D34: 0 | E34: 1.628555e+08 | F34: =+E34*100/B34 -> 97.074851 | I34: 1.628555e+08 | J34: =+I34*100/B34 -> 97.074851 | M34: =+B34-I34 -> 4907312.3
A35: งบกลาง | B35: =B36+B37+B38 -> 5.5610153e+08 | C35: =+C36+C37+C38 -> 63748.32 | D35: =D36+D37+D38 -> 0 | E35: =+E36+E37+E38 -> 5.5103827e+08 | F35: =+E35*100/B35 -> 99.089507 | I35: =+I36+I37+I38 -> 5.5110202e+08 | J35: =+I35*100/B35 -> 99.10097 | M35: =+M36+M37+M38 -> 4999517.9 | Q35: check จาก 11 งบกลางโควิด
A36: ปี 2564 | B36: 3.8419143e+08 | C36: 53748.32 | D36: 0 | E36: 3.7913817e+08 | F36: =+E36*100/B36 -> 98.684701 | I36: =+C36+D36+E36 -> 3.7919192e+08 | J36: =+I36*100/B36 -> 98.698691 | M36: =+B36-I36 -> 4999517.9 | Q36: รหัส ปีงบ 65 90909620043
A37: ปี 2565 | B37: 1.5332578e+08 | C37: 10000 | D37: 0 | E37: 1.5331578e+08 | F37: =+E37*100/B37 -> 99.993478 | I37: =+C37+D37+E37 -> 1.5332578e+08 | J37: =+I37*100/B37 -> 100 | M37: =+B37-I37 -> 0 | Q37: รหัส ปีงบ 66 9090961004300
A38: ปี 2566 | B38: 18584316 | C38: 0 | D38: 0 | E38: 18584316 | F38: =+E38*100/B38 -> 100 | I38: =+C38+D38+E38 -> 18584316 | J38: =+I38*100/B38 -> 100 | M38: =+B38-I38 -> 0 | Q38: รหัส ปีงบ 667 9090961004370
A39: งบประมาณเหลื่อมปี
A40: รายการ | B40: งบประมาณ | C40: สำรองเงิน แบบมีหนี้ เหลื่อมปี | D40: ใบสั่งซื้อ เหลื่อมปี | E40: เบิกจ่าย | F40: ร้อยละ เบิกจ่าย | I40: การใช้จ่าย | J40: ร้อยละ การใช้จ่าย | L40: คงเหลือ สรก. อยู่ระหว่างดำเนินการ | M40: คงเหลือรวม | Q40: 12
A41: ปี 66 | B41: 1.8122523e+09 | C41: 1.9685465e+08 | D41: 9.5002868e+08 | E41: 6.6447151e+08 | F41: =+E41*100/B41 -> 36.665507 | I41: =+D41+E41 -> 1.6145002e+09 | J41: =+I41*100/B41 -> 89.088046 | L41: 897494.5 | M41: =B41-E41 -> 1.1477808e+09
A42: ที่มา : ระบบการบริหารการเงินการคลังภาครัฐแบบอิเล็กทรอนิกส์ใหม่ (New GFMIS Thai)
A43: ข้อมูล ณ 19 ธันวาคม 2566
H44: =C41+D41+E41+L41 -> 1.8122523e+09 | I44: =B41-E41 -> 1.1477808e+09
A46: รายการ | B46: งบประมาณ | C46: PO | I46: ร้อยละ | J46: เป้าหมาย Q4 | K46: สูงกว่าเป้าหมาย
I47: การใช้จ่าย | K47: ไตรมาส 2
A48: ภาพรวม | B48: =+B49+B50 -> 1.1303087e+10 | C48: =+C49+C50 -> 5.3531889e+08 | I48: =+H48*100/B48 -> 0 | J48: 100 | K48: =+I48-J48 -> -100
A49: ประจำ | B49: =+B17 -> 9.7409735e+09 | C49: =+D17 -> 97385226 | I49: =+H49*100/B49 -> 0 | J49: 100 | K49: =+I49-J49 -> -100
A50: ลงทุน | B50: =+B18 -> 1.5621135e+09 | C50: =D18 -> 4.3793366e+08 | I50: =+H50*100/B50 -> 0 | J50: 100 | K50: =+I50-J50 -> -100
A53: รายการ | B53: งบประมาณ | C53: ผลเบิกจ่าย
A55: ภาพรวม | B55: 2.7561714e+09 | C55: 2.1411871e+09
A56: เงินกู้ | B56: 2.3945595e+09 | C56: 1.804633e+09
A57: -ปี 2563 | B57: 26618196 | C57: 24037520
A58: -ปี 2564 | B58: 1.8079115e+09 | C58: 1.6598534e+09
A59: -ปี 2565 | B59: 560029820 | C59: 120742101
A60: งบกลาง ปี 2564 | B60: 3.6161187e+08 | C60: 3.3655414e+08
A62: งบประมาณ | B62: ผลเบิกจ่าย | C62: ร้อยละเบิกจ่าย
A64: 2272.61 | B64: 1304.35 | C64: 57.394362
A71: งบประมาณ | B71: 31พค65 | C71: 17มิย65 | I71: ล้านบาท
I72: 1.1933253e+09
A73: รวม | B73: 23377.21 | C73: 25633.058 | I73: 2.7725496e+08
A74: ประจำ | B74: 14084.97 | C74: 16258.638 | I74: 2.3887144e+08
A75: ลงทุน | B75: 9292.24 | C75: 9374.4202 | I75: 1.3988455e+08
I76: 92066800
I77: 50191100
I78: 26977000
I79: =SUM(I72:I78) -> 2.0185712e+09
I80: 53357700
A82: ลงตารางรายงานา ผวจ
A83: รายการ | B83: งบประมาณ | C83: ผลเบิกจ่าย
A84: รวม | B84: =+B85+B86 -> 1.1303087e+10 | C84: =+C85+C86 -> 6.7387624e+09
A85: ประจำ | B85: =+B17 -> 9.7409735e+09 | C85: =+E17 -> 6.3012671e+09
A86: ลงทุน | B86: =+B18 -> 1.5621135e+09 | C86: =+E18 -> 4.3749525e+08
A88: รายการ | B88: งบประมาณ | C88: ผลเบิกจ่าย
A90: ภาพรวม | B90: =+B29 -> 3.3633955e+09 | C90: =+E29 -> 3.1861978e+09
A91: เงินกู้ | B91: =+B30 -> 2.807294e+09 | C91: =+E30 -> 2.6351595e+09
A92: ปี 2563 | B92: =+B31 -> 24020888 | C92: =+E31 -> 24020888
A93: ปี 2564 | B93: =+B32 -> 1.7723931e+09 | C93: =+E32 -> 1.7194309e+09
A94: ปี 2565 | B94: =+B33 -> 8.4311721e+08 | C94: =+E33 -> 7.288522e+08
A95: ปี 2566 | B95: =+B34 -> 167762814 | C95: =+E34 -> 1.628555e+08
A96: งบกลาง | B96: =+B35 -> 5.5610153e+08 | C96: =+E35 -> 5.5103827e+08
A97: ปี 2564 | B97: =+B36 -> 3.8419143e+08 | C97: =+E36 -> 3.7913817e+08
A98: ปี 2565 | B98: =+B37 -> 1.5332578e+08 | C98: =+E37 -> 1.5331578e+08
A102: ประชุม กรมการจังหวัด
A103: รายการ | B103: งบประมาณ | C103: เบิกจ่าย | K103: สำรองเงินมีหนี้ | L103: PO
C104: จำนวน | I104: เป้าหมาย | J104: สูงกว่าเป้าหมายร้อยละ
I105: Q 3
I106: ร้อยละ
A107: ภาพรวม | B107: =+B108+B109 -> 1.1303087e+10 | C107: =+C108+C109 -> 6.7387624e+09 | I107: 81.74 | J107: =+H107-I107 -> -81.74 | K107: =+K108+K109 -> 0 | L107: =+L108+L109 -> 5.3531889e+08
A108: ประจำ | B108: =+B17 -> 9.7409735e+09 | C108: =+E17 -> 6.3012671e+09 | I108: 81.76 | J108: =+H108-I108 -> -81.76 | K108: =+C17 -> 0 | L108: =+D17 -> 97385226
A109: ลงทุน | B109: =+B18 -> 1.5621135e+09 | C109: =+E18 -> 4.3749525e+08 | I109: 81.65 | J109: =+H109-I109 -> -81.65 | K109: =+C18 -> 0 | L109: =+D18 -> 4.3793366e+08
A111: ประชุม กรมการ จว
A112: รายการ | B112: งบประมาณ | C112: เบิกจ่าย | K112: สำรองเงิน | L112: PO
C113: จำนวน | K113: มีหนี้
A114: ภาพรวม | B114: =+B29 -> 3.3633955e+09 | C114: =+E29 -> 3.1861978e+09 | K114: =+C29 -> 63748.32 | L114: =+D29 -> 19055725
A115: เงินกู้ | B115: =+B30 -> 2.807294e+09 | C115: =+E30 -> 2.6351595e+09 | K115: =+C30 -> 0 | L115: =+D30 -> 19055725
A116: ปี 2563 | B116: =+B31 -> 24020888 | C116: =+E31 -> 24020888 | K116: =+C31 -> 0 | L116: =+D31 -> 0
A117: ปี 2564 | B117: =+B32 -> 1.7723931e+09 | C117: =+E32 -> 1.7194309e+09 | K117: =+C32 -> 0 | L117: =+D32 -> 1059233.4
A118: ปี 2565 | B118: =+B33 -> 8.4311721e+08 | C118: =+E33 -> 7.288522e+08 | K118: =+C33 -> 0 | L118: =+D33 -> 17996491
A119: ปี 2566 | B119: =+B34 -> 167762814 | C119: =+E34 -> 1.628555e+08 | K119: =+C34 -> 0 | L119: =+D34 -> 0
...

Sheet เป้าหมายปี 31 12 66
A1: เป้าหมายการเบิกจ่ายและการใช้จ่ายงบประมาณ พ.ศ. 2567 | Q1: source
A2: รายการ | B2: ไตรมาสที่ 1 | D2: ไตรมาสที่ 2 | F2: ไตรมาสที่ 3 | H2: ไตรมาสที่ 4
B3: เบิกจ่าย | C3: ใช้จ่าย | D3: เบิกจ่าย | E3: ใช้จ่าย | F3: เบิกจ่าย | G3: ใช้จ่าย | H3: เบิกจ่าย | I3: ใช้จ่าย
A4: ภาพรวม | B4: 32 | C4: 34.08 | D4: =20+32 -> 52 | E4: =+C4+22.16 -> 56.24 | F4: =23+D4 -> 75 | G4: =+E4+25.5 -> 81.74 | H4: =18+F4 -> 93 | I4: =+G4+18.26 -> 100
A5: ประจำ | B5: 35 | C5: 35.33 | D5: =20+35 -> 55 | E5: =20.45+C5 -> 55.78 | F5: =25+D5 -> 80 | G5: =25.98+E5 -> 81.76 | H5: =18+F5 -> 98 | I5: =18.24+G5 -> 100
A6: ลงทุน | B6: 19 | C6: 28.96 | D6: =20+19 -> 39 | E6: =29.19+C6 -> 58.15 | F6: =+D6+18 -> 57 | G6: =23.5+E6 -> 81.65 | H6: =18+F6 -> 75 | I6: =18.35+G6 -> 100
A7: ผลการใช้จ่ายงบประมาณรายจ่าย ประจำปีงบประมาณ พ.ศ. 2566 ไปพลางก่อน | M7: ข้อมูล ณ วันที่ 31 ธันวาคม 2566
A8: รายการ | B8: งบประมาณ | C8: สำรองเงินมีหนี้ | D8: PO+สำรองมีหนี้ | E8: เบิกจ่าย | F8: ร้อยละ เบิกจ่าย | G8: เป้าหมาย Q4 | H8: */- เป้าหมาย | I8: การใช้จ่าย (PO+เบิกจ่าย+สำรองมีหนี้) | J8: ร้อยละ การใช้จ่าย | K8: เป้าหมาย Q4 | L8: */- เป้าหมาย | M8: คงเหลือ หลังหักใช้จ่าย | N8: ลำดับเบิกจ่าย | O8: ลำดับ ใช้จ่าย
A9: งบประมาณรายจ่ายประจำปี พ.ศ.2566 ไปพลางก่อน (ภาพรวมทั้งประเทศ)
A10: ภาพรวม | B10: =+B11+B12 -> 199360.69 | D10: =+D11+D12 -> 6895.2997 | E10: =+E11+E12 -> 117048.93 | F10: =+E10*100/B10 -> 58.712143 | G10: 93 | H10: =+F10-G10 -> -34.287857 | I10: =+I11+I12 -> 123944.23 | J10: =+I10*100/B10 -> 62.170849 | K10: 100 | L10: =+J10-K10 -> -37.829151 | M10: =+B10-I10 -> 75416.457
A11: ประจำ | B11: 170382.45 | D11: 1081.5176 | E11: 108076.75 | F11: =+E11*100/B11 -> 63.431857 | G11: 98 | H11: =+F11-G11 -> -34.568143 | I11: 109158.27 | J11: =+I11*100/B11 -> 64.066616 | K11: 100 | L11: =+J11-K11 -> -35.933384 | M11: =+B11-I11 -> 61224.182
A12: ลงทุน | B12: 28978.236 | D12: 5813.7822 | E12: 8972.1789 | F12: =+E12*100/B12 -> 30.961784 | G12: 75 | H12: =+F12-G12 -> -44.038216 | I12: 14785.961 | J12: =+I12*100/B12 -> 51.024365 | K12: 100 | L12: =+J12-K12 -> -48.975635 | M12: =+B12-I12 -> 14192.275
A13: ผลการใช้จ่ายงบประมาณรายจ่ายจังหวัดเชียงใหม่ ประจำปีงบประมาณ พ.ศ. 2566 ไปพลางก่อน | M13: ข้อมูล ณ วันที่ 31 ธันวาคม 2566
A14: รายการ | B14: งบประมาณ | C14: สำรองเงินมีหนี้ | D14: PO | E14: เบิกจ่าย | F14: ร้อยละ เบิกจ่าย | G14: เป้าหมาย Q4 | H14: =+F14-G14 -> #VALUE! | I14: การใช้จ่าย (PO+เบิกจ่าย+สำรองมีหนี้) | J14: ร้อยละ การใช้จ่าย | K14: เป้าหมาย Q4 | L14: */- เป้าหมาย | M14: คงเหลือ หลังหักใช้จ่าย | N14: ลำดับเบิกจ่าย | O14: ลำดับ ใช้จ่าย | Q14: 9 สรุปผลการใช้จ่าย A08 รวม ปจ ลท 66
A15: งบประมาณรายจ่ายประจำปี พ.ศ.2566 ไปพลางก่อน (จังหวัดเชียงใหม่)
A16: ภาพรวม | B16: =+B17+B18 -> 1.1677748e+10 | C16: =+C17+C18 -> 0 | D16: =+D17+D18 -> 3.5830337e+08 | E16: =+E17+E18 -> 8.1027119e+09 | F16: =+E16*100/B16 -> 69.38591 | G16: 93 | H16: =+F16-G16 -> -23.61409 | I16: =+C16+D16+E16 -> 8.4610153e+09 | J16: =+I16*100/B16 -> 72.454168 | K16: 100 | L16: =+J16-K16 -> -27.545832 | M16: =+B16-I16 -> 3.216733e+09 | N16: 5 | O16: 4 | Q16: racking worning
A17: ประจำ | B17: 1.0009111e+10 | C17: 0 | D17: 69764583 | E17: 7.3143369e+09 | F17: =+E17*100/B17 -> 73.076785 | G17: 98 | H17: =+F17-G17 -> -24.923215 | I17: 7.3841014e+09 | J17: =+I17*100/B17 -> 73.773796 | K17: 100 | L17: =+J17-K17 -> -26.226204 | M17: =+B17-I17 -> 2.62501e+09 | Q17: PO เรียกจาก (รายงานเงินกันปี 67)
A18: ลงทุน | B18: 1.6686368e+09 | C18: 0 | D18: 2.8853879e+08 | E18: 7.8837507e+08 | F18: =+E18*100/B18 -> 47.246654 | G18: 75 | H18: =+F18-G18 -> -27.753346 | I18: 1.0769139e+09 | J18: =+I18*100/B18 -> 64.538541 | K18: 100 | L18: =+J18-K18 -> -35.461459 | M18: =+B18-I18 -> 5.9172296e+08 | N18: 8 | O18: 14
A19: งบกรมจังหวัด
A20: งบกลุ่มจังหวัดภาคเหนือตอนบน 1
A21: ภาพรวม | B21: =+B22+B23 -> 89547000 | D21: =+D22+D23 -> 1159 | E21: =+E22+E23 -> 809456 | F21: =+E21*100/B21 -> 0.90394541 | G21: 52 | H21: =+F21-G21 -> -51.096055 | I21: =+D21+E21 -> 810615 | J21: =+I21*100/B21 -> 0.90523971 | K21: 56.24 | L21: =+J21-K21 -> -55.33476 | M21: =+B21-I21 -> 88736385
A22: ประจำ | B22: 14945000 | D22: 1159 | E22: 809456 | F22: =+E22*100/B22 -> 5.4162329 | G22: 55 | H22: =+F22-G22 -> -49.583767 | I22: =+D22+E22 -> 810615 | J22: =+I22*100/B22 -> 5.423988 | K22: 55.78 | L22: =+J22-K22 -> -50.356012 | M22: =+B22-I22 -> 14134385
A23: ลงทุน | B23: 74602000 | D23: 0 | E23: 0 | F23: =+E23*100/B23 -> 0 | G23: 39 | H23: =+F23-G23 -> -39 | I23: =+D23+E23 -> 0 | J23: =+I23*100/B23 -> 0 | K23: 58.15 | L23: =+J23-K23 -> -58.15 | M23: =+B23-I23 -> 74602000
A24: งบพัฒนาจังหวัด | I24: =+D24+E24 -> 0 | M24: =+B24-I24 -> 0
A25: ภาพรวม | B25: =+B26+B27 -> 317032400 | D25: =+D26+D27 -> 467150.06 | E25: =+E26+E27 -> 2267171.7 | F25: =+E25*100/B25 -> 0.71512303 | G25: 52 | H25: =+F25-G25 -> -51.284877 | I25: =+I26+I27 -> 2734321.8 | J25: =+I25*100/B25 -> 0.86247392 | K25: 56.24 | L25: =+J25-K25 -> -55.377526 | M25: =+B25-I25 -> 3.1429808e+08
A26: ประจำ | B26: 23468600 | D26: 467150.06 | E26: 2267171.7 | F26: =+E26*100/B26 -> 9.6604472 | G26: 55 | H26: =+F26-G26 -> -45.339553 | I26: =+D26+E26 -> 2734321.8 | J26: =+I26*100/B26 -> 11.650979 | K26: 55.78 | L26: =+J26-K26 -> -44.129021 | M26: =+B26-I26 -> 20734278
A27: ลงทุน | B27: 293563800 | D27: 0 | E27: 0 | F27: =+E27*100/B27 -> 0 | G27: 39 | H27: =+F27-G27 -> -39 | I27: =+D27+E27 -> 0 | J27: =+I27*100/B27 -> 0 | K27: 58.15 | L27: =+J27-K27 -> -58.15 | M27: =+B27-I27 -> 293563800
A28: ค่าใช้จ่ายบรรเทาผลกระทบจากการแพร่ระบาดของ COVID-19 จังหวัดเชียงใหม่
A29: ภาพรวม | B29: =+B30+B35 -> 3.3633955e+09 | C29: =+C30+C35 -> 63748.32 | D29: =+D30+D35 -> 19055725 | E29: =+E30+E35 -> 3.1861978e+09 | F29: =+E29*100/B29 -> 94.731583 | I29: =+C29+D29+E29 -> 3.2053173e+09 | J29: =+I29*100/B29 -> 95.30004 | M29: =+B29-I29 -> 1.5807824e+08 | T29: 63748.32 | U29: 19055725 | V29: 3.1650481e+09 | W29: 94.625612 | X29: 3.1841675e+09 | Y29: 95.197228 | Z29: 1.6064364e+08
A30: เงินกู้ | B30: =+SUM(B31:B34) -> 2.807294e+09 | D30: =+SUM(D31:D34) -> 19055725 | E30: =+SUM(E31:E34) -> 2.6351595e+09 | F30: =+E30*100/B30 -> 93.868314 | I30: =+SUM(I31:I34) -> 2.6542152e+09 | J30: =+I30*100/B30 -> 94.547107 | M30: =+SUM(M31:M34) -> 1.5307873e+08 | Q30: 15 เงินกู้ใช้ทำรายงาน 190766 | T30: 19055725 | U30: 2.6325941e+09 | V30: 93.776931 | W30: 2.6516498e+09 | X30: 94.455724 | Y30: 1.5564412e+08
A31: ปี 2563 | B31: 24020888 | D31: 0 | E31: 24020888 | F31: =+E31*100/B31 -> 100 | I31: 24020888 | J31: =+I31*100/B31 -> 100 | M31: =+B31-I31 -> 0
A32: ปี 2564 | B32: 1.7723931e+09 | C32: 0 | D32: 1059233.4 | E32: 1.7194309e+09 | F32: =+E32*100/B32 -> 97.011829 | I32: 1.7204902e+09 | J32: =+I32*100/B32 -> 97.071592 | M32: =+B32-I32 -> 51902895
A33: ปี 2565 | B33: 8.4311721e+08 | C33: 0 | D33: 17996491 | E33: 7.288522e+08 | F33: =+E33*100/B33 -> 86.447316 | I33: 7.468487e+08 | J33: =+I33*100/B33 -> 88.581835 | M33: =+B33-I33 -> 96268518
A34: ปี 2566 | B34: 167762814 | C34: 0 | D34: 0 | E34: 1.628555e+08 | F34: =+E34*100/B34 -> 97.074851 | I34: 1.628555e+08 | J34: =+I34*100/B34 -> 97.074851 | M34: =+B34-I34 -> 4907312.3
A35: งบกลาง | B35: =B36+B37+B38 -> 5.5610153e+08 | C35: =+C36+C37+C38 -> 63748.32 | D35: =D36+D37+D38 -> 0 | E35: =+E36+E37+E38 -> 5.5103827e+08 | F35: =+E35*100/B35 -> 99.089507 | I35: =+I36+I37+I38 -> 5.5110202e+08 | J35: =+I35*100/B35 -> 99.10097 | M35: =+M36+M37+M38 -> 4999517.9 | Q35: check จาก 11 งบกลางโควิด
A36: ปี 2564 | B36: 3.8419143e+08 | C36: 53748.32 | D36: 0 | E36: 3.7913817e+08 | F36: =+E36*100/B36 -> 98.684701 | I36: =+C36+D36+E36 -> 3.7919192e+08 | J36: =+I36*100/B36 -> 98.698691 | M36: =+B36-I36 -> 4999517.9 | Q36: รหัส ปีงบ 65 90909620043
A37: ปี 2565 | B37: 1.5332578e+08 | C37: 10000 | D37: 0 | E37: 1.5331578e+08 | F37: =+E37*100/B37 -> 99.993478 | I37: =+C37+D37+E37 -> 1.5332578e+08 | J37: =+I37*100/B37 -> 100 | M37: =+B37-I37 -> 0 | Q37: รหัส ปีงบ 66 9090961004300
A38: ปี 2566 | B38: 18584316 | C38: 0 | D38: 0 | E38: 18584316 | F38: =+E38*100/B38 -> 100 | I38: =+C38+D38+E38 -> 18584316 | J38: =+I38*100/B38 -> 100 | M38: =+B38-I38 -> 0 | Q38: รหัส ปีงบ 667 9090961004370
A39: งบประมาณเหลื่อมปี
A40: รายการ | B40: งบประมาณ | C40: สำรองเงิน แบบมีหนี้ เหลื่อมปี | D40: ใบสั่งซื้อ เหลื่อมปี | E40: เบิกจ่าย | F40: ร้อยละ เบิกจ่าย | I40: การใช้จ่าย | J40: ร้อยละ การใช้จ่าย | L40: คงเหลือ สรก. อยู่ระหว่างดำเนินการ | M40: คงเหลือรวม | Q40: 12
A41: ปี 66 | B41: 1.8122523e+09 | C41: 1.84758e+08 | D41: 8.2801283e+08 | E41: 7.9824075e+08 | F41: =+E41*100/B41 -> 44.046888 | I41: =+D41+E41 -> 1.6262536e+09 | J41: =+I41*100/B41 -> 89.736597 | L41: 1240757.9 | M41: =B41-E41 -> 1.0140116e+09
A42: ที่มา : ระบบการบริหารการเงินการคลังภาครัฐแบบอิเล็กทรอนิกส์ใหม่ (New GFMIS Thai)
A43: ข้อมูล ณ 31 ธันวาคม 2566
H44: =C41+D41+E41+L41 -> 1.8122523e+09 | I44: =B41-E41 -> 1.0140116e+09
A46: รายการ | B46: งบประมาณ | C46: PO | I46: ร้อยละ | J46: เป้าหมาย Q4 | K46: สูงกว่าเป้าหมาย
I47: การใช้จ่าย | K47: ไตรมาส 2
A48: ภาพรวม | B48: =+B49+B50 -> 1.1677748e+10 | C48: =+C49+C50 -> 3.5830337e+08 | I48: =+H48*100/B48 -> 0 | J48: 100 | K48: =+I48-J48 -> -100
A49: ประจำ | B49: =+B17 -> 1.0009111e+10 | C49: =+D17 -> 69764583 | I49: =+H49*100/B49 -> 0 | J49: 100 | K49: =+I49-J49 -> -100
A50: ลงทุน | B50: =+B18 -> 1.6686368e+09 | C50: =D18 -> 2.8853879e+08 | I50: =+H50*100/B50 -> 0 | J50: 100 | K50: =+I50-J50 -> -100
A53: รายการ | B53: งบประมาณ | C53: ผลเบิกจ่าย
A55: ภาพรวม | B55: 2.7561714e+09 | C55: 2.1411871e+09
A56: เงินกู้ | B56: 2.3945595e+09 | C56: 1.804633e+09
A57: -ปี 2563 | B57: 26618196 | C57: 24037520
A58: -ปี 2564 | B58: 1.8079115e+09 | C58: 1.6598534e+09
A59: -ปี 2565 | B59: 560029820 | C59: 120742101
A60: งบกลาง ปี 2564 | B60: 3.6161187e+08 | C60: 3.3655414e+08
A62: งบประมาณ | B62: ผลเบิกจ่าย | C62: ร้อยละเบิกจ่าย
A64: 2272.61 | B64: 1304.35 | C64: 57.394362
A71: งบประมาณ | B71: 31พค65 | C71: 17มิย65 | I71: ล้านบาท
I72: 1.1933253e+09
A73: รวม | B73: 23377.21 | C73: 25633.058 | I73: 2.7725496e+08
A74: ประจำ | B74: 14084.97 | C74: 16258.638 | I74: 2.3887144e+08
A75: ลงทุน | B75: 9292.24 | C75: 9374.4202 | I75: 1.3988455e+08
I76: 92066800
I77: 50191100
I78: 26977000
I79: =SUM(I72:I78) -> 2.0185712e+09
I80: 53357700
A82: ลงตารางรายงานา ผวจ
A83: รายการ | B83: งบประมาณ | C83: ผลเบิกจ่าย
A84: รวม | B84: =+B85+B86 -> 1.1677748e+10 | C84: =+C85+C86 -> 8.1027119e+09
A85: ประจำ | B85: =+B17 -> 1.0009111e+10 | C85: =+E17 -> 7.3143369e+09
A86: ลงทุน | B86: =+B18 -> 1.6686368e+09 | C86: =+E18 -> 7.8837507e+08
A88: รายการ | B88: งบประมาณ | C88: ผลเบิกจ่าย
A90: ภาพรวม | B90: =+B29 -> 3.3633955e+09 | C90: =+E29 -> 3.1861978e+09
A91: เงินกู้ | B91: =+B30 -> 2.807294e+09 | C91: =+E30 -> 2.6351595e+09
A92: ปี 2563 | B92: =+B31 -> 24020888 | C92: =+E31 -> 24020888
A93: ปี 2564 | B93: =+B32 -> 1.7723931e+09 | C93: =+E32 -> 1.7194309e+09
A94: ปี 2565 | B94: =+B33 -> 8.4311721e+08 | C94: =+E33 -> 7.288522e+08
A95: ปี 2566 | B95: =+B34 -> 167762814 | C95: =+E34 -> 1.628555e+08
A96: งบกลาง | B96: =+B35 -> 5.5610153e+08 | C96: =+E35 -> 5.5103827e+08
A97: ปี 2564 | B97: =+B36 -> 3.8419143e+08 | C97: =+E36 -> 3.7913817e+08
A98: ปี 2565 | B98: =+B37 -> 1.5332578e+08 | C98: =+E37 -> 1.5331578e+08
A102: ประชุม กรมการจังหวัด
A103: รายการ | B103: งบประมาณ | C103: เบิกจ่าย | K103: สำรองเงินมีหนี้ | L103: PO
C104: จำนวน | I104: เป้าหมาย | J104: สูงกว่าเป้าหมายร้อยละ
I105: Q 3
I106: ร้อยละ
A107: ภาพรวม | B107: =+B108+B109 -> 1.1677748e+10 | C107: =+C108+C109 -> 8.1027119e+09 | I107: 81.74 | J107: =+H107-I107 -> -81.74 | K107: =+K108+K109 -> 0 | L107: =+L108+L109 -> 3.5830337e+08
A108: ประจำ | B108: =+B17 -> 1.0009111e+10 | C108: =+E17 -> 7.3143369e+09 | I108: 81.76 | J108: =+H108-I108 -> -81.76 | K108: =+C17 -> 0 | L108: =+D17 -> 69764583
A109: ลงทุน | B109: =+B18 -> 1.6686368e+09 | C109: =+E18 -> 7.8837507e+08 | I109: 81.65 | J109: =+H109-I109 -> -81.65 | K109: =+C18 -> 0 | L109: =+D18 -> 2.8853879e+08
A111: ประชุม กรมการ จว
A112: รายการ | B112: งบประมาณ | C112: เบิกจ่าย | K112: สำรองเงิน | L112: PO
C113: จำนวน | K113: มีหนี้
A114: ภาพรวม | B114: =+B29 -> 3.3633955e+09 | C114: =+E29 -> 3.1861978e+09 | K114: =+C29 -> 63748.32 | L114: =+D29 -> 19055725
A115: เงินกู้ | B115: =+B30 -> 2.807294e+09 | C115: =+E30 -> 2.6351595e+09 | K115: =+C30 -> 0 | L115: =+D30 -> 19055725
A116: ปี 2563 | B116: =+B31 -> 24020888 | C116: =+E31 -> 24020888 | K116: =+C31 -> 0 | L116: =+D31 -> 0
A117: ปี 2564 | B117: =+B32 -> 1.7723931e+09 | C117: =+E32 -> 1.7194309e+09 | K117: =+C32 -> 0 | L117: =+D32 -> 1059233.4
A118: ปี 2565 | B118: =+B33 -> 8.4311721e+08 | C118: =+E33 -> 7.288522e+08 | K118: =+C33 -> 0 | L118: =+D33 -> 17996491
A119: ปี 2566 | B119: =+B34 -> 167762814 | C119: =+E34 -> 1.628555e+08 | K119: =+C34 -> 0 | L119: =+D34 -> 0
...

Sheet เป้าหมายปี 18 01 67
A1: เป้าหมายการเบิกจ่ายและการใช้จ่ายงบประมาณ พ.ศ. 2567 | Q1: source
A2: รายการ | B2: ไตรมาสที่ 1 | D2: ไตรมาสที่ 2 | F2: ไตรมาสที่ 3 | H2: ไตรมาสที่ 4
B3: เบิกจ่าย | C3: ใช้จ่าย | D3: เบิกจ่าย | E3: ใช้จ่าย | F3: เบิกจ่าย | G3: ใช้จ่าย | H3: เบิกจ่าย | I3: ใช้จ่าย
A4: ภาพรวม | B4: 32 | C4: 34.08 | D4: =20+32 -> 52 | E4: =+C4+22.16 -> 56.24 | F4: =23+D4 -> 75 | G4: =+E4+25.5 -> 81.74 | H4: =18+F4 -> 93 | I4: =+G4+18.26 -> 100
A5: ประจำ | B5: 35 | C5: 35.33 | D5: =20+35 -> 55 | E5: =20.45+C5 -> 55.78 | F5: =25+D5 -> 80 | G5: =25.98+E5 -> 81.76 | H5: =18+F5 -> 98 | I5: =18.24+G5 -> 100
A6: ลงทุน | B6: 19 | C6: 28.96 | D6: =20+19 -> 39 | E6: =29.19+C6 -> 58.15 | F6: =+D6+18 -> 57 | G6: =23.5+E6 -> 81.65 | H6: =18+F6 -> 75 | I6: =18.35+G6 -> 100
A7: ผลการใช้จ่ายงบประมาณรายจ่าย ประจำปีงบประมาณ พ.ศ. 2566 ไปพลางก่อน | M7: ข้อมูล ณ วันที่ 19 มกราคม 2566
A8: รายการ | B8: งบประมาณ | C8: สำรองเงินมีหนี้ | D8: PO+สำรองมีหนี้ | E8: เบิกจ่าย | F8: ร้อยละ เบิกจ่าย | G8: เป้าหมาย Q4 | H8: */- เป้าหมาย | I8: การใช้จ่าย (PO+เบิกจ่าย+สำรองมีหนี้) | J8: ร้อยละ การใช้จ่าย | K8: เป้าหมาย Q4 | L8: */- เป้าหมาย | M8: คงเหลือ หลังหักใช้จ่าย | N8: ลำดับเบิกจ่าย | O8: ลำดับ ใช้จ่าย
A9: งบประมาณรายจ่ายประจำปี พ.ศ.2566 ไปพลางก่อน (ภาพรวมทั้งประเทศ)
A10: ภาพรวม | B10: =+B11+B12 -> 205628.38 | D10: =+D11+D12 -> 7974.1945 | E10: =+E11+E12 -> 132183.1 | F10: =+E10*100/B10 -> 64.282517 | G10: 93 | H10: =+F10-G10 -> -28.717483 | I10: =+I11+I12 -> 140157.29 | J10: =+I10*100/B10 -> 68.160481 | K10: 100 | L10: =+J10-K10 -> -31.839519 | M10: =+B10-I10 -> 65471.087 | N10: 5 | O10: 3
A11: ประจำ | B11: 174841.16 | D11: 1226.3879 | E11: 121443.33 | F11: =+E11*100/B11 -> 69.459235 | G11: 98 | H11: =+F11-G11 -> -28.540765 | I11: 122669.72 | J11: =+I11*100/B11 -> 70.160665 | K11: 100 | L11: =+J11-K11 -> -29.839335 | M11: =+B11-I11 -> 52171.439 | Q11: =+D11+E11 -> 122669.72
A12: ลงทุน | B12: 30787.22 | D12: 6747.8066 | E12: 10739.766 | F12: =+E12*100/B12 -> 34.883845 | G12: 75 | H12: =+F12-G12 -> -40.116155 | I12: 17487.573 | J12: =+I12*100/B12 -> 56.801402 | K12: 100 | L12: =+J12-K12 -> -43.198598 | M12: =+B12-I12 -> 13299.648 | N12: 9 | O12: 15 | Q12: =+D12+E12 -> 17487.573
A13: ผลการใช้จ่ายงบประมาณรายจ่ายจังหวัดเชียงใหม่ ประจำปีงบประมาณ พ.ศ. 2566 ไปพลางก่อน | M13: ข้อมูล ณ วันที่ 18 มกราคม 2566
A14: รายการ | B14: งบประมาณ | C14: สำรองเงินมีหนี้ | D14: PO | E14: เบิกจ่าย | F14: ร้อยละ เบิกจ่าย | G14: เป้าหมาย Q4 | H14: =+F14-G14 -> #VALUE! | I14: การใช้จ่าย (PO+เบิกจ่าย+สำรองมีหนี้) | J14: ร้อยละ การใช้จ่าย | K14: เป้าหมาย Q4 | L14: */- เป้าหมาย | M14: คงเหลือ หลังหักใช้จ่าย | N14: ลำดับเบิกจ่าย | O14: ลำดับ ใช้จ่าย | Q14: 9 สรุปผลการใช้จ่าย A08 รวม ปจ ลท 66
A15: งบประมาณรายจ่ายประจำปี พ.ศ.2566 ไปพลางก่อน (จังหวัดเชียงใหม่)
A16: ภาพรวม | B16: =+B17+B18 -> 1.2075259e+10 | C16: =+C17+C18 -> 0 | D16: =+D17+D18 -> 4.1829851e+08 | E16: =+E17+E18 -> 8.1018596e+09 | F16: =+E16*100/B16 -> 67.094706 | G16: 93 | H16: =+F16-G16 -> -25.905294 | I16: =+C16+D16+E16 -> 8.5201581e+09 | J16: =+I16*100/B16 -> 70.558801 | K16: 100 | L16: =+J16-K16 -> -29.441199 | M16: =+B16-I16 -> 3.5551011e+09 | Q16: racking worning
A17: ประจำ | B17: 1.0320397e+10 | C17: 0 | D17: 95817504 | E17: 7.3134934e+09 | F17: =+E17*100/B17 -> 70.864459 | G17: 98 | H17: =+F17-G17 -> -27.135541 | I17: 7.4093109e+09 | J17: =+I17*100/B17 -> 71.792888 | K17: 100 | L17: =+J17-K17 -> -28.207112 | M17: =+B17-I17 -> 2.911086e+09 | Q17: PO เรียกจาก (รายงานเงินกันปี 67)
A18: ลงทุน | B18: 1.7548622e+09 | C18: 0 | D18: 3.2248101e+08 | E18: 7.8836614e+08 | F18: =+E18*100/B18 -> 44.924674 | G18: 75 | H18: =+F18-G18 -> -30.075326 | I18: 1.1108471e+09 | J18: =+I18*100/B18 -> 63.301102 | K18: 100 | L18: =+J18-K18 -> -36.698898 | M18: =+B18-I18 -> 6.440151e+08
A19: งบกรมจังหวัด
A20: งบกลุ่มจังหวัดภาคเหนือตอนบน 1
A21: ภาพรวม | B21: =+B22+B23 -> 89547000 | D21: =+D22+D23 -> 1159 | E21: =+E22+E23 -> 809456 | F21: =+E21*100/B21 -> 0.90394541 | G21: 52 | H21: =+F21-G21 -> -51.096055 | I21: =+D21+E21 -> 810615 | J21: =+I21*100/B21 -> 0.90523971 | K21: 56.24 | L21: =+J21-K21 -> -55.33476 | M21: =+B21-I21 -> 88736385
A22: ประจำ | B22: 14945000 | D22: 1159 | E22: 809456 | F22: =+E22*100/B22 -> 5.4162329 | G22: 55 | H22: =+F22-G22 -> -49.583767 | I22: =+D22+E22 -> 810615 | J22: =+I22*100/B22 -> 5.423988 | K22: 55.78 | L22: =+J22-K22 -> -50.356012 | M22: =+B22-I22 -> 14134385
A23: ลงทุน | B23: 74602000 | D23: 0 | E23: 0 | F23: =+E23*100/B23 -> 0 | G23: 39 | H23: =+F23-G23 -> -39 | I23: =+D23+E23 -> 0 | J23: =+I23*100/B23 -> 0 | K23: 58.15 | L23: =+J23-K23 -> -58.15 | M23: =+B23-I23 -> 74602000
A24: งบพัฒนาจังหวัด | I24: =+D24+E24 -> 0 | M24: =+B24-I24 -> 0
A25: ภาพรวม | B25: =+B26+B27 -> 317032400 | D25: =+D26+D27 -> 467150.06 | E25: =+E26+E27 -> 2267171.7 | F25: =+E25*100/B25 -> 0.71512303 | G25: 52 | H25: =+F25-G25 -> -51.284877 | I25: =+I26+I27 -> 2734321.8 | J25: =+I25*100/B25 -> 0.86247392 | K25: 56.24 | L25: =+J25-K25 -> -55.377526 | M25: =+B25-I25 -> 3.1429808e+08
A26: ประจำ | B26: 23468600 | D26: 467150.06 | E26: 2267171.7 | F26: =+E26*100/B26 -> 9.6604472 | G26: 55 | H26: =+F26-G26 -> -45.339553 | I26: =+D26+E26 -> 2734321.8 | J26: =+I26*100/B26 -> 11.650979 | K26: 55.78 | L26: =+J26-K26 -> -44.129021 | M26: =+B26-I26 -> 20734278
A27: ลงทุน | B27: 293563800 | D27: 0 | E27: 0 | F27: =+E27*100/B27 -> 0 | G27: 39 | H27: =+F27-G27 -> -39 | I27: =+D27+E27 -> 0 | J27: =+I27*100/B27 -> 0 | K27: 58.15 | L27: =+J27-K27 -> -58.15 | M27: =+B27-I27 -> 293563800
A28: ค่าใช้จ่ายบรรเทาผลกระทบจากการแพร่ระบาดของ COVID-19 จังหวัดเชียงใหม่
A29: ภาพรวม | B29: =+B30+B35 -> 3.3633955e+09 | C29: =+C30+C35 -> 63748.32 | D29: =+D30+D35 -> 19055725 | E29: =+E30+E35 -> 3.1861978e+09 | F29: =+E29*100/B29 -> 94.731583 | I29: =+C29+D29+E29 -> 3.2053173e+09 | J29: =+I29*100/B29 -> 95.30004 | M29: =+B29-I29 -> 1.5807824e+08 | T29: 63748.32 | U29: 19055725 | V29: 3.1650481e+09 | W29: 94.625612 | X29: 3.1841675e+09 | Y29: 95.197228 | Z29: 1.6064364e+08
A30: เงินกู้ | B30: =+SUM(B31:B34) -> 2.807294e+09 | D30: =+SUM(D31:D34) -> 19055725 | E30: =+SUM(E31:E34) -> 2.6351595e+09 | F30: =+E30*100/B30 -> 93.868314 | I30: =+SUM(I31:I34) -> 2.6542152e+09 | J30: =+I30*100/B30 -> 94.547107 | M30: =+SUM(M31:M34) -> 1.5307873e+08 | Q30: 15 เงินกู้ใช้ทำรายงาน 190766 | T30: 19055725 | U30: 2.6325941e+09 | V30: 93.776931 | W30: 2.6516498e+09 | X30: 94.455724 | Y30: 1.5564412e+08
A31: ปี 2563 | B31: 24020888 | D31: 0 | E31: 24020888 | F31: =+E31*100/B31 -> 100 | I31: 24020888 | J31: =+I31*100/B31 -> 100 | M31: =+B31-I31 -> 0
A32: ปี 2564 | B32: 1.7723931e+09 | C32: 0 | D32: 1059233.4 | E32: 1.7194309e+09 | F32: =+E32*100/B32 -> 97.011829 | I32: 1.7204902e+09 | J32: =+I32*100/B32 -> 97.071592 | M32: =+B32-I32 -> 51902895
A33: ปี 2565 | B33: 8.4311721e+08 | C33: 0 | D33: 17996491 | E33: 7.288522e+08 | F33: =+E33*100/B33 -> 86.447316 | I33: 7.468487e+08 | J33: =+I33*100/B33 -> 88.581835 | M33: =+B33-I33 -> 96268518
A34: ปี 2566 | B34: 167762814 | C34: 0 | D34: 0 | E34: 1.628555e+08 | F34: =+E34*100/B34 -> 97.074851 | I34: 1.628555e+08 | J34: =+I34*100/B34 -> 97.074851 | M34: =+B34-I34 -> 4907312.3
A35: งบกลาง | B35: =B36+B37+B38 -> 5.5610153e+08 | C35: =+C36+C37+C38 -> 63748.32 | D35: =D36+D37+D38 -> 0 | E35: =+E36+E37+E38 -> 5.5103827e+08 | F35: =+E35*100/B35 -> 99.089507 | I35: =+I36+I37+I38 -> 5.5110202e+08 | J35: =+I35*100/B35 -> 99.10097 | M35: =+M36+M37+M38 -> 4999517.9 | Q35: check จาก 11 งบกลางโควิด
A36: ปี 2564 | B36: 3.8419143e+08 | C36: 53748.32 | D36: 0 | E36: 3.7913817e+08 | F36: =+E36*100/B36 -> 98.684701 | I36: =+C36+D36+E36 -> 3.7919192e+08 | J36: =+I36*100/B36 -> 98.698691 | M36: =+B36-I36 -> 4999517.9 | Q36: รหัส ปีงบ 65 90909620043
A37: ปี 2565 | B37: 1.5332578e+08 | C37: 10000 | D37: 0 | E37: 1.5331578e+08 | F37: =+E37*100/B37 -> 99.993478 | I37: =+C37+D37+E37 -> 1.5332578e+08 | J37: =+I37*100/B37 -> 100 | M37: =+B37-I37 -> 0 | Q37: รหัส ปีงบ 66 9090961004300
A38: ปี 2566 | B38: 18584316 | C38: 0 | D38: 0 | E38: 18584316 | F38: =+E38*100/B38 -> 100 | I38: =+C38+D38+E38 -> 18584316 | J38: =+I38*100/B38 -> 100 | M38: =+B38-I38 -> 0 | Q38: รหัส ปีงบ 667 9090961004370
A39: งบประมาณเหลื่อมปี
A40: รายการ | B40: งบประมาณ | C40: สำรองเงิน แบบมีหนี้ เหลื่อมปี | D40: ใบสั่งซื้อ เหลื่อมปี | E40: เบิกจ่าย | F40: ร้อยละ เบิกจ่าย | I40: การใช้จ่าย | J40: ร้อยละ การใช้จ่าย | L40: คงเหลือ สรก. อยู่ระหว่างดำเนินการ | M40: คงเหลือรวม | Q40: 12
A41: ปี 66 | B41: 1.8122523e+09 | C41: 1.6690068e+08 | D41: 7.3891022e+08 | E41: 8.9038872e+08 | F41: =+E41*100/B41 -> 49.131608 | I41: =+D41+E41 -> 1.6292989e+09 | J41: =+I41*100/B41 -> 89.90464 | L41: 16052721 | M41: =B41-E41 -> 9.2186362e+08
A42: ที่มา : ระบบการบริหารการเงินการคลังภาครัฐแบบอิเล็กทรอนิกส์ใหม่ (New GFMIS Thai)
A43: ข้อมูล ณ 18 มกราคม 2567
H44: =C41+D41+E41+L41 -> 1.8122523e+09 | I44: =B41-E41 -> 9.2186362e+08
A46: รายการ | B46: งบประมาณ | C46: PO | I46: ร้อยละ | J46: เป้าหมาย Q4 | K46: สูงกว่าเป้าหมาย
I47: การใช้จ่าย | K47: ไตรมาส 2
A48: ภาพรวม | B48: =+B49+B50 -> 1.2075259e+10 | C48: =+C49+C50 -> 4.1829851e+08 | I48: =+H48*100/B48 -> 0 | J48: 100 | K48: =+I48-J48 -> -100
A49: ประจำ | B49: =+B17 -> 1.0320397e+10 | C49: =+D17 -> 95817504 | I49: =+H49*100/B49 -> 0 | J49: 100 | K49: =+I49-J49 -> -100
A50: ลงทุน | B50: =+B18 -> 1.7548622e+09 | C50: =D18 -> 3.2248101e+08 | I50: =+H50*100/B50 -> 0 | J50: 100 | K50: =+I50-J50 -> -100
A53: รายการ | B53: งบประมาณ | C53: ผลเบิกจ่าย
A55: ภาพรวม | B55: 2.7561714e+09 | C55: 2.1411871e+09
A56: เงินกู้ | B56: 2.3945595e+09 | C56: 1.804633e+09
A57: -ปี 2563 | B57: 26618196 | C57: 24037520
A58: -ปี 2564 | B58: 1.8079115e+09 | C58: 1.6598534e+09
A59: -ปี 2565 | B59: 560029820 | C59: 120742101
A60: งบกลาง ปี 2564 | B60: 3.6161187e+08 | C60: 3.3655414e+08
A62: งบประมาณ | B62: ผลเบิกจ่าย | C62: ร้อยละเบิกจ่าย
A64: 2272.61 | B64: 1304.35 | C64: 57.394362
A71: งบประมาณ | B71: 31พค65 | C71: 17มิย65 | I71: ล้านบาท
I72: 1.1933253e+09
A73: รวม | B73: 23377.21 | C73: 25633.058 | I73: 2.7725496e+08
A74: ประจำ | B74: 14084.97 | C74: 16258.638 | I74: 2.3887144e+08
A75: ลงทุน | B75: 9292.24 | C75: 9374.4202 | I75: 1.3988455e+08
I76: 92066800
I77: 50191100
I78: 26977000
I79: =SUM(I72:I78) -> 2.0185712e+09
I80: 53357700
A82: ลงตารางรายงานา ผวจ
A83: รายการ | B83: งบประมาณ | C83: ผลเบิกจ่าย
A84: รวม | B84: =+B85+B86 -> 1.2075259e+10 | C84: =+C85+C86 -> 8.1018596e+09
A85: ประจำ | B85: =+B17 -> 1.0320397e+10 | C85: =+E17 -> 7.3134934e+09
A86: ลงทุน | B86: =+B18 -> 1.7548622e+09 | C86: =+E18 -> 7.8836614e+08
A88: รายการ | B88: งบประมาณ | C88: ผลเบิกจ่าย
A90: ภาพรวม | B90: =+B29 -> 3.3633955e+09 | C90: =+E29 -> 3.1861978e+09
A91: เงินกู้ | B91: =+B30 -> 2.807294e+09 | C91: =+E30 -> 2.6351595e+09
A92: ปี 2563 | B92: =+B31 -> 24020888 | C92: =+E31 -> 24020888
A93: ปี 2564 | B93: =+B32 -> 1.7723931e+09 | C93: =+E32 -> 1.7194309e+09
A94: ปี 2565 | B94: =+B33 -> 8.4311721e+08 | C94: =+E33 -> 7.288522e+08
A95: ปี 2566 | B95: =+B34 -> 167762814 | C95: =+E34 -> 1.628555e+08
A96: งบกลาง | B96: =+B35 -> 5.5610153e+08 | C96: =+E35 -> 5.5103827e+08
A97: ปี 2564 | B97: =+B36 -> 3.8419143e+08 | C97: =+E36 -> 3.7913817e+08
A98: ปี 2565 | B98: =+B37 -> 1.5332578e+08 | C98: =+E37 -> 1.5331578e+08
A102: ประชุม กรมการจังหวัด
A103: รายการ | B103: งบประมาณ | C103: เบิกจ่าย | K103: สำรองเงินมีหนี้ | L103: PO
C104: จำนวน | I104: เป้าหมาย | J104: สูงกว่าเป้าหมายร้อยละ
I105: Q 3
I106: ร้อยละ
A107: ภาพรวม | B107: =+B108+B109 -> 1.2075259e+10 | C107: =+C108+C109 -> 8.1018596e+09 | I107: 81.74 | J107: =+H107-I107 -> -81.74 | K107: =+K108+K109 -> 0 | L107: =+L108+L109 -> 4.1829851e+08
A108: ประจำ | B108: =+B17 -> 1.0320397e+10 | C108: =+E17 -> 7.3134934e+09 | I108: 81.76 | J108: =+H108-I108 -> -81.76 | K108: =+C17 -> 0 | L108: =+D17 -> 95817504
A109: ลงทุน | B109: =+B18 -> 1.7548622e+09 | C109: =+E18 -> 7.8836614e+08 | I109: 81.65 | J109: =+H109-I109 -> -81.65 | K109: =+C18 -> 0 | L109: =+D18 -> 3.2248101e+08
A111: ประชุม กรมการ จว
A112: รายการ | B112: งบประมาณ | C112: เบิกจ่าย | K112: สำรองเงิน | L112: PO
C113: จำนวน | K113: มีหนี้
A114: ภาพรวม | B114: =+B29 -> 3.3633955e+09 | C114: =+E29 -> 3.1861978e+09 | K114: =+C29 -> 63748.32 | L114: =+D29 -> 19055725
A115: เงินกู้ | B115: =+B30 -> 2.807294e+09 | C115: =+E30 -> 2.6351595e+09 | K115: =+C30 -> 0 | L115: =+D30 -> 19055725
A116: ปี 2563 | B116: =+B31 -> 24020888 | C116: =+E31 -> 24020888 | K116: =+C31 -> 0 | L116: =+D31 -> 0
A117: ปี 2564 | B117: =+B32 -> 1.7723931e+09 | C117: =+E32 -> 1.7194309e+09 | K117: =+C32 -> 0 | L117: =+D32 -> 1059233.4
A118: ปี 2565 | B118: =+B33 -> 8.4311721e+08 | C118: =+E33 -> 7.288522e+08 | K118: =+C33 -> 0 | L118: =+D33 -> 17996491
A119: ปี 2566 | B119: =+B34 -> 167762814 | C119: =+E34 -> 1.628555e+08 | K119: =+C34 -> 0 | L119: =+D34 -> 0
...

Sheet เป้าหมายปี 19 02 67
A1: เป้าหมายการเบิกจ่ายและการใช้จ่ายงบประมาณ พ.ศ. 2567 | Q1: source
A2: รายการ | B2: ไตรมาสที่ 1 | D2: ไตรมาสที่ 2 | F2: ไตรมาสที่ 3 | H2: ไตรมาสที่ 4
B3: เบิกจ่าย | C3: ใช้จ่าย | D3: เบิกจ่าย | E3: ใช้จ่าย | F3: เบิกจ่าย | G3: ใช้จ่าย | H3: เบิกจ่าย | I3: ใช้จ่าย
A4: ภาพรวม | B4: 32 | C4: 34.08 | D4: =20+32 -> 52 | E4: =+C4+22.16 -> 56.24 | F4: =23+D4 -> 75 | G4: =+E4+25.5 -> 81.74 | H4: =18+F4 -> 93 | I4: =+G4+18.26 -> 100
A5: ประจำ | B5: 35 | C5: 35.33 | D5: =20+35 -> 55 | E5: =20.45+C5 -> 55.78 | F5: =25+D5 -> 80 | G5: =25.98+E5 -> 81.76 | H5: =18+F5 -> 98 | I5: =18.24+G5 -> 100
A6: ลงทุน | B6: 19 | C6: 28.96 | D6: =20+19 -> 39 | E6: =29.19+C6 -> 58.15 | F6: =+D6+18 -> 57 | G6: =23.5+E6 -> 81.65 | H6: =18+F6 -> 75 | I6: =18.35+G6 -> 100
A7: ผลการใช้จ่ายงบประมาณรายจ่าย ประจำปีงบประมาณ พ.ศ. 2566 ไปพลางก่อน | M7: ข้อมูล ณ วันที่ 16 กุมภาพันธ์ 2567
A8: รายการ | B8: งบประมาณ | C8: สำรองเงินมีหนี้ | D8: PO+สำรองมีหนี้ | E8: เบิกจ่าย | F8: ร้อยละ เบิกจ่าย | G8: เป้าหมาย Q4 | H8: */- เป้าหมาย | I8: การใช้จ่าย (PO+เบิกจ่าย+สำรองมีหนี้) | J8: ร้อยละ การใช้จ่าย | K8: เป้าหมาย Q1 | L8: */- เป้าหมาย | M8: คงเหลือ หลังหักใช้จ่าย | N8: ลำดับเบิกจ่าย | O8: ลำดับ ใช้จ่าย
A9: งบประมาณรายจ่ายประจำปี พ.ศ.2566 ไปพลางก่อน (ภาพรวมทั้งประเทศ)
A10: ภาพรวม | B10: =+B11+B12 -> 216430.14 | D10: =+D11+D12 -> 10098.39 | E10: =+E11+E12 -> 153616.63 | F10: =+E10*100/B10 -> 70.977467 | G10: 93 | H10: =+F10-G10 -> -22.022533 | I10: =+I11+I12 -> 163715.02 | J10: =+I10*100/B10 -> 75.643355 | K10: 47 | L10: =+J10-K10 -> 28.643355 | M10: =+B10-I10 -> 52715.12
A11: ประจำ | B11: 182206.82 | D11: 1329.8314 | E11: 139164.59 | F11: =+E11*100/B11 -> 76.377269 | G11: 98 | H11: =+F11-G11 -> -21.622731 | I11: 140494.42 | J11: =+I11*100/B11 -> 77.107116 | K11: 48 | L11: =+J11-K11 -> 29.107116 | M11: =+B11-I11 -> 41712.395 | Q11: =+D11+E11 -> 140494.42
A12: ลงทุน | B12: 34223.325 | D12: 8768.5582 | E12: 14452.041 | F12: =+E12*100/B12 -> 42.22863 | G12: 75 | H12: =+F12-G12 -> -32.77137 | I12: 23220.599 | J12: =+I12*100/B12 -> 67.850215 | K12: 39 | L12: =+J12-K12 -> 28.850215 | M12: =+B12-I12 -> 11002.725 | Q12: =+D12+E12 -> 23220.599
A13: ผลการใช้จ่ายงบประมาณรายจ่ายจังหวัดเชียงใหม่ ประจำปีงบประมาณ พ.ศ. 2566 ไปพลางก่อน | M13: ข้อมูล ณ วันที่ 19 กุมภาพันธ์ 2567
A14: รายการ | B14: งบประมาณ | C14: สำรองเงินมีหนี้ | D14: PO | E14: เบิกจ่าย | F14: ร้อยละ เบิกจ่าย | G14: เป้าหมาย Q4 | H14: =+F14-G14 -> #VALUE! | I14: การใช้จ่าย (PO+เบิกจ่าย+สำรองมีหนี้) | J14: ร้อยละ การใช้จ่าย | K14: เป้าหมาย Q1 | L14: */- เป้าหมาย | M14: คงเหลือ หลังหักใช้จ่าย | N14: ลำดับเบิกจ่าย | O14: ลำดับ ใช้จ่าย | Q14: 9 สรุปผลการใช้จ่าย A08 รวม ปจ ลท 66
A15: งบประมาณรายจ่ายประจำปี พ.ศ.2566 ไปพลางก่อน (จังหวัดเชียงใหม่)
A16: ภาพรวม | B16: =+B17+B18 -> 1.2655114e+10 | C16: =+C17+C18 -> 0 | D16: =+D17+D18 -> 4.6292637e+08 | E16: =+E17+E18 -> 9.2955307e+09 | F16: =+E16*100/B16 -> 73.452764 | G16: 93 | H16: =+F16-G16 -> -19.547236 | I16: =+C16+D16+E16 -> 9.7584571e+09 | J16: =+I16*100/B16 -> 77.110783 | K16: 47 | L16: =+J16-K16 -> 30.110783 | M16: =+B16-I16 -> 2.8966564e+09 | N16: 4 | O16: 4 | Q16: racking worning
A17: ประจำ | B17: 1.0854353e+10 | C17: 0 | D17: 93607305 | E17: 8.3948878e+09 | F17: =+E17*100/B17 -> 77.341209 | G17: 98 | H17: =+F17-G17 -> -20.658791 | I17: 8.4884951e+09 | J17: =+I17*100/B17 -> 78.203603 | K17: 48 | L17: =+J17-K17 -> 30.203603 | M17: =+B17-I17 -> 2.3658579e+09 | Q17: PO เรียกจาก (รายงานเงินกันปี 67)
A18: ลงทุน | B18: 1.8007605e+09 | C18: 0 | D18: 3.6931906e+08 | E18: 9.0064288e+08 | F18: =+E18*100/B18 -> 50.014585 | G18: 75 | H18: =+F18-G18 -> -24.985415 | I18: 1.2699619e+09 | J18: =+I18*100/B18 -> 70.523646 | K18: 39 | L18: =+J18-K18 -> 31.523646 | M18: =+B18-I18 -> 5.3079853e+08 | N18: 6 | O18: 21
A19: งบกรมจังหวัด
A20: งบกลุ่มจังหวัดภาคเหนือตอนบน 1
A21: ภาพรวม | B21: =+B22+B23 -> 89547000 | D21: =+D22+D23 -> 1159 | E21: =+E22+E23 -> 809456 | F21: =+E21*100/B21 -> 0.90394541 | G21: 52 | H21: =+F21-G21 -> -51.096055 | I21: =+D21+E21 -> 810615 | J21: =+I21*100/B21 -> 0.90523971 | K21: 56.24 | L21: =+J21-K21 -> -55.33476 | M21: =+B21-I21 -> 88736385
A22: ประจำ | B22: 14945000 | D22: 1159 | E22: 809456 | F22: =+E22*100/B22 -> 5.4162329 | G22: 55 | H22: =+F22-G22 -> -49.583767 | I22: =+D22+E22 -> 810615 | J22: =+I22*100/B22 -> 5.423988 | K22: 55.78 | L22: =+J22-K22 -> -50.356012 | M22: =+B22-I22 -> 14134385
A23: ลงทุน | B23: 74602000 | D23: 0 | E23: 0 | F23: =+E23*100/B23 -> 0 | G23: 39 | H23: =+F23-G23 -> -39 | I23: =+D23+E23 -> 0 | J23: =+I23*100/B23 -> 0 | K23: 58.15 | L23: =+J23-K23 -> -58.15 | M23: =+B23-I23 -> 74602000
A24: งบพัฒนาจังหวัด | I24: =+D24+E24 -> 0 | M24: =+B24-I24 -> 0
A25: ภาพรวม | B25: =+B26+B27 -> 317032400 | D25: =+D26+D27 -> 467150.06 | E25: =+E26+E27 -> 2267171.7 | F25: =+E25*100/B25 -> 0.71512303 | G25: 52 | H25: =+F25-G25 -> -51.284877 | I25: =+I26+I27 -> 2734321.8 | J25: =+I25*100/B25 -> 0.86247392 | K25: 56.24 | L25: =+J25-K25 -> -55.377526 | M25: =+B25-I25 -> 3.1429808e+08
A26: ประจำ | B26: 23468600 | D26: 467150.06 | E26: 2267171.7 | F26: =+E26*100/B26 -> 9.6604472 | G26: 55 | H26: =+F26-G26 -> -45.339553 | I26: =+D26+E26 -> 2734321.8 | J26: =+I26*100/B26 -> 11.650979 | K26: 55.78 | L26: =+J26-K26 -> -44.129021 | M26: =+B26-I26 -> 20734278
A27: ลงทุน | B27: 293563800 | D27: 0 | E27: 0 | F27: =+E27*100/B27 -> 0 | G27: 39 | H27: =+F27-G27 -> -39 | I27: =+D27+E27 -> 0 | J27: =+I27*100/B27 -> 0 | K27: 58.15 | L27: =+J27-K27 -> -58.15 | M27: =+B27-I27 -> 293563800
A28: ค่าใช้จ่ายบรรเทาผลกระทบจากการแพร่ระบาดของ COVID-19 จังหวัดเชียงใหม่
A29: ภาพรวม | B29: =+B30+B35 -> 3.3633955e+09 | C29: =+C30+C35 -> 63748.32 | D29: =+D30+D35 -> 19055725 | E29: =+E30+E35 -> 3.1861978e+09 | F29: =+E29*100/B29 -> 94.731583 | I29: =+C29+D29+E29 -> 3.2053173e+09 | J29: =+I29*100/B29 -> 95.30004 | M29: =+B29-I29 -> 1.5807824e+08 | T29: 63748.32 | U29: 19055725 | V29: 3.1650481e+09 | W29: 94.625612 | X29: 3.1841675e+09 | Y29: 95.197228 | Z29: 1.6064364e+08
A30: เงินกู้ | B30: =+SUM(B31:B34) -> 2.807294e+09 | D30: =+SUM(D31:D34) -> 19055725 | E30: =+SUM(E31:E34) -> 2.6351595e+09 | F30: =+E30*100/B30 -> 93.868314 | I30: =+SUM(I31:I34) -> 2.6542152e+09 | J30: =+I30*100/B30 -> 94.547107 | M30: =+SUM(M31:M34) -> 1.5307873e+08 | Q30: 15 เงินกู้ใช้ทำรายงาน 190766 | T30: 19055725 | U30: 2.6325941e+09 | V30: 93.776931 | W30: 2.6516498e+09 | X30: 94.455724 | Y30: 1.5564412e+08
A31: ปี 2563 | B31: 24020888 | D31: 0 | E31: 24020888 | F31: =+E31*100/B31 -> 100 | I31: 24020888 | J31: =+I31*100/B31 -> 100 | M31: =+B31-I31 -> 0
A32: ปี 2564 | B32: 1.7723931e+09 | C32: 0 | D32: 1059233.4 | E32: 1.7194309e+09 | F32: =+E32*100/B32 -> 97.011829 | I32: 1.7204902e+09 | J32: =+I32*100/B32 -> 97.071592 | M32: =+B32-I32 -> 51902895
A33: ปี 2565 | B33: 8.4311721e+08 | C33: 0 | D33: 17996491 | E33: 7.288522e+08 | F33: =+E33*100/B33 -> 86.447316 | I33: 7.468487e+08 | J33: =+I33*100/B33 -> 88.581835 | M33: =+B33-I33 -> 96268518
A34: ปี 2566 | B34: 167762814 | C34: 0 | D34: 0 | E34: 1.628555e+08 | F34: =+E34*100/B34 -> 97.074851 | I34: 1.628555e+08 | J34: =+I34*100/B34 -> 97.074851 | M34: =+B34-I34 -> 4907312.3
A35: งบกลาง | B35: =B36+B37+B38 -> 5.5610153e+08 | C35: =+C36+C37+C38 -> 63748.32 | D35: =D36+D37+D38 -> 0 | E35: =+E36+E37+E38 -> 5.5103827e+08 | F35: =+E35*100/B35 -> 99.089507 | I35: =+I36+I37+I38 -> 5.5110202e+08 | J35: =+I35*100/B35 -> 99.10097 | M35: =+M36+M37+M38 -> 4999517.9 | Q35: check จาก 11 งบกลางโควิด
A36: ปี 2564 | B36: 3.8419143e+08 | C36: 53748.32 | D36: 0 | E36: 3.7913817e+08 | F36: =+E36*100/B36 -> 98.684701 | I36: =+C36+D36+E36 -> 3.7919192e+08 | J36: =+I36*100/B36 -> 98.698691 | M36: =+B36-I36 -> 4999517.9 | Q36: รหัส ปีงบ 65 90909620043
A37: ปี 2565 | B37: 1.5332578e+08 | C37: 10000 | D37: 0 | E37: 1.5331578e+08 | F37: =+E37*100/B37 -> 99.993478 | I37: =+C37+D37+E37 -> 1.5332578e+08 | J37: =+I37*100/B37 -> 100 | M37: =+B37-I37 -> 0 | Q37: รหัส ปีงบ 66 9090961004300
A38: ปี 2566 | B38: 18584316 | C38: 0 | D38: 0 | E38: 18584316 | F38: =+E38*100/B38 -> 100 | I38: =+C38+D38+E38 -> 18584316 | J38: =+I38*100/B38 -> 100 | M38: =+B38-I38 -> 0 | Q38: รหัส ปีงบ 667 9090961004370
A39: งบประมาณเหลื่อมปี
A40: รายการ | B40: งบประมาณ | C40: สำรองเงิน แบบมีหนี้ เหลื่อมปี | D40: ใบสั่งซื้อ เหลื่อมปี | E40: เบิกจ่าย | F40: ร้อยละ เบิกจ่าย | I40: การใช้จ่าย | J40: ร้อยละ การใช้จ่าย | L40: คงเหลือ สรก. อยู่ระหว่างดำเนินการ | M40: คงเหลือรวม | Q40: 12
A41: ปี 66 | B41: 1.8122523e+09 | C41: 1.5371292e+08 | D41: 5.9228986e+08 | E41: 1.0618572e+09 | F41: =+E41*100/B41 -> 58.593231 | I41: =+D41+E41 -> 1.6541471e+09 | J41: =+I41*100/B41 -> 91.275759 | L41: 4392348.1 | M41: =B41-E41 -> 7.5039513e+08
A42: รายการ | B42: งบประมาณ | C42: สำรองเงิน แบบมีหนี้ เหลื่อมปี | D42: ใบสั่งซื้อ เหลื่อมปี | E42: เบิกจ่าย | F42: ร้อยละ เบิกจ่าย | I42: การใช้จ่าย | J42: ร้อยละ การใช้จ่าย | L42: คงเหลือ สรก. อยู่ระหว่างดำเนินการ | M42: คงเหลือรวม | Q42: 12
A43: ปี 66 | B43: 1812.25 | C43: 153.71 | D43: 592.29 | E43: 1061.86 | F43: =+E43*100/B43 -> 58.593461 | I43: 1654.15 | J43: =+I43*100/B43 -> 91.276038 | L43: 4392348.1 | M43: =B43-E43 -> 750.39
A44: ที่มา : ระบบการบริหารการเงินการคลังภาครัฐแบบอิเล็กทรอนิกส์ใหม่ (New GFMIS Thai)
A45: ข้อมูล ณ 19 กุมภาพันธ์ 2567 | T45: 4392348.1
H46: =C41+D41+E41+L41 -> 1.8122523e+09 | I46: =B41-E41 -> 7.5039513e+08
A48: รายการ | B48: งบประมาณ | C48: PO | I48: ร้อยละ | J48: เป้าหมาย Q4 | K48: สูงกว่าเป้าหมาย
I49: การใช้จ่าย | K49: ไตรมาส 2
A50: ภาพรวม | B50: =+B51+B52 -> 1.2655114e+10 | C50: =+C51+C52 -> 4.6292637e+08 | I50: =+H50*100/B50 -> 0 | J50: 100 | K50: =+I50-J50 -> -100
A51: ประจำ | B51: =+B17 -> 1.0854353e+10 | C51: =+D17 -> 93607305 | I51: =+H51*100/B51 -> 0 | J51: 100 | K51: =+I51-J51 -> -100
A52: ลงทุน | B52: =+B18 -> 1.8007605e+09 | C52: =D18 -> 3.6931906e+08 | I52: =+H52*100/B52 -> 0 | J52: 100 | K52: =+I52-J52 -> -100
A55: รายการ | B55: งบประมาณ | C55: ผลเบิกจ่าย
A57: ภาพรวม | B57: 2.7561714e+09 | C57: 2.1411871e+09
A58: เงินกู้ | B58: 2.3945595e+09 | C58: 1.804633e+09
A59: -ปี 2563 | B59: 26618196 | C59: 24037520
A60: -ปี 2564 | B60: 1.8079115e+09 | C60: 1.6598534e+09
A61: -ปี 2565 | B61: 560029820 | C61: 120742101
A62: งบกลาง ปี 2564 | B62: 3.6161187e+08 | C62: 3.3655414e+08
A64: งบประมาณ | B64: ผลเบิกจ่าย | C64: ร้อยละเบิกจ่าย
A66: 2272.61 | B66: 1304.35 | C66: 57.394362
A73: งบประมาณ | B73: 31พค65 | C73: 17มิย65 | I73: ล้านบาท
I74: 1.1933253e+09
A75: รวม | B75: 23377.21 | C75: 25633.058 | I75: 2.7725496e+08
A76: ประจำ | B76: 14084.97 | C76: 16258.638 | I76: 2.3887144e+08
A77: ลงทุน | B77: 9292.24 | C77: 9374.4202 | I77: 1.3988455e+08
I78: 92066800
I79: 50191100
I80: 26977000
I81: =SUM(I74:I80) -> 2.0185712e+09
I82: 53357700
A84: ลงตารางรายงานา ผวจ
A85: รายการ | B85: งบประมาณ | C85: ผลเบิกจ่าย
A86: รวม | B86: =+B87+B88 -> 1.2655114e+10 | C86: =+C87+C88 -> 9.2955307e+09
A87: ประจำ | B87: =+B17 -> 1.0854353e+10 | C87: =+E17 -> 8.3948878e+09
A88: ลงทุน | B88: =+B18 -> 1.8007605e+09 | C88: =+E18 -> 9.0064288e+08
A90: รายการ | B90: งบประมาณ | C90: ผลเบิกจ่าย
A92: ภาพรวม | B92: =+B29 -> 3.3633955e+09 | C92: =+E29 -> 3.1861978e+09
A93: เงินกู้ | B93: =+B30 -> 2.807294e+09 | C93: =+E30 -> 2.6351595e+09
A94: ปี 2563 | B94: =+B31 -> 24020888 | C94: =+E31 -> 24020888
A95: ปี 2564 | B95: =+B32 -> 1.7723931e+09 | C95: =+E32 -> 1.7194309e+09
A96: ปี 2565 | B96: =+B33 -> 8.4311721e+08 | C96: =+E33 -> 7.288522e+08
A97: ปี 2566 | B97: =+B34 -> 167762814 | C97: =+E34 -> 1.628555e+08
A98: งบกลาง | B98: =+B35 -> 5.5610153e+08 | C98: =+E35 -> 5.5103827e+08
A99: ปี 2564 | B99: =+B36 -> 3.8419143e+08 | C99: =+E36 -> 3.7913817e+08
A100: ปี 2565 | B100: =+B37 -> 1.5332578e+08 | C100: =+E37 -> 1.5331578e+08
A104: ประชุม กรมการจังหวัด
A105: รายการ | B105: งบประมาณ | C105: เบิกจ่าย | K105: สำรองเงินมีหนี้ | L105: PO
C106: จำนวน | I106: เป้าหมาย | J106: สูงกว่าเป้าหมายร้อยละ
I107: Q 3
I108: ร้อยละ
A109: ภาพรวม | B109: =+B110+B111 -> 1.2655114e+10 | C109: =+C110+C111 -> 9.2955307e+09 | I109: 81.74 | J109: =+H109-I109 -> -81.74 | K109: =+K110+K111 -> 0 | L109: =+L110+L111 -> 4.6292637e+08
A110: ประจำ | B110: =+B17 -> 1.0854353e+10 | C110: =+E17 -> 8.3948878e+09 | I110: 81.76 | J110: =+H110-I110 -> -81.76 | K110: =+C17 -> 0 | L110: =+D17 -> 93607305
A111: ลงทุน | B111: =+B18 -> 1.8007605e+09 | C111: =+E18 -> 9.0064288e+08 | I111: 81.65 | J111: =+H111-I111 -> -81.65 | K111: =+C18 -> 0 | L111: =+D18 -> 3.6931906e+08
A113: ประชุม กรมการ จว
A114: รายการ | B114: งบประมาณ | C114: เบิกจ่าย | K114: สำรองเงิน | L114: PO
C115: จำนวน | K115: มีหนี้
A116: ภาพรวม | B116: =+B29 -> 3.3633955e+09 | C116: =+E29 -> 3.1861978e+09 | K116: =+C29 -> 63748.32 | L116: =+D29 -> 19055725
A117: เงินกู้ | B117: =+B30 -> 2.807294e+09 | C117: =+E30 -> 2.6351595e+09 | K117: =+C30 -> 0 | L117: =+D30 -> 19055725
A118: ปี 2563 | B118: =+B31 -> 24020888 | C118: =+E31 -> 24020888 | K118: =+C31 -> 0 | L118: =+D31 -> 0
A119: ปี 2564 | B119: =+B32 -> 1.7723931e+09 | C119: =+E32 -> 1.7194309e+09 | K119: =+C32 -> 0 | L119: =+D32 -> 1059233.4
...

Sheet เป้าหมายปี 29 02 67 
A1: เป้าหมายการใช้จ่ายงบประมาณ ประจำปีงบประมาณ พ.ศ. 2566 ไปพลางก่อน (ต.ค. 66 - พ.ค. 67)
A2: รายการ | B2: เป้าหมายการใช้จ่ายงบประมาณ (ร้อยละ)
B3: ไตรมาสที่ 1 | D3: ไตรมาสที่ 2 | F3: ไตรมาสที่ 3
A4: ภาพรวม | B4: 47 | D4: 80 | F4: 100
A5: ประจำ | B5: 48 | D5: 81 | F5: 100
A6: ลงทุน | B6: 39 | D6: 74 | F6: 100
A7: ผลการใช้จ่ายงบประมาณรายจ่าย ประจำปีงบประมาณ พ.ศ. 2566 ไปพลางก่อน | M7: ข้อมูล ณ วันที่ 29 กุมภาพันธ์ 2567
A8: รายการ | B8: งบประมาณ | C8: สำรองเงินมีหนี้ | D8: PO+สำรองมีหนี้ | E8: เบิกจ่าย | F8: ร้อยละ เบิกจ่าย | G8: เป้าหมาย Q4 | H8: */- เป้าหมาย | I8: การใช้จ่าย (PO+เบิกจ่าย+สำรองมีหนี้) | J8: ร้อยละ การใช้จ่าย | K8: เป้าหมาย Q2 | L8: */- เป้าหมาย | M8: คงเหลือ หลังหักใช้จ่าย | N8: ลำดับเบิกจ่าย | O8: ลำดับ ใช้จ่าย
A9: งบประมาณรายจ่ายประจำปี พ.ศ.2566 ไปพลางก่อน (ภาพรวมทั้งประเทศ)
A10: ภาพรวม | B10: =+B11+B12 -> 219570.09 | D10: =+D11+D12 -> 11399.47 | E10: =+E11+E12 -> 161761.06 | F10: =+E10*100/B10 -> 73.671719 | G10: 93 | H10: =+F10-G10 -> -19.328281 | I10: =+I11+I12 -> 173160.53 | J10: =+I10*100/B10 -> 78.863442 | K10: 80 | L10: =+J10-K10 -> -1.1365581 | M10: =+B10-I10 -> 46409.559
A11: ประจำ | B11: 183894.24 | D11: 1496.8965 | E11: 145846.86 | F11: =+E11*100/B11 -> 79.310183 | G11: 98 | H11: =+F11-G11 -> -18.689817 | I11: 147343.75 | J11: =+I11*100/B11 -> 80.124181 | K11: 81 | L11: =+J11-K11 -> -0.87581872 | M11: =+B11-I11 -> 36550.485 | Q11: =+D11+E11 -> 147343.75
A12: ลงทุน | B12: 35675.851 | D12: 9902.5731 | E12: 15914.204 | F12: =+E12*100/B12 -> 44.607777 | G12: 75 | H12: =+F12-G12 -> -30.392223 | I12: 25816.777 | J12: =+I12*100/B12 -> 72.364853 | K12: 74 | L12: =+J12-K12 -> -1.6351473 | M12: =+B12-I12 -> 9859.074 | Q12: =+D12+E12 -> 25816.777
A13: ผลการใช้จ่ายงบประมาณรายจ่ายจังหวัดเชียงใหม่ ประจำปีงบประมาณ พ.ศ. 2566 ไปพลางก่อน | M13: ข้อมูล ณ วันที่ 29 กุมภาพันธ์ 2567
A14: รายการ | B14: งบประมาณ | C14: สำรองเงินมีหนี้ | D14: PO | E14: เบิกจ่าย | F14: ร้อยละ เบิกจ่าย | G14: เป้าหมาย Q4 | H14: =+F14-G14 -> #VALUE! | I14: การใช้จ่าย (PO+เบิกจ่าย+สำรองมีหนี้) | J14: ร้อยละ การใช้จ่าย | K14: เป้าหมาย Q2 | L14: */- เป้าหมาย | M14: คงเหลือ หลังหักใช้จ่าย | N14: ลำดับเบิกจ่าย | O14: ลำดับ ใช้จ่าย | Q14: 9 สรุปผลการใช้จ่าย A08 รวม ปจ ลท 66
A15: งบประมาณรายจ่ายประจำปี พ.ศ.2566 ไปพลางก่อน (จังหวัดเชียงใหม่)
A16: ภาพรวม | B16: =+B17+B18 -> 1.2710648e+10 | C16: =+C17+C18 -> 0 | D16: =+D17+D18 -> 3.4005826e+08 | E16: =+E17+E18 -> 1.0344555e+10 | F16: =+E16*100/B16 -> 81.384954 | G16: 93 | H16: =+F16-G16 -> -11.615046 | I16: =+C16+D16+E16 -> 1.0684613e+10 | J16: =+I16*100/B16 -> 84.060335 | K16: 80 | L16: =+J16-K16 -> 4.060335 | M16: =+B16-I16 -> 2.0260347e+09 | N16: 4 | O16: 4 | Q16: racking worning
A17: ประจำ | B17: 1.0908851e+10 | C17: 0 | D17: 71952435 | E17: 9.2471239e+09 | F17: =+E17*100/B17 -> 84.767164 | G17: 98 | H17: =+F17-G17 -> -13.232836 | I17: 9.3190763e+09 | J17: =+I17*100/B17 -> 85.426742 | K17: 81 | L17: =+J17-K17 -> 4.4267422 | M17: =+B17-I17 -> 1.589775e+09 | Q17: PO เรียกจาก (รายงานเงินกันปี 67)
A18: ลงทุน | B18: 1.8017964e+09 | C18: 0 | D18: 2.6810583e+08 | E18: 1.0974309e+09 | F18: =+E18*100/B18 -> 60.907599 | G18: 75 | H18: =+F18-G18 -> -14.092401 | I18: 1.3655368e+09 | J18: =+I18*100/B18 -> 75.787517 | K18: 74 | L18: =+J18-K18 -> 1.7875174 | M18: =+B18-I18 -> 4.3625964e+08 | N18: 5 | O18: 29
A19: งบประมาณเหลื่อมปี
A20: รายการ | B20: งบประมาณ | C20: สำรองเงิน แบบมีหนี้ เหลื่อมปี | D20: ใบสั่งซื้อ เหลื่อมปี | E20: เบิกจ่าย | F20: ร้อยละ เบิกจ่าย | I20: การใช้จ่าย | J20: ร้อยละ การใช้จ่าย | L20: คงเหลือ สรก. อยู่ระหว่างดำเนินการ | M20: คงเหลือรวม | Q20: 12
A21: ปี 66 | B21: 1.8122523e+09 | C21: 1.5140605e+08 | D21: 5.7219656e+08 | E21: 1.0842574e+09 | F21: =+E21*100/B21 -> 59.829272 | I21: =+D21+E21 -> 1.6564539e+09 | J21: =+I21*100/B21 -> 91.403052 | L21: 4392348.1 | M21: =B21-E21 -> 7.2799496e+08
A22: รายการ | B22: งบประมาณ | C22: สำรองเงิน แบบมีหนี้ เหลื่อมปี | D22: ใบสั่งซื้อ เหลื่อมปี | E22: เบิกจ่าย | F22: ร้อยละ เบิกจ่าย | I22: การใช้จ่าย | J22: ร้อยละ การใช้จ่าย | L22: คงเหลือ สรก. อยู่ระหว่างดำเนินการ | M22: คงเหลือรวม | Q22: 12
A23: ปี 66 | B23: 1812.25 | C23: 1.5140605e+08 | D23: 5.7219656e+08 | E23: 1084.25 | F23: 59.83 | I23: 1656.45 | J23: =+I23*100/B23 -> 91.402952 | L23: 4392348.1 | M23: 728
A24: ที่มา : ระบบการบริหารการเงินการคลังภาครัฐแบบอิเล็กทรอนิกส์ใหม่ (New GFMIS Thai)
A25: ข้อมูล ณ 29 กุมภาพันธ์ 2567 | T25: 4392348.1
H26: =C21+D21+E21+L21 -> 1.8122523e+09 | I26: =B21-E21 -> 7.2799496e+08
A28: รายการ | B28: งบประมาณ | C28: PO | I28: ร้อยละ | J28: เป้าหมาย Q4 | K28: สูงกว่าเป้าหมาย
I29: การใช้จ่าย | K29: ไตรมาส 2
A30: ภาพรวม | B30: =+B31+B32 -> 1.2710648e+10 | C30: =+C31+C32 -> 3.4005826e+08 | I30: =+H30*100/B30 -> 0 | J30: 100 | K30: =+I30-J30 -> -100
A31: ประจำ | B31: =+B17 -> 1.0908851e+10 | C31: =+D17 -> 71952435 | I31: =+H31*100/B31 -> 0 | J31: 100 | K31: =+I31-J31 -> -100
A32: ลงทุน | B32: =+B18 -> 1.8017964e+09 | C32: =D18 -> 2.6810583e+08 | I32: =+H32*100/B32 -> 0 | J32: 100 | K32: =+I32-J32 -> -100
A35: รายการ | B35: งบประมาณ | C35: ผลเบิกจ่าย
A37: ภาพรวม | B37: 2.7561714e+09 | C37: 2.1411871e+09
A38: เงินกู้ | B38: 2.3945595e+09 | C38: 1.804633e+09
A39: -ปี 2563 | B39: 26618196 | C39: 24037520
A40: -ปี 2564 | B40: 1.8079115e+09 | C40: 1.6598534e+09
A41: -ปี 2565 | B41: 560029820 | C41: 120742101
A42: งบกลาง ปี 2564 | B42: 3.6161187e+08 | C42: 3.3655414e+08
A44: งบประมาณ | B44: ผลเบิกจ่าย | C44: ร้อยละเบิกจ่าย
A46: 2272.61 | B46: 1304.35 | C46: 57.394362
A53: งบประมาณ | B53: 31พค65 | C53: 17มิย65 | I53: ล้านบาท
I54: 1.1933253e+09
A55: รวม | B55: 23377.21 | C55: 25633.058 | I55: 2.7725496e+08
A56: ประจำ | B56: 14084.97 | C56: 16258.638 | I56: 2.3887144e+08
A57: ลงทุน | B57: 9292.24 | C57: 9374.4202 | I57: 1.3988455e+08
I58: 92066800
I59: 50191100
I60: 26977000
I61: =SUM(I54:I60) -> 2.0185712e+09
I62: 53357700
A64: ลงตารางรายงานา ผวจ
A65: รายการ | B65: งบประมาณ | C65: ผลเบิกจ่าย
A66: รวม | B66: =+B67+B68 -> 1.2710648e+10 | C66: =+C67+C68 -> 1.0344555e+10
A67: ประจำ | B67: =+B17 -> 1.0908851e+10 | C67: =+E17 -> 9.2471239e+09
A68: ลงทุน | B68: =+B18 -> 1.8017964e+09 | C68: =+E18 -> 1.0974309e+09
A70: รายการ | B70: งบประมาณ | C70: ผลเบิกจ่าย
A72: ภาพรวม | B72: =+#REF! -> #REF! | C72: =+#REF! -> #REF!
A73: เงินกู้ | B73: =+#REF! -> #REF! | C73: =+#REF! -> #REF!
A74: ปี 2563 | B74: =+#REF! -> #REF! | C74: =+#REF! -> #REF!
A75: ปี 2564 | B75: =+#REF! -> #REF! | C75: =+#REF! -> #REF!
A76: ปี 2565 | B76: =+#REF! -> #REF! | C76: =+#REF! -> #REF!
A77: ปี 2566 | B77: =+#REF! -> #REF! | C77: =+#REF! -> #REF!
A78: งบกลาง | B78: =+#REF! -> #REF! | C78: =+#REF! -> #REF!
A79: ปี 2564 | B79: =+#REF! -> #REF! | C79: =+#REF! -> #REF!
A80: ปี 2565 | B80: =+#REF! -> #REF! | C80: =+#REF! -> #REF!
A84: ประชุม กรมการจังหวัด
A85: รายการ | B85: งบประมาณ | C85: เบิกจ่าย | K85: สำรองเงินมีหนี้ | L85: PO
C86: จำนวน | I86: เป้าหมาย | J86: สูงกว่าเป้าหมายร้อยละ
I87: Q 3
I88: ร้อยละ
A89: ภาพรวม | B89: =+B90+B91 -> 1.2710648e+10 | C89: =+C90+C91 -> 1.0344555e+10 | I89: 81.74 | J89: =+H89-I89 -> -81.74 | K89: =+K90+K91 -> 0 | L89: =+L90+L91 -> 3.4005826e+08
A90: ประจำ | B90: =+B17 -> 1.0908851e+10 | C90: =+E17 -> 9.2471239e+09 | I90: 81.76 | J90: =+H90-I90 -> -81.76 | K90: =+C17 -> 0 | L90: =+D17 -> 71952435
A91: ลงทุน | B91: =+B18 -> 1.8017964e+09 | C91: =+E18 -> 1.0974309e+09 | I91: 81.65 | J91: =+H91-I91 -> -81.65 | K91: =+C18 -> 0 | L91: =+D18 -> 2.6810583e+08
A93: ประชุม กรมการ จว
A94: รายการ | B94: งบประมาณ | C94: เบิกจ่าย | K94: สำรองเงิน | L94: PO
C95: จำนวน | K95: มีหนี้
A96: ภาพรวม | B96: =+#REF! -> #REF! | C96: =+#REF! -> #REF! | K96: =+#REF! -> #REF! | L96: =+#REF! -> #REF!
A97: เงินกู้ | B97: =+#REF! -> #REF! | C97: =+#REF! -> #REF! | K97: =+#REF! -> #REF! | L97: =+#REF! -> #REF!
A98: ปี 2563 | B98: =+#REF! -> #REF! | C98: =+#REF! -> #REF! | K98: =+#REF! -> #REF! | L98: =+#REF! -> #REF!
A99: ปี 2564 | B99: =+#REF! -> #REF! | C99: =+#REF! -> #REF! | K99: =+#REF! -> #REF! | L99: =+#REF! -> #REF!
A100: ปี 2565 | B100: =+#REF! -> #REF! | C100: =+#REF! -> #REF! | K100: =+#REF! -> #REF! | L100: =+#REF! -> #REF!
A101: ปี 2566 | B101: =+#REF! -> #REF! | C101: =+#REF! -> #REF! | K101: =+#REF! -> #REF! | L101: =+#REF! -> #REF!
A102: งบกลาง | B102: =+#REF! -> #REF! | C102: =+#REF! -> #REF! | K102: =+#REF! -> #REF! | L102: =+#REF! -> #REF!
A103: ปี 2564 | B103: =+#REF! -> #REF! | C103: =+#REF! -> #REF! | K103: =+#REF! -> #REF! | L103: =+#REF! -> #REF!
A104: ปี 2565 | B104: =+#REF! -> #REF! | C104: =+#REF! -> #REF! | K104: =+#REF! -> #REF! | L104: =+#REF! -> #REF!
A106: กรมจังหวัด
A107: รายการ | B107: งบประมาณ | C107: PO
I108: ร้อยละ | J108: เป้าหมาย | K108: สูงกว่าเป้าหมายร้อยละ
J109: Q 3
J110: ร้อยละ
A111: ภาพรวม | B111: =+B112+B113 -> #REF! | C111: =+C112+C113 -> #REF! | I111: =+H111*100/B111 -> #REF! | J111: 81.74 | K111: =+I111-J111 -> #REF!
A112: ประจำ | B112: =#REF! -> #REF! | C112: =#REF! -> #REF! | I112: =+H112*100/B112 -> #REF! | J112: 81.76 | K112: =+I112-J112 -> #REF!
A113: ลงทุน | B113: =#REF! -> #REF! | C113: =#REF! -> #REF! | I113: =+H113*100/B113 -> #REF! | J113: 81.65 | K113: =+I113-J113 -> #REF!
A116: รายการ | B116: งบประมาณ | C116: สำรองเงิน
C117: มีหนี้
A118: งบประมาณประจำปี พ.ศ. 2565
A119: ภาพรวม | B119: =+B16 -> 1.2710648e+10 | C119: - | I119: 23665.58
A120: ประจำ | B120: =+B17 -> 1.0908851e+10 | C120: - | I120: 15201.216
A121: ลงทุน | B121: =+B18 -> 1.8017964e+09 | C121: - | I121: 8464.3638
A122: งบประมาณกันไว้เบิกเหลื่อมปี
...

Sheet เป้าหมายปี 11 03 67
A1: เป้าหมายการใช้จ่ายงบประมาณ ประจำปีงบประมาณ พ.ศ. 2566 ไปพลางก่อน (ต.ค. 66 - พ.ค. 67)
A2: รายการ | B2: เป้าหมายการใช้จ่ายงบประมาณ (ร้อยละ)
B3: ไตรมาสที่ 1 | D3: ไตรมาสที่ 2 | F3: ไตรมาสที่ 3
A4: ภาพรวม | B4: 47 | D4: 80 | F4: 100
A5: ประจำ | B5: 48 | D5: 81 | F5: 100
A6: ลงทุน | B6: 39 | D6: 74 | F6: 100
A7: ผลการใช้จ่ายงบประมาณรายจ่าย ประจำปีงบประมาณ พ.ศ. 2566 ไปพลางก่อน | M7: ข้อมูล ณ วันที่ 08 มีนาคม 2567
A8: รายการ | B8: งบประมาณ | C8: สำรองเงินมีหนี้ | D8: PO+สำรองมีหนี้ | E8: เบิกจ่าย | F8: ร้อยละ เบิกจ่าย | G8: เป้าหมาย Q4 | H8: */- เป้าหมาย | I8: การใช้จ่าย (PO+เบิกจ่าย+สำรองมีหนี้) | J8: ร้อยละ การใช้จ่าย | K8: เป้าหมาย Q2 | L8: */- เป้าหมาย | M8: คงเหลือ หลังหักใช้จ่าย | N8: ลำดับเบิกจ่าย | O8: ลำดับ ใช้จ่าย
A9: งบประมาณรายจ่ายประจำปี พ.ศ.2566 ไปพลางก่อน (ภาพรวมทั้งประเทศ)
A10: ภาพรวม | B10: =+B11+B12 -> 229469.98 | D10: =+D11+D12 -> 11538.245 | E10: =+E11+E12 -> 167259.84 | F10: =+E10*100/B10 -> 72.889637 | G10: 93 | H10: =+F10-G10 -> -20.110363 | I10: =+I11+I12 -> 178798.08 | J10: =+I10*100/B10 -> 77.917852 | K10: 80 | L10: =+J10-K10 -> -2.0821476 | M10: =+B10-I10 -> 50671.901
A11: ประจำ | B11: 193221.45 | D11: 1451.8511 | E11: 150048.44 | F11: =+E11*100/B11 -> 77.656202 | G11: 98 | H11: =+F11-G11 -> -20.343798 | I11: 151500.29 | J11: =+I11*100/B11 -> 78.407594 | K11: 81 | L11: =+J11-K11 -> -2.5924057 | M11: =+B11-I11 -> 41721.158 | Q11: =+D11+E11 -> 151500.29
A12: ลงทุน | B12: 36248.538 | D12: 10086.393 | E12: 17211.403 | F12: =+E12*100/B12 -> 47.481646 | G12: 75 | H12: =+F12-G12 -> -27.518354 | I12: 27297.796 | J12: =+I12*100/B12 -> 75.307302 | K12: 74 | L12: =+J12-K12 -> 1.3073019 | M12: =+B12-I12 -> 8950.7422 | Q12: =+D12+E12 -> 27297.796
A13: ผลการใช้จ่ายงบประมาณรายจ่ายจังหวัดเชียงใหม่ ประจำปีงบประมาณ พ.ศ. 2566 ไปพลางก่อน | M13: ข้อมูล ณ วันที่ 11 มีนาคม 2567
A14: รายการ | B14: งบประมาณ | C14: สำรองเงินมีหนี้ | D14: PO | E14: เบิกจ่าย | F14: ร้อยละ เบิกจ่าย | G14: เป้าหมาย Q4 | H14: =+F14-G14 -> #VALUE! | I14: การใช้จ่าย (PO+เบิกจ่าย+สำรองมีหนี้) | J14: ร้อยละ การใช้จ่าย | K14: เป้าหมาย Q2 | L14: */- เป้าหมาย | M14: คงเหลือ หลังหักใช้จ่าย | N14: ลำดับเบิกจ่าย | O14: ลำดับ ใช้จ่าย | Q14: 9 สรุปผลการใช้จ่าย A08 รวม ปจ ลท 66
A15: งบประมาณรายจ่ายประจำปี พ.ศ.2566 ไปพลางก่อน (จังหวัดเชียงใหม่)
A16: ภาพรวม | B16: =+B17+B18 -> 1.3036932e+10 | C16: =+C17+C18 -> 0 | D16: =+D17+D18 -> 3.7467093e+08 | E16: =+E17+E18 -> 1.0343975e+10 | F16: =+E16*100/B16 -> 79.343629 | G16: 93 | H16: =+F16-G16 -> -13.656371 | I16: =+C16+D16+E16 -> 1.0718646e+10 | J16: =+I16*100/B16 -> 82.217549 | K16: 80 | L16: =+J16-K16 -> 2.2175489 | M16: =+B16-I16 -> 2.318286e+09 | N16: 4 | O16: 4 | Q16: racking worning
A17: ประจำ | B17: 1.1203139e+10 | C17: 0 | D17: 92927997 | E17: 9246544733 | F17: =+E17*100/B17 -> 82.535305 | G17: 98 | H17: =+F17-G17 -> -15.464695 | I17: 9.3394727e+09 | J17: =+I17*100/B17 -> 83.364787 | K17: 81 | L17: =+J17-K17 -> 2.3647872 | M17: =+B17-I17 -> 1.863666e+09 | Q17: PO เรียกจาก (รายงานเงินกันปี 67)
A18: ลงทุน | B18: 1.8337931e+09 | C18: 0 | D18: 2.8174293e+08 | E18: 1.0974301e+09 | F18: =+E18*100/B18 -> 59.844817 | G18: 75 | H18: =+F18-G18 -> -15.155183 | I18: 1.3791731e+09 | J18: =+I18*100/B18 -> 75.20876 | K18: 74 | L18: =+J18-K18 -> 1.2087598 | M18: =+B18-I18 -> 4.5462006e+08 | N18: 4 | O18: 33
A19: งบประมาณเหลื่อมปี
A20: รายการ | B20: งบประมาณ | C20: สำรองเงิน แบบมีหนี้ เหลื่อมปี | D20: ใบสั่งซื้อ เหลื่อมปี | E20: เบิกจ่าย | F20: ร้อยละ เบิกจ่าย | I20: การใช้จ่าย | J20: ร้อยละ การใช้จ่าย | L20: คงเหลือ สรก. อยู่ระหว่างดำเนินการ | M20: คงเหลือรวม | Q20: 12
A21: ปี 66 | B21: 1.8122329e+09 | C21: 1.0855017e+08 | D21: 5.9032211e+08 | E21: 1.1089877e+09 | F21: =+E21*100/B21 -> 61.194546 | I21: =+D21+E21 -> 1.6993098e+09 | J21: =+I21*100/B21 -> 93.768841 | L21: 4372943.5 | M21: =B21-E21 -> 7.0324522e+08
A22: รายการ | B22: งบประมาณ | C22: สำรองเงิน แบบมีหนี้ เหลื่อมปี | D22: ใบสั่งซื้อ เหลื่อมปี | E22: เบิกจ่าย | F22: ร้อยละ เบิกจ่าย | I22: การใช้จ่าย | J22: ร้อยละ การใช้จ่าย | L22: คงเหลือ สรก. อยู่ระหว่างดำเนินการ | M22: คงเหลือรวม | Q22: 12
A23: ปี 66 | B23: 1.8122329e+09 | C23: 1.0855017e+08 | D23: 5.9032211e+08 | E23: 1.1089877e+09 | F23: =+E23*100/B23 -> 61.194546 | I23: =+D23+E23 -> 1.6993098e+09 | J23: =+I23*100/B23 -> 93.768841 | L23: 4372943.5 | M23: 703.24
A24: ที่มา : ระบบการบริหารการเงินการคลังภาครัฐแบบอิเล็กทรอนิกส์ใหม่ (New GFMIS Thai)
A25: ข้อมูล ณ 11 มีนาคม 2567 | T25: 4392348.1
H26: =C21+D21+E21+L21 -> 1.8122329e+09 | I26: =B21-E21 -> 7.0324522e+08
A28: รายการ | B28: งบประมาณ | C28: PO | I28: ร้อยละ | J28: เป้าหมาย Q4 | K28: สูงกว่าเป้าหมาย
I29: การใช้จ่าย | K29: ไตรมาส 2
A30: ภาพรวม | B30: =+B31+B32 -> 1.3036932e+10 | C30: =+C31+C32 -> 3.7467093e+08 | I30: =+H30*100/B30 -> 0 | J30: 100 | K30: =+I30-J30 -> -100
A31: ประจำ | B31: =+B17 -> 1.1203139e+10 | C31: =+D17 -> 92927997 | I31: =+H31*100/B31 -> 0 | J31: 100 | K31: =+I31-J31 -> -100
A32: ลงทุน | B32: =+B18 -> 1.8337931e+09 | C32: =D18 -> 2.8174293e+08 | I32: =+H32*100/B32 -> 0 | J32: 100 | K32: =+I32-J32 -> -100
A35: รายการ | B35: งบประมาณ | C35: ผลเบิกจ่าย
A37: ภาพรวม | B37: 2.7561714e+09 | C37: 2.1411871e+09
A38: เงินกู้ | B38: 2.3945595e+09 | C38: 1.804633e+09
A39: -ปี 2563 | B39: 26618196 | C39: 24037520
A40: -ปี 2564 | B40: 1.8079115e+09 | C40: 1.6598534e+09
A41: -ปี 2565 | B41: 560029820 | C41: 120742101
A42: งบกลาง ปี 2564 | B42: 3.6161187e+08 | C42: 3.3655414e+08
A44: งบประมาณ | B44: ผลเบิกจ่าย | C44: ร้อยละเบิกจ่าย
A46: 2272.61 | B46: 1304.35 | C46: 57.394362
A53: งบประมาณ | B53: 31พค65 | C53: 17มิย65 | I53: ล้านบาท
I54: 1.1933253e+09
A55: รวม | B55: 23377.21 | C55: 25633.058 | I55: 2.7725496e+08
A56: ประจำ | B56: 14084.97 | C56: 16258.638 | I56: 2.3887144e+08
A57: ลงทุน | B57: 9292.24 | C57: 9374.4202 | I57: 1.3988455e+08
I58: 92066800
I59: 50191100
I60: 26977000
I61: =SUM(I54:I60) -> 2.0185712e+09
I62: 53357700
A64: ลงตารางรายงานา ผวจ
A65: รายการ | B65: งบประมาณ | C65: ผลเบิกจ่าย
A66: รวม | B66: =+B67+B68 -> 1.3036932e+10 | C66: =+C67+C68 -> 1.0343975e+10
A67: ประจำ | B67: =+B17 -> 1.1203139e+10 | C67: =+E17 -> 9246544733
A68: ลงทุน | B68: =+B18 -> 1.8337931e+09 | C68: =+E18 -> 1.0974301e+09
A70: รายการ | B70: งบประมาณ | C70: ผลเบิกจ่าย
A72: ภาพรวม | B72: =+#REF! -> #REF! | C72: =+#REF! -> #REF!
A73: เงินกู้ | B73: =+#REF! -> #REF! | C73: =+#REF! -> #REF!
A74: ปี 2563 | B74: =+#REF! -> #REF! | C74: =+#REF! -> #REF!
A75: ปี 2564 | B75: =+#REF! -> #REF! | C75: =+#REF! -> #REF!
A76: ปี 2565 | B76: =+#REF! -> #REF! | C76: =+#REF! -> #REF!
A77: ปี 2566 | B77: =+#REF! -> #REF! | C77: =+#REF! -> #REF!
A78: งบกลาง | B78: =+#REF! -> #REF! | C78: =+#REF! -> #REF!
A79: ปี 2564 | B79: =+#REF! -> #REF! | C79: =+#REF! -> #REF!
A80: ปี 2565 | B80: =+#REF! -> #REF! | C80: =+#REF! -> #REF!
A84: ประชุม กรมการจังหวัด
A85: รายการ | B85: งบประมาณ | C85: เบิกจ่าย | K85: สำรองเงินมีหนี้ | L85: PO
C86: จำนวน | I86: เป้าหมาย | J86: สูงกว่าเป้าหมายร้อยละ
I87: Q 3
I88: ร้อยละ
A89: ภาพรวม | B89: =+B90+B91 -> 1.3036932e+10 | C89: =+C90+C91 -> 1.0343975e+10 | I89: 81.74 | J89: =+H89-I89 -> -81.74 | K89: =+K90+K91 -> 0 | L89: =+L90+L91 -> 3.7467093e+08
A90: ประจำ | B90: =+B17 -> 1.1203139e+10 | C90: =+E17 -> 9246544733 | I90: 81.76 | J90: =+H90-I90 -> -81.76 | K90: =+C17 -> 0 | L90: =+D17 -> 92927997
A91: ลงทุน | B91: =+B18 -> 1.8337931e+09 | C91: =+E18 -> 1.0974301e+09 | I91: 81.65 | J91: =+H91-I91 -> -81.65 | K91: =+C18 -> 0 | L91: =+D18 -> 2.8174293e+08
A93: ประชุม กรมการ จว
A94: รายการ | B94: งบประมาณ | C94: เบิกจ่าย | K94: สำรองเงิน | L94: PO
C95: จำนวน | K95: มีหนี้
A96: ภาพรวม | B96: =+#REF! -> #REF! | C96: =+#REF! -> #REF! | K96: =+#REF! -> #REF! | L96: =+#REF! -> #REF!
A97: เงินกู้ | B97: =+#REF! -> #REF! | C97: =+#REF! -> #REF! | K97: =+#REF! -> #REF! | L97: =+#REF! -> #REF!
A98: ปี 2563 | B98: =+#REF! -> #REF! | C98: =+#REF! -> #REF! | K98: =+#REF! -> #REF! | L98: =+#REF! -> #REF!
A99: ปี 2564 | B99: =+#REF! -> #REF! | C99: =+#REF! -> #REF! | K99: =+#REF! -> #REF! | L99: =+#REF! -> #REF!
A100: ปี 2565 | B100: =+#REF! -> #REF! | C100: =+#REF! -> #REF! | K100: =+#REF! -> #REF! | L100: =+#REF! -> #REF!
A101: ปี 2566 | B101: =+#REF! -> #REF! | C101: =+#REF! -> #REF! | K101: =+#REF! -> #REF! | L101: =+#REF! -> #REF!
A102: งบกลาง | B102: =+#REF! -> #REF! | C102: =+#REF! -> #REF! | K102: =+#REF! -> #REF! | L102: =+#REF! -> #REF!
A103: ปี 2564 | B103: =+#REF! -> #REF! | C103: =+#REF! -> #REF! | K103: =+#REF! -> #REF! | L103: =+#REF! -> #REF!
A104: ปี 2565 | B104: =+#REF! -> #REF! | C104: =+#REF! -> #REF! | K104: =+#REF! -> #REF! | L104: =+#REF! -> #REF!
A106: กรมจังหวัด
A107: รายการ | B107: งบประมาณ | C107: PO
I108: ร้อยละ | J108: เป้าหมาย | K108: สูงกว่าเป้าหมายร้อยละ
J109: Q 3
J110: ร้อยละ
A111: ภาพรวม | B111: =+B112+B113 -> #REF! | C111: =+C112+C113 -> #REF! | I111: =+H111*100/B111 -> #REF! | J111: 81.74 | K111: =+I111-J111 -> #REF!
A112: ประจำ | B112: =#REF! -> #REF! | C112: =#REF! -> #REF! | I112: =+H112*100/B112 -> #REF! | J112: 81.76 | K112: =+I112-J112 -> #REF!
A113: ลงทุน | B113: =#REF! -> #REF! | C113: =#REF! -> #REF! | I113: =+H113*100/B113 -> #REF! | J113: 81.65 | K113: =+I113-J113 -> #REF!
A116: รายการ | B116: งบประมาณ | C116: สำรองเงิน
C117: มีหนี้
A118: งบประมาณประจำปี พ.ศ. 2565
A119: ภาพรวม | B119: =+B16 -> 1.3036932e+10 | C119: - | I119: 23665.58
A120: ประจำ | B120: =+B17 -> 1.1203139e+10 | C120: - | I120: 15201.216
A121: ลงทุน | B121: =+B18 -> 1.8337931e+09 | C121: - | I121: 8464.3638
A122: งบประมาณกันไว้เบิกเหลื่อมปี
...

Sheet เป้าหมายปี 21 03 67
A1: เป้าหมายการใช้จ่ายงบประมาณ ประจำปีงบประมาณ พ.ศ. 2566 ไปพลางก่อน (ต.ค. 66 - พ.ค. 67)
A2: รายการ | B2: เป้าหมายการใช้จ่ายงบประมาณ (ร้อยละ)
B3: ไตรมาสที่ 1 | D3: ไตรมาสที่ 2 | F3: ไตรมาสที่ 3
A4: ภาพรวม | B4: 47 | D4: 80 | F4: 100
A5: ประจำ | B5: 48 | D5: 81 | F5: 100
A6: ลงทุน | B6: 39 | D6: 74 | F6: 100
A7: ผลการใช้จ่ายงบประมาณรายจ่าย ประจำปีงบประมาณ พ.ศ. 2566 ไปพลางก่อน | M7: ข้อมูล ณ วันที่ 15 มีนาคม 2567
A8: รายการ | B8: งบประมาณ | C8: สำรองเงินมีหนี้ | D8: PO+สำรองมีหนี้ | E8: เบิกจ่าย | F8: ร้อยละ เบิกจ่าย | G8: เป้าหมาย Q4 | H8: */- เป้าหมาย | I8: การใช้จ่าย (PO+เบิกจ่าย+สำรองมีหนี้) | J8: ร้อยละ การใช้จ่าย | K8: เป้าหมาย Q2 | L8: */- เป้าหมาย | M8: คงเหลือ หลังหักใช้จ่าย | N8: ลำดับเบิกจ่าย | O8: ลำดับ ใช้จ่าย
A9: งบประมาณรายจ่ายประจำปี พ.ศ.2566 ไปพลางก่อน (ภาพรวมทั้งประเทศ)
A10: ภาพรวม | B10: =+B11+B12 -> 229469.98 | D10: =+D11+D12 -> 11538.245 | E10: =+E11+E12 -> 167259.84 | F10: =+E10*100/B10 -> 72.889637 | G10: 93 | H10: =+F10-G10 -> -20.110363 | I10: =+I11+I12 -> 178798.08 | J10: =+I10*100/B10 -> 77.917852 | K10: 80 | L10: =+J10-K10 -> -2.0821476 | M10: =+B10-I10 -> 50671.901
A11: ประจำ | B11: 193221.45 | D11: 1451.8511 | E11: 150048.44 | F11: =+E11*100/B11 -> 77.656202 | G11: 98 | H11: =+F11-G11 -> -20.343798 | I11: 151500.29 | J11: =+I11*100/B11 -> 78.407594 | K11: 81 | L11: =+J11-K11 -> -2.5924057 | M11: =+B11-I11 -> 41721.158 | Q11: =+D11+E11 -> 151500.29
A12: ลงทุน | B12: 36248.538 | D12: 10086.393 | E12: 17211.403 | F12: =+E12*100/B12 -> 47.481646 | G12: 75 | H12: =+F12-G12 -> -27.518354 | I12: 27297.796 | J12: =+I12*100/B12 -> 75.307302 | K12: 74 | L12: =+J12-K12 -> 1.3073019 | M12: =+B12-I12 -> 8950.7422 | Q12: =+D12+E12 -> 27297.796
A13: ผลการใช้จ่ายงบประมาณรายจ่ายจังหวัดเชียงใหม่ ประจำปีงบประมาณ พ.ศ. 2566 ไปพลางก่อน | M13: ข้อมูล ณ วันที่ 21 มีนาคม 2567
A14: รายการ | B14: งบประมาณ | C14: สำรองเงินมีหนี้ | D14: PO | E14: เบิกจ่าย | F14: ร้อยละ เบิกจ่าย | G14: เป้าหมาย Q4 | H14: =+F14-G14 -> #VALUE! | I14: การใช้จ่าย (PO+เบิกจ่าย+สำรองมีหนี้) | J14: ร้อยละ การใช้จ่าย | K14: เป้าหมาย Q2 | L14: */- เป้าหมาย | M14: คงเหลือ หลังหักใช้จ่าย | N14: ลำดับเบิกจ่าย | O14: ลำดับ ใช้จ่าย | Q14: 9 สรุปผลการใช้จ่าย A08 รวม ปจ ลท 66
A15: งบประมาณรายจ่ายประจำปี พ.ศ.2566 ไปพลางก่อน (จังหวัดเชียงใหม่)
A16: ภาพรวม | B16: =+B17+B18 -> 1.3470047e+10 | C16: =+C17+C18 -> 0 | D16: =+D17+D18 -> 4.111879e+08 | E16: =+E17+E18 -> 1.0343975e+10 | F16: =+E16*100/B16 -> 76.79242 | G16: 93 | H16: =+F16-G16 -> -16.20758 | I16: =+C16+D16+E16 -> 1.0755163e+10 | J16: =+I16*100/B16 -> 79.845029 | K16: 80 | L16: =+J16-K16 -> -0.15497122 | M16: =+B16-I16 -> 2.7148841e+09 | Q16: racking worning
A17: ประจำ | B17: 1.1541216e+10 | C17: 0 | D17: 1.0661346e+08 | E17: 9246544733 | F17: =+E17*100/B17 -> 80.117597 | G17: 98 | H17: =+F17-G17 -> -17.882403 | I17: 9.3531582e+09 | J17: =+I17*100/B17 -> 81.04136 | K17: 81 | L17: =+J17-K17 -> 0.041359651 | M17: =+B17-I17 -> 2.1880576e+09 | Q17: PO เรียกจาก (รายงานเงินกันปี 67)
A18: ลงทุน | B18: 1.928831e+09 | C18: 0 | D18: 3.0457443e+08 | E18: 1.0974301e+09 | F18: =+E18*100/B18 -> 56.896126 | G18: 75 | H18: =+F18-G18 -> -18.103874 | I18: 1.4020046e+09 | J18: =+I18*100/B18 -> 72.686749 | K18: 74 | L18: =+J18-K18 -> -1.3132513 | M18: =+B18-I18 -> 5.2682647e+08
A19: งบประมาณเหลื่อมปี
A20: รายการ | B20: งบประมาณ | C20: สำรองเงิน แบบมีหนี้ เหลื่อมปี | D20: ใบสั่งซื้อ เหลื่อมปี | E20: เบิกจ่าย | F20: ร้อยละ เบิกจ่าย | I20: การใช้จ่าย | J20: ร้อยละ การใช้จ่าย | L20: คงเหลือ สรก. อยู่ระหว่างดำเนินการ | M20: คงเหลือรวม | Q20: 12
A21: ปี 66 | B21: 1.8122329e+09 | C21: 1.0387151e+08 | D21: 5.4400117e+08 | E21: 1.1599849e+09 | F21: =+E21*100/B21 -> 64.008598 | I21: =+D21+E21 -> 1.7039861e+09 | J21: =+I21*100/B21 -> 94.02688 | L21: 4375350.5 | M21: =B21-E21 -> 6.5224803e+08
A22: รายการ | B22: งบประมาณ | C22: สำรองเงิน แบบมีหนี้ เหลื่อมปี | D22: ใบสั่งซื้อ เหลื่อมปี | E22: เบิกจ่าย | F22: ร้อยละ เบิกจ่าย | I22: การใช้จ่าย | J22: ร้อยละ การใช้จ่าย | L22: คงเหลือ สรก. อยู่ระหว่างดำเนินการ | M22: คงเหลือรวม | Q22: 12
A23: ปี 66 | B23: 1.8122329e+09 | C23: 1.0387151e+08 | D23: 5.4400117e+08 | E23: 1.1599849e+09 | F23: =+E23*100/B23 -> 64.008598 | I23: =+D23+E23 -> 1.7039861e+09 | J23: =+I23*100/B23 -> 94.02688 | L23: 4375350.5 | M23: =B23-E23 -> 6.5224803e+08
A24: ที่มา : ระบบการบริหารการเงินการคลังภาครัฐแบบอิเล็กทรอนิกส์ใหม่ (New GFMIS Thai)
A25: ข้อมูล ณ 11 มีนาคม 2567 | T25: 4392348.1
H26: =C21+D21+E21+L21 -> 1.8122329e+09 | I26: =B21-E21 -> 6.5224803e+08
A28: รายการ | B28: งบประมาณ | C28: PO | I28: ร้อยละ | J28: เป้าหมาย Q4 | K28: สูงกว่าเป้าหมาย
I29: การใช้จ่าย | K29: ไตรมาส 2
A30: ภาพรวม | B30: =+B31+B32 -> 1.3470047e+10 | C30: =+C31+C32 -> 4.111879e+08 | I30: =+H30*100/B30 -> 0 | J30: 100 | K30: =+I30-J30 -> -100
A31: ประจำ | B31: =+B17 -> 1.1541216e+10 | C31: =+D17 -> 1.0661346e+08 | I31: =+H31*100/B31 -> 0 | J31: 100 | K31: =+I31-J31 -> -100
A32: ลงทุน | B32: =+B18 -> 1.928831e+09 | C32: =D18 -> 3.0457443e+08 | I32: =+H32*100/B32 -> 0 | J32: 100 | K32: =+I32-J32 -> -100
A35: รายการ | B35: งบประมาณ | C35: ผลเบิกจ่าย
A37: ภาพรวม | B37: 2.7561714e+09 | C37: 2.1411871e+09
A38: เงินกู้ | B38: 2.3945595e+09 | C38: 1.804633e+09
A39: -ปี 2563 | B39: 26618196 | C39: 24037520
A40: -ปี 2564 | B40: 1.8079115e+09 | C40: 1.6598534e+09
A41: -ปี 2565 | B41: 560029820 | C41: 120742101
A42: งบกลาง ปี 2564 | B42: 3.6161187e+08 | C42: 3.3655414e+08
A44: งบประมาณ | B44: ผลเบิกจ่าย | C44: ร้อยละเบิกจ่าย
A46: 2272.61 | B46: 1304.35 | C46: 57.394362
A53: งบประมาณ | B53: 31พค65 | C53: 17มิย65 | I53: ล้านบาท
I54: 1.1933253e+09
A55: รวม | B55: 23377.21 | C55: 25633.058 | I55: 2.7725496e+08
A56: ประจำ | B56: 14084.97 | C56: 16258.638 | I56: 2.3887144e+08
A57: ลงทุน | B57: 9292.24 | C57: 9374.4202 | I57: 1.3988455e+08
I58: 92066800
I59: 50191100
I60: 26977000
I61: =SUM(I54:I60) -> 2.0185712e+09
I62: 53357700
A64: ลงตารางรายงานา ผวจ
A65: รายการ | B65: งบประมาณ | C65: ผลเบิกจ่าย
A66: รวม | B66: =+B67+B68 -> 1.3470047e+10 | C66: =+C67+C68 -> 1.0343975e+10
A67: ประจำ | B67: =+B17 -> 1.1541216e+10 | C67: =+E17 -> 9246544733
A68: ลงทุน | B68: =+B18 -> 1.928831e+09 | C68: =+E18 -> 1.0974301e+09
A70: รายการ | B70: งบประมาณ | C70: ผลเบิกจ่าย
A72: ภาพรวม | B72: =+#REF! -> #REF! | C72: =+#REF! -> #REF!
A73: เงินกู้ | B73: =+#REF! -> #REF! | C73: =+#REF! -> #REF!
A74: ปี 2563 | B74: =+#REF! -> #REF! | C74: =+#REF! -> #REF!
A75: ปี 2564 | B75: =+#REF! -> #REF! | C75: =+#REF! -> #REF!
A76: ปี 2565 | B76: =+#REF! -> #REF! | C76: =+#REF! -> #REF!
A77: ปี 2566 | B77: =+#REF! -> #REF! | C77: =+#REF! -> #REF!
A78: งบกลาง | B78: =+#REF! -> #REF! | C78: =+#REF! -> #REF!
A79: ปี 2564 | B79: =+#REF! -> #REF! | C79: =+#REF! -> #REF!
A80: ปี 2565 | B80: =+#REF! -> #REF! | C80: =+#REF! -> #REF!
A84: ประชุม กรมการจังหวัด
A85: รายการ | B85: งบประมาณ | C85: เบิกจ่าย | K85: สำรองเงินมีหนี้ | L85: PO
C86: จำนวน | I86: เป้าหมาย | J86: สูงกว่าเป้าหมายร้อยละ
I87: Q 3
I88: ร้อยละ
A89: ภาพรวม | B89: =+B90+B91 -> 1.3470047e+10 | C89: =+C90+C91 -> 1.0343975e+10 | I89: 81.74 | J89: =+H89-I89 -> -81.74 | K89: =+K90+K91 -> 0 | L89: =+L90+L91 -> 4.111879e+08
A90: ประจำ | B90: =+B17 -> 1.1541216e+10 | C90: =+E17 -> 9246544733 | I90: 81.76 | J90: =+H90-I90 -> -81.76 | K90: =+C17 -> 0 | L90: =+D17 -> 1.0661346e+08
A91: ลงทุน | B91: =+B18 -> 1.928831e+09 | C91: =+E18 -> 1.0974301e+09 | I91: 81.65 | J91: =+H91-I91 -> -81.65 | K91: =+C18 -> 0 | L91: =+D18 -> 3.0457443e+08
A93: ประชุม กรมการ จว
A94: รายการ | B94: งบประมาณ | C94: เบิกจ่าย | K94: สำรองเงิน | L94: PO
C95: จำนวน | K95: มีหนี้
A96: ภาพรวม | B96: =+#REF! -> #REF! | C96: =+#REF! -> #REF! | K96: =+#REF! -> #REF! | L96: =+#REF! -> #REF!
A97: เงินกู้ | B97: =+#REF! -> #REF! | C97: =+#REF! -> #REF! | K97: =+#REF! -> #REF! | L97: =+#REF! -> #REF!
A98: ปี 2563 | B98: =+#REF! -> #REF! | C98: =+#REF! -> #REF! | K98: =+#REF! -> #REF! | L98: =+#REF! -> #REF!
A99: ปี 2564 | B99: =+#REF! -> #REF! | C99: =+#REF! -> #REF! | K99: =+#REF! -> #REF! | L99: =+#REF! -> #REF!
A100: ปี 2565 | B100: =+#REF! -> #REF! | C100: =+#REF! -> #REF! | K100: =+#REF! -> #REF! | L100: =+#REF! -> #REF!
A101: ปี 2566 | B101: =+#REF! -> #REF! | C101: =+#REF! -> #REF! | K101: =+#REF! -> #REF! | L101: =+#REF! -> #REF!
A102: งบกลาง | B102: =+#REF! -> #REF! | C102: =+#REF! -> #REF! | K102: =+#REF! -> #REF! | L102: =+#REF! -> #REF!
A103: ปี 2564 | B103: =+#REF! -> #REF! | C103: =+#REF! -> #REF! | K103: =+#REF! -> #REF! | L103: =+#REF! -> #REF!
A104: ปี 2565 | B104: =+#REF! -> #REF! | C104: =+#REF! -> #REF! | K104: =+#REF! -> #REF! | L104: =+#REF! -> #REF!
A106: กรมจังหวัด
A107: รายการ | B107: งบประมาณ | C107: PO
I108: ร้อยละ | J108: เป้าหมาย | K108: สูงกว่าเป้าหมายร้อยละ
J109: Q 3
J110: ร้อยละ
A111: ภาพรวม | B111: =+B112+B113 -> #REF! | C111: =+C112+C113 -> #REF! | I111: =+H111*100/B111 -> #REF! | J111: 81.74 | K111: =+I111-J111 -> #REF!
A112: ประจำ | B112: =#REF! -> #REF! | C112: =#REF! -> #REF! | I112: =+H112*100/B112 -> #REF! | J112: 81.76 | K112: =+I112-J112 -> #REF!
A113: ลงทุน | B113: =#REF! -> #REF! | C113: =#REF! -> #REF! | I113: =+H113*100/B113 -> #REF! | J113: 81.65 | K113: =+I113-J113 -> #REF!
A116: รายการ | B116: งบประมาณ | C116: สำรองเงิน
C117: มีหนี้
A118: งบประมาณประจำปี พ.ศ. 2565
A119: ภาพรวม | B119: =+B16 -> 1.3470047e+10 | C119: - | I119: 23665.58
A120: ประจำ | B120: =+B17 -> 1.1541216e+10 | C120: - | I120: 15201.216
A121: ลงทุน | B121: =+B18 -> 1.928831e+09 | C121: - | I121: 8464.3638
A122: งบประมาณกันไว้เบิกเหลื่อมปี
...

Sheet เป้าหมายปี 31 03 67
A1: เป้าหมายการใช้จ่ายงบประมาณ ประจำปีงบประมาณ พ.ศ. 2566 ไปพลางก่อน (ต.ค. 66 - พ.ค. 67)
A2: รายการ | B2: เป้าหมายการใช้จ่ายงบประมาณ (ร้อยละ)
B3: ไตรมาสที่ 1 | D3: ไตรมาสที่ 2 | F3: ไตรมาสที่ 3
A4: ภาพรวม | B4: 47 | D4: 80 | F4: 100
A5: ประจำ | B5: 48 | D5: 81 | F5: 100
A6: ลงทุน | B6: 39 | D6: 74 | F6: 100
A7: ผลการใช้จ่ายงบประมาณรายจ่าย ประจำปีงบประมาณ พ.ศ. 2566 ไปพลางก่อน | M7: ข้อมูล ณ วันที่ 31 มีนาคม 2567
A8: รายการ | B8: งบประมาณ | C8: สำรองเงินมีหนี้ | D8: PO+สำรองมีหนี้ | E8: เบิกจ่าย | F8: ร้อยละ เบิกจ่าย | G8: เป้าหมาย Q4 | H8: */- เป้าหมาย | I8: การใช้จ่าย (PO+เบิกจ่าย+สำรองมีหนี้) | J8: ร้อยละ การใช้จ่าย | K8: เป้าหมาย Q2 | L8: */- เป้าหมาย | M8: คงเหลือ หลังหักใช้จ่าย | N8: ลำดับเบิกจ่าย | O8: ลำดับ ใช้จ่าย
A9: งบประมาณรายจ่ายประจำปี พ.ศ.2566 ไปพลางก่อน (ภาพรวมทั้งประเทศ)
A10: ภาพรวม | B10: =+B11+B12 -> 229469.98 | D10: =+D11+D12 -> 11538.245 | E10: =+E11+E12 -> 167259.84 | F10: =+E10*100/B10 -> 72.889637 | G10: 93 | H10: =+F10-G10 -> -20.110363 | I10: =+I11+I12 -> 178798.08 | J10: =+I10*100/B10 -> 77.917852 | K10: 80 | L10: =+J10-K10 -> -2.0821476 | M10: =+B10-I10 -> 50671.901
A11: ประจำ | B11: 193221.45 | D11: 1451.8511 | E11: 150048.44 | F11: =+E11*100/B11 -> 77.656202 | G11: 98 | H11: =+F11-G11 -> -20.343798 | I11: 151500.29 | J11: =+I11*100/B11 -> 78.407594 | K11: 81 | L11: =+J11-K11 -> -2.5924057 | M11: =+B11-I11 -> 41721.158 | Q11: =+D11+E11 -> 151500.29
A12: ลงทุน | B12: 36248.538 | D12: 10086.393 | E12: 17211.403 | F12: =+E12*100/B12 -> 47.481646 | G12: 75 | H12: =+F12-G12 -> -27.518354 | I12: 27297.796 | J12: =+I12*100/B12 -> 75.307302 | K12: 74 | L12: =+J12-K12 -> 1.3073019 | M12: =+B12-I12 -> 8950.7422 | Q12: =+D12+E12 -> 27297.796
A13: ผลการใช้จ่ายงบประมาณรายจ่ายจังหวัดเชียงใหม่ ประจำปีงบประมาณ พ.ศ. 2566 ไปพลางก่อน | M13: ข้อมูล ณ วันที่ 31 มีนาคม 2567
A14: รายการ | B14: งบประมาณ | C14: สำรองเงินมีหนี้ | D14: PO | E14: เบิกจ่าย | F14: ร้อยละ เบิกจ่าย | G14: เป้าหมาย Q4 | H14: =+F14-G14 -> #VALUE! | I14: การใช้จ่าย (PO+เบิกจ่าย+สำรองมีหนี้) | J14: ร้อยละ การใช้จ่าย | K14: เป้าหมาย Q2 | L14: */- เป้าหมาย | M14: คงเหลือ หลังหักใช้จ่าย | N14: ลำดับเบิกจ่าย | O14: ลำดับ ใช้จ่าย | Q14: 9 สรุปผลการใช้จ่าย A08 รวม ปจ ลท 66
A15: งบประมาณรายจ่ายประจำปี พ.ศ.2566 ไปพลางก่อน (จังหวัดเชียงใหม่)
A16: ภาพรวม | B16: =+B17+B18 -> 1.356923e+10 | C16: =+C17+C18 -> 0 | D16: =+D17+D18 -> 3.7623719e+08 | E16: =+E17+E18 -> 1.1611541e+10 | F16: =+E16*100/B16 -> 85.572585 | G16: 93 | H16: =+F16-G16 -> -7.4274154 | I16: =+C16+D16+E16 -> 11987778043 | J16: =+I16*100/B16 -> 88.345308 | K16: 80 | L16: =+J16-K16 -> 8.3453078 | M16: =+B16-I16 -> 1.581452e+09 | Q16: racking worning
A17: ประจำ | B17: 1.1636663e+10 | C17: 0 | D17: 67536166 | E17: 1.0303958e+10 | F17: =+E17*100/B17 -> 88.54736 | G17: 98 | H17: =+F17-G17 -> -9.4526398 | I17: 1.0371494e+10 | J17: =+I17*100/B17 -> 89.127734 | K17: 81 | L17: =+J17-K17 -> 8.1277342 | M17: =+B17-I17 -> 1.265169e+09 | Q17: PO เรียกจาก (รายงานเงินกันปี 67)
A18: ลงทุน | B18: 1.9325666e+09 | C18: 0 | D18: 3.0870103e+08 | E18: 1.3075826e+09 | F18: =+E18*100/B18 -> 67.660414 | G18: 75 | H18: =+F18-G18 -> -7.3395858 | I18: 1.6162836e+09 | J18: =+I18*100/B18 -> 83.634043 | K18: 74 | L18: =+J18-K18 -> 9.6340435 | M18: =+B18-I18 -> 3.1628301e+08
A19: งบประมาณเหลื่อมปี
A20: รายการ | B20: งบประมาณ | C20: สำรองเงิน แบบมีหนี้ เหลื่อมปี | D20: ใบสั่งซื้อ เหลื่อมปี | E20: เบิกจ่าย | F20: ร้อยละ เบิกจ่าย | I20: การใช้จ่าย | J20: ร้อยละ การใช้จ่าย | L20: คงเหลือ สรก. อยู่ระหว่างดำเนินการ | M20: เงินเหลือจ่ายไม่ขอขยายเวลาเบิกจ่าย | N20: คงเหลือรวม | Q20: 12
A21: ปี 66 | B21: 1.7936495e+09 | C21: 77140726 | D21: 5.2732119e+08 | E21: 1.1886609e+09 | F21: =+E21*100/B21 -> 66.270524 | I21: =+D21+E21 -> 1.7159821e+09 | J21: =+I21*100/B21 -> 95.669868 | L21: 0 | M21: =B21-E21-C21-D21-L21 -> 526664.09 | N21: =B21-E21 -> 6.0498858e+08
A22: รายการ | B22: งบประมาณ | C22: สำรองเงิน แบบมีหนี้ เหลื่อมปี | D22: ใบสั่งซื้อ เหลื่อมปี | E22: เบิกจ่าย | F22: ร้อยละ เบิกจ่าย | I22: การใช้จ่าย | J22: ร้อยละ การใช้จ่าย | L22: คงเหลือ สรก. อยู่ระหว่างดำเนินการ | M22: คงเหลือรวม | Q22: 12
A23: ปี 66 | B23: 1.8122329e+09 | C23: 1.0387151e+08 | D23: 5.4400117e+08 | E23: 1.1599849e+09 | F23: =+E23*100/B23 -> 64.008598 | I23: =+D23+E23 -> 1.7039861e+09 | J23: =+I23*100/B23 -> 94.02688 | L23: 4375350.5 | M23: =B23-E23 -> 6.5224803e+08
A24: ที่มา : ระบบการบริหารการเงินการคลังภาครัฐแบบอิเล็กทรอนิกส์ใหม่ (New GFMIS Thai)
A25: ข้อมูล ณ 31 มีนาคม 2567 | T25: 4392348.1
H26: =C21+D21+E21+L21 -> 1.7931228e+09 | I26: =B21-E21 -> 6.0498858e+08
A28: รายการ | B28: งบประมาณ | C28: PO | I28: ร้อยละ | J28: เป้าหมาย Q4 | K28: สูงกว่าเป้าหมาย
I29: การใช้จ่าย | K29: ไตรมาส 2
A30: ภาพรวม | B30: =+B31+B32 -> 1.356923e+10 | C30: =+C31+C32 -> 3.7623719e+08 | I30: =+H30*100/B30 -> 0 | J30: 100 | K30: =+I30-J30 -> -100
A31: ประจำ | B31: =+B17 -> 1.1636663e+10 | C31: =+D17 -> 67536166 | I31: =+H31*100/B31 -> 0 | J31: 100 | K31: =+I31-J31 -> -100
A32: ลงทุน | B32: =+B18 -> 1.9325666e+09 | C32: =D18 -> 3.0870103e+08 | I32: =+H32*100/B32 -> 0 | J32: 100 | K32: =+I32-J32 -> -100
A35: รายการ | B35: งบประมาณ | C35: ผลเบิกจ่าย
A37: ภาพรวม | B37: 2.7561714e+09 | C37: 2.1411871e+09
A38: เงินกู้ | B38: 2.3945595e+09 | C38: 1.804633e+09
A39: -ปี 2563 | B39: 26618196 | C39: 24037520
A40: -ปี 2564 | B40: 1.8079115e+09 | C40: 1.6598534e+09
A41: -ปี 2565 | B41: 560029820 | C41: 120742101
A42: งบกลาง ปี 2564 | B42: 3.6161187e+08 | C42: 3.3655414e+08
A44: งบประมาณ | B44: ผลเบิกจ่าย | C44: ร้อยละเบิกจ่าย
A46: 2272.61 | B46: 1304.35 | C46: 57.394362
A53: งบประมาณ | B53: 31พค65 | C53: 17มิย65 | I53: ล้านบาท
I54: 1.1933253e+09
A55: รวม | B55: 23377.21 | C55: 25633.058 | I55: 2.7725496e+08
A56: ประจำ | B56: 14084.97 | C56: 16258.638 | I56: 2.3887144e+08
A57: ลงทุน | B57: 9292.24 | C57: 9374.4202 | I57: 1.3988455e+08
I58: 92066800
I59: 50191100
I60: 26977000
I61: =SUM(I54:I60) -> 2.0185712e+09
I62: 53357700
A64: ลงตารางรายงานา ผวจ
A65: รายการ | B65: งบประมาณ | C65: ผลเบิกจ่าย
A66: รวม | B66: =+B67+B68 -> 1.356923e+10 | C66: =+C67+C68 -> 1.1611541e+10
A67: ประจำ | B67: =+B17 -> 1.1636663e+10 | C67: =+E17 -> 1.0303958e+10
A68: ลงทุน | B68: =+B18 -> 1.9325666e+09 | C68: =+E18 -> 1.3075826e+09
A70: รายการ | B70: งบประมาณ | C70: ผลเบิกจ่าย
A72: ภาพรวม | B72: =+#REF! -> #REF! | C72: =+#REF! -> #REF!
A73: เงินกู้ | B73: =+#REF! -> #REF! | C73: =+#REF! -> #REF!
A74: ปี 2563 | B74: =+#REF! -> #REF! | C74: =+#REF! -> #REF!
A75: ปี 2564 | B75: =+#REF! -> #REF! | C75: =+#REF! -> #REF!
A76: ปี 2565 | B76: =+#REF! -> #REF! | C76: =+#REF! -> #REF!
A77: ปี 2566 | B77: =+#REF! -> #REF! | C77: =+#REF! -> #REF!
A78: งบกลาง | B78: =+#REF! -> #REF! | C78: =+#REF! -> #REF!
A79: ปี 2564 | B79: =+#REF! -> #REF! | C79: =+#REF! -> #REF!
A80: ปี 2565 | B80: =+#REF! -> #REF! | C80: =+#REF! -> #REF!
A84: ประชุม กรมการจังหวัด
A85: รายการ | B85: งบประมาณ | C85: เบิกจ่าย | K85: สำรองเงินมีหนี้ | L85: PO
C86: จำนวน | I86: เป้าหมาย | J86: สูงกว่าเป้าหมายร้อยละ
I87: Q 3
I88: ร้อยละ
A89: ภาพรวม | B89: =+B90+B91 -> 1.356923e+10 | C89: =+C90+C91 -> 1.1611541e+10 | I89: 81.74 | J89: =+H89-I89 -> -81.74 | K89: =+K90+K91 -> 0 | L89: =+L90+L91 -> 3.7623719e+08
A90: ประจำ | B90: =+B17 -> 1.1636663e+10 | C90: =+E17 -> 1.0303958e+10 | I90: 81.76 | J90: =+H90-I90 -> -81.76 | K90: =+C17 -> 0 | L90: =+D17 -> 67536166
A91: ลงทุน | B91: =+B18 -> 1.9325666e+09 | C91: =+E18 -> 1.3075826e+09 | I91: 81.65 | J91: =+H91-I91 -> -81.65 | K91: =+C18 -> 0 | L91: =+D18 -> 3.0870103e+08
A93: ประชุม กรมการ จว
A94: รายการ | B94: งบประมาณ | C94: เบิกจ่าย | K94: สำรองเงิน | L94: PO
C95: จำนวน | K95: มีหนี้
A96: ภาพรวม | B96: =+#REF! -> #REF! | C96: =+#REF! -> #REF! | K96: =+#REF! -> #REF! | L96: =+#REF! -> #REF!
A97: เงินกู้ | B97: =+#REF! -> #REF! | C97: =+#REF! -> #REF! | K97: =+#REF! -> #REF! | L97: =+#REF! -> #REF!
A98: ปี 2563 | B98: =+#REF! -> #REF! | C98: =+#REF! -> #REF! | K98: =+#REF! -> #REF! | L98: =+#REF! -> #REF!
A99: ปี 2564 | B99: =+#REF! -> #REF! | C99: =+#REF! -> #REF! | K99: =+#REF! -> #REF! | L99: =+#REF! -> #REF!
A100: ปี 2565 | B100: =+#REF! -> #REF! | C100: =+#REF! -> #REF! | K100: =+#REF! -> #REF! | L100: =+#REF! -> #REF!
A101: ปี 2566 | B101: =+#REF! -> #REF! | C101: =+#REF! -> #REF! | K101: =+#REF! -> #REF! | L101: =+#REF! -> #REF!
A102: งบกลาง | B102: =+#REF! -> #REF! | C102: =+#REF! -> #REF! | K102: =+#REF! -> #REF! | L102: =+#REF! -> #REF!
A103: ปี 2564 | B103: =+#REF! -> #REF! | C103: =+#REF! -> #REF! | K103: =+#REF! -> #REF! | L103: =+#REF! -> #REF!
A104: ปี 2565 | B104: =+#REF! -> #REF! | C104: =+#REF! -> #REF! | K104: =+#REF! -> #REF! | L104: =+#REF! -> #REF!
A106: กรมจังหวัด
A107: รายการ | B107: งบประมาณ | C107: PO
I108: ร้อยละ | J108: เป้าหมาย | K108: สูงกว่าเป้าหมายร้อยละ
J109: Q 3
J110: ร้อยละ
A111: ภาพรวม | B111: =+B112+B113 -> #REF! | C111: =+C112+C113 -> #REF! | I111: =+H111*100/B111 -> #REF! | J111: 81.74 | K111: =+I111-J111 -> #REF!
A112: ประจำ | B112: =#REF! -> #REF! | C112: =#REF! -> #REF! | I112: =+H112*100/B112 -> #REF! | J112: 81.76 | K112: =+I112-J112 -> #REF!
A113: ลงทุน | B113: =#REF! -> #REF! | C113: =#REF! -> #REF! | I113: =+H113*100/B113 -> #REF! | J113: 81.65 | K113: =+I113-J113 -> #REF!
A116: รายการ | B116: งบประมาณ | C116: สำรองเงิน
C117: มีหนี้
A118: งบประมาณประจำปี พ.ศ. 2565
A119: ภาพรวม | B119: =+B16 -> 1.356923e+10 | C119: - | I119: 23665.58
A120: ประจำ | B120: =+B17 -> 1.1636663e+10 | C120: - | I120: 15201.216
A121: ลงทุน | B121: =+B18 -> 1.9325666e+09 | C121: - | I121: 8464.3638
A122: งบประมาณกันไว้เบิกเหลื่อมปี
...

Sheet เป้าหมายปี 21 04 67
A1: เป้าหมายการใช้จ่ายงบประมาณ ประจำปีงบประมาณ พ.ศ. 2566 ไปพลางก่อน (ต.ค. 66 - พ.ค. 67)
A2: รายการ | B2: เป้าหมายการใช้จ่ายงบประมาณ (ร้อยละ)
B3: ไตรมาสที่ 1 | D3: ไตรมาสที่ 2 | F3: ไตรมาสที่ 3
A4: ภาพรวม | B4: 47 | D4: 80 | F4: 100
A5: ประจำ | B5: 48 | D5: 81 | F5: 100
A6: ลงทุน | B6: 39 | D6: 74 | F6: 100
A7: ผลการใช้จ่ายงบประมาณรายจ่าย ประจำปีงบประมาณ พ.ศ. 2566 ไปพลางก่อน | M7: ข้อมูล ณ วันที่ 19 เมษายน 2567
A8: รายการ | B8: งบประมาณ | C8: สำรองเงินมีหนี้ | D8: PO+สำรองมีหนี้ | E8: เบิกจ่าย | F8: ร้อยละ เบิกจ่าย | G8: เป้าหมาย Q4 | H8: */- เป้าหมาย | I8: การใช้จ่าย (PO+เบิกจ่าย+สำรองมีหนี้) | J8: ร้อยละ การใช้จ่าย | K8: เป้าหมาย Q2 | L8: */- เป้าหมาย | M8: คงเหลือ หลังหักใช้จ่าย | N8: ลำดับเบิกจ่าย | O8: ลำดับ ใช้จ่าย
A9: งบประมาณรายจ่ายประจำปี พ.ศ.2566 ไปพลางก่อน (ภาพรวมทั้งประเทศ)
A10: ภาพรวม | B10: =+B11+B12 -> 239516.76 | D10: =+D11+D12 -> 9612.4342 | E10: =+E11+E12 -> 203964.67 | F10: =+E10*100/B10 -> 85.156743 | G10: 93 | H10: =+F10-G10 -> -7.8432573 | I10: =+I11+I12 -> 213577.1 | J10: =+I10*100/B10 -> 89.170004 | K10: 100 | L10: =+J10-K10 -> -10.829996 | M10: =+B10-I10 -> 25939.655
A11: ประจำ | B11: 201467.81 | D11: 1235.0953 | E11: 180130.22 | F11: =+E11*100/B11 -> 89.40893 | G11: 98 | H11: =+F11-G11 -> -8.59107 | I11: 181365.31 | J11: =+I11*100/B11 -> 90.021979 | K11: 100 | L11: =+J11-K11 -> -9.9780215 | M11: =+B11-I11 -> 20102.502 | Q11: =+D11+E11 -> 181365.31
A12: ลงทุน | B12: 38048.947 | D12: 8377.3389 | E12: 23834.455 | F12: =+E12*100/B12 -> 62.641563 | G12: 75 | H12: =+F12-G12 -> -12.358437 | I12: 32211.794 | J12: =+I12*100/B12 -> 84.658832 | K12: 100 | L12: =+J12-K12 -> -15.341168 | M12: =+B12-I12 -> 5837.153 | Q12: =+D12+E12 -> 32211.794
A13: ผลการใช้จ่ายงบประมาณรายจ่ายจังหวัดเชียงใหม่ ประจำปีงบประมาณ พ.ศ. 2566 ไปพลางก่อน | M13: ข้อมูล ณ วันที่ 21 เมษายน 2567
A14: รายการ | B14: งบประมาณ | C14: สำรองเงินมีหนี้ | D14: PO | E14: เบิกจ่าย | F14: ร้อยละ เบิกจ่าย | G14: เป้าหมาย Q4 | H14: =+F14-G14 -> #VALUE! | I14: การใช้จ่าย (PO+เบิกจ่าย+สำรองมีหนี้) | J14: ร้อยละ การใช้จ่าย | K14: เป้าหมาย Q2 | L14: */- เป้าหมาย | M14: คงเหลือ หลังหักใช้จ่าย | N14: ลำดับเบิกจ่าย | O14: ลำดับ ใช้จ่าย | Q14: 9 สรุปผลการใช้จ่าย A08 รวม ปจ ลท 66
A15: งบประมาณรายจ่ายประจำปี พ.ศ.2566 ไปพลางก่อน (จังหวัดเชียงใหม่)
A16: ภาพรวม | B16: =+B17+B18 -> 1.401733e+10 | C16: =+C17+C18 -> 0 | D16: =+D17+D18 -> 4.0738681e+08 | E16: =+E17+E18 -> 1.1611129e+10 | F16: =+E16*100/B16 -> 82.834098 | G16: 93 | H16: =+F16-G16 -> -10.165902 | I16: =+C16+D16+E16 -> 1.2018515e+10 | J16: =+I16*100/B16 -> 85.740406 | K16: 100 | L16: =+J16-K16 -> -14.259594 | M16: =+B16-I16 -> 1.9988143e+09 | N16: 9 | O16: 20 | Q16: racking worning
A17: ประจำ | B17: 1.2079114e+10 | C17: 0 | D17: 86195438 | E17: 1.0303546e+10 | F17: =+E17*100/B17 -> 85.30051 | G17: 98 | H17: =+F17-G17 -> -12.69949 | I17: 1.0389741e+10 | J17: =+I17*100/B17 -> 86.014101 | K17: 100 | L17: =+J17-K17 -> -13.985899 | M17: =+B17-I17 -> 1.6893727e+09 | Q17: PO เรียกจาก (รายงานเงินกันปี 67)
A18: ลงทุน | B18: 1.9382155e+09 | C18: 0 | D18: 3.2119138e+08 | E18: 1.3075826e+09 | F18: =+E18*100/B18 -> 67.463219 | G18: 75 | H18: =+F18-G18 -> -7.5367813 | I18: 1.628774e+09 | J18: =+I18*100/B18 -> 84.034718 | K18: 100 | L18: =+J18-K18 -> -15.965282 | M18: =+B18-I18 -> 3.0944157e+08 | N18: 12 | O18: 38
A19: งบประมาณเหลื่อมปี
A20: รายการ | B20: งบประมาณ | C20: สำรองเงิน แบบมีหนี้ เหลื่อมปี | D20: ใบสั่งซื้อ เหลื่อมปี | E20: เบิกจ่าย | F20: ร้อยละ เบิกจ่าย | I20: การใช้จ่าย | J20: ร้อยละ การใช้จ่าย | L20: คงเหลือ สรก. อยู่ระหว่างดำเนินการ | M20: เงินเหลือจ่ายไม่ขอขยายเวลาเบิกจ่าย | N20: คงเหลือรวม | Q20: 12
A21: ปี 66 | B21: 1.7936495e+09 | C21: 74249574 | D21: 4.827526e+08 | E21: 1.2360476e+09 | F21: =+E21*100/B21 -> 68.912437 | I21: =+D21+E21 -> 1.7188002e+09 | J21: =+I21*100/B21 -> 95.826983 | L21: 73068.11 | M21: =B21-E21-C21-D21-L21 -> 526664.09 | N21: =B21-E21 -> 5.5760191e+08
A22: รายการ | B22: งบประมาณ | C22: สำรองเงิน แบบมีหนี้ เหลื่อมปี | D22: ใบสั่งซื้อ เหลื่อมปี | E22: เบิกจ่าย | F22: ร้อยละ เบิกจ่าย | I22: การใช้จ่าย | J22: ร้อยละ การใช้จ่าย | L22: คงเหลือ สรก. อยู่ระหว่างดำเนินการ | M22: คงเหลือรวม | Q22: 12
A23: ปี 66 | B23: 1.8122329e+09 | C23: 1.0387151e+08 | D23: 5.4400117e+08 | E23: 1.1599849e+09 | F23: =+E23*100/B23 -> 64.008598 | I23: =+D23+E23 -> 1.7039861e+09 | J23: =+I23*100/B23 -> 94.02688 | L23: 4375350.5 | M23: =B23-E23 -> 6.5224803e+08
A24: ที่มา : ระบบการบริหารการเงินการคลังภาครัฐแบบอิเล็กทรอนิกส์ใหม่ (New GFMIS Thai)
A25: ข้อมูล ณ 21 เมษายน 2567 | T25: 4392348.1
H26: =C21+D21+E21+L21 -> 1.7931228e+09 | I26: =B21-E21 -> 5.5760191e+08
A28: รายการ | B28: งบประมาณ | C28: PO | I28: ร้อยละ | J28: เป้าหมาย Q4 | K28: สูงกว่าเป้าหมาย
I29: การใช้จ่าย | K29: ไตรมาส 2
A30: ภาพรวม | B30: =+B31+B32 -> 1.401733e+10 | C30: =+C31+C32 -> 4.0738681e+08 | I30: =+H30*100/B30 -> 0 | J30: 100 | K30: =+I30-J30 -> -100
A31: ประจำ | B31: =+B17 -> 1.2079114e+10 | C31: =+D17 -> 86195438 | I31: =+H31*100/B31 -> 0 | J31: 100 | K31: =+I31-J31 -> -100
A32: ลงทุน | B32: =+B18 -> 1.9382155e+09 | C32: =D18 -> 3.2119138e+08 | I32: =+H32*100/B32 -> 0 | J32: 100 | K32: =+I32-J32 -> -100
A35: รายการ | B35: งบประมาณ | C35: ผลเบิกจ่าย
A37: ภาพรวม | B37: 2.7561714e+09 | C37: 2.1411871e+09
A38: เงินกู้ | B38: 2.3945595e+09 | C38: 1.804633e+09
A39: -ปี 2563 | B39: 26618196 | C39: 24037520
A40: -ปี 2564 | B40: 1.8079115e+09 | C40: 1.6598534e+09
A41: -ปี 2565 | B41: 560029820 | C41: 120742101
A42: งบกลาง ปี 2564 | B42: 3.6161187e+08 | C42: 3.3655414e+08
A44: งบประมาณ | B44: ผลเบิกจ่าย | C44: ร้อยละเบิกจ่าย
A46: 2272.61 | B46: 1304.35 | C46: 57.394362
A53: งบประมาณ | B53: 31พค65 | C53: 17มิย65 | I53: ล้านบาท
I54: 1.1933253e+09
A55: รวม | B55: 23377.21 | C55: 25633.058 | I55: 2.7725496e+08
A56: ประจำ | B56: 14084.97 | C56: 16258.638 | I56: 2.3887144e+08
A57: ลงทุน | B57: 9292.24 | C57: 9374.4202 | I57: 1.3988455e+08
I58: 92066800
I59: 50191100
I60: 26977000
I61: =SUM(I54:I60) -> 2.0185712e+09
I62: 53357700
A64: ลงตารางรายงานา ผวจ
A65: รายการ | B65: งบประมาณ | C65: ผลเบิกจ่าย
A66: รวม | B66: =+B67+B68 -> 1.401733e+10 | C66: =+C67+C68 -> 1.1611129e+10
A67: ประจำ | B67: =+B17 -> 1.2079114e+10 | C67: =+E17 -> 1.0303546e+10
A68: ลงทุน | B68: =+B18 -> 1.9382155e+09 | C68: =+E18 -> 1.3075826e+09
A70: รายการ | B70: งบประมาณ | C70: ผลเบิกจ่าย
A72: ภาพรวม | B72: =+#REF! -> #REF! | C72: =+#REF! -> #REF!
A73: เงินกู้ | B73: =+#REF! -> #REF! | C73: =+#REF! -> #REF!
A74: ปี 2563 | B74: =+#REF! -> #REF! | C74: =+#REF! -> #REF!
A75: ปี 2564 | B75: =+#REF! -> #REF! | C75: =+#REF! -> #REF!
A76: ปี 2565 | B76: =+#REF! -> #REF! | C76: =+#REF! -> #REF!
A77: ปี 2566 | B77: =+#REF! -> #REF! | C77: =+#REF! -> #REF!
A78: งบกลาง | B78: =+#REF! -> #REF! | C78: =+#REF! -> #REF!
A79: ปี 2564 | B79: =+#REF! -> #REF! | C79: =+#REF! -> #REF!
A80: ปี 2565 | B80: =+#REF! -> #REF! | C80: =+#REF! -> #REF!
A84: ประชุม กรมการจังหวัด
A85: รายการ | B85: งบประมาณ | C85: เบิกจ่าย | K85: สำรองเงินมีหนี้ | L85: PO
C86: จำนวน | I86: เป้าหมาย | J86: สูงกว่าเป้าหมายร้อยละ
I87: Q 3
I88: ร้อยละ
A89: ภาพรวม | B89: =+B90+B91 -> 1.401733e+10 | C89: =+C90+C91 -> 1.1611129e+10 | I89: 81.74 | J89: =+H89-I89 -> -81.74 | K89: =+K90+K91 -> 0 | L89: =+L90+L91 -> 4.0738681e+08
A90: ประจำ | B90: =+B17 -> 1.2079114e+10 | C90: =+E17 -> 1.0303546e+10 | I90: 81.76 | J90: =+H90-I90 -> -81.76 | K90: =+C17 -> 0 | L90: =+D17 -> 86195438
A91: ลงทุน | B91: =+B18 -> 1.9382155e+09 | C91: =+E18 -> 1.3075826e+09 | I91: 81.65 | J91: =+H91-I91 -> -81.65 | K91: =+C18 -> 0 | L91: =+D18 -> 3.2119138e+08
A93: ประชุม กรมการ จว
A94: รายการ | B94: งบประมาณ | C94: เบิกจ่าย | K94: สำรองเงิน | L94: PO
C95: จำนวน | K95: มีหนี้
A96: ภาพรวม | B96: =+#REF! -> #REF! | C96: =+#REF! -> #REF! | K96: =+#REF! -> #REF! | L96: =+#REF! -> #REF!
A97: เงินกู้ | B97: =+#REF! -> #REF! | C97: =+#REF! -> #REF! | K97: =+#REF! -> #REF! | L97: =+#REF! -> #REF!
A98: ปี 2563 | B98: =+#REF! -> #REF! | C98: =+#REF! -> #REF! | K98: =+#REF! -> #REF! | L98: =+#REF! -> #REF!
A99: ปี 2564 | B99: =+#REF! -> #REF! | C99: =+#REF! -> #REF! | K99: =+#REF! -> #REF! | L99: =+#REF! -> #REF!
A100: ปี 2565 | B100: =+#REF! -> #REF! | C100: =+#REF! -> #REF! | K100: =+#REF! -> #REF! | L100: =+#REF! -> #REF!
A101: ปี 2566 | B101: =+#REF! -> #REF! | C101: =+#REF! -> #REF! | K101: =+#REF! -> #REF! | L101: =+#REF! -> #REF!
A102: งบกลาง | B102: =+#REF! -> #REF! | C102: =+#REF! -> #REF! | K102: =+#REF! -> #REF! | L102: =+#REF! -> #REF!
A103: ปี 2564 | B103: =+#REF! -> #REF! | C103: =+#REF! -> #REF! | K103: =+#REF! -> #REF! | L103: =+#REF! -> #REF!
A104: ปี 2565 | B104: =+#REF! -> #REF! | C104: =+#REF! -> #REF! | K104: =+#REF! -> #REF! | L104: =+#REF! -> #REF!
A106: กรมจังหวัด
A107: รายการ | B107: งบประมาณ | C107: PO
I108: ร้อยละ | J108: เป้าหมาย | K108: สูงกว่าเป้าหมายร้อยละ
J109: Q 3
J110: ร้อยละ
A111: ภาพรวม | B111: =+B112+B113 -> #REF! | C111: =+C112+C113 -> #REF! | I111: =+H111*100/B111 -> #REF! | J111: 81.74 | K111: =+I111-J111 -> #REF!
A112: ประจำ | B112: =#REF! -> #REF! | C112: =#REF! -> #REF! | I112: =+H112*100/B112 -> #REF! | J112: 81.76 | K112: =+I112-J112 -> #REF!
A113: ลงทุน | B113: =#REF! -> #REF! | C113: =#REF! -> #REF! | I113: =+H113*100/B113 -> #REF! | J113: 81.65 | K113: =+I113-J113 -> #REF!
A116: รายการ | B116: งบประมาณ | C116: สำรองเงิน
C117: มีหนี้
A118: งบประมาณประจำปี พ.ศ. 2565
A119: ภาพรวม | B119: =+B16 -> 1.401733e+10 | C119: - | I119: 23665.58
A120: ประจำ | B120: =+B17 -> 1.2079114e+10 | C120: - | I120: 15201.216
A121: ลงทุน | B121: =+B18 -> 1.9382155e+09 | C121: - | I121: 8464.3638
A122: งบประมาณกันไว้เบิกเหลื่อมปี
...

Sheet เป้าหมายปี 30 04 67
A1: เป้าหมายการใช้จ่ายงบประมาณ ประจำปีงบประมาณ พ.ศ. 2567
A2: รายการ | B2: เป้าหมายการใช้จ่ายงบประมาณ (ร้อยละ)
B3: ไตรมาสที่ 1 | D3: ไตรมาสที่ 2 | F3: ไตรมาสที่ 3 | H3: ไตรมาสที่ 4
A4: ภาพรวม | B4: 28 | D4: 47 | F4: 82 | H4: 100
A5: ประจำ | B5: 33 | D5: 53 | F5: 82 | H5: 100
A6: ลงทุน | B6: 11 | D6: 24 | F6: 80 | H6: 100
A7: ผลการใช้จ่ายงบประมาณรายจ่าย ประจำปีงบประมาณ พ.ศ. 2567 | M7: ข้อมูล ณ วันที่ 30 เมษายน 2567
A8: รายการ | B8: งบประมาณ | C8: สำรองเงินมีหนี้ | D8: PO+สำรองมีหนี้ | E8: เบิกจ่าย | F8: ร้อยละ เบิกจ่าย | G8: เป้าหมาย Q4 | H8: */- เป้าหมาย | I8: การใช้จ่าย (PO+เบิกจ่าย+สำรองมีหนี้) | J8: ร้อยละ การใช้จ่าย | K8: เป้าหมาย Q3 | L8: */- เป้าหมาย | M8: คงเหลือ หลังหักใช้จ่าย | N8: ลำดับเบิกจ่าย | O8: ลำดับ ใช้จ่าย
A9: งบประมาณรายจ่ายประจำปี พ.ศ.2566 ไปพลางก่อน (ภาพรวมทั้งประเทศ)
A10: ภาพรวม | B10: =+B11+B12 -> 346216.4 | D10: =+D11+D12 -> 1429.4013 | E10: =+E11+E12 -> 215668.29 | F10: =+E10*100/B10 -> 62.292917 | G10: 93 | H10: =+F10-G10 -> -30.707083 | I10: =+I11+I12 -> 217097.69 | J10: =+I10*100/B10 -> 62.705781 | K10: 82 | L10: =+J10-K10 -> -19.294219 | M10: =+B10-I10 -> 129118.7
A11: ประจำ | B11: 198342.61 | D11: 76.952225 | E11: 190312.18 | F11: =+E11*100/B11 -> 95.951232 | G11: 98 | H11: =+F11-G11 -> -2.0487681 | I11: 190389.13 | J11: =+I11*100/B11 -> 95.99003 | K11: 82 | L11: =+J11-K11 -> 13.99003 | M11: =+B11-I11 -> 7953.4801 | Q11: =+D11+E11 -> 190389.13
A12: ลงทุน | B12: 147873.79 | D12: 1352.4491 | E12: 25356.117 | F12: =+E12*100/B12 -> 17.147134 | G12: 75 | H12: =+F12-G12 -> -57.852866 | I12: 26708.566 | J12: =+I12*100/B12 -> 18.061731 | K12: 80 | L12: =+J12-K12 -> -61.938269 | M12: =+B12-I12 -> 121165.22 | Q12: =+D12+E12 -> 26708.566
A13: ผลการใช้จ่ายงบประมาณรายจ่ายจังหวัดเชียงใหม่ ประจำปีงบประมาณ พ.ศ. 2567 | M13: ข้อมูล ณ วันที่ 30 เมษายน 2567
A14: รายการ | B14: งบประมาณ | C14: สำรองเงินมีหนี้ | D14: PO | E14: เบิกจ่าย | F14: ร้อยละ เบิกจ่าย | G14: เป้าหมาย Q4 | H14: =+F14-G14 -> #VALUE! | I14: การใช้จ่าย (PO+เบิกจ่าย+สำรองมีหนี้) | J14: ร้อยละ การใช้จ่าย | K14: เป้าหมาย Q3 | L14: */- เป้าหมาย | M14: คงเหลือ หลังหักใช้จ่าย | N14: ลำดับเบิกจ่าย | O14: ลำดับ ใช้จ่าย | Q14: 9 สรุปผลการใช้จ่าย A08 รวม ปจ ลท 66
A15: งบประมาณรายจ่ายประจำปี พ.ศ.2566 ไปพลางก่อน (จังหวัดเชียงใหม่)
A16: ภาพรวม | B16: =+B17+B18 -> 1.9397539e+10 | C16: =+C17+C18 -> 0 | D16: =+D17+D18 -> 25655985 | E16: =+E17+E18 -> 1.2583855e+10 | F16: =+E16*100/B16 -> 64.873458 | G16: 93 | H16: =+F16-G16 -> -28.126542 | I16: =+C16+D16+E16 -> 1.2609511e+10 | J16: =+I16*100/B16 -> 65.005722 | K16: 82 | L16: =+J16-K16 -> -16.994278 | M16: =+B16-I16 -> 6.7880288e+09 | N16: 24 | O16: 24 | Q16: racking worning
A17: ประจำ | B17: 1.328604e+10 | C17: 0 | D17: 8703950.8 | E17: 1.1138015e+10 | F17: =+E17*100/B17 -> 83.832466 | G17: 98 | H17: =+F17-G17 -> -14.167534 | I17: 1.1146719e+10 | J17: =+I17*100/B17 -> 83.897978 | K17: 82 | L17: =+J17-K17 -> 1.8979781 | M17: =+B17-I17 -> 2.139321e+09 | N17: 98 | O17: 98 | Q17: PO เรียกจาก (รายงานเงินกันปี 67)
A18: ลงทุน | B18: 6.1114997e+09 | C18: 0 | D18: 16952035 | E18: 1.4458399e+09 | F18: =+E18*100/B18 -> 23.657694 | G18: 75 | H18: =+F18-G18 -> -51.342306 | I18: 1.4627919e+09 | J18: =+I18*100/B18 -> 23.935073 | K18: 80 | L18: =+J18-K18 -> -56.064927 | M18: =+B18-I18 -> 4.6487078e+09 | N18: 12 | O18: 13
A19: งบประมาณเหลื่อมปี
A20: รายการ | B20: งบประมาณ | C20: สำรองเงิน แบบมีหนี้ เหลื่อมปี | D20: ใบสั่งซื้อ เหลื่อมปี | E20: เบิกจ่าย | F20: ร้อยละ เบิกจ่าย | I20: การใช้จ่าย | J20: ร้อยละ การใช้จ่าย | L20: คงเหลือ สรก. อยู่ระหว่างดำเนินการ | M20: เงินเหลือจ่ายไม่ขอขยายเวลาเบิกจ่าย | N20: คงเหลือรวม | Q20: 12
A21: ปี 66 | B21: 1793.65 | C21: 52.44 | D21: 492.87 | E21: 1247.74 | F21: =+E21*100/B21 -> 69.564296 | I21: 1740.61 | J21: =+I21*100/B21 -> 97.042901 | L21: 0.07 | M21: 0.53 | N21: 545.91
A22: รายการ | B22: งบประมาณ | C22: สำรองเงิน แบบมีหนี้ เหลื่อมปี | D22: ใบสั่งซื้อ เหลื่อมปี | E22: เบิกจ่าย | F22: ร้อยละ เบิกจ่าย | I22: การใช้จ่าย | J22: ร้อยละ การใช้จ่าย | L22: คงเหลือ สรก. อยู่ระหว่างดำเนินการ | M22: คงเหลือรวม | Q22: 12
A23: ปี 66 | B23: 1.8122329e+09 | C23: 1.0387151e+08 | D23: 5.4400117e+08 | E23: 1.1599849e+09 | F23: =+E23*100/B23 -> 64.008598 | I23: =+D23+E23 -> 1.7039861e+09 | J23: =+I23*100/B23 -> 94.02688 | L23: 4375350.5 | M23: =B23-E23 -> 6.5224803e+08
A24: ที่มา : ระบบการบริหารการเงินการคลังภาครัฐแบบอิเล็กทรอนิกส์ใหม่ (New GFMIS Thai)
A25: ข้อมูล ณ 30 เมษายน 2567 | T25: 4392348.1
A26: หมายเหตุ : 1. วงเงินงบประมาณหลังโอนเปลี่ยนแปลงเป็นวงเงินของปีงบประมาณ พ.ศ. 2566 ไปพลางก่อน เนื่องจากส่วนกลางยังไม่ได้โอนจัดสรรงบประมาณไปยังหน่วยงานในภูมิภาค 2. วงเงินงบประมาณหลังโอนเปลี่ยนแปลงเป็นวงเงินตามพระราชบัญญัติงบประมาณรายจ่ายประจำปี ซึ่งยังอยู่ระหว่างดำเนินการเบิกหักผลักส่งเป็นงบประมาณรายจ่ายประจำปีงบประมาณ พ.ศ. 2567
B27: 2. วงเงินงบประมาณหลังโอนเปลี่ยนแปลงเป็นวงเงินตามพระราชบัญญัติงบประมาณรายจ่ายประจำปี ซึ่งยังอยู่ระหว่างดำเนินการเบิกหักผลักส่งเป็นงบประมาณรายจ่ายประจำปีงบประมาณ พ.ศ. 2567
A28: รายการ | B28: งบประมาณ | C28: PO
A30: ภาพรวม | B30: =+B31+B32 -> 1.9397539e+10 | C30: =+C31+C32 -> 25655985
A31: ประจำ | B31: =+B17 -> 1.328604e+10 | C31: =+D17 -> 8703950.8
A32: ลงทุน | B32: =+B18 -> 6.1114997e+09 | C32: =D18 -> 16952035
A35: รายการ | B35: งบประมาณ | C35: ผลเบิกจ่าย
A37: ภาพรวม | B37: 2.7561714e+09 | C37: 2.1411871e+09
A38: เงินกู้ | B38: 2.3945595e+09 | C38: 1.804633e+09
A39: -ปี 2563 | B39: 26618196 | C39: 24037520
A40: -ปี 2564 | B40: 1.8079115e+09 | C40: 1.6598534e+09
A41: -ปี 2565 | B41: 560029820 | C41: 120742101
A42: งบกลาง ปี 2564 | B42: 3.6161187e+08 | C42: 3.3655414e+08
A44: งบประมาณ | B44: ผลเบิกจ่าย | C44: ร้อยละเบิกจ่าย
A46: 2272.61 | B46: 1304.35 | C46: 57.394362
A53: งบประมาณ | B53: 31พค65 | C53: 17มิย65
A55: รวม | B55: 23377.21 | C55: 25633.058
