Workbook

Sheet แผ่นงาน1
A1: สรุปการช่วยเหลือทางการเงินแก่ผู้เสียหายและจำเลยในคดีอาญา
A2: จำแนกตามฐานความผิด ประจำปีงบประมาณ พ.ศ. 2567
A3: ตั้งแต่ 1 ตุลาคม 2566 - 30 กันยายน 2567
A4: ประเภท คำขอ | B4: ฐานความผิด | D4: ผู้ยื่น | E4: ผลการพิจารณาของคณะกรรมการ/คณะอนุกรรมการ
E6: จ่าย | F6: ไม่จ่าย | G6: รวม | H6: เป็นเงินจำนวน
A7: ผู้เสียหาย | B7: ฐานความผิดหลัก ตามท้าย พ.ร.บ. | C7: ความผิดต่อชีวิต | D7: =[1]ต.ค.!D7+[1]พ.ย.!D7+[1]ธ.ค.!D7+[1]ม.ค.!D7+[1]ก.พ.!D7+[1]มี.ค.!D7+[1]เม.ย!D7+[1]พ.ค.!D7+[1]มิ.ย.!D7+[1]ก.ค.!D7+[1]ส.ค.!D7+[1]ก.ย.!D7 -> 3735 | E7: =[1]ต.ค.!E7+[1]พ.ย.!E7+[1]ธ.ค.!E7+[1]ม.ค.!E7+[1]ก.พ.!E7+[1]มี.ค.!E7+[1]เม.ย!E7+[1]พ.ค.!E7+[1]มิ.ย.!E7+[1]ก.ค.!E7+[1]ส.ค.!E7+[1]ก.ย.!E7 -> 2110 | F7: =[1]ต.ค.!F7+[1]พ.ย.!F7+[1]ธ.ค.!F7+[1]ม.ค.!F7+[1]ก.พ.!F7+[1]มี.ค.!F7+[1]เม.ย!F7+[1]พ.ค.!F7+[1]มิ.ย.!F7+[1]ก.ค.!F7+[1]ส.ค.!F7+[1]ก.ย.!F7 -> 1765 | G7: =[1]ต.ค.!G7+[1]พ.ย.!G7+[1]ธ.ค.!G7+[1]ม.ค.!G7+[1]ก.พ.!G7+[1]มี.ค.!G7+[1]เม.ย!G7+[1]พ.ค.!G7+[1]มิ.ย.!G7+[1]ก.ค.!G7+[1]ส.ค.!G7+[1]ก.ย.!G7 -> 3875 | H7: =[1]ต.ค.!H7+[1]พ.ย.!H7+[1]ธ.ค.!H7+[1]ม.ค.!H7+[1]ก.พ.!H7+[1]มี.ค.!H7+[1]เม.ย!H7+[1]พ.ค.!H7+[1]มิ.ย.!H7+[1]ก.ค.!H7+[1]ส.ค.!H7+[1]ก.ย.!H7 -> 1.8249076e+08
C8: ความผิดต่อร่างกาย | D8: =[1]ต.ค.!D8+[1]พ.ย.!D8+[1]ธ.ค.!D8+[1]ม.ค.!D8+[1]ก.พ.!D8+[1]มี.ค.!D8+[1]เม.ย!D8+[1]พ.ค.!D8+[1]มิ.ย.!D8+[1]ก.ค.!D8+[1]ส.ค.!D8+[1]ก.ย.!D8 -> 7404 | E8: =[1]ต.ค.!E8+[1]พ.ย.!E8+[1]ธ.ค.!E8+[1]ม.ค.!E8+[1]ก.พ.!E8+[1]มี.ค.!E8+[1]เม.ย!E8+[1]พ.ค.!E8+[1]มิ.ย.!E8+[1]ก.ค.!E8+[1]ส.ค.!E8+[1]ก.ย.!E8 -> 5593 | F8: =[1]ต.ค.!F8+[1]พ.ย.!F8+[1]ธ.ค.!F8+[1]ม.ค.!F8+[1]ก.พ.!F8+[1]มี.ค.!F8+[1]เม.ย!F8+[1]พ.ค.!F8+[1]มิ.ย.!F8+[1]ก.ค.!F8+[1]ส.ค.!F8+[1]ก.ย.!F8 -> 1853 | G8: =[1]ต.ค.!G8+[1]พ.ย.!G8+[1]ธ.ค.!G8+[1]ม.ค.!G8+[1]ก.พ.!G8+[1]มี.ค.!G8+[1]เม.ย!G8+[1]พ.ค.!G8+[1]มิ.ย.!G8+[1]ก.ค.!G8+[1]ส.ค.!G8+[1]ก.ย.!G8 -> 7446 | H8: =[1]ต.ค.!H8+[1]พ.ย.!H8+[1]ธ.ค.!H8+[1]ม.ค.!H8+[1]ก.พ.!H8+[1]มี.ค.!H8+[1]เม.ย!H8+[1]พ.ค.!H8+[1]มิ.ย.!H8+[1]ก.ค.!H8+[1]ส.ค.!H8+[1]ก.ย.!H8 -> 2.4562113e+08
C9: ความผิดเกี่ยวกับเพศ | D9: =[1]ต.ค.!D9+[1]พ.ย.!D9+[1]ธ.ค.!D9+[1]ม.ค.!D9+[1]ก.พ.!D9+[1]มี.ค.!D9+[1]เม.ย!D9+[1]พ.ค.!D9+[1]มิ.ย.!D9+[1]ก.ค.!D9+[1]ส.ค.!D9+[1]ก.ย.!D9 -> 2664 | E9: =[1]ต.ค.!E9+[1]พ.ย.!E9+[1]ธ.ค.!E9+[1]ม.ค.!E9+[1]ก.พ.!E9+[1]มี.ค.!E9+[1]เม.ย!E9+[1]พ.ค.!E9+[1]มิ.ย.!E9+[1]ก.ค.!E9+[1]ส.ค.!E9+[1]ก.ย.!E9 -> 2280 | F9: =[1]ต.ค.!F9+[1]พ.ย.!F9+[1]ธ.ค.!F9+[1]ม.ค.!F9+[1]ก.พ.!F9+[1]มี.ค.!F9+[1]เม.ย!F9+[1]พ.ค.!F9+[1]มิ.ย.!F9+[1]ก.ค.!F9+[1]ส.ค.!F9+[1]ก.ย.!F9 -> 467 | G9: =[1]ต.ค.!G9+[1]พ.ย.!G9+[1]ธ.ค.!G9+[1]ม.ค.!G9+[1]ก.พ.!G9+[1]มี.ค.!G9+[1]เม.ย!G9+[1]พ.ค.!G9+[1]มิ.ย.!G9+[1]ก.ค.!G9+[1]ส.ค.!G9+[1]ก.ย.!G9 -> 2747 | H9: =[1]ต.ค.!H9+[1]พ.ย.!H9+[1]ธ.ค.!H9+[1]ม.ค.!H9+[1]ก.พ.!H9+[1]มี.ค.!H9+[1]เม.ย!H9+[1]พ.ค.!H9+[1]มิ.ย.!H9+[1]ก.ค.!H9+[1]ส.ค.!H9+[1]ก.ย.!H9 -> 85007922
C10: ความผิดฐานทอดทิ้งเด็กฯ | D10: =[1]ต.ค.!D10+[1]พ.ย.!D10+[1]ธ.ค.!D10+[1]ม.ค.!D10+[1]ก.พ.!D10+[1]มี.ค.!D10+[1]เม.ย!D10+[1]พ.ค.!D10+[1]มิ.ย.!D10+[1]ก.ค.!D10+[1]ส.ค.!D10+[1]ก.ย.!D10 -> 0 | E10: =[1]ต.ค.!E10+[1]พ.ย.!E10+[1]ธ.ค.!E10+[1]ม.ค.!E10+[1]ก.พ.!E10+[1]มี.ค.!E10+[1]เม.ย!E10+[1]พ.ค.!E10+[1]มิ.ย.!E10+[1]ก.ค.!E10+[1]ส.ค.!E10+[1]ก.ย.!E10 -> 0 | F10: =[1]ต.ค.!F10+[1]พ.ย.!F10+[1]ธ.ค.!F10+[1]ม.ค.!F10+[1]ก.พ.!F10+[1]มี.ค.!F10+[1]เม.ย!F10+[1]พ.ค.!F10+[1]มิ.ย.!F10+[1]ก.ค.!F10+[1]ส.ค.!F10+[1]ก.ย.!F10 -> 0 | G10: =[1]ต.ค.!G10+[1]พ.ย.!G10+[1]ธ.ค.!G10+[1]ม.ค.!G10+[1]ก.พ.!G10+[1]มี.ค.!G10+[1]เม.ย!G10+[1]พ.ค.!G10+[1]มิ.ย.!G10+[1]ก.ค.!G10+[1]ส.ค.!G10+[1]ก.ย.!G10 -> 0 | H10: =[1]ต.ค.!H10+[1]พ.ย.!H10+[1]ธ.ค.!H10+[1]ม.ค.!H10+[1]ก.พ.!H10+[1]มี.ค.!H10+[1]เม.ย!H10+[1]พ.ค.!H10+[1]มิ.ย.!H10+[1]ก.ค.!H10+[1]ส.ค.!H10+[1]ก.ย.!H10 -> 0
C11: ความผิดฐานทำให้แท้งฯ | D11: =[1]ต.ค.!D11+[1]พ.ย.!D11+[1]ธ.ค.!D11+[1]ม.ค.!D11+[1]ก.พ.!D11+[1]มี.ค.!D11+[1]เม.ย!D11+[1]พ.ค.!D11+[1]มิ.ย.!D11+[1]ก.ค.!D11+[1]ส.ค.!D11+[1]ก.ย.!D11 -> 0 | E11: =[1]ต.ค.!E11+[1]พ.ย.!E11+[1]ธ.ค.!E11+[1]ม.ค.!E11+[1]ก.พ.!E11+[1]มี.ค.!E11+[1]เม.ย!E11+[1]พ.ค.!E11+[1]มิ.ย.!E11+[1]ก.ค.!E11+[1]ส.ค.!E11+[1]ก.ย.!E11 -> 0 | F11: =[1]ต.ค.!F11+[1]พ.ย.!F11+[1]ธ.ค.!F11+[1]ม.ค.!F11+[1]ก.พ.!F11+[1]มี.ค.!F11+[1]เม.ย!F11+[1]พ.ค.!F11+[1]มิ.ย.!F11+[1]ก.ค.!F11+[1]ส.ค.!F11+[1]ก.ย.!F11 -> 0 | G11: =[1]ต.ค.!G11+[1]พ.ย.!G11+[1]ธ.ค.!G11+[1]ม.ค.!G11+[1]ก.พ.!G11+[1]มี.ค.!G11+[1]เม.ย!G11+[1]พ.ค.!G11+[1]มิ.ย.!G11+[1]ก.ค.!G11+[1]ส.ค.!G11+[1]ก.ย.!G11 -> 0 | H11: =[1]ต.ค.!H11+[1]พ.ย.!H11+[1]ธ.ค.!H11+[1]ม.ค.!H11+[1]ก.พ.!H11+[1]มี.ค.!H11+[1]เม.ย!H11+[1]พ.ค.!H11+[1]มิ.ย.!H11+[1]ก.ค.!H11+[1]ส.ค.!H11+[1]ก.ย.!H11 -> 0
C12: ความผิดเกี่ยวกับทรัพย์ | D12: =[1]ต.ค.!D12+[1]พ.ย.!D12+[1]ธ.ค.!D12+[1]ม.ค.!D12+[1]ก.พ.!D12+[1]มี.ค.!D12+[1]เม.ย!D12+[1]พ.ค.!D12+[1]มิ.ย.!D12+[1]ก.ค.!D12+[1]ส.ค.!D12+[1]ก.ย.!D12 -> 100 | E12: =[1]ต.ค.!E12+[1]พ.ย.!E12+[1]ธ.ค.!E12+[1]ม.ค.!E12+[1]ก.พ.!E12+[1]มี.ค.!E12+[1]เม.ย!E12+[1]พ.ค.!E12+[1]มิ.ย.!E12+[1]ก.ค.!E12+[1]ส.ค.!E12+[1]ก.ย.!E12 -> 20 | F12: =[1]ต.ค.!F12+[1]พ.ย.!F12+[1]ธ.ค.!F12+[1]ม.ค.!F12+[1]ก.พ.!F12+[1]มี.ค.!F12+[1]เม.ย!F12+[1]พ.ค.!F12+[1]มิ.ย.!F12+[1]ก.ค.!F12+[1]ส.ค.!F12+[1]ก.ย.!F12 -> 78 | G12: =[1]ต.ค.!G12+[1]พ.ย.!G12+[1]ธ.ค.!G12+[1]ม.ค.!G12+[1]ก.พ.!G12+[1]มี.ค.!G12+[1]เม.ย!G12+[1]พ.ค.!G12+[1]มิ.ย.!G12+[1]ก.ค.!G12+[1]ส.ค.!G12+[1]ก.ย.!G12 -> 98 | H12: =[1]ต.ค.!H12+[1]พ.ย.!H12+[1]ธ.ค.!H12+[1]ม.ค.!H12+[1]ก.พ.!H12+[1]มี.ค.!H12+[1]เม.ย!H12+[1]พ.ค.!H12+[1]มิ.ย.!H12+[1]ก.ค.!H12+[1]ส.ค.!H12+[1]ก.ย.!H12 -> 767822
C13: ความผิดเกี่ยวกับเสรีภาพและชื่อเสียง | D13: =[1]ต.ค.!D13+[1]พ.ย.!D13+[1]ธ.ค.!D13+[1]ม.ค.!D13+[1]ก.พ.!D13+[1]มี.ค.!D13+[1]เม.ย!D13+[1]พ.ค.!D13+[1]มิ.ย.!D13+[1]ก.ค.!D13+[1]ส.ค.!D13+[1]ก.ย.!D13 -> 14 | E13: =[1]ต.ค.!E13+[1]พ.ย.!E13+[1]ธ.ค.!E13+[1]ม.ค.!E13+[1]ก.พ.!E13+[1]มี.ค.!E13+[1]เม.ย!E13+[1]พ.ค.!E13+[1]มิ.ย.!E13+[1]ก.ค.!E13+[1]ส.ค.!E13+[1]ก.ย.!E13 -> 3 | F13: =[1]ต.ค.!F13+[1]พ.ย.!F13+[1]ธ.ค.!F13+[1]ม.ค.!F13+[1]ก.พ.!F13+[1]มี.ค.!F13+[1]เม.ย!F13+[1]พ.ค.!F13+[1]มิ.ย.!F13+[1]ก.ค.!F13+[1]ส.ค.!F13+[1]ก.ย.!F13 -> 19 | G13: =[1]ต.ค.!G13+[1]พ.ย.!G13+[1]ธ.ค.!G13+[1]ม.ค.!G13+[1]ก.พ.!G13+[1]มี.ค.!G13+[1]เม.ย!G13+[1]พ.ค.!G13+[1]มิ.ย.!G13+[1]ก.ค.!G13+[1]ส.ค.!G13+[1]ก.ย.!G13 -> 22 | H13: =[1]ต.ค.!H13+[1]พ.ย.!H13+[1]ธ.ค.!H13+[1]ม.ค.!H13+[1]ก.พ.!H13+[1]มี.ค.!H13+[1]เม.ย!H13+[1]พ.ค.!H13+[1]มิ.ย.!H13+[1]ก.ค.!H13+[1]ส.ค.!H13+[1]ก.ย.!H13 -> 45300
C14: ความผิดเกี่ยวกับการก่อให้เกิดภยันตรายฯ | D14: =[1]ต.ค.!D14+[1]พ.ย.!D14+[1]ธ.ค.!D14+[1]ม.ค.!D14+[1]ก.พ.!D14+[1]มี.ค.!D14+[1]เม.ย!D14+[1]พ.ค.!D14+[1]มิ.ย.!D14+[1]ก.ค.!D14+[1]ส.ค.!D14+[1]ก.ย.!D14 -> 3 | E14: =[1]ต.ค.!E14+[1]พ.ย.!E14+[1]ธ.ค.!E14+[1]ม.ค.!E14+[1]ก.พ.!E14+[1]มี.ค.!E14+[1]เม.ย!E14+[1]พ.ค.!E14+[1]มิ.ย.!E14+[1]ก.ค.!E14+[1]ส.ค.!E14+[1]ก.ย.!E14 -> 1 | F14: =[1]ต.ค.!F14+[1]พ.ย.!F14+[1]ธ.ค.!F14+[1]ม.ค.!F14+[1]ก.พ.!F14+[1]มี.ค.!F14+[1]เม.ย!F14+[1]พ.ค.!F14+[1]มิ.ย.!F14+[1]ก.ค.!F14+[1]ส.ค.!F14+[1]ก.ย.!F14 -> 3 | G14: =[1]ต.ค.!G14+[1]พ.ย.!G14+[1]ธ.ค.!G14+[1]ม.ค.!G14+[1]ก.พ.!G14+[1]มี.ค.!G14+[1]เม.ย!G14+[1]พ.ค.!G14+[1]มิ.ย.!G14+[1]ก.ค.!G14+[1]ส.ค.!G14+[1]ก.ย.!G14 -> 4 | H14: =[1]ต.ค.!H14+[1]พ.ย.!H14+[1]ธ.ค.!H14+[1]ม.ค.!H14+[1]ก.พ.!H14+[1]มี.ค.!H14+[1]เม.ย!H14+[1]พ.ค.!H14+[1]มิ.ย.!H14+[1]ก.ค.!H14+[1]ส.ค.!H14+[1]ก.ย.!H14 -> 110000
C15: ความผิดฐานอื่นๆ | D15: =[1]ต.ค.!D15+[1]พ.ย.!D15+[1]ธ.ค.!D15+[1]ม.ค.!D15+[1]ก.พ.!D15+[1]มี.ค.!D15+[1]เม.ย!D15+[1]พ.ค.!D15+[1]มิ.ย.!D15+[1]ก.ค.!D15+[1]ส.ค.!D15+[1]ก.ย.!D15 -> 311 | E15: =[1]ต.ค.!E15+[1]พ.ย.!E15+[1]ธ.ค.!E15+[1]ม.ค.!E15+[1]ก.พ.!E15+[1]มี.ค.!E15+[1]เม.ย!E15+[1]พ.ค.!E15+[1]มิ.ย.!E15+[1]ก.ค.!E15+[1]ส.ค.!E15+[1]ก.ย.!E15 -> 0 | F15: =[1]ต.ค.!F15+[1]พ.ย.!F15+[1]ธ.ค.!F15+[1]ม.ค.!F15+[1]ก.พ.!F15+[1]มี.ค.!F15+[1]เม.ย!F15+[1]พ.ค.!F15+[1]มิ.ย.!F15+[1]ก.ค.!F15+[1]ส.ค.!F15+[1]ก.ย.!F15 -> 0 | G15: =[1]ต.ค.!G15+[1]พ.ย.!G15+[1]ธ.ค.!G15+[1]ม.ค.!G15+[1]ก.พ.!G15+[1]มี.ค.!G15+[1]เม.ย!G15+[1]พ.ค.!G15+[1]มิ.ย.!G15+[1]ก.ค.!G15+[1]ส.ค.!G15+[1]ก.ย.!G15 -> 0 | H15: =[1]ต.ค.!H15+[1]พ.ย.!H15+[1]ธ.ค.!H15+[1]ม.ค.!H15+[1]ก.พ.!H15+[1]มี.ค.!H15+[1]เม.ย!H15+[1]พ.ค.!H15+[1]มิ.ย.!H15+[1]ก.ค.!H15+[1]ส.ค.!H15+[1]ก.ย.!H15 -> 0
C16: รวม | D16: =[1]ต.ค.!D16+[1]พ.ย.!D16+[1]ธ.ค.!D16+[1]ม.ค.!D16+[1]ก.พ.!D16+[1]มี.ค.!D16+[1]เม.ย!D16+[1]พ.ค.!D16+[1]มิ.ย.!D16+[1]ก.ค.!D16+[1]ส.ค.!D16+[1]ก.ย.!D16 -> 14231 | E16: =[1]ต.ค.!E16+[1]พ.ย.!E16+[1]ธ.ค.!E16+[1]ม.ค.!E16+[1]ก.พ.!E16+[1]มี.ค.!E16+[1]เม.ย!E16+[1]พ.ค.!E16+[1]มิ.ย.!E16+[1]ก.ค.!E16+[1]ส.ค.!E16+[1]ก.ย.!E16 -> 10007 | F16: =[1]ต.ค.!F16+[1]พ.ย.!F16+[1]ธ.ค.!F16+[1]ม.ค.!F16+[1]ก.พ.!F16+[1]มี.ค.!F16+[1]เม.ย!F16+[1]พ.ค.!F16+[1]มิ.ย.!F16+[1]ก.ค.!F16+[1]ส.ค.!F16+[1]ก.ย.!F16 -> 4185 | G16: =[1]ต.ค.!G16+[1]พ.ย.!G16+[1]ธ.ค.!G16+[1]ม.ค.!G16+[1]ก.พ.!G16+[1]มี.ค.!G16+[1]เม.ย!G16+[1]พ.ค.!G16+[1]มิ.ย.!G16+[1]ก.ค.!G16+[1]ส.ค.!G16+[1]ก.ย.!G16 -> 14192 | H16: =[1]ต.ค.!H16+[1]พ.ย.!H16+[1]ธ.ค.!H16+[1]ม.ค.!H16+[1]ก.พ.!H16+[1]มี.ค.!H16+[1]เม.ย!H16+[1]พ.ค.!H16+[1]มิ.ย.!H16+[1]ก.ค.!H16+[1]ส.ค.!H16+[1]ก.ย.!H16 -> 5.1404293e+08
B17: ฐานความผิด ที่เกี่ยวข้อง | C17: กรณีประมาททั่วไป | D17: =[1]ต.ค.!D17+[1]พ.ย.!D17+[1]ธ.ค.!D17+[1]ม.ค.!D17+[1]ก.พ.!D17+[1]มี.ค.!D17+[1]เม.ย!D17+[1]พ.ค.!D17+[1]มิ.ย.!D17+[1]ก.ค.!D17+[1]ส.ค.!D17+[1]ก.ย.!D17 -> 0 | E17: =[1]ต.ค.!E17+[1]พ.ย.!E17+[1]ธ.ค.!E17+[1]ม.ค.!E17+[1]ก.พ.!E17+[1]มี.ค.!E17+[1]เม.ย!E17+[1]พ.ค.!E17+[1]มิ.ย.!E17+[1]ก.ค.!E17+[1]ส.ค.!E17+[1]ก.ย.!E17 -> 0 | F17: =[1]ต.ค.!F17+[1]พ.ย.!F17+[1]ธ.ค.!F17+[1]ม.ค.!F17+[1]ก.พ.!F17+[1]มี.ค.!F17+[1]เม.ย!F17+[1]พ.ค.!F17+[1]มิ.ย.!F17+[1]ก.ค.!F17+[1]ส.ค.!F17+[1]ก.ย.!F17 -> 0 | G17: =[1]ต.ค.!G17+[1]พ.ย.!G17+[1]ธ.ค.!G17+[1]ม.ค.!G17+[1]ก.พ.!G17+[1]มี.ค.!G17+[1]เม.ย!G17+[1]พ.ค.!G17+[1]มิ.ย.!G17+[1]ก.ค.!G17+[1]ส.ค.!G17+[1]ก.ย.!G17 -> 0 | H17: =[1]ต.ค.!H17+[1]พ.ย.!H17+[1]ธ.ค.!H17+[1]ม.ค.!H17+[1]ก.พ.!H17+[1]มี.ค.!H17+[1]เม.ย!H17+[1]พ.ค.!H17+[1]มิ.ย.!H17+[1]ก.ค.!H17+[1]ส.ค.!H17+[1]ก.ย.!H17 -> 0
C18: - ฐานความผิดหลักชีวิต จราจร | D18: =[1]ต.ค.!D18+[1]พ.ย.!D18+[1]ธ.ค.!D18+[1]ม.ค.!D18+[1]ก.พ.!D18+[1]มี.ค.!D18+[1]เม.ย!D18+[1]พ.ค.!D18+[1]มิ.ย.!D18+[1]ก.ค.!D18+[1]ส.ค.!D18+[1]ก.ย.!D18 -> 2004 | E18: =[1]ต.ค.!E18+[1]พ.ย.!E18+[1]ธ.ค.!E18+[1]ม.ค.!E18+[1]ก.พ.!E18+[1]มี.ค.!E18+[1]เม.ย!E18+[1]พ.ค.!E18+[1]มิ.ย.!E18+[1]ก.ค.!E18+[1]ส.ค.!E18+[1]ก.ย.!E18 -> 756 | F18: =[1]ต.ค.!F18+[1]พ.ย.!F18+[1]ธ.ค.!F18+[1]ม.ค.!F18+[1]ก.พ.!F18+[1]มี.ค.!F18+[1]เม.ย!F18+[1]พ.ค.!F18+[1]มิ.ย.!F18+[1]ก.ค.!F18+[1]ส.ค.!F18+[1]ก.ย.!F18 -> 1355 | G18: =[1]ต.ค.!G18+[1]พ.ย.!G18+[1]ธ.ค.!G18+[1]ม.ค.!G18+[1]ก.พ.!G18+[1]มี.ค.!G18+[1]เม.ย!G18+[1]พ.ค.!G18+[1]มิ.ย.!G18+[1]ก.ค.!G18+[1]ส.ค.!G18+[1]ก.ย.!G18 -> 2111 | H18: =[1]ต.ค.!H18+[1]พ.ย.!H18+[1]ธ.ค.!H18+[1]ม.ค.!H18+[1]ก.พ.!H18+[1]มี.ค.!H18+[1]เม.ย!H18+[1]พ.ค.!H18+[1]มิ.ย.!H18+[1]ก.ค.!H18+[1]ส.ค.!H18+[1]ก.ย.!H18 -> 39898299
C19: - ฐานความผิดหลักร่างกาย จราจร | D19: =[1]ต.ค.!D19+[1]พ.ย.!D19+[1]ธ.ค.!D19+[1]ม.ค.!D19+[1]ก.พ.!D19+[1]มี.ค.!D19+[1]เม.ย!D19+[1]พ.ค.!D19+[1]มิ.ย.!D19+[1]ก.ค.!D19+[1]ส.ค.!D19+[1]ก.ย.!D19 -> 2791 | E19: =[1]ต.ค.!E19+[1]พ.ย.!E19+[1]ธ.ค.!E19+[1]ม.ค.!E19+[1]ก.พ.!E19+[1]มี.ค.!E19+[1]เม.ย!E19+[1]พ.ค.!E19+[1]มิ.ย.!E19+[1]ก.ค.!E19+[1]ส.ค.!E19+[1]ก.ย.!E19 -> 1879 | F19: =[1]ต.ค.!F19+[1]พ.ย.!F19+[1]ธ.ค.!F19+[1]ม.ค.!F19+[1]ก.พ.!F19+[1]มี.ค.!F19+[1]เม.ย!F19+[1]พ.ค.!F19+[1]มิ.ย.!F19+[1]ก.ค.!F19+[1]ส.ค.!F19+[1]ก.ย.!F19 -> 1022 | G19: =[1]ต.ค.!G19+[1]พ.ย.!G19+[1]ธ.ค.!G19+[1]ม.ค.!G19+[1]ก.พ.!G19+[1]มี.ค.!G19+[1]เม.ย!G19+[1]พ.ค.!G19+[1]มิ.ย.!G19+[1]ก.ค.!G19+[1]ส.ค.!G19+[1]ก.ย.!G19 -> 2901 | H19: =[1]ต.ค.!H19+[1]พ.ย.!H19+[1]ธ.ค.!H19+[1]ม.ค.!H19+[1]ก.พ.!H19+[1]มี.ค.!H19+[1]เม.ย!H19+[1]พ.ค.!H19+[1]มิ.ย.!H19+[1]ก.ค.!H19+[1]ส.ค.!H19+[1]ก.ย.!H19 -> 1.1524532e+08
C20: กรณีประมาทจราจร | D20: =[1]ต.ค.!D20+[1]พ.ย.!D20+[1]ธ.ค.!D20+[1]ม.ค.!D20+[1]ก.พ.!D20+[1]มี.ค.!D20+[1]เม.ย!D20+[1]พ.ค.!D20+[1]มิ.ย.!D20+[1]ก.ค.!D20+[1]ส.ค.!D20+[1]ก.ย.!D20 -> 4795 | E20: =[1]ต.ค.!E20+[1]พ.ย.!E20+[1]ธ.ค.!E20+[1]ม.ค.!E20+[1]ก.พ.!E20+[1]มี.ค.!E20+[1]เม.ย!E20+[1]พ.ค.!E20+[1]มิ.ย.!E20+[1]ก.ค.!E20+[1]ส.ค.!E20+[1]ก.ย.!E20 -> 2635 | F20: =[1]ต.ค.!F20+[1]พ.ย.!F20+[1]ธ.ค.!F20+[1]ม.ค.!F20+[1]ก.พ.!F20+[1]มี.ค.!F20+[1]เม.ย!F20+[1]พ.ค.!F20+[1]มิ.ย.!F20+[1]ก.ค.!F20+[1]ส.ค.!F20+[1]ก.ย.!F20 -> 2377 | G20: =[1]ต.ค.!G20+[1]พ.ย.!G20+[1]ธ.ค.!G20+[1]ม.ค.!G20+[1]ก.พ.!G20+[1]มี.ค.!G20+[1]เม.ย!G20+[1]พ.ค.!G20+[1]มิ.ย.!G20+[1]ก.ค.!G20+[1]ส.ค.!G20+[1]ก.ย.!G20 -> 5012 | H20: =[1]ต.ค.!H20+[1]พ.ย.!H20+[1]ธ.ค.!H20+[1]ม.ค.!H20+[1]ก.พ.!H20+[1]มี.ค.!H20+[1]เม.ย!H20+[1]พ.ค.!H20+[1]มิ.ย.!H20+[1]ก.ค.!H20+[1]ส.ค.!H20+[1]ก.ย.!H20 -> 1.5514362e+08
C21: กรณียาเสพติด | D21: =[1]ต.ค.!D21+[1]พ.ย.!D21+[1]ธ.ค.!D21+[1]ม.ค.!D21+[1]ก.พ.!D21+[1]มี.ค.!D21+[1]เม.ย!D21+[1]พ.ค.!D21+[1]มิ.ย.!D21+[1]ก.ค.!D21+[1]ส.ค.!D21+[1]ก.ย.!D21 -> 70 | E21: =[1]ต.ค.!E21+[1]พ.ย.!E21+[1]ธ.ค.!E21+[1]ม.ค.!E21+[1]ก.พ.!E21+[1]มี.ค.!E21+[1]เม.ย!E21+[1]พ.ค.!E21+[1]มิ.ย.!E21+[1]ก.ค.!E21+[1]ส.ค.!E21+[1]ก.ย.!E21 -> 78 | F21: =[1]ต.ค.!F21+[1]พ.ย.!F21+[1]ธ.ค.!F21+[1]ม.ค.!F21+[1]ก.พ.!F21+[1]มี.ค.!F21+[1]เม.ย!F21+[1]พ.ค.!F21+[1]มิ.ย.!F21+[1]ก.ค.!F21+[1]ส.ค.!F21+[1]ก.ย.!F21 -> 9 | G21: =[1]ต.ค.!G21+[1]พ.ย.!G21+[1]ธ.ค.!G21+[1]ม.ค.!G21+[1]ก.พ.!G21+[1]มี.ค.!G21+[1]เม.ย!G21+[1]พ.ค.!G21+[1]มิ.ย.!G21+[1]ก.ค.!G21+[1]ส.ค.!G21+[1]ก.ย.!G21 -> 87 | H21: =[1]ต.ค.!H21+[1]พ.ย.!H21+[1]ธ.ค.!H21+[1]ม.ค.!H21+[1]ก.พ.!H21+[1]มี.ค.!H21+[1]เม.ย!H21+[1]พ.ค.!H21+[1]มิ.ย.!H21+[1]ก.ค.!H21+[1]ส.ค.!H21+[1]ก.ย.!H21 -> 4625929
C22: กรณีค้ามนุษย์ | D22: =[1]ต.ค.!D22+[1]พ.ย.!D22+[1]ธ.ค.!D22+[1]ม.ค.!D22+[1]ก.พ.!D22+[1]มี.ค.!D22+[1]เม.ย!D22+[1]พ.ค.!D22+[1]มิ.ย.!D22+[1]ก.ค.!D22+[1]ส.ค.!D22+[1]ก.ย.!D22 -> 255 | E22: =[1]ต.ค.!E22+[1]พ.ย.!E22+[1]ธ.ค.!E22+[1]ม.ค.!E22+[1]ก.พ.!E22+[1]มี.ค.!E22+[1]เม.ย!E22+[1]พ.ค.!E22+[1]มิ.ย.!E22+[1]ก.ค.!E22+[1]ส.ค.!E22+[1]ก.ย.!E22 -> 85 | F22: =[1]ต.ค.!F22+[1]พ.ย.!F22+[1]ธ.ค.!F22+[1]ม.ค.!F22+[1]ก.พ.!F22+[1]มี.ค.!F22+[1]เม.ย!F22+[1]พ.ค.!F22+[1]มิ.ย.!F22+[1]ก.ค.!F22+[1]ส.ค.!F22+[1]ก.ย.!F22 -> 177 | G22: =[1]ต.ค.!G22+[1]พ.ย.!G22+[1]ธ.ค.!G22+[1]ม.ค.!G22+[1]ก.พ.!G22+[1]มี.ค.!G22+[1]เม.ย!G22+[1]พ.ค.!G22+[1]มิ.ย.!G22+[1]ก.ค.!G22+[1]ส.ค.!G22+[1]ก.ย.!G22 -> 262 | H22: =[1]ต.ค.!H22+[1]พ.ย.!H22+[1]ธ.ค.!H22+[1]ม.ค.!H22+[1]ก.พ.!H22+[1]มี.ค.!H22+[1]เม.ย!H22+[1]พ.ค.!H22+[1]มิ.ย.!H22+[1]ก.ค.!H22+[1]ส.ค.!H22+[1]ก.ย.!H22 -> 2409864
C23: กรณีความรุนแรงในครอบครัว | D23: =[1]ต.ค.!D23+[1]พ.ย.!D23+[1]ธ.ค.!D23+[1]ม.ค.!D23+[1]ก.พ.!D23+[1]มี.ค.!D23+[1]เม.ย!D23+[1]พ.ค.!D23+[1]มิ.ย.!D23+[1]ก.ค.!D23+[1]ส.ค.!D23+[1]ก.ย.!D23 -> 104 | E23: =[1]ต.ค.!E23+[1]พ.ย.!E23+[1]ธ.ค.!E23+[1]ม.ค.!E23+[1]ก.พ.!E23+[1]มี.ค.!E23+[1]เม.ย!E23+[1]พ.ค.!E23+[1]มิ.ย.!E23+[1]ก.ค.!E23+[1]ส.ค.!E23+[1]ก.ย.!E23 -> 109 | F23: =[1]ต.ค.!F23+[1]พ.ย.!F23+[1]ธ.ค.!F23+[1]ม.ค.!F23+[1]ก.พ.!F23+[1]มี.ค.!F23+[1]เม.ย!F23+[1]พ.ค.!F23+[1]มิ.ย.!F23+[1]ก.ค.!F23+[1]ส.ค.!F23+[1]ก.ย.!F23 -> 17 | G23: =[1]ต.ค.!G23+[1]พ.ย.!G23+[1]ธ.ค.!G23+[1]ม.ค.!G23+[1]ก.พ.!G23+[1]มี.ค.!G23+[1]เม.ย!G23+[1]พ.ค.!G23+[1]มิ.ย.!G23+[1]ก.ค.!G23+[1]ส.ค.!G23+[1]ก.ย.!G23 -> 126 | H23: =[1]ต.ค.!H23+[1]พ.ย.!H23+[1]ธ.ค.!H23+[1]ม.ค.!H23+[1]ก.พ.!H23+[1]มี.ค.!H23+[1]เม.ย!H23+[1]พ.ค.!H23+[1]มิ.ย.!H23+[1]ก.ค.!H23+[1]ส.ค.!H23+[1]ก.ย.!H23 -> 7098327
C24: กรณีความไม่สงบทางการเมือง | D24: =[1]ต.ค.!D24+[1]พ.ย.!D24+[1]ธ.ค.!D24+[1]ม.ค.!D24+[1]ก.พ.!D24+[1]มี.ค.!D24+[1]เม.ย!D24+[1]พ.ค.!D24+[1]มิ.ย.!D24+[1]ก.ค.!D24+[1]ส.ค.!D24+[1]ก.ย.!D24 -> 1 | E24: =[1]ต.ค.!E24+[1]พ.ย.!E24+[1]ธ.ค.!E24+[1]ม.ค.!E24+[1]ก.พ.!E24+[1]มี.ค.!E24+[1]เม.ย!E24+[1]พ.ค.!E24+[1]มิ.ย.!E24+[1]ก.ค.!E24+[1]ส.ค.!E24+[1]ก.ย.!E24 -> 1 | F24: =[1]ต.ค.!F24+[1]พ.ย.!F24+[1]ธ.ค.!F24+[1]ม.ค.!F24+[1]ก.พ.!F24+[1]มี.ค.!F24+[1]เม.ย!F24+[1]พ.ค.!F24+[1]มิ.ย.!F24+[1]ก.ค.!F24+[1]ส.ค.!F24+[1]ก.ย.!F24 -> 1 | G24: =[1]ต.ค.!G24+[1]พ.ย.!G24+[1]ธ.ค.!G24+[1]ม.ค.!G24+[1]ก.พ.!G24+[1]มี.ค.!G24+[1]เม.ย!G24+[1]พ.ค.!G24+[1]มิ.ย.!G24+[1]ก.ค.!G24+[1]ส.ค.!G24+[1]ก.ย.!G24 -> 2 | H24: =[1]ต.ค.!H24+[1]พ.ย.!H24+[1]ธ.ค.!H24+[1]ม.ค.!H24+[1]ก.พ.!H24+[1]มี.ค.!H24+[1]เม.ย!H24+[1]พ.ค.!H24+[1]มิ.ย.!H24+[1]ก.ค.!H24+[1]ส.ค.!H24+[1]ก.ย.!H24 -> 275
C25: กรณีความไม่สงบ (จชต.) | D25: =[1]ต.ค.!D25+[1]พ.ย.!D25+[1]ธ.ค.!D25+[1]ม.ค.!D25+[1]ก.พ.!D25+[1]มี.ค.!D25+[1]เม.ย!D25+[1]พ.ค.!D25+[1]มิ.ย.!D25+[1]ก.ค.!D25+[1]ส.ค.!D25+[1]ก.ย.!D25 -> 38 | E25: =[1]ต.ค.!E25+[1]พ.ย.!E25+[1]ธ.ค.!E25+[1]ม.ค.!E25+[1]ก.พ.!E25+[1]มี.ค.!E25+[1]เม.ย!E25+[1]พ.ค.!E25+[1]มิ.ย.!E25+[1]ก.ค.!E25+[1]ส.ค.!E25+[1]ก.ย.!E25 -> 15 | F25: =[1]ต.ค.!F25+[1]พ.ย.!F25+[1]ธ.ค.!F25+[1]ม.ค.!F25+[1]ก.พ.!F25+[1]มี.ค.!F25+[1]เม.ย!F25+[1]พ.ค.!F25+[1]มิ.ย.!F25+[1]ก.ค.!F25+[1]ส.ค.!F25+[1]ก.ย.!F25 -> 29 | G25: =[1]ต.ค.!G25+[1]พ.ย.!G25+[1]ธ.ค.!G25+[1]ม.ค.!G25+[1]ก.พ.!G25+[1]มี.ค.!G25+[1]เม.ย!G25+[1]พ.ค.!G25+[1]มิ.ย.!G25+[1]ก.ค.!G25+[1]ส.ค.!G25+[1]ก.ย.!G25 -> 44 | H25: =[1]ต.ค.!H25+[1]พ.ย.!H25+[1]ธ.ค.!H25+[1]ม.ค.!H25+[1]ก.พ.!H25+[1]มี.ค.!H25+[1]เม.ย!H25+[1]พ.ค.!H25+[1]มิ.ย.!H25+[1]ก.ค.!H25+[1]ส.ค.!H25+[1]ก.ย.!H25 -> 261882
C26: กรณีเชิงรุก | D26: =[1]ต.ค.!D26+[1]พ.ย.!D26+[1]ธ.ค.!D26+[1]ม.ค.!D26+[1]ก.พ.!D26+[1]มี.ค.!D26+[1]เม.ย!D26+[1]พ.ค.!D26+[1]มิ.ย.!D26+[1]ก.ค.!D26+[1]ส.ค.!D26+[1]ก.ย.!D26 -> 509 | E26: =[1]ต.ค.!E26+[1]พ.ย.!E26+[1]ธ.ค.!E26+[1]ม.ค.!E26+[1]ก.พ.!E26+[1]มี.ค.!E26+[1]เม.ย!E26+[1]พ.ค.!E26+[1]มิ.ย.!E26+[1]ก.ค.!E26+[1]ส.ค.!E26+[1]ก.ย.!E26 -> 455 | F26: =[1]ต.ค.!F26+[1]พ.ย.!F26+[1]ธ.ค.!F26+[1]ม.ค.!F26+[1]ก.พ.!F26+[1]มี.ค.!F26+[1]เม.ย!F26+[1]พ.ค.!F26+[1]มิ.ย.!F26+[1]ก.ค.!F26+[1]ส.ค.!F26+[1]ก.ย.!F26 -> 102 | G26: =[1]ต.ค.!G26+[1]พ.ย.!G26+[1]ธ.ค.!G26+[1]ม.ค.!G26+[1]ก.พ.!G26+[1]มี.ค.!G26+[1]เม.ย!G26+[1]พ.ค.!G26+[1]มิ.ย.!G26+[1]ก.ค.!G26+[1]ส.ค.!G26+[1]ก.ย.!G26 -> 557 | H26: =[1]ต.ค.!H26+[1]พ.ย.!H26+[1]ธ.ค.!H26+[1]ม.ค.!H26+[1]ก.พ.!H26+[1]มี.ค.!H26+[1]เม.ย!H26+[1]พ.ค.!H26+[1]มิ.ย.!H26+[1]ก.ค.!H26+[1]ส.ค.!H26+[1]ก.ย.!H26 -> 35196214
C27: กรณีเมาสุรา | D27: =[1]ต.ค.!D27+[1]พ.ย.!D27+[1]ธ.ค.!D27+[1]ม.ค.!D27+[1]ก.พ.!D27+[1]มี.ค.!D27+[1]เม.ย!D27+[1]พ.ค.!D27+[1]มิ.ย.!D27+[1]ก.ค.!D27+[1]ส.ค.!D27+[1]ก.ย.!D27 -> 54 | E27: =[1]ต.ค.!E27+[1]พ.ย.!E27+[1]ธ.ค.!E27+[1]ม.ค.!E27+[1]ก.พ.!E27+[1]มี.ค.!E27+[1]เม.ย!E27+[1]พ.ค.!E27+[1]มิ.ย.!E27+[1]ก.ค.!E27+[1]ส.ค.!E27+[1]ก.ย.!E27 -> 59 | F27: =[1]ต.ค.!F27+[1]พ.ย.!F27+[1]ธ.ค.!F27+[1]ม.ค.!F27+[1]ก.พ.!F27+[1]มี.ค.!F27+[1]เม.ย!F27+[1]พ.ค.!F27+[1]มิ.ย.!F27+[1]ก.ค.!F27+[1]ส.ค.!F27+[1]ก.ย.!F27 -> 20 | G27: =[1]ต.ค.!G27+[1]พ.ย.!G27+[1]ธ.ค.!G27+[1]ม.ค.!G27+[1]ก.พ.!G27+[1]มี.ค.!G27+[1]เม.ย!G27+[1]พ.ค.!G27+[1]มิ.ย.!G27+[1]ก.ค.!G27+[1]ส.ค.!G27+[1]ก.ย.!G27 -> 79 | H27: =[1]ต.ค.!H27+[1]พ.ย.!H27+[1]ธ.ค.!H27+[1]ม.ค.!H27+[1]ก.พ.!H27+[1]มี.ค.!H27+[1]เม.ย!H27+[1]พ.ค.!H27+[1]มิ.ย.!H27+[1]ก.ค.!H27+[1]ส.ค.!H27+[1]ก.ย.!H27 -> 3162668.8
C28: รวม | D28: =[1]ต.ค.!D28+[1]พ.ย.!D28+[1]ธ.ค.!D28+[1]ม.ค.!D28+[1]ก.พ.!D28+[1]มี.ค.!D28+[1]เม.ย!D28+[1]พ.ค.!D28+[1]มิ.ย.!D28+[1]ก.ค.!D28+[1]ส.ค.!D28+[1]ก.ย.!D28 -> 6648 | E28: =[1]ต.ค.!E28+[1]พ.ย.!E28+[1]ธ.ค.!E28+[1]ม.ค.!E28+[1]ก.พ.!E28+[1]มี.ค.!E28+[1]เม.ย!E28+[1]พ.ค.!E28+[1]มิ.ย.!E28+[1]ก.ค.!E28+[1]ส.ค.!E28+[1]ก.ย.!E28 -> 3821 | F28: =[1]ต.ค.!F28+[1]พ.ย.!F28+[1]ธ.ค.!F28+[1]ม.ค.!F28+[1]ก.พ.!F28+[1]มี.ค.!F28+[1]เม.ย!F28+[1]พ.ค.!F28+[1]มิ.ย.!F28+[1]ก.ค.!F28+[1]ส.ค.!F28+[1]ก.ย.!F28 -> 3077 | G28: =[1]ต.ค.!G28+[1]พ.ย.!G28+[1]ธ.ค.!G28+[1]ม.ค.!G28+[1]ก.พ.!G28+[1]มี.ค.!G28+[1]เม.ย!G28+[1]พ.ค.!G28+[1]มิ.ย.!G28+[1]ก.ค.!G28+[1]ส.ค.!G28+[1]ก.ย.!G28 -> 6898 | H28: =[1]ต.ค.!H28+[1]พ.ย.!H28+[1]ธ.ค.!H28+[1]ม.ค.!H28+[1]ก.พ.!H28+[1]มี.ค.!H28+[1]เม.ย!H28+[1]พ.ค.!H28+[1]มิ.ย.!H28+[1]ก.ค.!H28+[1]ส.ค.!H28+[1]ก.ย.!H28 -> 2.3081295e+08
A29: จำเลย | B29: ฐานความผิดหลัก ตามท้าย พ.ร.บ. | C29: ความผิดต่อชีวิต | D29: =[1]ต.ค.!D29+[1]พ.ย.!D29+[1]ธ.ค.!D29+[1]ม.ค.!D29+[1]ก.พ.!D29+[1]มี.ค.!D29+[1]เม.ย!D29+[1]พ.ค.!D29+[1]มิ.ย.!D29+[1]ก.ค.!D29+[1]ส.ค.!D29+[1]ก.ย.!D29 -> 40 | E29: =[1]ต.ค.!E29+[1]พ.ย.!E29+[1]ธ.ค.!E29+[1]ม.ค.!E29+[1]ก.พ.!E29+[1]มี.ค.!E29+[1]เม.ย!E29+[1]พ.ค.!E29+[1]มิ.ย.!E29+[1]ก.ค.!E29+[1]ส.ค.!E29+[1]ก.ย.!E29 -> 11 | F29: =[1]ต.ค.!F29+[1]พ.ย.!F29+[1]ธ.ค.!F29+[1]ม.ค.!F29+[1]ก.พ.!F29+[1]มี.ค.!F29+[1]เม.ย!F29+[1]พ.ค.!F29+[1]มิ.ย.!F29+[1]ก.ค.!F29+[1]ส.ค.!F29+[1]ก.ย.!F29 -> 45 | G29: =[1]ต.ค.!G29+[1]พ.ย.!G29+[1]ธ.ค.!G29+[1]ม.ค.!G29+[1]ก.พ.!G29+[1]มี.ค.!G29+[1]เม.ย!G29+[1]พ.ค.!G29+[1]มิ.ย.!G29+[1]ก.ค.!G29+[1]ส.ค.!G29+[1]ก.ย.!G29 -> 56 | H29: =[1]ต.ค.!H29+[1]พ.ย.!H29+[1]ธ.ค.!H29+[1]ม.ค.!H29+[1]ก.พ.!H29+[1]มี.ค.!H29+[1]เม.ย!H29+[1]พ.ค.!H29+[1]มิ.ย.!H29+[1]ก.ค.!H29+[1]ส.ค.!H29+[1]ก.ย.!H29 -> 3763846
C30: ความผิดต่อร่างกาย | D30: =[1]ต.ค.!D30+[1]พ.ย.!D30+[1]ธ.ค.!D30+[1]ม.ค.!D30+[1]ก.พ.!D30+[1]มี.ค.!D30+[1]เม.ย!D30+[1]พ.ค.!D30+[1]มิ.ย.!D30+[1]ก.ค.!D30+[1]ส.ค.!D30+[1]ก.ย.!D30 -> 5 | E30: =[1]ต.ค.!E30+[1]พ.ย.!E30+[1]ธ.ค.!E30+[1]ม.ค.!E30+[1]ก.พ.!E30+[1]มี.ค.!E30+[1]เม.ย!E30+[1]พ.ค.!E30+[1]มิ.ย.!E30+[1]ก.ค.!E30+[1]ส.ค.!E30+[1]ก.ย.!E30 -> 4 | F30: =[1]ต.ค.!F30+[1]พ.ย.!F30+[1]ธ.ค.!F30+[1]ม.ค.!F30+[1]ก.พ.!F30+[1]มี.ค.!F30+[1]เม.ย!F30+[1]พ.ค.!F30+[1]มิ.ย.!F30+[1]ก.ค.!F30+[1]ส.ค.!F30+[1]ก.ย.!F30 -> 1 | G30: =[1]ต.ค.!G30+[1]พ.ย.!G30+[1]ธ.ค.!G30+[1]ม.ค.!G30+[1]ก.พ.!G30+[1]มี.ค.!G30+[1]เม.ย!G30+[1]พ.ค.!G30+[1]มิ.ย.!G30+[1]ก.ค.!G30+[1]ส.ค.!G30+[1]ก.ย.!G30 -> 5 | H30: =[1]ต.ค.!H30+[1]พ.ย.!H30+[1]ธ.ค.!H30+[1]ม.ค.!H30+[1]ก.พ.!H30+[1]มี.ค.!H30+[1]เม.ย!H30+[1]พ.ค.!H30+[1]มิ.ย.!H30+[1]ก.ค.!H30+[1]ส.ค.!H30+[1]ก.ย.!H30 -> 1274638
C31: ความผิดเกี่ยวกับเพศ | D31: =[1]ต.ค.!D31+[1]พ.ย.!D31+[1]ธ.ค.!D31+[1]ม.ค.!D31+[1]ก.พ.!D31+[1]มี.ค.!D31+[1]เม.ย!D31+[1]พ.ค.!D31+[1]มิ.ย.!D31+[1]ก.ค.!D31+[1]ส.ค.!D31+[1]ก.ย.!D31 -> 17 | E31: =[1]ต.ค.!E31+[1]พ.ย.!E31+[1]ธ.ค.!E31+[1]ม.ค.!E31+[1]ก.พ.!E31+[1]มี.ค.!E31+[1]เม.ย!E31+[1]พ.ค.!E31+[1]มิ.ย.!E31+[1]ก.ค.!E31+[1]ส.ค.!E31+[1]ก.ย.!E31 -> 3 | F31: =[1]ต.ค.!F31+[1]พ.ย.!F31+[1]ธ.ค.!F31+[1]ม.ค.!F31+[1]ก.พ.!F31+[1]มี.ค.!F31+[1]เม.ย!F31+[1]พ.ค.!F31+[1]มิ.ย.!F31+[1]ก.ค.!F31+[1]ส.ค.!F31+[1]ก.ย.!F31 -> 9 | G31: =[1]ต.ค.!G31+[1]พ.ย.!G31+[1]ธ.ค.!G31+[1]ม.ค.!G31+[1]ก.พ.!G31+[1]มี.ค.!G31+[1]เม.ย!G31+[1]พ.ค.!G31+[1]มิ.ย.!G31+[1]ก.ค.!G31+[1]ส.ค.!G31+[1]ก.ย.!G31 -> 12 | H31: =[1]ต.ค.!H31+[1]พ.ย.!H31+[1]ธ.ค.!H31+[1]ม.ค.!H31+[1]ก.พ.!H31+[1]มี.ค.!H31+[1]เม.ย!H31+[1]พ.ค.!H31+[1]มิ.ย.!H31+[1]ก.ค.!H31+[1]ส.ค.!H31+[1]ก.ย.!H31 -> 582442
C32: ความผิดเกี่ยวกับยาเสพติด | D32: =[1]ต.ค.!D32+[1]พ.ย.!D32+[1]ธ.ค.!D32+[1]ม.ค.!D32+[1]ก.พ.!D32+[1]มี.ค.!D32+[1]เม.ย!D32+[1]พ.ค.!D32+[1]มิ.ย.!D32+[1]ก.ค.!D32+[1]ส.ค.!D32+[1]ก.ย.!D32 -> 104 | E32: =[1]ต.ค.!E32+[1]พ.ย.!E32+[1]ธ.ค.!E32+[1]ม.ค.!E32+[1]ก.พ.!E32+[1]มี.ค.!E32+[1]เม.ย!E32+[1]พ.ค.!E32+[1]มิ.ย.!E32+[1]ก.ค.!E32+[1]ส.ค.!E32+[1]ก.ย.!E32 -> 15 | F32: =[1]ต.ค.!F32+[1]พ.ย.!F32+[1]ธ.ค.!F32+[1]ม.ค.!F32+[1]ก.พ.!F32+[1]มี.ค.!F32+[1]เม.ย!F32+[1]พ.ค.!F32+[1]มิ.ย.!F32+[1]ก.ค.!F32+[1]ส.ค.!F32+[1]ก.ย.!F32 -> 126 | G32: =[1]ต.ค.!G32+[1]พ.ย.!G32+[1]ธ.ค.!G32+[1]ม.ค.!G32+[1]ก.พ.!G32+[1]มี.ค.!G32+[1]เม.ย!G32+[1]พ.ค.!G32+[1]มิ.ย.!G32+[1]ก.ค.!G32+[1]ส.ค.!G32+[1]ก.ย.!G32 -> 141 | H32: =[1]ต.ค.!H32+[1]พ.ย.!H32+[1]ธ.ค.!H32+[1]ม.ค.!H32+[1]ก.พ.!H32+[1]มี.ค.!H32+[1]เม.ย!H32+[1]พ.ค.!H32+[1]มิ.ย.!H32+[1]ก.ค.!H32+[1]ส.ค.!H32+[1]ก.ย.!H32 -> 5487098
C33: ความผิดเกี่ยวกับความมั่นคงฯ | D33: =[1]ต.ค.!D33+[1]พ.ย.!D33+[1]ธ.ค.!D33+[1]ม.ค.!D33+[1]ก.พ.!D33+[1]มี.ค.!D33+[1]เม.ย!D33+[1]พ.ค.!D33+[1]มิ.ย.!D33+[1]ก.ค.!D33+[1]ส.ค.!D33+[1]ก.ย.!D33 -> 8 | E33: =[1]ต.ค.!E33+[1]พ.ย.!E33+[1]ธ.ค.!E33+[1]ม.ค.!E33+[1]ก.พ.!E33+[1]มี.ค.!E33+[1]เม.ย!E33+[1]พ.ค.!E33+[1]มิ.ย.!E33+[1]ก.ค.!E33+[1]ส.ค.!E33+[1]ก.ย.!E33 -> 6 | F33: =[1]ต.ค.!F33+[1]พ.ย.!F33+[1]ธ.ค.!F33+[1]ม.ค.!F33+[1]ก.พ.!F33+[1]มี.ค.!F33+[1]เม.ย!F33+[1]พ.ค.!F33+[1]มิ.ย.!F33+[1]ก.ค.!F33+[1]ส.ค.!F33+[1]ก.ย.!F33 -> 3 | G33: =[1]ต.ค.!G33+[1]พ.ย.!G33+[1]ธ.ค.!G33+[1]ม.ค.!G33+[1]ก.พ.!G33+[1]มี.ค.!G33+[1]เม.ย!G33+[1]พ.ค.!G33+[1]มิ.ย.!G33+[1]ก.ค.!G33+[1]ส.ค.!G33+[1]ก.ย.!G33 -> 9 | H33: =[1]ต.ค.!H33+[1]พ.ย.!H33+[1]ธ.ค.!H33+[1]ม.ค.!H33+[1]ก.พ.!H33+[1]มี.ค.!H33+[1]เม.ย!H33+[1]พ.ค.!H33+[1]มิ.ย.!H33+[1]ก.ค.!H33+[1]ส.ค.!H33+[1]ก.ย.!H33 -> 568061
C34: ความผิดเกี่ยวกับการปลอมและการแปลง | D34: =[1]ต.ค.!D34+[1]พ.ย.!D34+[1]ธ.ค.!D34+[1]ม.ค.!D34+[1]ก.พ.!D34+[1]มี.ค.!D34+[1]เม.ย!D34+[1]พ.ค.!D34+[1]มิ.ย.!D34+[1]ก.ค.!D34+[1]ส.ค.!D34+[1]ก.ย.!D34 -> 10 | E34: =[1]ต.ค.!E34+[1]พ.ย.!E34+[1]ธ.ค.!E34+[1]ม.ค.!E34+[1]ก.พ.!E34+[1]มี.ค.!E34+[1]เม.ย!E34+[1]พ.ค.!E34+[1]มิ.ย.!E34+[1]ก.ค.!E34+[1]ส.ค.!E34+[1]ก.ย.!E34 -> 1 | F34: =[1]ต.ค.!F34+[1]พ.ย.!F34+[1]ธ.ค.!F34+[1]ม.ค.!F34+[1]ก.พ.!F34+[1]มี.ค.!F34+[1]เม.ย!F34+[1]พ.ค.!F34+[1]มิ.ย.!F34+[1]ก.ค.!F34+[1]ส.ค.!F34+[1]ก.ย.!F34 -> 11 | G34: =[1]ต.ค.!G34+[1]พ.ย.!G34+[1]ธ.ค.!G34+[1]ม.ค.!G34+[1]ก.พ.!G34+[1]มี.ค.!G34+[1]เม.ย!G34+[1]พ.ค.!G34+[1]มิ.ย.!G34+[1]ก.ค.!G34+[1]ส.ค.!G34+[1]ก.ย.!G34 -> 12 | H34: =[1]ต.ค.!H34+[1]พ.ย.!H34+[1]ธ.ค.!H34+[1]ม.ค.!H34+[1]ก.พ.!H34+[1]มี.ค.!H34+[1]เม.ย!H34+[1]พ.ค.!H34+[1]มิ.ย.!H34+[1]ก.ค.!H34+[1]ส.ค.!H34+[1]ก.ย.!H34 -> 537825
C35: ความผิดเกี่ยวกับการยุติธรรม | D35: =[1]ต.ค.!D35+[1]พ.ย.!D35+[1]ธ.ค.!D35+[1]ม.ค.!D35+[1]ก.พ.!D35+[1]มี.ค.!D35+[1]เม.ย!D35+[1]พ.ค.!D35+[1]มิ.ย.!D35+[1]ก.ค.!D35+[1]ส.ค.!D35+[1]ก.ย.!D35 -> 0 | E35: =[1]ต.ค.!E35+[1]พ.ย.!E35+[1]ธ.ค.!E35+[1]ม.ค.!E35+[1]ก.พ.!E35+[1]มี.ค.!E35+[1]เม.ย!E35+[1]พ.ค.!E35+[1]มิ.ย.!E35+[1]ก.ค.!E35+[1]ส.ค.!E35+[1]ก.ย.!E35 -> 0 | F35: =[1]ต.ค.!F35+[1]พ.ย.!F35+[1]ธ.ค.!F35+[1]ม.ค.!F35+[1]ก.พ.!F35+[1]มี.ค.!F35+[1]เม.ย!F35+[1]พ.ค.!F35+[1]มิ.ย.!F35+[1]ก.ค.!F35+[1]ส.ค.!F35+[1]ก.ย.!F35 -> 0 | G35: =[1]ต.ค.!G35+[1]พ.ย.!G35+[1]ธ.ค.!G35+[1]ม.ค.!G35+[1]ก.พ.!G35+[1]มี.ค.!G35+[1]เม.ย!G35+[1]พ.ค.!G35+[1]มิ.ย.!G35+[1]ก.ค.!G35+[1]ส.ค.!G35+[1]ก.ย.!G35 -> 0 | H35: =[1]ต.ค.!H35+[1]พ.ย.!H35+[1]ธ.ค.!H35+[1]ม.ค.!H35+[1]ก.พ.!H35+[1]มี.ค.!H35+[1]เม.ย!H35+[1]พ.ค.!H35+[1]มิ.ย.!H35+[1]ก.ค.!H35+[1]ส.ค.!H35+[1]ก.ย.!H35 -> 0
C36: ความผิดเกี่ยวกับความสงบสุขของประชาชน | D36: =[1]ต.ค.!D36+[1]พ.ย.!D36+[1]ธ.ค.!D36+[1]ม.ค.!D36+[1]ก.พ.!D36+[1]มี.ค.!D36+[1]เม.ย!D36+[1]พ.ค.!D36+[1]มิ.ย.!D36+[1]ก.ค.!D36+[1]ส.ค.!D36+[1]ก.ย.!D36 -> 7 | E36: =[1]ต.ค.!E36+[1]พ.ย.!E36+[1]ธ.ค.!E36+[1]ม.ค.!E36+[1]ก.พ.!E36+[1]มี.ค.!E36+[1]เม.ย!E36+[1]พ.ค.!E36+[1]มิ.ย.!E36+[1]ก.ค.!E36+[1]ส.ค.!E36+[1]ก.ย.!E36 -> 2 | F36: =[1]ต.ค.!F36+[1]พ.ย.!F36+[1]ธ.ค.!F36+[1]ม.ค.!F36+[1]ก.พ.!F36+[1]มี.ค.!F36+[1]เม.ย!F36+[1]พ.ค.!F36+[1]มิ.ย.!F36+[1]ก.ค.!F36+[1]ส.ค.!F36+[1]ก.ย.!F36 -> 1 | G36: =[1]ต.ค.!G36+[1]พ.ย.!G36+[1]ธ.ค.!G36+[1]ม.ค.!G36+[1]ก.พ.!G36+[1]มี.ค.!G36+[1]เม.ย!G36+[1]พ.ค.!G36+[1]มิ.ย.!G36+[1]ก.ค.!G36+[1]ส.ค.!G36+[1]ก.ย.!G36 -> 3 | H36: =[1]ต.ค.!H36+[1]พ.ย.!H36+[1]ธ.ค.!H36+[1]ม.ค.!H36+[1]ก.พ.!H36+[1]มี.ค.!H36+[1]เม.ย!H36+[1]พ.ค.!H36+[1]มิ.ย.!H36+[1]ก.ค.!H36+[1]ส.ค.!H36+[1]ก.ย.!H36 -> 89600
C37: ความผิดเกี่ยวเสรีภาพและชื่อเสียง | D37: =[1]ต.ค.!D37+[1]พ.ย.!D37+[1]ธ.ค.!D37+[1]ม.ค.!D37+[1]ก.พ.!D37+[1]มี.ค.!D37+[1]เม.ย!D37+[1]พ.ค.!D37+[1]มิ.ย.!D37+[1]ก.ค.!D37+[1]ส.ค.!D37+[1]ก.ย.!D37 -> 1 | E37: =[1]ต.ค.!E37+[1]พ.ย.!E37+[1]ธ.ค.!E37+[1]ม.ค.!E37+[1]ก.พ.!E37+[1]มี.ค.!E37+[1]เม.ย!E37+[1]พ.ค.!E37+[1]มิ.ย.!E37+[1]ก.ค.!E37+[1]ส.ค.!E37+[1]ก.ย.!E37 -> 0 | F37: =[1]ต.ค.!F37+[1]พ.ย.!F37+[1]ธ.ค.!F37+[1]ม.ค.!F37+[1]ก.พ.!F37+[1]มี.ค.!F37+[1]เม.ย!F37+[1]พ.ค.!F37+[1]มิ.ย.!F37+[1]ก.ค.!F37+[1]ส.ค.!F37+[1]ก.ย.!F37 -> 0 | G37: =[1]ต.ค.!G37+[1]พ.ย.!G37+[1]ธ.ค.!G37+[1]ม.ค.!G37+[1]ก.พ.!G37+[1]มี.ค.!G37+[1]เม.ย!G37+[1]พ.ค.!G37+[1]มิ.ย.!G37+[1]ก.ค.!G37+[1]ส.ค.!G37+[1]ก.ย.!G37 -> 0 | H37: =[1]ต.ค.!H37+[1]พ.ย.!H37+[1]ธ.ค.!H37+[1]ม.ค.!H37+[1]ก.พ.!H37+[1]มี.ค.!H37+[1]เม.ย!H37+[1]พ.ค.!H37+[1]มิ.ย.!H37+[1]ก.ค.!H37+[1]ส.ค.!H37+[1]ก.ย.!H37 -> 0
C38: ความผิดเกี่ยวกับการค้า | D38: =[1]ต.ค.!D38+[1]พ.ย.!D38+[1]ธ.ค.!D38+[1]ม.ค.!D38+[1]ก.พ.!D38+[1]มี.ค.!D38+[1]เม.ย!D38+[1]พ.ค.!D38+[1]มิ.ย.!D38+[1]ก.ค.!D38+[1]ส.ค.!D38+[1]ก.ย.!D38 -> 0 | E38: =[1]ต.ค.!E38+[1]พ.ย.!E38+[1]ธ.ค.!E38+[1]ม.ค.!E38+[1]ก.พ.!E38+[1]มี.ค.!E38+[1]เม.ย!E38+[1]พ.ค.!E38+[1]มิ.ย.!E38+[1]ก.ค.!E38+[1]ส.ค.!E38+[1]ก.ย.!E38 -> 0 | F38: =[1]ต.ค.!F38+[1]พ.ย.!F38+[1]ธ.ค.!F38+[1]ม.ค.!F38+[1]ก.พ.!F38+[1]มี.ค.!F38+[1]เม.ย!F38+[1]พ.ค.!F38+[1]มิ.ย.!F38+[1]ก.ค.!F38+[1]ส.ค.!F38+[1]ก.ย.!F38 -> 0 | G38: =[1]ต.ค.!G38+[1]พ.ย.!G38+[1]ธ.ค.!G38+[1]ม.ค.!G38+[1]ก.พ.!G38+[1]มี.ค.!G38+[1]เม.ย!G38+[1]พ.ค.!G38+[1]มิ.ย.!G38+[1]ก.ค.!G38+[1]ส.ค.!G38+[1]ก.ย.!G38 -> 0 | H38: =[1]ต.ค.!H38+[1]พ.ย.!H38+[1]ธ.ค.!H38+[1]ม.ค.!H38+[1]ก.พ.!H38+[1]มี.ค.!H38+[1]เม.ย!H38+[1]พ.ค.!H38+[1]มิ.ย.!H38+[1]ก.ค.!H38+[1]ส.ค.!H38+[1]ก.ย.!H38 -> 0
C39: ความผิดเกี่ยวกับการก่อให้เกิดภยันตรายฯ | D39: =[1]ต.ค.!D39+[1]พ.ย.!D39+[1]ธ.ค.!D39+[1]ม.ค.!D39+[1]ก.พ.!D39+[1]มี.ค.!D39+[1]เม.ย!D39+[1]พ.ค.!D39+[1]มิ.ย.!D39+[1]ก.ค.!D39+[1]ส.ค.!D39+[1]ก.ย.!D39 -> 0 | E39: =[1]ต.ค.!E39+[1]พ.ย.!E39+[1]ธ.ค.!E39+[1]ม.ค.!E39+[1]ก.พ.!E39+[1]มี.ค.!E39+[1]เม.ย!E39+[1]พ.ค.!E39+[1]มิ.ย.!E39+[1]ก.ค.!E39+[1]ส.ค.!E39+[1]ก.ย.!E39 -> 0 | F39: =[1]ต.ค.!F39+[1]พ.ย.!F39+[1]ธ.ค.!F39+[1]ม.ค.!F39+[1]ก.พ.!F39+[1]มี.ค.!F39+[1]เม.ย!F39+[1]พ.ค.!F39+[1]มิ.ย.!F39+[1]ก.ค.!F39+[1]ส.ค.!F39+[1]ก.ย.!F39 -> 0 | G39: =[1]ต.ค.!G39+[1]พ.ย.!G39+[1]ธ.ค.!G39+[1]ม.ค.!G39+[1]ก.พ.!G39+[1]มี.ค.!G39+[1]เม.ย!G39+[1]พ.ค.!G39+[1]มิ.ย.!G39+[1]ก.ค.!G39+[1]ส.ค.!G39+[1]ก.ย.!G39 -> 0 | H39: =[1]ต.ค.!H39+[1]พ.ย.!H39+[1]ธ.ค.!H39+[1]ม.ค.!H39+[1]ก.พ.!H39+[1]มี.ค.!H39+[1]เม.ย!H39+[1]พ.ค.!H39+[1]มิ.ย.!H39+[1]ก.ค.!H39+[1]ส.ค.!H39+[1]ก.ย.!H39 -> 0
C40: ความผิดเกี่ยวกับการปกครอง | D40: =[1]ต.ค.!D40+[1]พ.ย.!D40+[1]ธ.ค.!D40+[1]ม.ค.!D40+[1]ก.พ.!D40+[1]มี.ค.!D40+[1]เม.ย!D40+[1]พ.ค.!D40+[1]มิ.ย.!D40+[1]ก.ค.!D40+[1]ส.ค.!D40+[1]ก.ย.!D40 -> 0 | E40: =[1]ต.ค.!E40+[1]พ.ย.!E40+[1]ธ.ค.!E40+[1]ม.ค.!E40+[1]ก.พ.!E40+[1]มี.ค.!E40+[1]เม.ย!E40+[1]พ.ค.!E40+[1]มิ.ย.!E40+[1]ก.ค.!E40+[1]ส.ค.!E40+[1]ก.ย.!E40 -> 0 | F40: =[1]ต.ค.!F40+[1]พ.ย.!F40+[1]ธ.ค.!F40+[1]ม.ค.!F40+[1]ก.พ.!F40+[1]มี.ค.!F40+[1]เม.ย!F40+[1]พ.ค.!F40+[1]มิ.ย.!F40+[1]ก.ค.!F40+[1]ส.ค.!F40+[1]ก.ย.!F40 -> 0 | G40: =[1]ต.ค.!G40+[1]พ.ย.!G40+[1]ธ.ค.!G40+[1]ม.ค.!G40+[1]ก.พ.!G40+[1]มี.ค.!G40+[1]เม.ย!G40+[1]พ.ค.!G40+[1]มิ.ย.!G40+[1]ก.ค.!G40+[1]ส.ค.!G40+[1]ก.ย.!G40 -> 0 | H40: =[1]ต.ค.!H40+[1]พ.ย.!H40+[1]ธ.ค.!H40+[1]ม.ค.!H40+[1]ก.พ.!H40+[1]มี.ค.!H40+[1]เม.ย!H40+[1]พ.ค.!H40+[1]มิ.ย.!H40+[1]ก.ค.!H40+[1]ส.ค.!H40+[1]ก.ย.!H40 -> 0
C41: คดีเกี่ยวกับ พ.ร.บ.คนเข้าเมืองฯ | D41: =[1]ต.ค.!D41+[1]พ.ย.!D41+[1]ธ.ค.!D41+[1]ม.ค.!D41+[1]ก.พ.!D41+[1]มี.ค.!D41+[1]เม.ย!D41+[1]พ.ค.!D41+[1]มิ.ย.!D41+[1]ก.ค.!D41+[1]ส.ค.!D41+[1]ก.ย.!D41 -> 0 | E41: =[1]ต.ค.!E41+[1]พ.ย.!E41+[1]ธ.ค.!E41+[1]ม.ค.!E41+[1]ก.พ.!E41+[1]มี.ค.!E41+[1]เม.ย!E41+[1]พ.ค.!E41+[1]มิ.ย.!E41+[1]ก.ค.!E41+[1]ส.ค.!E41+[1]ก.ย.!E41 -> 0 | F41: =[1]ต.ค.!F41+[1]พ.ย.!F41+[1]ธ.ค.!F41+[1]ม.ค.!F41+[1]ก.พ.!F41+[1]มี.ค.!F41+[1]เม.ย!F41+[1]พ.ค.!F41+[1]มิ.ย.!F41+[1]ก.ค.!F41+[1]ส.ค.!F41+[1]ก.ย.!F41 -> 0 | G41: =[1]ต.ค.!G41+[1]พ.ย.!G41+[1]ธ.ค.!G41+[1]ม.ค.!G41+[1]ก.พ.!G41+[1]มี.ค.!G41+[1]เม.ย!G41+[1]พ.ค.!G41+[1]มิ.ย.!G41+[1]ก.ค.!G41+[1]ส.ค.!G41+[1]ก.ย.!G41 -> 0 | H41: =[1]ต.ค.!H41+[1]พ.ย.!H41+[1]ธ.ค.!H41+[1]ม.ค.!H41+[1]ก.พ.!H41+[1]มี.ค.!H41+[1]เม.ย!H41+[1]พ.ค.!H41+[1]มิ.ย.!H41+[1]ก.ค.!H41+[1]ส.ค.!H41+[1]ก.ย.!H41 -> 0
... C46: รวม | D46: =[1]ต.ค.!D46+[1]พ.ย.!D46+[1]ธ.ค.!D46+[1]ม.ค.!D46+[1]ก.พ.!D46+[1]มี.ค.!D46+[1]เม.ย!D46+[1]พ.ค.!D46+[1]มิ.ย.!D46+[1]ก.ค.!D46+[1]ส.ค.!D46+[1]ก.ย.!D46 -> 334 | E46: =[1]ต.ค.!E46+[1]พ.ย.!E46+[1]ธ.ค.!E46+[1]ม.ค.!E46+[1]ก.พ.!E46+[1]มี.ค.!E46+[1]เม.ย!E46+[1]พ.ค.!E46+[1]มิ.ย.!E46+[1]ก.ค.!E46+[1]ส.ค.!E46+[1]ก.ย.!E46 -> 69 | F46: =[1]ต.ค.!F46+[1]พ.ย.!F46+[1]ธ.ค.!F46+[1]ม.ค.!F46+[1]ก.พ.!F46+[1]มี.ค.!F46+[1]เม.ย!F46+[1]พ.ค.!F46+[1]มิ.ย.!F46+[1]ก.ค.!F46+[1]ส.ค.!F46+[1]ก.ย.!F46 -> 275 | G46: =[1]ต.ค.!G46+[1]พ.ย.!G46+[1]ธ.ค.!G46+[1]ม.ค.!G46+[1]ก.พ.!G46+[1]มี.ค.!G46+[1]เม.ย!G46+[1]พ.ค.!G46+[1]มิ.ย.!G46+[1]ก.ค.!G46+[1]ส.ค.!G46+[1]ก.ย.!G46 -> 344 | H46: =[1]ต.ค.!H46+[1]พ.ย.!H46+[1]ธ.ค.!H46+[1]ม.ค.!H46+[1]ก.พ.!H46+[1]มี.ค.!H46+[1]เม.ย!H46+[1]พ.ค.!H46+[1]มิ.ย.!H46+[1]ก.ค.!H46+[1]ส.ค.!H46+[1]ก.ย.!H46 -> 19017127
A47: รวมทั้งสิ้น | D47: =[1]ต.ค.!D47+[1]พ.ย.!D47+[1]ธ.ค.!D47+[1]ม.ค.!D47+[1]ก.พ.!D47+[1]มี.ค.!D47+[1]เม.ย!D47+[1]พ.ค.!D47+[1]มิ.ย.!D47+[1]ก.ค.!D47+[1]ส.ค.!D47+[1]ก.ย.!D47 -> 14565 | E47: =[1]ต.ค.!E47+[1]พ.ย.!E47+[1]ธ.ค.!E47+[1]ม.ค.!E47+[1]ก.พ.!E47+[1]มี.ค.!E47+[1]เม.ย!E47+[1]พ.ค.!E47+[1]มิ.ย.!E47+[1]ก.ค.!E47+[1]ส.ค.!E47+[1]ก.ย.!E47 -> 10076 | F47: =[1]ต.ค.!F47+[1]พ.ย.!F47+[1]ธ.ค.!F47+[1]ม.ค.!F47+[1]ก.พ.!F47+[1]มี.ค.!F47+[1]เม.ย!F47+[1]พ.ค.!F47+[1]มิ.ย.!F47+[1]ก.ค.!F47+[1]ส.ค.!F47+[1]ก.ย.!F47 -> 4460 | G47: =[1]ต.ค.!G47+[1]พ.ย.!G47+[1]ธ.ค.!G47+[1]ม.ค.!G47+[1]ก.พ.!G47+[1]มี.ค.!G47+[1]เม.ย!G47+[1]พ.ค.!G47+[1]มิ.ย.!G47+[1]ก.ค.!G47+[1]ส.ค.!G47+[1]ก.ย.!G47 -> 14536 | H47: =[1]ต.ค.!H47+[1]พ.ย.!H47+[1]ธ.ค.!H47+[1]ม.ค.!H47+[1]ก.พ.!H47+[1]มี.ค.!H47+[1]เม.ย!H47+[1]พ.ค.!H47+[1]มิ.ย.!H47+[1]ก.ค.!H47+[1]ส.ค.!H47+[1]ก.ย.!H47 -> 5.3306006e+08
A48: ที่มา : สำนักงานช่วยเหลือทางการเงินแก่ผู้เสียหายและจำเลยในคดีอาญา
A49: ข้อมูล ณ วันที่ 2 ตุลาคม 2567
