Workbook

Sheet กราฟ 24 10 66
A2: 24 10 66 ประเทศ
B4: ภาพรวม | C4: ประจำ | D4: ลงทุน
A5: งบประมาณ | B5: =+C5+D5 -> 118341.68 | C5: 103762.77 | D5: 14578.906
A6: เบิกจ่าย | B6: =+C6+D6 -> 46710.37 | C6: 46361.681 | D6: 348.68895
A7: เป้าหมาย Q4
A8: ร้อยละการเบิกจ่ายภาพรวมของประเทศ | B8: =+B6/B5 -> 0.39470768 | C8: =+C6/C5 -> 0.44680456 | D8: =+D6/D5 -> 0.02391736
B10: =+B8-B7 -> 0.39470768 | C10: =+C8-C7 -> 0.44680456 | D10: =+D8-D7 -> 0.02391736
B12: ภาพรวม | C12: ประจำ | D12: ลงทุน
A13: งบประมาณ | B13: =+C13+D13 -> 118341.68 | C13: 103762.77 | D13: 14578.906
A14: ใช้จ่าย | B14: =+C14+D14 -> 47230.194 | C14: 46503.847 | D14: 726.34705
A15: เป้าหมาย Q4
A16: ร้อยละการใช้จ่ายภาพรวมของประเทศ | B16: =+B14/B13 -> 0.39910025 | C16: =+C14/C13 -> 0.44817467 | D16: =+D14/D13 -> 0.049821779
B18: =+B16-B15 -> 0.39910025 | C18: =+C16-C15 -> 0.44817467 | D18: =+D16-D15 -> 0.049821779
A20: 24 10 66 จังหวัดเชียงใหม่
B21: ภาพรวม | C21: ประจำ | D21: ลงทุน
A22: งบประมาณ | B22: =+C22+D22 -> 8.4054991e+09 | C22: 7.6058963e+09 | D22: 7.9960286e+08
A23: เบิกจ่าย | B23: =+C23+D23 -> 5.2128256e+09 | C23: 5.0458275e+09 | D23: 1.6699809e+08
A24: เป้าหมาย Q4
A25: ร้อยละการเบิกจ่ายของจังหวัดเชียงใหม่ | B25: =+B23/B22 -> 0.62016848 | C25: =+C23/C22 -> 0.66340999 | D25: =+D23/D22 -> 0.20885129
B27: =+B24-B25 -> -0.62016848 | C27: =+C24-C25 -> -0.66340999 | D27: =+D24-D25 -> -0.20885129
B33: ภาพรวม | C33: ประจำ | D33: ลงทุน
A34: งบประมาณ | B34: =+C34+D34 -> 8.4054991e+09 | C34: 7.6058963e+09 | D34: 7.9960286e+08
A35: การใช้จ่าย | B35: =+C35+D35 -> 5.2632233e+09 | C35: 5.0516297e+09 | D35: 2.1159356e+08
A36: เป้าหมาย Q4
A37: ร้อยละการใช้จ่ายของจังหวัดเชียงใหม่ | B37: =+B35/B34 -> 0.62616428 | C37: =+C35/C34 -> 0.66417284 | D37: =+D35/D34 -> 0.26462331
B39: =+B37-B36 -> 0.62616428 | C39: =+C37-C36 -> 0.66417284 | D39: =+D37-D36 -> 0.26462331
A52: 24 10 66
A54: งบประมาณ เหลื่อมปี | B54: เบิกจ่าย | C54: คงเหลือ
A55: 1.8113979e+09 | B55: 1.12499e+08 | C55: 1.6988989e+09
B56: =+B55/A55 -> 0.062106181 | C56: =+C55/A55 -> 0.93789382
A70: 24 10 66
B71: ภาพรวม | C71: เงินกู้ | D71: งบกลาง
A72: งบประมาณ | B72: 3.3633955e+09 | C72: 2.807294e+09 | D72: 5.5610153e+08
A73: เบิกจ่าย | B73: 3.1861978e+09 | C73: 2.6351595e+09 | D73: 5.5103827e+08
A74: การใช้จ่าย | B74: 3.2053173e+09 | C74: 2.6542152e+09 | D74: 5.5110202e+08
A75: ร้อยละ เบิก | B75: =+B73/B72 -> 0.94731583 | C75: =+C73/C72 -> 0.93868314 | D75: =+D73/D72 -> 0.99089507
A76: ร้อยละ ใช้จ่าย | B76: =+B74/B72 -> 0.9530004 | C76: =+C74/C72 -> 0.94547107 | D76: =+D74/D72 -> 0.9910097
A88: 24 10 66
A90: งบประมาณ เหลื่อมปี | B90: ใช้จ่าย | C90: คงเหลือ
A91: 1.8113979e+09 | B91: 1.4844144e+09 | C91: 1.6988989e+09
...

Sheet เป้าหมายปี 29.09.66
A1: เป้าหมายการเบิกจ่ายและการใช้จ่ายงบประมาณ พ.ศ. 2566 | Q1: source
A2: รายการ | B2: ไตรมาสที่ 1 | D2: ไตรมาสที่ 2 | F2: ไตรมาสที่ 3 | H2: ไตรมาสที่ 4
B3: เบิกจ่าย | C3: ใช้จ่าย | D3: เบิกจ่าย | E3: ใช้จ่าย | F3: เบิกจ่าย | G3: ใช้จ่าย | H3: เบิกจ่าย | I3: ใช้จ่าย
A4: ภาพรวม | B4: 32 | C4: 34.08 | D4: =20+32 -> 52 | E4: =+C4+22.16 -> 56.24 | F4: =23+D4 -> 75 | G4: =+E4+25.5 -> 81.74 | H4: =18+F4 -> 93 | I4: =+G4+18.26 -> 100
A5: ประจำ | B5: 35 | C5: 35.33 | D5: =20+35 -> 55 | E5: =20.45+C5 -> 55.78 | F5: =25+D5 -> 80 | G5: =25.98+E5 -> 81.76 | H5: =18+F5 -> 98 | I5: =18.24+G5 -> 100
A6: ลงทุน | B6: 19 | C6: 28.96 | D6: =20+19 -> 39 | E6: =29.19+C6 -> 58.15 | F6: =+D6+18 -> 57 | G6: =23.5+E6 -> 81.65 | H6: =18+F6 -> 75 | I6: =18.35+G6 -> 100
A7: ผลการใช้จ่ายงบประมาณรายจ่าย ประจำปีงบประมาณ พ.ศ. 2566 | M7: ข้อมูล ณ วันที่ 29 กันยายน 2566
A8: รายการ | B8: งบประมาณ | C8: สำรองเงินมีหนี้ | D8: PO | E8: เบิกจ่าย | F8: ร้อยละ เบิกจ่าย | G8: เป้าหมาย Q4 | H8: */- เป้าหมาย | I8: การใช้จ่าย (PO+เบิกจ่าย+สำรองมีหนี้) | J8: ร้อยละ การใช้จ่าย | K8: เป้าหมาย Q4 | L8: */- เป้าหมาย | M8: คงเหลือ หลังหักใช้จ่าย | N8: ลำดับเบิกจ่าย | O8: ลำดับ ใช้จ่าย
A9: งบประมาณรายจ่ายประจำปี พ.ศ.2566 (ภาพรวมทั้งประเทศ)
A10: ภาพรวม | B10: =+B11+B12 -> 644915.87 | D10: =+D11+D12 -> 63333.43 | E10: =+E11+E12 -> 579613.55 | F10: =+E10*100/B10 -> 89.87429 | G10: 93 | H10: =+F10-G10 -> -3.1257105 | I10: =+I11+I12 -> 642946.98 | J10: =+I10*100/B10 -> 99.694707 | K10: 100 | L10: =+J10-K10 -> -0.30529313 | M10: =+B10-I10 -> 1968.8839
A11: ประจำ | B11: 341280.35 | D11: 8356.808 | E11: 331887.24 | F11: =+E11*100/B11 -> 97.247685 | G11: 98 | H11: =+F11-G11 -> -0.75231499 | I11: =+D11+E11 -> 340244.05 | J11: =+I11*100/B11 -> 99.696349 | K11: 100 | L11: =+J11-K11 -> -0.30365132 | M11: =+B11-I11 -> 1036.3023
A12: ลงทุน | B12: 303635.51 | D12: 54976.622 | E12: 247726.31 | F12: =+E12*100/B12 -> 81.586738 | G12: 75 | H12: =+F12-G12 -> 6.5867378 | I12: =+D12+E12 -> 302702.93 | J12: =+I12*100/B12 -> 99.692862 | K12: 100 | L12: =+J12-K12 -> -0.3071385 | M12: =+B12-I12 -> 932.58156
A13: ผลการใช้จ่ายงบประมาณรายจ่ายจังหวัดเชียงใหม่ ประจำปีงบประมาณ พ.ศ. 2566 | M13: ข้อมูล ณ วันที่ 29 กันยายน 2566
A14: รายการ | B14: งบประมาณ | C14: สำรองเงินมีหนี้ | D14: PO | E14: เบิกจ่าย | F14: ร้อยละ เบิกจ่าย | G14: เป้าหมาย Q4 | H14: */- เป้าหมาย | I14: การใช้จ่าย (PO+เบิกจ่าย+สำรองมีหนี้) | J14: ร้อยละ การใช้จ่าย | K14: เป้าหมาย Q4 | L14: */- เป้าหมาย | M14: คงเหลือ หลังหักใช้จ่าย | N14: ลำดับเบิกจ่าย | O14: ลำดับ ใช้จ่าย | Q14: 9 สรุปผลการใช้จ่าย A08 รวม ปจ ลท 66
A15: งบประมาณรายจ่ายประจำปี พ.ศ.2566 (จังหวัดเชียงใหม่)
A16: ภาพรวม | B16: =+B17+B18 -> 2.9606141e+10 | C16: =+C17+C18 -> 3.4491769e+08 | D16: =+D17+D18 -> 1.4495904e+09 | E16: =+E17+E18 -> 2.7752159e+10 | F16: =+E16*100/B16 -> 93.737845 | G16: 93 | H16: =+F16-G16 -> 0.73784527 | I16: =+C16+D16+E16 -> 2.9546667e+10 | J16: =+I16*100/B16 -> 99.799115 | K16: 100 | L16: =+J16-K16 -> -0.20088499 | M16: =+B16-I16 -> 59474294 | N16: 6 | O16: 26 | Q16: racking worning | S16: =+E16+C16+D16 -> 2.9546667e+10
A17: ประจำ | B17: 1.9134476e+10 | C17: 38356186 | D17: 68869305 | E17: 1.8996557e+10 | F17: =+E17*100/B17 -> 99.279213 | G17: 98 | H17: =+F17-G17 -> 1.2792125 | I17: =+C17+D17+E17 -> 1.9103782e+10 | J17: =+I17*100/B17 -> 99.839591 | K17: 100 | L17: =+J17-K17 -> -0.16040896 | M17: =+B17-I17 -> 30693413 | N17: 8 | O17: 55 | Q17: PO เรียกจาก (รายงานเงินกันปี 67)
A18: ลงทุน | B18: 1.0471666e+10 | C18: 3.0656151e+08 | D18: 1.3807211e+09 | E18: 8.7556023e+09 | F18: =+E18*100/B18 -> 83.612316 | G18: 75 | H18: =+F18-G18 -> 8.6123162 | I18: =+C18+D18+E18 -> 1.0442885e+10 | J18: =+I18*100/B18 -> 99.725155 | K18: 100 | L18: =+J18-K18 -> -0.2748453 | M18: =+B18-I18 -> 28780881 | N18: 26 | O18: 51
A19: งบกรมจังหวัด
A20: งบกลุ่มจังหวัดภาคเหนือตอนบน 1
A21: ภาพรวม | B21: =+B22+B23 -> 89547000 | D21: =+D22+D23 -> 1159 | E21: =+E22+E23 -> 809456 | F21: =+E21*100/B21 -> 0.90394541 | G21: 52 | H21: =+F21-G21 -> -51.096055 | I21: =+D21+E21 -> 810615 | J21: =+I21*100/B21 -> 0.90523971 | K21: 56.24 | L21: =+J21-K21 -> -55.33476 | M21: =+B21-I21 -> 88736385
A22: ประจำ | B22: 14945000 | D22: 1159 | E22: 809456 | F22: =+E22*100/B22 -> 5.4162329 | G22: 55 | H22: =+F22-G22 -> -49.583767 | I22: =+D22+E22 -> 810615 | J22: =+I22*100/B22 -> 5.423988 | K22: 55.78 | L22: =+J22-K22 -> -50.356012 | M22: =+B22-I22 -> 14134385
A23: ลงทุน | B23: 74602000 | D23: 0 | E23: 0 | F23: =+E23*100/B23 -> 0 | G23: 39 | H23: =+F23-G23 -> -39 | I23: =+D23+E23 -> 0 | J23: =+I23*100/B23 -> 0 | K23: 58.15 | L23: =+J23-K23 -> -58.15 | M23: =+B23-I23 -> 74602000
A24: งบพัฒนาจังหวัด | I24: =+D24+E24 -> 0 | M24: =+B24-I24 -> 0
A25: ภาพรวม | B25: =+B26+B27 -> 317032400 | D25: =+D26+D27 -> 467150.06 | E25: =+E26+E27 -> 2267171.7 | F25: =+E25*100/B25 -> 0.71512303 | G25: 52 | H25: =+F25-G25 -> -51.284877 | I25: =+I26+I27 -> 2734321.8 | J25: =+I25*100/B25 -> 0.86247392 | K25: 56.24 | L25: =+J25-K25 -> -55.377526 | M25: =+B25-I25 -> 3.1429808e+08
A26: ประจำ | B26: 23468600 | D26: 467150.06 | E26: 2267171.7 | F26: =+E26*100/B26 -> 9.6604472 | G26: 55 | H26: =+F26-G26 -> -45.339553 | I26: =+D26+E26 -> 2734321.8 | J26: =+I26*100/B26 -> 11.650979 | K26: 55.78 | L26: =+J26-K26 -> -44.129021 | M26: =+B26-I26 -> 20734278
A27: ลงทุน | B27: 293563800 | D27: 0 | E27: 0 | F27: =+E27*100/B27 -> 0 | G27: 39 | H27: =+F27-G27 -> -39 | I27: =+D27+E27 -> 0 | J27: =+I27*100/B27 -> 0 | K27: 58.15 | L27: =+J27-K27 -> -58.15 | M27: =+B27-I27 -> 293563800
A28: ค่าใช้จ่ายบรรเทาผลกระทบจากการแพร่ระบาดของ COVID-19 จังหวัดเชียงใหม่
A29: ภาพรวม | B29: =+B30+B35 -> 3.3633955e+09 | C29: =+C30+C35 -> 63748.32 | D29: =+D30+D35 -> 19055725 | E29: =+E30+E35 -> 3.1861978e+09 | F29: =+E29*100/B29 -> 94.731583 | I29: =+C29+D29+E29 -> 3.2053173e+09 | J29: =+I29*100/B29 -> 95.30004 | M29: =+B29-I29 -> 1.5807824e+08 | T29: 63748.32 | U29: 19055725 | V29: 3.1650481e+09 | W29: 94.625612 | X29: 3.1841675e+09 | Y29: 95.197228 | Z29: 1.6064364e+08
A30: เงินกู้ | B30: =+SUM(B31:B34) -> 2.807294e+09 | D30: =+SUM(D31:D34) -> 19055725 | E30: =+SUM(E31:E34) -> 2.6351595e+09 | F30: =+E30*100/B30 -> 93.868314 | I30: =+SUM(I31:I34) -> 2.6542152e+09 | J30: =+I30*100/B30 -> 94.547107 | M30: =+SUM(M31:M34) -> 1.5307873e+08 | Q30: 15 เงินกู้ใช้ทำรายงาน 190766 | T30: 19055725 | U30: 2.6325941e+09 | V30: 93.776931 | W30: 2.6516498e+09 | X30: 94.455724 | Y30: 1.5564412e+08
A31: ปี 2563 | B31: 24020888 | D31: 0 | E31: 24020888 | F31: =+E31*100/B31 -> 100 | I31: 24020888 | J31: =+I31*100/B31 -> 100 | M31: =+B31-I31 -> 0
A32: ปี 2564 | B32: 1.7723931e+09 | C32: 0 | D32: 1059233.4 | E32: 1.7194309e+09 | F32: =+E32*100/B32 -> 97.011829 | I32: 1.7204902e+09 | J32: =+I32*100/B32 -> 97.071592 | M32: =+B32-I32 -> 51902895
A33: ปี 2565 | B33: 8.4311721e+08 | C33: 0 | D33: 17996491 | E33: 7.288522e+08 | F33: =+E33*100/B33 -> 86.447316 | I33: 7.468487e+08 | J33: =+I33*100/B33 -> 88.581835 | M33: =+B33-I33 -> 96268518
A34: ปี 2566 | B34: 167762814 | C34: 0 | D34: 0 | E34: 1.628555e+08 | F34: =+E34*100/B34 -> 97.074851 | I34: 1.628555e+08 | J34: =+I34*100/B34 -> 97.074851 | M34: =+B34-I34 -> 4907312.3
A35: งบกลาง | B35: =B36+B37+B38 -> 5.5610153e+08 | C35: =+C36+C37+C38 -> 63748.32 | D35: =D36+D37+D38 -> 0 | E35: =+E36+E37+E38 -> 5.5103827e+08 | F35: =+E35*100/B35 -> 99.089507 | I35: =+I36+I37+I38 -> 5.5110202e+08 | J35: =+I35*100/B35 -> 99.10097 | M35: =+M36+M37+M38 -> 4999517.9 | Q35: check จาก 11
A36: ปี 2564 | B36: 3.8419143e+08 | C36: 53748.32 | D36: 0 | E36: 3.7913817e+08 | F36: =+E36*100/B36 -> 98.684701 | I36: =+C36+D36+E36 -> 3.7919192e+08 | J36: =+I36*100/B36 -> 98.698691 | M36: =+B36-I36 -> 4999517.9 | Q36: รหัส ปีงบ 65 90909620043
A37: ปี 2565 | B37: 1.5332578e+08 | C37: 10000 | D37: 0 | E37: 1.5331578e+08 | F37: =+E37*100/B37 -> 99.993478 | I37: =+C37+D37+E37 -> 1.5332578e+08 | J37: =+I37*100/B37 -> 100 | M37: =+B37-I37 -> 0 | Q37: รหัส ปีงบ 66 9090961004300
A38: ปี 2566 | B38: 18584316 | C38: 0 | D38: 0 | E38: 18584316 | F38: =+E38*100/B38 -> 100 | I38: =+C38+D38+E38 -> 18584316 | J38: =+I38*100/B38 -> 100 | M38: =+B38-I38 -> 0
A39: งบประมาณเหลื่อมปี
A40: รายการ | B40: งบประมาณ | C40: สำรองเงิน แบบมีหนี้ เหลื่อมปี | D40: ใบสั่งซื้อ เหลื่อมปี | E40: เบิกจ่าย | F40: ร้อยละ เบิกจ่าย | I40: การใช้จ่าย | J40: ร้อยละ การใช้จ่าย | L40: คงเหลือ สรก. อยู่ระหว่างดำเนินการ | M40: เงินเหลือจ่ายไม่ขอขยายเวลาเบิกจ่าย | N40: คงเหลือรวม | Q40: 12
...

Sheet เป้าหมายปี 24.10.66
A1: เป้าหมายการเบิกจ่ายและการใช้จ่ายงบประมาณ พ.ศ. 2567 | Q1: source
A2: รายการ | B2: ไตรมาสที่ 1 | D2: ไตรมาสที่ 2 | F2: ไตรมาสที่ 3 | H2: ไตรมาสที่ 4
B3: เบิกจ่าย | C3: ใช้จ่าย | D3: เบิกจ่าย | E3: ใช้จ่าย | F3: เบิกจ่าย | G3: ใช้จ่าย | H3: เบิกจ่าย | I3: ใช้จ่าย
A4: ภาพรวม | B4: 32 | C4: 34.08 | D4: =20+32 -> 52 | E4: =+C4+22.16 -> 56.24 | F4: =23+D4 -> 75 | G4: =+E4+25.5 -> 81.74 | H4: =18+F4 -> 93 | I4: =+G4+18.26 -> 100
A5: ประจำ | B5: 35 | C5: 35.33 | D5: =20+35 -> 55 | E5: =20.45+C5 -> 55.78 | F5: =25+D5 -> 80 | G5: =25.98+E5 -> 81.76 | H5: =18+F5 -> 98 | I5: =18.24+G5 -> 100
A6: ลงทุน | B6: 19 | C6: 28.96 | D6: =20+19 -> 39 | E6: =29.19+C6 -> 58.15 | F6: =+D6+18 -> 57 | G6: =23.5+E6 -> 81.65 | H6: =18+F6 -> 75 | I6: =18.35+G6 -> 100
A7: ผลการใช้จ่ายงบประมาณรายจ่าย ประจำปีงบประมาณ พ.ศ. 2567 | M7: ข้อมูล ณ วันที่ 20 ตุลาคม 2566
A8: รายการ | B8: งบประมาณ | C8: สำรองเงินมีหนี้ | D8: PO | E8: เบิกจ่าย | F8: ร้อยละ เบิกจ่าย | G8: เป้าหมาย Q4 | H8: */- เป้าหมาย | I8: การใช้จ่าย (PO+เบิกจ่าย+สำรองมีหนี้) | J8: ร้อยละ การใช้จ่าย | K8: เป้าหมาย Q4 | L8: */- เป้าหมาย | M8: คงเหลือ หลังหักใช้จ่าย | N8: ลำดับเบิกจ่าย | O8: ลำดับ ใช้จ่าย
A9: งบประมาณรายจ่ายประจำปี พ.ศ.2567 (ภาพรวมทั้งประเทศ)
A10: ภาพรวม | B10: =+B11+B12 -> 118341.68 | D10: =+D11+D12 -> 519.82438 | E10: =+E11+E12 -> 46710.37 | F10: =+E10*100/B10 -> 39.470768 | G10: 93 | H10: =+F10-G10 -> -53.529232 | I10: =+I11+I12 -> 47230.194 | J10: =+I10*100/B10 -> 39.910025 | K10: 100 | L10: =+J10-K10 -> -60.089975 | M10: =+B10-I10 -> 71111.486
A11: ประจำ | B11: 103762.77 | D11: 142.16628 | E11: 46361.681 | F11: =+E11*100/B11 -> 44.680456 | G11: 98 | H11: =+F11-G11 -> -53.319544 | I11: 46503.847 | J11: =+I11*100/B11 -> 44.817467 | K11: 100 | L11: =+J11-K11 -> -55.182533 | M11: =+B11-I11 -> 57258.926
A12: ลงทุน | B12: 14578.906 | D12: 377.6581 | E12: 348.68895 | F12: =+E12*100/B12 -> 2.391736 | G12: 75 | H12: =+F12-G12 -> -72.608264 | I12: 726.34705 | J12: =+I12*100/B12 -> 4.9821779 | K12: 100 | L12: =+J12-K12 -> -95.017822 | M12: =+B12-I12 -> 13852.559
A13: ผลการใช้จ่ายงบประมาณรายจ่ายจังหวัดเชียงใหม่ ประจำปีงบประมาณ พ.ศ. 2567 | M13: ข้อมูล ณ วันที่ 24 ตุลาคม 2566
A14: รายการ | B14: งบประมาณ | C14: สำรองเงินมีหนี้ | D14: PO | E14: เบิกจ่าย | F14: ร้อยละ เบิกจ่าย | G14: เป้าหมาย Q4 | H14: =+F14-G14 -> #VALUE! | I14: การใช้จ่าย (PO+เบิกจ่าย+สำรองมีหนี้) | J14: ร้อยละ การใช้จ่าย | K14: เป้าหมาย Q4 | L14: */- เป้าหมาย | M14: คงเหลือ หลังหักใช้จ่าย | N14: ลำดับเบิกจ่าย | O14: ลำดับ ใช้จ่าย | Q14: 9 สรุปผลการใช้จ่าย A08 รวม ปจ ลท 66
A15: งบประมาณรายจ่ายประจำปี พ.ศ.2567 (จังหวัดเชียงใหม่)
A16: ภาพรวม | B16: =+B17+B18 -> 8.4054991e+09 | C16: =+C17+C18 -> 0 | D16: =+D17+D18 -> 50397630 | E16: =+E17+E18 -> 5.2128256e+09 | F16: =+E16*100/B16 -> 62.016848 | G16: 93 | H16: =+F16-G16 -> -30.983152 | I16: =+C16+D16+E16 -> 5.2632233e+09 | J16: =+I16*100/B16 -> 62.616428 | K16: 100 | L16: =+J16-K16 -> -37.383572 | M16: =+B16-I16 -> 3.1422759e+09 | N16: 2 | O16: 1 | Q16: racking worning | S16: =+E16+C16+D16 -> 5.2632233e+09
A17: ประจำ | B17: 7.6058963e+09 | C17: 0 | D17: 5802165.9 | E17: 5.0458275e+09 | F17: =+E17*100/B17 -> 66.340999 | G17: 98 | H17: =+F17-G17 -> -31.659001 | I17: 5.0516297e+09 | J17: =+I17*100/B17 -> 66.417284 | K17: 100 | L17: =+J17-K17 -> -33.582716 | M17: =+B17-I17 -> 2.5542666e+09 | Q17: PO เรียกจาก (รายงานเงินกันปี 67)
A18: ลงทุน | B18: 7.9960286e+08 | C18: 0 | D18: 44595464 | E18: 1.6699809e+08 | F18: =+E18*100/B18 -> 20.885129 | G18: 75 | H18: =+F18-G18 -> -54.114871 | I18: 2.1159356e+08 | J18: =+I18*100/B18 -> 26.462331 | K18: 100 | L18: =+J18-K18 -> -73.537669 | M18: =+B18-I18 -> 5.880093e+08 | N18: 1 | O18: 6
A19: งบกรมจังหวัด
A20: งบกลุ่มจังหวัดภาคเหนือตอนบน 1
A21: ภาพรวม | B21: =+B22+B23 -> 89547000 | D21: =+D22+D23 -> 1159 | E21: =+E22+E23 -> 809456 | F21: =+E21*100/B21 -> 0.90394541 | G21: 52 | H21: =+F21-G21 -> -51.096055 | I21: =+D21+E21 -> 810615 | J21: =+I21*100/B21 -> 0.90523971 | K21: 56.24 | L21: =+J21-K21 -> -55.33476 | M21: =+B21-I21 -> 88736385
A22: ประจำ | B22: 14945000 | D22: 1159 | E22: 809456 | F22: =+E22*100/B22 -> 5.4162329 | G22: 55 | H22: =+F22-G22 -> -49.583767 | I22: =+D22+E22 -> 810615 | J22: =+I22*100/B22 -> 5.423988 | K22: 55.78 | L22: =+J22-K22 -> -50.356012 | M22: =+B22-I22 -> 14134385
A23: ลงทุน | B23: 74602000 | D23: 0 | E23: 0 | F23: =+E23*100/B23 -> 0 | G23: 39 | H23: =+F23-G23 -> -39 | I23: =+D23+E23 -> 0 | J23: =+I23*100/B23 -> 0 | K23: 58.15 | L23: =+J23-K23 -> -58.15 | M23: =+B23-I23 -> 74602000
A24: งบพัฒนาจังหวัด | I24: =+D24+E24 -> 0 | M24: =+B24-I24 -> 0
A25: ภาพรวม | B25: =+B26+B27 -> 317032400 | D25: =+D26+D27 -> 467150.06 | E25: =+E26+E27 -> 2267171.7 | F25: =+E25*100/B25 -> 0.71512303 | G25: 52 | H25: =+F25-G25 -> -51.284877 | I25: =+I26+I27 -> 2734321.8 | J25: =+I25*100/B25 -> 0.86247392 | K25: 56.24 | L25: =+J25-K25 -> -55.377526 | M25: =+B25-I25 -> 3.1429808e+08
A26: ประจำ | B26: 23468600 | D26: 467150.06 | E26: 2267171.7 | F26: =+E26*100/B26 -> 9.6604472 | G26: 55 | H26: =+F26-G26 -> -45.339553 | I26: =+D26+E26 -> 2734321.8 | J26: =+I26*100/B26 -> 11.650979 | K26: 55.78 | L26: =+J26-K26 -> -44.129021 | M26: =+B26-I26 -> 20734278
A27: ลงทุน | B27: 293563800 | D27: 0 | E27: 0 | F27: =+E27*100/B27 -> 0 | G27: 39 | H27: =+F27-G27 -> -39 | I27: =+D27+E27 -> 0 | J27: =+I27*100/B27 -> 0 | K27: 58.15 | L27: =+J27-K27 -> -58.15 | M27: =+B27-I27 -> 293563800
A28: ค่าใช้จ่ายบรรเทาผลกระทบจากการแพร่ระบาดของ COVID-19 จังหวัดเชียงใหม่
A29: ภาพรวม | B29: =+B30+B35 -> 3.3633955e+09 | C29: =+C30+C35 -> 63748.32 | D29: =+D30+D35 -> 19055725 | E29: =+E30+E35 -> 3.1861978e+09 | F29: =+E29*100/B29 -> 94.731583 | I29: =+C29+D29+E29 -> 3.2053173e+09 | J29: =+I29*100/B29 -> 95.30004 | M29: =+B29-I29 -> 1.5807824e+08 | T29: 63748.32 | U29: 19055725 | V29: 3.1650481e+09 | W29: 94.625612 | X29: 3.1841675e+09 | Y29: 95.197228 | Z29: 1.6064364e+08
A30: เงินกู้ | B30: =+SUM(B31:B34) -> 2.807294e+09 | D30: =+SUM(D31:D34) -> 19055725 | E30: =+SUM(E31:E34) -> 2.6351595e+09 | F30: =+E30*100/B30 -> 93.868314 | I30: =+SUM(I31:I34) -> 2.6542152e+09 | J30: =+I30*100/B30 -> 94.547107 | M30: =+SUM(M31:M34) -> 1.5307873e+08 | Q30: 15 เงินกู้ใช้ทำรายงาน 190766 | T30: 19055725 | U30: 2.6325941e+09 | V30: 93.776931 | W30: 2.6516498e+09 | X30: 94.455724 | Y30: 1.5564412e+08
A31: ปี 2563 | B31: 24020888 | D31: 0 | E31: 24020888 | F31: =+E31*100/B31 -> 100 | I31: 24020888 | J31: =+I31*100/B31 -> 100 | M31: =+B31-I31 -> 0
A32: ปี 2564 | B32: 1.7723931e+09 | C32: 0 | D32: 1059233.4 | E32: 1.7194309e+09 | F32: =+E32*100/B32 -> 97.011829 | I32: 1.7204902e+09 | J32: =+I32*100/B32 -> 97.071592 | M32: =+B32-I32 -> 51902895
A33: ปี 2565 | B33: 8.4311721e+08 | C33: 0 | D33: 17996491 | E33: 7.288522e+08 | F33: =+E33*100/B33 -> 86.447316 | I33: 7.468487e+08 | J33: =+I33*100/B33 -> 88.581835 | M33: =+B33-I33 -> 96268518
A34: ปี 2566 | B34: 167762814 | C34: 0 | D34: 0 | E34: 1.628555e+08 | F34: =+E34*100/B34 -> 97.074851 | I34: 1.628555e+08 | J34: =+I34*100/B34 -> 97.074851 | M34: =+B34-I34 -> 4907312.3
A35: งบกลาง | B35: =B36+B37+B38 -> 5.5610153e+08 | C35: =+C36+C37+C38 -> 63748.32 | D35: =D36+D37+D38 -> 0 | E35: =+E36+E37+E38 -> 5.5103827e+08 | F35: =+E35*100/B35 -> 99.089507 | I35: =+I36+I37+I38 -> 5.5110202e+08 | J35: =+I35*100/B35 -> 99.10097 | M35: =+M36+M37+M38 -> 4999517.9 | Q35: check จาก 11
A36: ปี 2564 | B36: 3.8419143e+08 | C36: 53748.32 | D36: 0 | E36: 3.7913817e+08 | F36: =+E36*100/B36 -> 98.684701 | I36: =+C36+D36+E36 -> 3.7919192e+08 | J36: =+I36*100/B36 -> 98.698691 | M36: =+B36-I36 -> 4999517.9 | Q36: รหัส ปีงบ 65 90909620043
A37: ปี 2565 | B37: 1.5332578e+08 | C37: 10000 | D37: 0 | E37: 1.5331578e+08 | F37: =+E37*100/B37 -> 99.993478 | I37: =+C37+D37+E37 -> 1.5332578e+08 | J37: =+I37*100/B37 -> 100 | M37: =+B37-I37 -> 0 | Q37: รหัส ปีงบ 66 9090961004300
A38: ปี 2566 | B38: 18584316 | C38: 0 | D38: 0 | E38: 18584316 | F38: =+E38*100/B38 -> 100 | I38: =+C38+D38+E38 -> 18584316 | J38: =+I38*100/B38 -> 100 | M38: =+B38-I38 -> 0
A39: งบประมาณเหลื่อมปี
A40: รายการ | B40: งบประมาณ | C40: สำรองเงิน แบบมีหนี้ เหลื่อมปี | D40: ใบสั่งซื้อ เหลื่อมปี | E40: เบิกจ่าย | F40: ร้อยละ เบิกจ่าย | I40: การใช้จ่าย | J40: ร้อยละ การใช้จ่าย | L40: คงเหลือ สรก. อยู่ระหว่างดำเนินการ | M40: คงเหลือรวม | Q40: 12
...

Sheet เป้าหมายปี 31.10.66
A1: เป้าหมายการเบิกจ่ายและการใช้จ่ายงบประมาณ พ.ศ. 2567 | Q1: source
A2: รายการ | B2: ไตรมาสที่ 1 | D2: ไตรมาสที่ 2 | F2: ไตรมาสที่ 3 | H2: ไตรมาสที่ 4
B3: เบิกจ่าย | C3: ใช้จ่าย | D3: เบิกจ่าย | E3: ใช้จ่าย | F3: เบิกจ่าย | G3: ใช้จ่าย | H3: เบิกจ่าย | I3: ใช้จ่าย
A4: ภาพรวม | B4: 32 | C4: 34.08 | D4: =20+32 -> 52 | E4: =+C4+22.16 -> 56.24 | F4: =23+D4 -> 75 | G4: =+E4+25.5 -> 81.74 | H4: =18+F4 -> 93 | I4: =+G4+18.26 -> 100
A5: ประจำ | B5: 35 | C5: 35.33 | D5: =20+35 -> 55 | E5: =20.45+C5 -> 55.78 | F5: =25+D5 -> 80 | G5: =25.98+E5 -> 81.76 | H5: =18+F5 -> 98 | I5: =18.24+G5 -> 100
A6: ลงทุน | B6: 19 | C6: 28.96 | D6: =20+19 -> 39 | E6: =29.19+C6 -> 58.15 | F6: =+D6+18 -> 57 | G6: =23.5+E6 -> 81.65 | H6: =18+F6 -> 75 | I6: =18.35+G6 -> 100
A7: ผลการใช้จ่ายงบประมาณรายจ่าย ประจำปีงบประมาณ พ.ศ. 2566 ไปพลางก่อน | M7: ข้อมูล ณ วันที่ 31 ตุลาคม 2566
A8: รายการ | B8: งบประมาณ | C8: สำรองเงินมีหนี้ | D8: PO+สำรองมีหนี้ | E8: เบิกจ่าย | F8: ร้อยละ เบิกจ่าย | G8: เป้าหมาย Q4 | H8: */- เป้าหมาย | I8: การใช้จ่าย (PO+เบิกจ่าย+สำรองมีหนี้) | J8: ร้อยละ การใช้จ่าย | K8: เป้าหมาย Q4 | L8: */- เป้าหมาย | M8: คงเหลือ หลังหักใช้จ่าย | N8: ลำดับเบิกจ่าย | O8: ลำดับ ใช้จ่าย
A9: งบประมาณรายจ่ายประจำปี พ.ศ.2566 ไปพลางก่อน (ภาพรวมทั้งประเทศ)
A10: ภาพรวม | B10: =+B11+B12 -> 146474.5 | D10: =+D11+D12 -> 1929.0456 | E10: =+E11+E12 -> 55601.576 | F10: =+E10*100/B10 -> 37.959901 | G10: 93 | H10: =+F10-G10 -> -55.040099 | I10: =+I11+I12 -> 57530.622 | J10: =+I10*100/B10 -> 39.276885 | K10: 100 | L10: =+J10-K10 -> -60.723115 | M10: =+B10-I10 -> 88943.881
A11: ประจำ | B11: 124732.74 | D11: 235.72892 | E11: 54832.081 | F11: =+E11*100/B11 -> 43.959655 | G11: 98 | H11: =+F11-G11 -> -54.040345 | I11: =+D11+E11 -> 55067.809 | J11: =+I11*100/B11 -> 44.148642 | K11: 100 | L11: =+J11-K11 -> -55.851358 | M11: =+B11-I11 -> 69664.926
A12: ลงทุน | B12: 21741.767 | D12: 1693.3167 | E12: 769.49565 | F12: =+E12*100/B12 -> 3.5392508 | G12: 75 | H12: =+F12-G12 -> -71.460749 | I12: =+D12+E12 -> 2462.8123 | J12: =+I12*100/B12 -> 11.327563 | K12: 100 | L12: =+J12-K12 -> -88.672437 | M12: =+B12-I12 -> 19278.954
A13: ผลการใช้จ่ายงบประมาณรายจ่ายจังหวัดเชียงใหม่ ประจำปีงบประมาณ พ.ศ. 2566 ไปพลางก่อน | M13: ข้อมูล ณ วันที่ 31 ตุลาคม 2566
A14: รายการ | B14: งบประมาณ | C14: สำรองเงินมีหนี้ | D14: PO | E14: เบิกจ่าย | F14: ร้อยละ เบิกจ่าย | G14: เป้าหมาย Q4 | H14: =+F14-G14 -> #VALUE! | I14: การใช้จ่าย (PO+เบิกจ่าย+สำรองมีหนี้) | J14: ร้อยละ การใช้จ่าย | K14: เป้าหมาย Q4 | L14: */- เป้าหมาย | M14: คงเหลือ หลังหักใช้จ่าย | N14: ลำดับเบิกจ่าย | O14: ลำดับ ใช้จ่าย | Q14: 9 สรุปผลการใช้จ่าย A08 รวม ปจ ลท 66
A15: งบประมาณรายจ่ายประจำปี พ.ศ.2566 ไปพลางก่อน (จังหวัดเชียงใหม่)
A16: ภาพรวม | B16: =+B17+B18 -> 9.2663269e+09 | C16: =+C17+C18 -> 0 | D16: =+D17+D18 -> 79543434 | E16: =+E17+E18 -> 5.4111047e+09 | F16: =+E16*100/B16 -> 58.395358 | G16: 93 | H16: =+F16-G16 -> -34.604642 | I16: =+C16+D16+E16 -> 5.4906481e+09 | J16: =+I16*100/B16 -> 59.253771 | K16: 100 | L16: =+J16-K16 -> -40.746229 | M16: =+B16-I16 -> 3.7756787e+09 | N16: 2 | O16: 3 | Q16: racking worning | S16: =+E16+C16+D16 -> 5.4906481e+09
A17: ประจำ | B17: 7.9204138e+09 | C17: 0 | D17: 21641238 | E17: 5.2373054e+09 | F17: =+E17*100/B17 -> 66.124139 | G17: 98 | H17: =+F17-G17 -> -31.875861 | I17: 5.2589467e+09 | J17: =+I17*100/B17 -> 66.397373 | K17: 100 | L17: =+J17-K17 -> -33.602627 | M17: =+B17-I17 -> 2.6614671e+09 | Q17: PO เรียกจาก (รายงานเงินกันปี 67)
A18: ลงทุน | B18: 1.3459131e+09 | C18: 0 | D18: 57902196 | E18: 1.7379929e+08 | F18: =+E18*100/B18 -> 12.913114 | G18: 75 | H18: =+F18-G18 -> -62.086886 | I18: 2.3170148e+08 | J18: =+I18*100/B18 -> 17.215189 | K18: 100 | L18: =+J18-K18 -> -82.784811 | M18: =+B18-I18 -> 1.1142116e+09 | N18: 4 | O18: 14
A19: งบกรมจังหวัด
A20: งบกลุ่มจังหวัดภาคเหนือตอนบน 1
A21: ภาพรวม | B21: =+B22+B23 -> 89547000 | D21: =+D22+D23 -> 1159 | E21: =+E22+E23 -> 809456 | F21: =+E21*100/B21 -> 0.90394541 | G21: 52 | H21: =+F21-G21 -> -51.096055 | I21: =+D21+E21 -> 810615 | J21: =+I21*100/B21 -> 0.90523971 | K21: 56.24 | L21: =+J21-K21 -> -55.33476 | M21: =+B21-I21 -> 88736385
A22: ประจำ | B22: 14945000 | D22: 1159 | E22: 809456 | F22: =+E22*100/B22 -> 5.4162329 | G22: 55 | H22: =+F22-G22 -> -49.583767 | I22: =+D22+E22 -> 810615 | J22: =+I22*100/B22 -> 5.423988 | K22: 55.78 | L22: =+J22-K22 -> -50.356012 | M22: =+B22-I22 -> 14134385
A23: ลงทุน | B23: 74602000 | D23: 0 | E23: 0 | F23: =+E23*100/B23 -> 0 | G23: 39 | H23: =+F23-G23 -> -39 | I23: =+D23+E23 -> 0 | J23: =+I23*100/B23 -> 0 | K23: 58.15 | L23: =+J23-K23 -> -58.15 | M23: =+B23-I23 -> 74602000
A24: งบพัฒนาจังหวัด | I24: =+D24+E24 -> 0 | M24: =+B24-I24 -> 0
A25: ภาพรวม | B25: =+B26+B27 -> 317032400 | D25: =+D26+D27 -> 467150.06 | E25: =+E26+E27 -> 2267171.7 | F25: =+E25*100/B25 -> 0.71512303 | G25: 52 | H25: =+F25-G25 -> -51.284877 | I25: =+I26+I27 -> 2734321.8 | J25: =+I25*100/B25 -> 0.86247392 | K25: 56.24 | L25: =+J25-K25 -> -55.377526 | M25: =+B25-I25 -> 3.1429808e+08
A26: ประจำ | B26: 23468600 | D26: 467150.06 | E26: 2267171.7 | F26: =+E26*100/B26 -> 9.6604472 | G26: 55 | H26: =+F26-G26 -> -45.339553 | I26: =+D26+E26 -> 2734321.8 | J26: =+I26*100/B26 -> 11.650979 | K26: 55.78 | L26: =+J26-K26 -> -44.129021 | M26: =+B26-I26 -> 20734278
A27: ลงทุน | B27: 293563800 | D27: 0 | E27: 0 | F27: =+E27*100/B27 -> 0 | G27: 39 | H27: =+F27-G27 -> -39 | I27: =+D27+E27 -> 0 | J27: =+I27*100/B27 -> 0 | K27: 58.15 | L27: =+J27-K27 -> -58.15 | M27: =+B27-I27 -> 293563800
A28: ค่าใช้จ่ายบรรเทาผลกระทบจากการแพร่ระบาดของ COVID-19 จังหวัดเชียงใหม่
A29: ภาพรวม | B29: =+B30+B35 -> 3.3633955e+09 | C29: =+C30+C35 -> 63748.32 | D29: =+D30+D35 -> 19055725 | E29: =+E30+E35 -> 3.1861978e+09 | F29: =+E29*100/B29 -> 94.731583 | I29: =+C29+D29+E29 -> 3.2053173e+09 | J29: =+I29*100/B29 -> 95.30004 | M29: =+B29-I29 -> 1.5807824e+08 | T29: 63748.32 | U29: 19055725 | V29: 3.1650481e+09 | W29: 94.625612 | X29: 3.1841675e+09 | Y29: 95.197228 | Z29: 1.6064364e+08
A30: เงินกู้ | B30: =+SUM(B31:B34) -> 2.807294e+09 | D30: =+SUM(D31:D34) -> 19055725 | E30: =+SUM(E31:E34) -> 2.6351595e+09 | F30: =+E30*100/B30 -> 93.868314 | I30: =+SUM(I31:I34) -> 2.6542152e+09 | J30: =+I30*100/B30 -> 94.547107 | M30: =+SUM(M31:M34) -> 1.5307873e+08 | Q30: 15 เงินกู้ใช้ทำรายงาน 190766 | T30: 19055725 | U30: 2.6325941e+09 | V30: 93.776931 | W30: 2.6516498e+09 | X30: 94.455724 | Y30: 1.5564412e+08
A31: ปี 2563 | B31: 24020888 | D31: 0 | E31: 24020888 | F31: =+E31*100/B31 -> 100 | I31: 24020888 | J31: =+I31*100/B31 -> 100 | M31: =+B31-I31 -> 0
A32: ปี 2564 | B32: 1.7723931e+09 | C32: 0 | D32: 1059233.4 | E32: 1.7194309e+09 | F32: =+E32*100/B32 -> 97.011829 | I32: 1.7204902e+09 | J32: =+I32*100/B32 -> 97.071592 | M32: =+B32-I32 -> 51902895
A33: ปี 2565 | B33: 8.4311721e+08 | C33: 0 | D33: 17996491 | E33: 7.288522e+08 | F33: =+E33*100/B33 -> 86.447316 | I33: 7.468487e+08 | J33: =+I33*100/B33 -> 88.581835 | M33: =+B33-I33 -> 96268518
A34: ปี 2566 | B34: 167762814 | C34: 0 | D34: 0 | E34: 1.628555e+08 | F34: =+E34*100/B34 -> 97.074851 | I34: 1.628555e+08 | J34: =+I34*100/B34 -> 97.074851 | M34: =+B34-I34 -> 4907312.3
A35: งบกลาง | B35: =B36+B37+B38 -> 5.5610153e+08 | C35: =+C36+C37+C38 -> 63748.32 | D35: =D36+D37+D38 -> 0 | E35: =+E36+E37+E38 -> 5.5103827e+08 | F35: =+E35*100/B35 -> 99.089507 | I35: =+I36+I37+I38 -> 5.5110202e+08 | J35: =+I35*100/B35 -> 99.10097 | M35: =+M36+M37+M38 -> 4999517.9 | Q35: check จาก 11
A36: ปี 2564 | B36: 3.8419143e+08 | C36: 53748.32 | D36: 0 | E36: 3.7913817e+08 | F36: =+E36*100/B36 -> 98.684701 | I36: =+C36+D36+E36 -> 3.7919192e+08 | J36: =+I36*100/B36 -> 98.698691 | M36: =+B36-I36 -> 4999517.9 | Q36: รหัส ปีงบ 65 90909620043
A37: ปี 2565 | B37: 1.5332578e+08 | C37: 10000 | D37: 0 | E37: 1.5331578e+08 | F37: =+E37*100/B37 -> 99.993478 | I37: =+C37+D37+E37 -> 1.5332578e+08 | J37: =+I37*100/B37 -> 100 | M37: =+B37-I37 -> 0 | Q37: รหัส ปีงบ 66 9090961004300
A38: ปี 2566 | B38: 18584316 | C38: 0 | D38: 0 | E38: 18584316 | F38: =+E38*100/B38 -> 100 | I38: =+C38+D38+E38 -> 18584316 | J38: =+I38*100/B38 -> 100 | M38: =+B38-I38 -> 0
A39: งบประมาณเหลื่อมปี
A40: รายการ | B40: งบประมาณ | C40: สำรองเงิน แบบมีหนี้ เหลื่อมปี | D40: ใบสั่งซื้อ เหลื่อมปี | E40: เบิกจ่าย | F40: ร้อยละ เบิกจ่าย | I40: การใช้จ่าย | J40: ร้อยละ การใช้จ่าย | L40: คงเหลือ สรก. อยู่ระหว่างดำเนินการ | M40: คงเหลือรวม | Q40: 12
...

Sheet เป้าหมายปี 20.11.66
A1: เป้าหมายการเบิกจ่ายและการใช้จ่ายงบประมาณ พ.ศ. 2567 | Q1: source
A2: รายการ | B2: ไตรมาสที่ 1 | D2: ไตรมาสที่ 2 | F2: ไตรมาสที่ 3 | H2: ไตรมาสที่ 4
B3: เบิกจ่าย | C3: ใช้จ่าย | D3: เบิกจ่าย | E3: ใช้จ่าย | F3: เบิกจ่าย | G3: ใช้จ่าย | H3: เบิกจ่าย | I3: ใช้จ่าย
A4: ภาพรวม | B4: 32 | C4: 34.08 | D4: =20+32 -> 52 | E4: =+C4+22.16 -> 56.24 | F4: =23+D4 -> 75 | G4: =+E4+25.5 -> 81.74 | H4: =18+F4 -> 93 | I4: =+G4+18.26 -> 100
A5: ประจำ | B5: 35 | C5: 35.33 | D5: =20+35 -> 55 | E5: =20.45+C5 -> 55.78 | F5: =25+D5 -> 80 | G5: =25.98+E5 -> 81.76 | H5: =18+F5 -> 98 | I5: =18.24+G5 -> 100
A6: ลงทุน | B6: 19 | C6: 28.96 | D6: =20+19 -> 39 | E6: =29.19+C6 -> 58.15 | F6: =+D6+18 -> 57 | G6: =23.5+E6 -> 81.65 | H6: =18+F6 -> 75 | I6: =18.35+G6 -> 100
A7: ผลการใช้จ่ายงบประมาณรายจ่าย ประจำปีงบประมาณ พ.ศ. 2566 ไปพลางก่อน | M7: ข้อมูล ณ วันที่ 17 พฤศจิกายน 2566
A8: รายการ | B8: งบประมาณ | C8: สำรองเงินมีหนี้ | D8: PO+สำรองมีหนี้ | E8: เบิกจ่าย | F8: ร้อยละ เบิกจ่าย | G8: เป้าหมาย Q4 | H8: */- เป้าหมาย | I8: การใช้จ่าย (PO+เบิกจ่าย+สำรองมีหนี้) | J8: ร้อยละ การใช้จ่าย | K8: เป้าหมาย Q4 | L8: */- เป้าหมาย | M8: คงเหลือ หลังหักใช้จ่าย | N8: ลำดับเบิกจ่าย | O8: ลำดับ ใช้จ่าย
A9: งบประมาณรายจ่ายประจำปี พ.ศ.2566 ไปพลางก่อน (ภาพรวมทั้งประเทศ)
A10: ภาพรวม | B10: =+B11+B12 -> 171864.67 | D10: =+D11+D12 -> 5052.8545 | E10: =+E11+E12 -> 79993.057 | F10: =+E10*100/B10 -> 46.544211 | G10: 93 | H10: =+F10-G10 -> -46.455789 | I10: =+I11+I12 -> 85045.911 | J10: =+I10*100/B10 -> 49.48423 | K10: 100 | L10: =+J10-K10 -> -50.51577 | M10: =+B10-I10 -> 86818.763
A11: ประจำ | B11: 148546.54 | D11: 644.24072 | E11: 76523.42 | F11: =+E11*100/B11 -> 51.514779 | G11: 98 | H11: =+F11-G11 -> -46.485221 | I11: 77167.661 | J11: =+I11*100/B11 -> 51.948475 | K11: 100 | L11: =+J11-K11 -> -48.051525 | M11: =+B11-I11 -> 71378.877
A12: ลงทุน | B12: 23318.136 | D12: 4408.6138 | E12: 3469.6364 | F12: =+E12*100/B12 -> 14.879562 | G12: 75 | H12: =+F12-G12 -> -60.120438 | I12: 7878.2503 | J12: =+I12*100/B12 -> 33.785935 | K12: 100 | L12: =+J12-K12 -> -66.214065 | M12: =+B12-I12 -> 15439.885
A13: ผลการใช้จ่ายงบประมาณรายจ่ายจังหวัดเชียงใหม่ ประจำปีงบประมาณ พ.ศ. 2566 ไปพลางก่อน | M13: ข้อมูล ณ วันที่ 20 พฤศจิกายน 2566
A14: รายการ | B14: งบประมาณ | C14: สำรองเงินมีหนี้ | D14: PO | E14: เบิกจ่าย | F14: ร้อยละ เบิกจ่าย | G14: เป้าหมาย Q4 | H14: =+F14-G14 -> #VALUE! | I14: การใช้จ่าย (PO+เบิกจ่าย+สำรองมีหนี้) | J14: ร้อยละ การใช้จ่าย | K14: เป้าหมาย Q4 | L14: */- เป้าหมาย | M14: คงเหลือ หลังหักใช้จ่าย | N14: ลำดับเบิกจ่าย | O14: ลำดับ ใช้จ่าย | Q14: 9 สรุปผลการใช้จ่าย A08 รวม ปจ ลท 66
A15: งบประมาณรายจ่ายประจำปี พ.ศ.2566 ไปพลางก่อน (จังหวัดเชียงใหม่)
A16: ภาพรวม | B16: =+B17+B18 -> 1.0327718e+10 | C16: =+C17+C18 -> 0 | D16: =+D17+D18 -> 3.8463678e+08 | E16: =+E17+E18 -> 6.5430201e+09 | F16: =+E16*100/B16 -> 63.353976 | G16: 93 | H16: =+F16-G16 -> -29.646024 | I16: =+C16+D16+E16 -> 6.9276569e+09 | J16: =+I16*100/B16 -> 67.078291 | K16: 100 | L16: =+J16-K16 -> -32.921709 | M16: =+B16-I16 -> 3.4000613e+09 | N16: 3 | O16: 2 | Q16: racking worning | S16: =+E16+C16+D16 -> 6.9276569e+09
A17: ประจำ | B17: 8.8844944e+09 | C17: 0 | D17: 22635555 | E17: 6.150052e+09 | F17: =+E17*100/B17 -> 69.222307 | G17: 98 | H17: =+F17-G17 -> -28.777693 | I17: 6.1726876e+09 | J17: =+I17*100/B17 -> 69.477083 | K17: 100 | L17: =+J17-K17 -> -30.522917 | M17: =+B17-I17 -> 2.7118069e+09 | Q17: PO เรียกจาก (รายงานเงินกันปี 67)
A18: ลงทุน | B18: 1.4432237e+09 | C18: 0 | D18: 3.6200122e+08 | E18: 3.9296806e+08 | F18: =+E18*100/B18 -> 27.228492 | G18: 75 | H18: =+F18-G18 -> -47.771508 | I18: 7.5496928e+08 | J18: =+I18*100/B18 -> 52.311313 | K18: 100 | L18: =+J18-K18 -> -47.688687 | M18: =+B18-I18 -> 6.8825445e+08 | N18: 7 | O18: 10
A19: งบกรมจังหวัด
A20: งบกลุ่มจังหวัดภาคเหนือตอนบน 1
A21: ภาพรวม | B21: =+B22+B23 -> 89547000 | D21: =+D22+D23 -> 1159 | E21: =+E22+E23 -> 809456 | F21: =+E21*100/B21 -> 0.90394541 | G21: 52 | H21: =+F21-G21 -> -51.096055 | I21: =+D21+E21 -> 810615 | J21: =+I21*100/B21 -> 0.90523971 | K21: 56.24 | L21: =+J21-K21 -> -55.33476 | M21: =+B21-I21 -> 88736385
A22: ประจำ | B22: 14945000 | D22: 1159 | E22: 809456 | F22: =+E22*100/B22 -> 5.4162329 | G22: 55 | H22: =+F22-G22 -> -49.583767 | I22: =+D22+E22 -> 810615 | J22: =+I22*100/B22 -> 5.423988 | K22: 55.78 | L22: =+J22-K22 -> -50.356012 | M22: =+B22-I22 -> 14134385
A23: ลงทุน | B23: 74602000 | D23: 0 | E23: 0 | F23: =+E23*100/B23 -> 0 | G23: 39 | H23: =+F23-G23 -> -39 | I23: =+D23+E23 -> 0 | J23: =+I23*100/B23 -> 0 | K23: 58.15 | L23: =+J23-K23 -> -58.15 | M23: =+B23-I23 -> 74602000
A24: งบพัฒนาจังหวัด | I24: =+D24+E24 -> 0 | M24: =+B24-I24 -> 0
A25: ภาพรวม | B25: =+B26+B27 -> 317032400 | D25: =+D26+D27 -> 467150.06 | E25: =+E26+E27 -> 2267171.7 | F25: =+E25*100/B25 -> 0.71512303 | G25: 52 | H25: =+F25-G25 -> -51.284877 | I25: =+I26+I27 -> 2734321.8 | J25: =+I25*100/B25 -> 0.86247392 | K25: 56.24 | L25: =+J25-K25 -> -55.377526 | M25: =+B25-I25 -> 3.1429808e+08
A26: ประจำ | B26: 23468600 | D26: 467150.06 | E26: 2267171.7 | F26: =+E26*100/B26 -> 9.6604472 | G26: 55 | H26: =+F26-G26 -> -45.339553 | I26: =+D26+E26 -> 2734321.8 | J26: =+I26*100/B26 -> 11.650979 | K26: 55.78 | L26: =+J26-K26 -> -44.129021 | M26: =+B26-I26 -> 20734278
A27: ลงทุน | B27: 293563800 | D27: 0 | E27: 0 | F27: =+E27*100/B27 -> 0 | G27: 39 | H27: =+F27-G27 -> -39 | I27: =+D27+E27 -> 0 | J27: =+I27*100/B27 -> 0 | K27: 58.15 | L27: =+J27-K27 -> -58.15 | M27: =+B27-I27 -> 293563800
A28: ค่าใช้จ่ายบรรเทาผลกระทบจากการแพร่ระบาดของ COVID-19 จังหวัดเชียงใหม่
A29: ภาพรวม | B29: =+B30+B35 -> 3.3633955e+09 | C29: =+C30+C35 -> 63748.32 | D29: =+D30+D35 -> 19055725 | E29: =+E30+E35 -> 3.1861978e+09 | F29: =+E29*100/B29 -> 94.731583 | I29: =+C29+D29+E29 -> 3.2053173e+09 | J29: =+I29*100/B29 -> 95.30004 | M29: =+B29-I29 -> 1.5807824e+08 | T29: 63748.32 | U29: 19055725 | V29: 3.1650481e+09 | W29: 94.625612 | X29: 3.1841675e+09 | Y29: 95.197228 | Z29: 1.6064364e+08
A30: เงินกู้ | B30: =+SUM(B31:B34) -> 2.807294e+09 | D30: =+SUM(D31:D34) -> 19055725 | E30: =+SUM(E31:E34) -> 2.6351595e+09 | F30: =+E30*100/B30 -> 93.868314 | I30: =+SUM(I31:I34) -> 2.6542152e+09 | J30: =+I30*100/B30 -> 94.547107 | M30: =+SUM(M31:M34) -> 1.5307873e+08 | Q30: 15 เงินกู้ใช้ทำรายงาน 190766 | T30: 19055725 | U30: 2.6325941e+09 | V30: 93.776931 | W30: 2.6516498e+09 | X30: 94.455724 | Y30: 1.5564412e+08
A31: ปี 2563 | B31: 24020888 | D31: 0 | E31: 24020888 | F31: =+E31*100/B31 -> 100 | I31: 24020888 | J31: =+I31*100/B31 -> 100 | M31: =+B31-I31 -> 0
A32: ปี 2564 | B32: 1.7723931e+09 | C32: 0 | D32: 1059233.4 | E32: 1.7194309e+09 | F32: =+E32*100/B32 -> 97.011829 | I32: 1.7204902e+09 | J32: =+I32*100/B32 -> 97.071592 | M32: =+B32-I32 -> 51902895
A33: ปี 2565 | B33: 8.4311721e+08 | C33: 0 | D33: 17996491 | E33: 7.288522e+08 | F33: =+E33*100/B33 -> 86.447316 | I33: 7.468487e+08 | J33: =+I33*100/B33 -> 88.581835 | M33: =+B33-I33 -> 96268518
A34: ปี 2566 | B34: 167762814 | C34: 0 | D34: 0 | E34: 1.628555e+08 | F34: =+E34*100/B34 -> 97.074851 | I34: 1.628555e+08 | J34: =+I34*100/B34 -> 97.074851 | M34: =+B34-I34 -> 4907312.3
A35: งบกลาง | B35: =B36+B37+B38 -> 5.5610153e+08 | C35: =+C36+C37+C38 -> 63748.32 | D35: =D36+D37+D38 -> 0 | E35: =+E36+E37+E38 -> 5.5103827e+08 | F35: =+E35*100/B35 -> 99.089507 | I35: =+I36+I37+I38 -> 5.5110202e+08 | J35: =+I35*100/B35 -> 99.10097 | M35: =+M36+M37+M38 -> 4999517.9 | Q35: check จาก 11
A36: ปี 2564 | B36: 3.8419143e+08 | C36: 53748.32 | D36: 0 | E36: 3.7913817e+08 | F36: =+E36*100/B36 -> 98.684701 | I36: =+C36+D36+E36 -> 3.7919192e+08 | J36: =+I36*100/B36 -> 98.698691 | M36: =+B36-I36 -> 4999517.9 | Q36: รหัส ปีงบ 65 90909620043
A37: ปี 2565 | B37: 1.5332578e+08 | C37: 10000 | D37: 0 | E37: 1.5331578e+08 | F37: =+E37*100/B37 -> 99.993478 | I37: =+C37+D37+E37 -> 1.5332578e+08 | J37: =+I37*100/B37 -> 100 | M37: =+B37-I37 -> 0 | Q37: รหัส ปีงบ 66 9090961004300
A38: ปี 2566 | B38: 18584316 | C38: 0 | D38: 0 | E38: 18584316 | F38: =+E38*100/B38 -> 100 | I38: =+C38+D38+E38 -> 18584316 | J38: =+I38*100/B38 -> 100 | M38: =+B38-I38 -> 0
A39: งบประมาณเหลื่อมปี
A40: รายการ | B40: งบประมาณ | C40: สำรองเงิน แบบมีหนี้ เหลื่อมปี | D40: ใบสั่งซื้อ เหลื่อมปี | E40: เบิกจ่าย | F40: ร้อยละ เบิกจ่าย | I40: การใช้จ่าย | J40: ร้อยละ การใช้จ่าย | L40: คงเหลือ สรก. อยู่ระหว่างดำเนินการ | M40: คงเหลือรวม | Q40: 12
...

Sheet เป้าหมายปี 30.11.66
A1: เป้าหมายการเบิกจ่ายและการใช้จ่ายงบประมาณ พ.ศ. 2567 | Q1: source
A2: รายการ | B2: ไตรมาสที่ 1 | D2: ไตรมาสที่ 2 | F2: ไตรมาสที่ 3 | H2: ไตรมาสที่ 4
B3: เบิกจ่าย | C3: ใช้จ่าย | D3: เบิกจ่าย | E3: ใช้จ่าย | F3: เบิกจ่าย | G3: ใช้จ่าย | H3: เบิกจ่าย | I3: ใช้จ่าย
A4: ภาพรวม | B4: 32 | C4: 34.08 | D4: =20+32 -> 52 | E4: =+C4+22.16 -> 56.24 | F4: =23+D4 -> 75 | G4: =+E4+25.5 -> 81.74 | H4: =18+F4 -> 93 | I4: =+G4+18.26 -> 100
A5: ประจำ | B5: 35 | C5: 35.33 | D5: =20+35 -> 55 | E5: =20.45+C5 -> 55.78 | F5: =25+D5 -> 80 | G5: =25.98+E5 -> 81.76 | H5: =18+F5 -> 98 | I5: =18.24+G5 -> 100
A6: ลงทุน | B6: 19 | C6: 28.96 | D6: =20+19 -> 39 | E6: =29.19+C6 -> 58.15 | F6: =+D6+18 -> 57 | G6: =23.5+E6 -> 81.65 | H6: =18+F6 -> 75 | I6: =18.35+G6 -> 100
A7: ผลการใช้จ่ายงบประมาณรายจ่าย ประจำปีงบประมาณ พ.ศ. 2566 ไปพลางก่อน | M7: ข้อมูล ณ วันที่ 30 พฤศจิกายน 2566
A8: รายการ | B8: งบประมาณ | C8: สำรองเงินมีหนี้ | D8: PO+สำรองมีหนี้ | E8: เบิกจ่าย | F8: ร้อยละ เบิกจ่าย | G8: เป้าหมาย Q4 | H8: */- เป้าหมาย | I8: การใช้จ่าย (PO+เบิกจ่าย+สำรองมีหนี้) | J8: ร้อยละ การใช้จ่าย | K8: เป้าหมาย Q4 | L8: */- เป้าหมาย | M8: คงเหลือ หลังหักใช้จ่าย | N8: ลำดับเบิกจ่าย | O8: ลำดับ ใช้จ่าย
A9: งบประมาณรายจ่ายประจำปี พ.ศ.2566 ไปพลางก่อน (ภาพรวมทั้งประเทศ)
A10: ภาพรวม | B10: =+B11+B12 -> 177244.75 | D10: =+D11+D12 -> 5479.9165 | E10: =+E11+E12 -> 88246.828 | F10: =+E10*100/B10 -> 49.788118 | G10: 93 | H10: =+F10-G10 -> -43.211882 | I10: =+I11+I12 -> 93726.744 | J10: =+I10*100/B10 -> 52.879841 | K10: 100 | L10: =+J10-K10 -> -47.120159 | M10: =+B10-I10 -> 83518.011
A11: ประจำ | B11: 152692.46 | D11: 811.73118 | E11: 83733.014 | F11: =+E11*100/B11 -> 54.837689 | G11: 98 | H11: =+F11-G11 -> -43.162311 | I11: 84544.745 | J11: =+I11*100/B11 -> 55.3693 | K11: 100 | L11: =+J11-K11 -> -44.6307 | M11: =+B11-I11 -> 68147.712
A12: ลงทุน | B12: 24552.298 | D12: 4668.1853 | E12: 4513.8135 | F12: =+E12*100/B12 -> 18.384485 | G12: 75 | H12: =+F12-G12 -> -56.615515 | I12: =+E12+D12 -> 9181.9988 | J12: =+I12*100/B12 -> 37.397717 | K12: 100 | L12: =+J12-K12 -> -62.602283 | M12: =+B12-I12 -> 15370.299
A13: ผลการใช้จ่ายงบประมาณรายจ่ายจังหวัดเชียงใหม่ ประจำปีงบประมาณ พ.ศ. 2566 ไปพลางก่อน | M13: ข้อมูล ณ วันที่ 30 พฤศจิกายน 2566
A14: รายการ | B14: งบประมาณ | C14: สำรองเงินมีหนี้ | D14: PO | E14: เบิกจ่าย | F14: ร้อยละ เบิกจ่าย | G14: เป้าหมาย Q4 | H14: =+F14-G14 -> #VALUE! | I14: การใช้จ่าย (PO+เบิกจ่าย+สำรองมีหนี้) | J14: ร้อยละ การใช้จ่าย | K14: เป้าหมาย Q4 | L14: */- เป้าหมาย | M14: คงเหลือ หลังหักใช้จ่าย | N14: ลำดับเบิกจ่าย | O14: ลำดับ ใช้จ่าย | Q14: 9 สรุปผลการใช้จ่าย A08 รวม ปจ ลท 66
A15: งบประมาณรายจ่ายประจำปี พ.ศ.2566 ไปพลางก่อน (จังหวัดเชียงใหม่)
A16: ภาพรวม | B16: =+B17+B18 -> 1.0700527e+10 | C16: =+C17+C18 -> 0 | D16: =+D17+D18 -> 3.9201341e+08 | E16: =+E17+E18 -> 6.739491e+09 | F16: =+E16*100/B16 -> 62.982793 | G16: 93 | H16: =+F16-G16 -> -30.017207 | I16: =+C16+D16+E16 -> 7131504411 | J16: =+I16*100/B16 -> 66.646289 | K16: 100 | L16: =+J16-K16 -> -33.353711 | M16: =+B16-I16 -> 3.5690229e+09 | N16: 3 | O16: 3 | Q16: racking worning | S16: =+E16+C16+D16 -> 7131504411
A17: ประจำ | B17: 9.1962292e+09 | C17: 0 | D17: 31060224 | E17: 6.3019957e+09 | F17: =+E17*100/B17 -> 68.528042 | G17: 98 | H17: =+F17-G17 -> -29.471958 | I17: 6.333056e+09 | J17: =+I17*100/B17 -> 68.865791 | K17: 100 | L17: =+J17-K17 -> -31.134209 | M17: =+B17-I17 -> 2.8631732e+09 | Q17: PO เรียกจาก (รายงานเงินกันปี 67)
A18: ลงทุน | B18: 1.5042982e+09 | C18: 0 | D18: 3.6095319e+08 | E18: 4.3749525e+08 | F18: =+E18*100/B18 -> 29.083014 | G18: 75 | H18: =+F18-G18 -> -45.916986 | I18: 7.9844844e+08 | J18: =+I18*100/B18 -> 53.077804 | K18: 100 | L18: =+J18-K18 -> -46.922196 | M18: =+B18-I18 -> 7.0584974e+08 | N18: 7 | O18: 12
A19: งบกรมจังหวัด
A20: งบกลุ่มจังหวัดภาคเหนือตอนบน 1
A21: ภาพรวม | B21: =+B22+B23 -> 89547000 | D21: =+D22+D23 -> 1159 | E21: =+E22+E23 -> 809456 | F21: =+E21*100/B21 -> 0.90394541 | G21: 52 | H21: =+F21-G21 -> -51.096055 | I21: =+D21+E21 -> 810615 | J21: =+I21*100/B21 -> 0.90523971 | K21: 56.24 | L21: =+J21-K21 -> -55.33476 | M21: =+B21-I21 -> 88736385
A22: ประจำ | B22: 14945000 | D22: 1159 | E22: 809456 | F22: =+E22*100/B22 -> 5.4162329 | G22: 55 | H22: =+F22-G22 -> -49.583767 | I22: =+D22+E22 -> 810615 | J22: =+I22*100/B22 -> 5.423988 | K22: 55.78 | L22: =+J22-K22 -> -50.356012 | M22: =+B22-I22 -> 14134385
A23: ลงทุน | B23: 74602000 | D23: 0 | E23: 0 | F23: =+E23*100/B23 -> 0 | G23: 39 | H23: =+F23-G23 -> -39 | I23: =+D23+E23 -> 0 | J23: =+I23*100/B23 -> 0 | K23: 58.15 | L23: =+J23-K23 -> -58.15 | M23: =+B23-I23 -> 74602000
A24: งบพัฒนาจังหวัด | I24: =+D24+E24 -> 0 | M24: =+B24-I24 -> 0
A25: ภาพรวม | B25: =+B26+B27 -> 317032400 | D25: =+D26+D27 -> 467150.06 | E25: =+E26+E27 -> 2267171.7 | F25: =+E25*100/B25 -> 0.71512303 | G25: 52 | H25: =+F25-G25 -> -51.284877 | I25: =+I26+I27 -> 2734321.8 | J25: =+I25*100/B25 -> 0.86247392 | K25: 56.24 | L25: =+J25-K25 -> -55.377526 | M25: =+B25-I25 -> 3.1429808e+08
A26: ประจำ | B26: 23468600 | D26: 467150.06 | E26: 2267171.7 | F26: =+E26*100/B26 -> 9.6604472 | G26: 55 | H26: =+F26-G26 -> -45.339553 | I26: =+D26+E26 -> 2734321.8 | J26: =+I26*100/B26 -> 11.650979 | K26: 55.78 | L26: =+J26-K26 -> -44.129021 | M26: =+B26-I26 -> 20734278
A27: ลงทุน | B27: 293563800 | D27: 0 | E27: 0 | F27: =+E27*100/B27 -> 0 | G27: 39 | H27: =+F27-G27 -> -39 | I27: =+D27+E27 -> 0 | J27: =+I27*100/B27 -> 0 | K27: 58.15 | L27: =+J27-K27 -> -58.15 | M27: =+B27-I27 -> 293563800
A28: ค่าใช้จ่ายบรรเทาผลกระทบจากการแพร่ระบาดของ COVID-19 จังหวัดเชียงใหม่
A29: ภาพรวม | B29: =+B30+B35 -> 3.3633955e+09 | C29: =+C30+C35 -> 63748.32 | D29: =+D30+D35 -> 19055725 | E29: =+E30+E35 -> 3.1861978e+09 | F29: =+E29*100/B29 -> 94.731583 | I29: =+C29+D29+E29 -> 3.2053173e+09 | J29: =+I29*100/B29 -> 95.30004 | M29: =+B29-I29 -> 1.5807824e+08 | T29: 63748.32 | U29: 19055725 | V29: 3.1650481e+09 | W29: 94.625612 | X29: 3.1841675e+09 | Y29: 95.197228 | Z29: 1.6064364e+08
A30: เงินกู้ | B30: =+SUM(B31:B34) -> 2.807294e+09 | D30: =+SUM(D31:D34) -> 19055725 | E30: =+SUM(E31:E34) -> 2.6351595e+09 | F30: =+E30*100/B30 -> 93.868314 | I30: =+SUM(I31:I34) -> 2.6542152e+09 | J30: =+I30*100/B30 -> 94.547107 | M30: =+SUM(M31:M34) -> 1.5307873e+08 | Q30: 15 เงินกู้ใช้ทำรายงาน 190766 | T30: 19055725 | U30: 2.6325941e+09 | V30: 93.776931 | W30: 2.6516498e+09 | X30: 94.455724 | Y30: 1.5564412e+08
A31: ปี 2563 | B31: 24020888 | D31: 0 | E31: 24020888 | F31: =+E31*100/B31 -> 100 | I31: 24020888 | J31: =+I31*100/B31 -> 100 | M31: =+B31-I31 -> 0
A32: ปี 2564 | B32: 1.7723931e+09 | C32: 0 | D32: 1059233.4 | E32: 1.7194309e+09 | F32: =+E32*100/B32 -> 97.011829 | I32: 1.7204902e+09 | J32: =+I32*100/B32 -> 97.071592 | M32: =+B32-I32 -> 51902895
A33: ปี 2565 | B33: 8.4311721e+08 | C33: 0 | D33: 17996491 | E33: 7.288522e+08 | F33: =+E33*100/B33 -> 86.447316 | I33: 7.468487e+08 | J33: =+I33*100/B33 -> 88.581835 | M33: =+B33-I33 -> 96268518
A34: ปี 2566 | B34: 167762814 | C34: 0 | D34: 0 | E34: 1.628555e+08 | F34: =+E34*100/B34 -> 97.074851 | I34: 1.628555e+08 | J34: =+I34*100/B34 -> 97.074851 | M34: =+B34-I34 -> 4907312.3
A35: งบกลาง | B35: =B36+B37+B38 -> 5.5610153e+08 | C35: =+C36+C37+C38 -> 63748.32 | D35: =D36+D37+D38 -> 0 | E35: =+E36+E37+E38 -> 5.5103827e+08 | F35: =+E35*100/B35 -> 99.089507 | I35: =+I36+I37+I38 -> 5.5110202e+08 | J35: =+I35*100/B35 -> 99.10097 | M35: =+M36+M37+M38 -> 4999517.9 | Q35: check จาก 11
A36: ปี 2564 | B36: 3.8419143e+08 | C36: 53748.32 | D36: 0 | E36: 3.7913817e+08 | F36: =+E36*100/B36 -> 98.684701 | I36: =+C36+D36+E36 -> 3.7919192e+08 | J36: =+I36*100/B36 -> 98.698691 | M36: =+B36-I36 -> 4999517.9 | Q36: รหัส ปีงบ 65 90909620043
A37: ปี 2565 | B37: 1.5332578e+08 | C37: 10000 | D37: 0 | E37: 1.5331578e+08 | F37: =+E37*100/B37 -> 99.993478 | I37: =+C37+D37+E37 -> 1.5332578e+08 | J37: =+I37*100/B37 -> 100 | M37: =+B37-I37 -> 0 | Q37: รหัส ปีงบ 66 9090961004300
A38: ปี 2566 | B38: 18584316 | C38: 0 | D38: 0 | E38: 18584316 | F38: =+E38*100/B38 -> 100 | I38: =+C38+D38+E38 -> 18584316 | J38: =+I38*100/B38 -> 100 | M38: =+B38-I38 -> 0
A39: งบประมาณเหลื่อมปี
A40: รายการ | B40: งบประมาณ | C40: สำรองเงิน แบบมีหนี้ เหลื่อมปี | D40: ใบสั่งซื้อ เหลื่อมปี | E40: เบิกจ่าย | F40: ร้อยละ เบิกจ่าย | I40: การใช้จ่าย | J40: ร้อยละ การใช้จ่าย | L40: คงเหลือ สรก. อยู่ระหว่างดำเนินการ | M40: คงเหลือรวม | Q40: 12
...

Sheet เป้าหมายปี 7 12 66
A1: เป้าหมายการเบิกจ่ายและการใช้จ่ายงบประมาณ พ.ศ. 2567 | Q1: source
A2: รายการ | B2: ไตรมาสที่ 1 | D2: ไตรมาสที่ 2 | F2: ไตรมาสที่ 3 | H2: ไตรมาสที่ 4
B3: เบิกจ่าย | C3: ใช้จ่าย | D3: เบิกจ่าย | E3: ใช้จ่าย | F3: เบิกจ่าย | G3: ใช้จ่าย | H3: เบิกจ่าย | I3: ใช้จ่าย
A4: ภาพรวม | B4: 32 | C4: 34.08 | D4: =20+32 -> 52 | E4: =+C4+22.16 -> 56.24 | F4: =23+D4 -> 75 | G4: =+E4+25.5 -> 81.74 | H4: =18+F4 -> 93 | I4: =+G4+18.26 -> 100
A5: ประจำ | B5: 35 | C5: 35.33 | D5: =20+35 -> 55 | E5: =20.45+C5 -> 55.78 | F5: =25+D5 -> 80 | G5: =25.98+E5 -> 81.76 | H5: =18+F5 -> 98 | I5: =18.24+G5 -> 100
A6: ลงทุน | B6: 19 | C6: 28.96 | D6: =20+19 -> 39 | E6: =29.19+C6 -> 58.15 | F6: =+D6+18 -> 57 | G6: =23.5+E6 -> 81.65 | H6: =18+F6 -> 75 | I6: =18.35+G6 -> 100
A7: ผลการใช้จ่ายงบประมาณรายจ่าย ประจำปีงบประมาณ พ.ศ. 2566 ไปพลางก่อน
A8: รายการ | B8: งบประมาณ | C8: สำรองเงินมีหนี้ | D8: PO+สำรองมีหนี้ | E8: เบิกจ่าย | F8: ร้อยละ เบิกจ่าย | G8: เป้าหมาย Q4 | H8: */- เป้าหมาย | I8: การใช้จ่าย (PO+เบิกจ่าย+สำรองมีหนี้) | J8: ร้อยละ การใช้จ่าย | K8: เป้าหมาย Q4 | L8: */- เป้าหมาย | M8: คงเหลือ หลังหักใช้จ่าย | N8: ลำดับเบิกจ่าย | O8: ลำดับ ใช้จ่าย
A9: งบประมาณรายจ่ายประจำปี พ.ศ.2566 ไปพลางก่อน (ภาพรวมทั้งประเทศ)
A10: ภาพรวม | B10: =+B11+B12 -> 177244.75 | D10: =+D11+D12 -> 5479.9165 | E10: =+E11+E12 -> 88246.828 | F10: =+E10*100/B10 -> 49.788118 | G10: 93 | H10: =+F10-G10 -> -43.211882 | I10: =+I11+I12 -> 93726.744 | J10: =+I10*100/B10 -> 52.879841 | K10: 100 | L10: =+J10-K10 -> -47.120159 | M10: =+B10-I10 -> 83518.011
A11: ประจำ | B11: 152692.46 | D11: 811.73118 | E11: 83733.014 | F11: =+E11*100/B11 -> 54.837689 | G11: 98 | H11: =+F11-G11 -> -43.162311 | I11: 84544.745 | J11: =+I11*100/B11 -> 55.3693 | K11: 100 | L11: =+J11-K11 -> -44.6307 | M11: =+B11-I11 -> 68147.712
A12: ลงทุน | B12: 24552.298 | D12: 4668.1853 | E12: 4513.8135 | F12: =+E12*100/B12 -> 18.384485 | G12: 75 | H12: =+F12-G12 -> -56.615515 | I12: =+E12+D12 -> 9181.9988 | J12: =+I12*100/B12 -> 37.397717 | K12: 100 | L12: =+J12-K12 -> -62.602283 | M12: =+B12-I12 -> 15370.299
A13: ผลการใช้จ่ายงบประมาณรายจ่ายจังหวัดเชียงใหม่ ประจำปีงบประมาณ พ.ศ. 2566 ไปพลางก่อน | M13: ข้อมูล ณ วันที่ 7 ธันวาคม 2566
A14: รายการ | B14: งบประมาณ | C14: สำรองเงินมีหนี้ | D14: PO | E14: เบิกจ่าย | F14: ร้อยละ เบิกจ่าย | G14: เป้าหมาย Q4 | H14: =+F14-G14 -> #VALUE! | I14: การใช้จ่าย (PO+เบิกจ่าย+สำรองมีหนี้) | J14: ร้อยละ การใช้จ่าย | K14: เป้าหมาย Q4 | L14: */- เป้าหมาย | M14: คงเหลือ หลังหักใช้จ่าย | N14: ลำดับเบิกจ่าย | O14: ลำดับ ใช้จ่าย | Q14: 9 สรุปผลการใช้จ่าย A08 รวม ปจ ลท 66
A15: งบประมาณรายจ่ายประจำปี พ.ศ.2566 ไปพลางก่อน (จังหวัดเชียงใหม่)
A16: ภาพรวม | B16: =+B17+B18 -> 1.0886024e+10 | C16: =+C17+C18 -> 0 | D16: =+D17+D18 -> 4.6227504e+08 | E16: =+E17+E18 -> 6.7388165e+09 | F16: =+E16*100/B16 -> 61.903378 | G16: 93 | H16: =+F16-G16 -> -31.096622 | I16: =+C16+D16+E16 -> 7.2010915e+09 | J16: =+I16*100/B16 -> 66.149879 | K16: 100 | L16: =+J16-K16 -> -33.850121 | M16: =+B16-I16 -> 3.6849322e+09 | Q16: racking worning | S16: =+E16+C16+D16 -> 7.2010915e+09
A17: ประจำ | B17: 9.3817156e+09 | C17: 0 | D17: 75465565 | E17: 6.3013212e+09 | F17: =+E17*100/B17 -> 67.16598 | G17: 98 | H17: =+F17-G17 -> -30.83402 | I17: 6.3767868e+09 | J17: =+I17*100/B17 -> 67.97037 | K17: 100 | L17: =+J17-K17 -> -32.02963 | M17: =+B17-I17 -> 3.0049288e+09 | Q17: PO เรียกจาก (รายงานเงินกันปี 67)
A18: ลงทุน | B18: 1.5043082e+09 | C18: 0 | D18: 3.8680947e+08 | E18: 4.3749525e+08 | F18: =+E18*100/B18 -> 29.082821 | G18: 75 | H18: =+F18-G18 -> -45.917179 | I18: 8.2430473e+08 | J18: =+I18*100/B18 -> 54.796267 | K18: 100 | L18: =+J18-K18 -> -45.203733 | M18: =+B18-I18 -> 6.8000345e+08
A19: งบกรมจังหวัด
A20: งบกลุ่มจังหวัดภาคเหนือตอนบน 1
A21: ภาพรวม | B21: =+B22+B23 -> 89547000 | D21: =+D22+D23 -> 1159 | E21: =+E22+E23 -> 809456 | F21: =+E21*100/B21 -> 0.90394541 | G21: 52 | H21: =+F21-G21 -> -51.096055 | I21: =+D21+E21 -> 810615 | J21: =+I21*100/B21 -> 0.90523971 | K21: 56.24 | L21: =+J21-K21 -> -55.33476 | M21: =+B21-I21 -> 88736385
A22: ประจำ | B22: 14945000 | D22: 1159 | E22: 809456 | F22: =+E22*100/B22 -> 5.4162329 | G22: 55 | H22: =+F22-G22 -> -49.583767 | I22: =+D22+E22 -> 810615 | J22: =+I22*100/B22 -> 5.423988 | K22: 55.78 | L22: =+J22-K22 -> -50.356012 | M22: =+B22-I22 -> 14134385
A23: ลงทุน | B23: 74602000 | D23: 0 | E23: 0 | F23: =+E23*100/B23 -> 0 | G23: 39 | H23: =+F23-G23 -> -39 | I23: =+D23+E23 -> 0 | J23: =+I23*100/B23 -> 0 | K23: 58.15 | L23: =+J23-K23 -> -58.15 | M23: =+B23-I23 -> 74602000
A24: งบพัฒนาจังหวัด | I24: =+D24+E24 -> 0 | M24: =+B24-I24 -> 0
A25: ภาพรวม | B25: =+B26+B27 -> 317032400 | D25: =+D26+D27 -> 467150.06 | E25: =+E26+E27 -> 2267171.7 | F25: =+E25*100/B25 -> 0.71512303 | G25: 52 | H25: =+F25-G25 -> -51.284877 | I25: =+I26+I27 -> 2734321.8 | J25: =+I25*100/B25 -> 0.86247392 | K25: 56.24 | L25: =+J25-K25 -> -55.377526 | M25: =+B25-I25 -> 3.1429808e+08
A26: ประจำ | B26: 23468600 | D26: 467150.06 | E26: 2267171.7 | F26: =+E26*100/B26 -> 9.6604472 | G26: 55 | H26: =+F26-G26 -> -45.339553 | I26: =+D26+E26 -> 2734321.8 | J26: =+I26*100/B26 -> 11.650979 | K26: 55.78 | L26: =+J26-K26 -> -44.129021 | M26: =+B26-I26 -> 20734278
A27: ลงทุน | B27: 293563800 | D27: 0 | E27: 0 | F27: =+E27*100/B27 -> 0 | G27: 39 | H27: =+F27-G27 -> -39 | I27: =+D27+E27 -> 0 | J27: =+I27*100/B27 -> 0 | K27: 58.15 | L27: =+J27-K27 -> -58.15 | M27: =+B27-I27 -> 293563800
A28: ค่าใช้จ่ายบรรเทาผลกระทบจากการแพร่ระบาดของ COVID-19 จังหวัดเชียงใหม่
A29: ภาพรวม | B29: =+B30+B35 -> 3.3633955e+09 | C29: =+C30+C35 -> 63748.32 | D29: =+D30+D35 -> 19055725 | E29: =+E30+E35 -> 3.1861978e+09 | F29: =+E29*100/B29 -> 94.731583 | I29: =+C29+D29+E29 -> 3.2053173e+09 | J29: =+I29*100/B29 -> 95.30004 | M29: =+B29-I29 -> 1.5807824e+08 | T29: 63748.32 | U29: 19055725 | V29: 3.1650481e+09 | W29: 94.625612 | X29: 3.1841675e+09 | Y29: 95.197228 | Z29: 1.6064364e+08
A30: เงินกู้ | B30: =+SUM(B31:B34) -> 2.807294e+09 | D30: =+SUM(D31:D34) -> 19055725 | E30: =+SUM(E31:E34) -> 2.6351595e+09 | F30: =+E30*100/B30 -> 93.868314 | I30: =+SUM(I31:I34) -> 2.6542152e+09 | J30: =+I30*100/B30 -> 94.547107 | M30: =+SUM(M31:M34) -> 1.5307873e+08 | Q30: 15 เงินกู้ใช้ทำรายงาน 190766 | T30: 19055725 | U30: 2.6325941e+09 | V30: 93.776931 | W30: 2.6516498e+09 | X30: 94.455724 | Y30: 1.5564412e+08
A31: ปี 2563 | B31: 24020888 | D31: 0 | E31: 24020888 | F31: =+E31*100/B31 -> 100 | I31: 24020888 | J31: =+I31*100/B31 -> 100 | M31: =+B31-I31 -> 0
A32: ปี 2564 | B32: 1.7723931e+09 | C32: 0 | D32: 1059233.4 | E32: 1.7194309e+09 | F32: =+E32*100/B32 -> 97.011829 | I32: 1.7204902e+09 | J32: =+I32*100/B32 -> 97.071592 | M32: =+B32-I32 -> 51902895
A33: ปี 2565 | B33: 8.4311721e+08 | C33: 0 | D33: 17996491 | E33: 7.288522e+08 | F33: =+E33*100/B33 -> 86.447316 | I33: 7.468487e+08 | J33: =+I33*100/B33 -> 88.581835 | M33: =+B33-I33 -> 96268518
A34: ปี 2566 | B34: 167762814 | C34: 0 | D34: 0 | E34: 1.628555e+08 | F34: =+E34*100/B34 -> 97.074851 | I34: 1.628555e+08 | J34: =+I34*100/B34 -> 97.074851 | M34: =+B34-I34 -> 4907312.3
A35: งบกลาง | B35: =B36+B37+B38 -> 5.5610153e+08 | C35: =+C36+C37+C38 -> 63748.32 | D35: =D36+D37+D38 -> 0 | E35: =+E36+E37+E38 -> 5.5103827e+08 | F35: =+E35*100/B35 -> 99.089507 | I35: =+I36+I37+I38 -> 5.5110202e+08 | J35: =+I35*100/B35 -> 99.10097 | M35: =+M36+M37+M38 -> 4999517.9 | Q35: check จาก 11
A36: ปี 2564 | B36: 3.8419143e+08 | C36: 53748.32 | D36: 0 | E36: 3.7913817e+08 | F36: =+E36*100/B36 -> 98.684701 | I36: =+C36+D36+E36 -> 3.7919192e+08 | J36: =+I36*100/B36 -> 98.698691 | M36: =+B36-I36 -> 4999517.9 | Q36: รหัส ปีงบ 65 90909620043
A37: ปี 2565 | B37: 1.5332578e+08 | C37: 10000 | D37: 0 | E37: 1.5331578e+08 | F37: =+E37*100/B37 -> 99.993478 | I37: =+C37+D37+E37 -> 1.5332578e+08 | J37: =+I37*100/B37 -> 100 | M37: =+B37-I37 -> 0 | Q37: รหัส ปีงบ 66 9090961004300
A38: ปี 2566 | B38: 18584316 | C38: 0 | D38: 0 | E38: 18584316 | F38: =+E38*100/B38 -> 100 | I38: =+C38+D38+E38 -> 18584316 | J38: =+I38*100/B38 -> 100 | M38: =+B38-I38 -> 0
A39: งบประมาณเหลื่อมปี
A40: รายการ | B40: งบประมาณ | C40: สำรองเงิน แบบมีหนี้ เหลื่อมปี | D40: ใบสั่งซื้อ เหลื่อมปี | E40: เบิกจ่าย | F40: ร้อยละ เบิกจ่าย | I40: การใช้จ่าย | J40: ร้อยละ การใช้จ่าย | L40: คงเหลือ สรก. อยู่ระหว่างดำเนินการ | M40: คงเหลือรวม | Q40: 12
...

Sheet เป้าหมายปี 13 12 66
A1: เป้าหมายการเบิกจ่ายและการใช้จ่ายงบประมาณ พ.ศ. 2567 | Q1: source
A2: รายการ | B2: ไตรมาสที่ 1 | D2: ไตรมาสที่ 2 | F2: ไตรมาสที่ 3 | H2: ไตรมาสที่ 4
B3: เบิกจ่าย | C3: ใช้จ่าย | D3: เบิกจ่าย | E3: ใช้จ่าย | F3: เบิกจ่าย | G3: ใช้จ่าย | H3: เบิกจ่าย | I3: ใช้จ่าย
A4: ภาพรวม | B4: 32 | C4: 34.08 | D4: =20+32 -> 52 | E4: =+C4+22.16 -> 56.24 | F4: =23+D4 -> 75 | G4: =+E4+25.5 -> 81.74 | H4: =18+F4 -> 93 | I4: =+G4+18.26 -> 100
A5: ประจำ | B5: 35 | C5: 35.33 | D5: =20+35 -> 55 | E5: =20.45+C5 -> 55.78 | F5: =25+D5 -> 80 | G5: =25.98+E5 -> 81.76 | H5: =18+F5 -> 98 | I5: =18.24+G5 -> 100
A6: ลงทุน | B6: 19 | C6: 28.96 | D6: =20+19 -> 39 | E6: =29.19+C6 -> 58.15 | F6: =+D6+18 -> 57 | G6: =23.5+E6 -> 81.65 | H6: =18+F6 -> 75 | I6: =18.35+G6 -> 100
A7: ผลการใช้จ่ายงบประมาณรายจ่าย ประจำปีงบประมาณ พ.ศ. 2566 ไปพลางก่อน | M7: ข้อมูล ณ วันที่ 15 ธันวาคม 2566
A8: รายการ | B8: งบประมาณ | C8: สำรองเงินมีหนี้ | D8: PO+สำรองมีหนี้ | E8: เบิกจ่าย | F8: ร้อยละ เบิกจ่าย | G8: เป้าหมาย Q4 | H8: */- เป้าหมาย | I8: การใช้จ่าย (PO+เบิกจ่าย+สำรองมีหนี้) | J8: ร้อยละ การใช้จ่าย | K8: เป้าหมาย Q4 | L8: */- เป้าหมาย | M8: คงเหลือ หลังหักใช้จ่าย | N8: ลำดับเบิกจ่าย | O8: ลำดับ ใช้จ่าย
A9: งบประมาณรายจ่ายประจำปี พ.ศ.2566 ไปพลางก่อน (ภาพรวมทั้งประเทศ)
A10: ภาพรวม | B10: =+B11+B12 -> 177244.75 | D10: =+D11+D12 -> 5479.9165 | E10: =+E11+E12 -> 88246.828 | F10: =+E10*100/B10 -> 49.788118 | G10: 93 | H10: =+F10-G10 -> -43.211882 | I10: =+I11+I12 -> 93726.744 | J10: =+I10*100/B10 -> 52.879841 | K10: 100 | L10: =+J10-K10 -> -47.120159 | M10: =+B10-I10 -> 83518.011
A11: ประจำ | B11: 152692.46 | D11: 811.73118 | E11: 83733.014 | F11: =+E11*100/B11 -> 54.837689 | G11: 98 | H11: =+F11-G11 -> -43.162311 | I11: 84544.745 | J11: =+I11*100/B11 -> 55.3693 | K11: 100 | L11: =+J11-K11 -> -44.6307 | M11: =+B11-I11 -> 68147.712
A12: ลงทุน | B12: 24552.298 | D12: 4668.1853 | E12: 4513.8135 | F12: =+E12*100/B12 -> 18.384485 | G12: 75 | H12: =+F12-G12 -> -56.615515 | I12: =+E12+D12 -> 9181.9988 | J12: =+I12*100/B12 -> 37.397717 | K12: 100 | L12: =+J12-K12 -> -62.602283 | M12: =+B12-I12 -> 15370.299
A13: ผลการใช้จ่ายงบประมาณรายจ่ายจังหวัดเชียงใหม่ ประจำปีงบประมาณ พ.ศ. 2566 ไปพลางก่อน | M13: ข้อมูล ณ วันที่ 13 ธันวาคม 2566
A14: รายการ | B14: งบประมาณ | C14: สำรองเงินมีหนี้ | D14: PO | E14: เบิกจ่าย | F14: ร้อยละ เบิกจ่าย | G14: เป้าหมาย Q4 | H14: =+F14-G14 -> #VALUE! | I14: การใช้จ่าย (PO+เบิกจ่าย+สำรองมีหนี้) | J14: ร้อยละ การใช้จ่าย | K14: เป้าหมาย Q4 | L14: */- เป้าหมาย | M14: คงเหลือ หลังหักใช้จ่าย | N14: ลำดับเบิกจ่าย | O14: ลำดับ ใช้จ่าย | Q14: 9 สรุปผลการใช้จ่าย A08 รวม ปจ ลท 66
A15: งบประมาณรายจ่ายประจำปี พ.ศ.2566 ไปพลางก่อน (จังหวัดเชียงใหม่)
A16: ภาพรวม | B16: =+B17+B18 -> 1.0961543e+10 | C16: =+C17+C18 -> 0 | D16: =+D17+D18 -> 5.0183696e+08 | E16: =+E17+E18 -> 6.7387624e+09 | F16: =+E16*100/B16 -> 61.476402 | G16: 93 | H16: =+F16-G16 -> -31.523598 | I16: =+C16+D16+E16 -> 7.2405993e+09 | J16: =+I16*100/B16 -> 66.054561 | K16: 100 | L16: =+J16-K16 -> -33.945439 | M16: =+B16-I16 -> 3.720944e+09 | Q16: racking worning | S16: =+E16+C16+D16 -> 7.2405993e+09
A17: ประจำ | B17: 9.4211489e+09 | C17: 0 | D17: 82401145 | E17: 6.3012671e+09 | F17: =+E17*100/B17 -> 66.884275 | G17: 98 | H17: =+F17-G17 -> -31.115725 | I17: 6.3836683e+09 | J17: =+I17*100/B17 -> 67.758915 | K17: 100 | L17: =+J17-K17 -> -32.241085 | M17: =+B17-I17 -> 3.0374806e+09 | Q17: PO เรียกจาก (รายงานเงินกันปี 67)
A18: ลงทุน | B18: 1.5403944e+09 | C18: 0 | D18: 4.1943581e+08 | E18: 4.3749525e+08 | F18: =+E18*100/B18 -> 28.401509 | G18: 75 | H18: =+F18-G18 -> -46.598491 | I18: 8.5693106e+08 | J18: =+I18*100/B18 -> 55.630628 | K18: 100 | L18: =+J18-K18 -> -44.369372 | M18: =+B18-I18 -> 6.8346331e+08
A19: งบกรมจังหวัด
A20: งบกลุ่มจังหวัดภาคเหนือตอนบน 1
A21: ภาพรวม | B21: =+B22+B23 -> 89547000 | D21: =+D22+D23 -> 1159 | E21: =+E22+E23 -> 809456 | F21: =+E21*100/B21 -> 0.90394541 | G21: 52 | H21: =+F21-G21 -> -51.096055 | I21: =+D21+E21 -> 810615 | J21: =+I21*100/B21 -> 0.90523971 | K21: 56.24 | L21: =+J21-K21 -> -55.33476 | M21: =+B21-I21 -> 88736385
A22: ประจำ | B22: 14945000 | D22: 1159 | E22: 809456 | F22: =+E22*100/B22 -> 5.4162329 | G22: 55 | H22: =+F22-G22 -> -49.583767 | I22: =+D22+E22 -> 810615 | J22: =+I22*100/B22 -> 5.423988 | K22: 55.78 | L22: =+J22-K22 -> -50.356012 | M22: =+B22-I22 -> 14134385
A23: ลงทุน | B23: 74602000 | D23: 0 | E23: 0 | F23: =+E23*100/B23 -> 0 | G23: 39 | H23: =+F23-G23 -> -39 | I23: =+D23+E23 -> 0 | J23: =+I23*100/B23 -> 0 | K23: 58.15 | L23: =+J23-K23 -> -58.15 | M23: =+B23-I23 -> 74602000
A24: งบพัฒนาจังหวัด | I24: =+D24+E24 -> 0 | M24: =+B24-I24 -> 0
A25: ภาพรวม | B25: =+B26+B27 -> 317032400 | D25: =+D26+D27 -> 467150.06 | E25: =+E26+E27 -> 2267171.7 | F25: =+E25*100/B25 -> 0.71512303 | G25: 52 | H25: =+F25-G25 -> -51.284877 | I25: =+I26+I27 -> 2734321.8 | J25: =+I25*100/B25 -> 0.86247392 | K25: 56.24 | L25: =+J25-K25 -> -55.377526 | M25: =+B25-I25 -> 3.1429808e+08
A26: ประจำ | B26: 23468600 | D26: 467150.06 | E26: 2267171.7 | F26: =+E26*100/B26 -> 9.6604472 | G26: 55 | H26: =+F26-G26 -> -45.339553 | I26: =+D26+E26 -> 2734321.8 | J26: =+I26*100/B26 -> 11.650979 | K26: 55.78 | L26: =+J26-K26 -> -44.129021 | M26: =+B26-I26 -> 20734278
A27: ลงทุน | B27: 293563800 | D27: 0 | E27: 0 | F27: =+E27*100/B27 -> 0 | G27: 39 | H27: =+F27-G27 -> -39 | I27: =+D27+E27 -> 0 | J27: =+I27*100/B27 -> 0 | K27: 58.15 | L27: =+J27-K27 -> -58.15 | M27: =+B27-I27 -> 293563800
A28: ค่าใช้จ่ายบรรเทาผลกระทบจากการแพร่ระบาดของ COVID-19 จังหวัดเชียงใหม่
A29: ภาพรวม | B29: =+B30+B35 -> 3.3633955e+09 | C29: =+C30+C35 -> 63748.32 | D29: =+D30+D35 -> 19055725 | E29: =+E30+E35 -> 3.1861978e+09 | F29: =+E29*100/B29 -> 94.731583 | I29: =+C29+D29+E29 -> 3.2053173e+09 | J29: =+I29*100/B29 -> 95.30004 | M29: =+B29-I29 -> 1.5807824e+08 | T29: 63748.32 | U29: 19055725 | V29: 3.1650481e+09 | W29: 94.625612 | X29: 3.1841675e+09 | Y29: 95.197228 | Z29: 1.6064364e+08
A30: เงินกู้ | B30: =+SUM(B31:B34) -> 2.807294e+09 | D30: =+SUM(D31:D34) -> 19055725 | E30: =+SUM(E31:E34) -> 2.6351595e+09 | F30: =+E30*100/B30 -> 93.868314 | I30: =+SUM(I31:I34) -> 2.6542152e+09 | J30: =+I30*100/B30 -> 94.547107 | M30: =+SUM(M31:M34) -> 1.5307873e+08 | Q30: 15 เงินกู้ใช้ทำรายงาน 190766 | T30: 19055725 | U30: 2.6325941e+09 | V30: 93.776931 | W30: 2.6516498e+09 | X30: 94.455724 | Y30: 1.5564412e+08
A31: ปี 2563 | B31: 24020888 | D31: 0 | E31: 24020888 | F31: =+E31*100/B31 -> 100 | I31: 24020888 | J31: =+I31*100/B31 -> 100 | M31: =+B31-I31 -> 0
A32: ปี 2564 | B32: 1.7723931e+09 | C32: 0 | D32: 1059233.4 | E32: 1.7194309e+09 | F32: =+E32*100/B32 -> 97.011829 | I32: 1.7204902e+09 | J32: =+I32*100/B32 -> 97.071592 | M32: =+B32-I32 -> 51902895
A33: ปี 2565 | B33: 8.4311721e+08 | C33: 0 | D33: 17996491 | E33: 7.288522e+08 | F33: =+E33*100/B33 -> 86.447316 | I33: 7.468487e+08 | J33: =+I33*100/B33 -> 88.581835 | M33: =+B33-I33 -> 96268518
A34: ปี 2566 | B34: 167762814 | C34: 0 | D34: 0 | E34: 1.628555e+08 | F34: =+E34*100/B34 -> 97.074851 | I34: 1.628555e+08 | J34: =+I34*100/B34 -> 97.074851 | M34: =+B34-I34 -> 4907312.3
A35: งบกลาง | B35: =B36+B37+B38 -> 5.5610153e+08 | C35: =+C36+C37+C38 -> 63748.32 | D35: =D36+D37+D38 -> 0 | E35: =+E36+E37+E38 -> 5.5103827e+08 | F35: =+E35*100/B35 -> 99.089507 | I35: =+I36+I37+I38 -> 5.5110202e+08 | J35: =+I35*100/B35 -> 99.10097 | M35: =+M36+M37+M38 -> 4999517.9 | Q35: check จาก 11
