Workbook

Sheet Master Data
A1: No | B1: CodeLGO_MOI | C1: LGONameThai | D1: LGOTypeID | E1: LGOTypeName | F1: DistrictMOI_ID | G1: DistrictNameThai | H1: ProvinceMOI_ID | I1: ProvinceNameThai | J1: LGONameFull | K1: OrgWebsiteStandardised | L1: OrgTopExecutive_Politician | M1: OrgTopExecutive_Bureaucrat | N1: AddressOnly | O1: AddressandOrgNameFull | P1: CodeLGO_BudgetBureau2564
A2: 0001 | B2: 02240101 | C2: องค์การบริหารส่วนจังหวัดฉะเชิงเทรา | D2: 02 | E2: =INDEX(Sheet3!B:B,MATCH(D2,Sheet3!A:A,0)) -> องค์การบริหารส่วนจังหวัด | F2: 2401 | G2: =INDEX(Sheet2!B:B,MATCH(F2,Sheet2!A:A,1)) -> อำเภอเมืองฉะเชิงเทรา | H2: 24 | I2: =INDEX(Sheet2!D:D,MATCH(H2,Sheet2!C:C,0)) -> จังหวัดฉะเชิงเทรา | J2: องค์การบริหารส่วนจังหวัดฉะเชิงเทรา | K2: www.cpao.go.th | L2: นายกองค์การบริหารส่วนจังหวัดฉะเชิงเทรา | M2: ปลัดองค์การบริหารส่วนจังหวัดฉะเชิงเทรา | N2: เลขที่ 51/4 หมู่ที่ 1 ต.บางแก้ว อ.เมืองฉะเชิงเทรา จ.ฉะเชิงเทรา 24000 | O2: องค์การบริหารส่วนจังหวัดฉะเชิงเทรา เลขที่ 51/4 หมู่ที่ 1 ต.บางแก้ว อ.เมืองฉะเชิงเทรา จ.ฉะเชิงเทรา 24000 | P2: 751MR
A3: 0002 | B3: 04240102 | C3: เทศบาลเมืองฉะเชิงเทรา | D3: 04 | E3: =INDEX(Sheet3!B:B,MATCH(D3,Sheet3!A:A,0)) -> เทศบาลเมือง | F3: 2401 | G3: =INDEX(Sheet2!B:B,MATCH(F3,Sheet2!A:A,1)) -> อำเภอเมืองฉะเชิงเทรา | H3: 24 | I3: =INDEX(Sheet2!D:D,MATCH(H3,Sheet2!C:C,0)) -> จังหวัดฉะเชิงเทรา | J3: =_xlfn.CONCAT(C3," ",G3," ",I3) -> เทศบาลเมืองฉะเชิงเทรา อำเภอเมืองฉะเชิงเทรา จังหวัดฉะเชิงเทรา | K3: www.tbmccs.go.th | L3: นายกเทศมนตรีเมืองฉะเชิงเทรา | M3: =_xlfn.CONCAT("ปลัด",J3) -> ปลัดเทศบาลเมืองฉะเชิงเทรา อำเภอเมืองฉะเชิงเทรา จังหวัดฉะเชิงเทรา | N3: 1 ถนนจุลละนันทน์ อำเภอเมือง จังหวัดฉะเชิงเทรา 24000 | O3: เทศบาลเมืองฉะเชิงเทรา อำเภอเมืองฉะเชิงเทรา จังหวัดฉะเชิงเทรา 1 ถนนจุลละนันทน์ อำเภอเมือง จังหวัดฉะเชิงเทรา 24000 | P3: 751MJ
A4: 0003 | B4: 05240601 | C4: เทศบาลตำบลเกาะขนุน | D4: 05 | E4: =INDEX(Sheet3!B:B,MATCH(D4,Sheet3!A:A,0)) -> เทศบาลตำบล | F4: 2406 | G4: =INDEX(Sheet2!B:B,MATCH(F4,Sheet2!A:A,1)) -> อำเภอพนมสารคาม | H4: 24 | I4: =INDEX(Sheet2!D:D,MATCH(H4,Sheet2!C:C,0)) -> จังหวัดฉะเชิงเทรา | J4: =_xlfn.CONCAT(C4," ",G4," ",I4) -> เทศบาลตำบลเกาะขนุน อำเภอพนมสารคาม จังหวัดฉะเชิงเทรา | K4: www.kohkhanooncity.go.th | L4: นายกเทศมนตรีตำบลเกาะขนุน | M4: =_xlfn.CONCAT("ปลัด",J4) -> ปลัดเทศบาลตำบลเกาะขนุน อำเภอพนมสารคาม จังหวัดฉะเชิงเทรา | N4: 999 ม.2 ถ.พนมสารคาม-สนามชัยเขต ต.เกาะขนุน อ.พนมสารคาม จ.ฉะเชิงเทรา 24120 | O4: =_xlfn.CONCAT(J4," ",N4) -> เทศบาลตำบลเกาะขนุน อำเภอพนมสารคาม จังหวัดฉะเชิงเทรา 999 ม.2 ถ.พนมสารคาม-สนามชัยเขต ต.เกาะขนุน อ.พนมสารคาม จ.ฉะเชิงเทรา 24120 | P4: N/A
A5: 0004 | B5: 05240602 | C5: เทศบาลตำบลเขาหินซ้อน | D5: 05 | E5: =INDEX(Sheet3!B:B,MATCH(D5,Sheet3!A:A,0)) -> เทศบาลตำบล | F5: 2406 | G5: =INDEX(Sheet2!B:B,MATCH(F5,Sheet2!A:A,1)) -> อำเภอพนมสารคาม | H5: 24 | I5: =INDEX(Sheet2!D:D,MATCH(H5,Sheet2!C:C,0)) -> จังหวัดฉะเชิงเทรา | J5: =_xlfn.CONCAT(C5," ",G5," ",I5) -> เทศบาลตำบลเขาหินซ้อน อำเภอพนมสารคาม จังหวัดฉะเชิงเทรา | K5: www.khaohinsorn.go.th | L5: นายกเทศมนตรีตำบลเขาหินซ้อน | M5: =_xlfn.CONCAT("ปลัด",J5) -> ปลัดเทศบาลตำบลเขาหินซ้อน อำเภอพนมสารคาม จังหวัดฉะเชิงเทรา | N5: เลขที่ 40 หมู่ 2 ตำบลเขาหินซ้อน อำเภอพนมสารคาม จังหวัดฉะเชิงเทรา 24120 | O5: =_xlfn.CONCAT(J5," ",N5) -> เทศบาลตำบลเขาหินซ้อน อำเภอพนมสารคาม จังหวัดฉะเชิงเทรา เลขที่ 40 หมู่ 2 ตำบลเขาหินซ้อน อำเภอพนมสารคาม จังหวัดฉะเชิงเทรา 24120 | P5: N/A
A6: 0005 | B6: 05240310 | C6: เทศบาลตำบลคลองแสนแสบ | D6: 05 | E6: =INDEX(Sheet3!B:B,MATCH(D6,Sheet3!A:A,0)) -> เทศบาลตำบล | F6: 2403 | G6: =INDEX(Sheet2!B:B,MATCH(F6,Sheet2!A:A,1)) -> อำเภอบางน้ำเปรี้ยว | H6: 24 | I6: =INDEX(Sheet2!D:D,MATCH(H6,Sheet2!C:C,0)) -> จังหวัดฉะเชิงเทรา | J6: =_xlfn.CONCAT(C6," ",G6," ",I6) -> เทศบาลตำบลคลองแสนแสบ อำเภอบางน้ำเปรี้ยว จังหวัดฉะเชิงเทรา | K6: www.klongsaensaeb.go.th | L6: นายกเทศมนตรีตำบลคลองแสนแสบ | M6: =_xlfn.CONCAT("ปลัด",J6) -> ปลัดเทศบาลตำบลคลองแสนแสบ อำเภอบางน้ำเปรี้ยว จังหวัดฉะเชิงเทรา | N6: เลขที่ 95 หมู่ที่ 3 ตำบลบางขนาก อำเภอบางน้ำเปรี้ยว จังหวัดฉะเชิงเทรา 24150 | O6: =_xlfn.CONCAT(J6," ",N6) -> เทศบาลตำบลคลองแสนแสบ อำเภอบางน้ำเปรี้ยว จังหวัดฉะเชิงเทรา เลขที่ 95 หมู่ที่ 3 ตำบลบางขนาก อำเภอบางน้ำเปรี้ยว จังหวัดฉะเชิงเทรา 24150 | P6: N/A
A7: 0006 | B7: 05240305 | C7: เทศบาลตำบลดอนเกาะกา | D7: 05 | E7: =INDEX(Sheet3!B:B,MATCH(D7,Sheet3!A:A,0)) -> เทศบาลตำบล | F7: 2403 | G7: =INDEX(Sheet2!B:B,MATCH(F7,Sheet2!A:A,1)) -> อำเภอบางน้ำเปรี้ยว | H7: 24 | I7: =INDEX(Sheet2!D:D,MATCH(H7,Sheet2!C:C,0)) -> จังหวัดฉะเชิงเทรา | J7: =_xlfn.CONCAT(C7," ",G7," ",I7) -> เทศบาลตำบลดอนเกาะกา อำเภอบางน้ำเปรี้ยว จังหวัดฉะเชิงเทรา | K7: donkoaka.go.th | L7: นายกเทศมนตรีตำบลดอนเกาะกา | M7: =_xlfn.CONCAT("ปลัด",J7) -> ปลัดเทศบาลตำบลดอนเกาะกา อำเภอบางน้ำเปรี้ยว จังหวัดฉะเชิงเทรา | N7: เลขที่ 1/12 หมู่ที่ 2 ตำบลดอนเกาะกา อำเภอบางน้ำเปรี้ยว จังหวัดฉะเชิงเทรา 24170 | O7: =_xlfn.CONCAT(J7," ",N7) -> เทศบาลตำบลดอนเกาะกา อำเภอบางน้ำเปรี้ยว จังหวัดฉะเชิงเทรา เลขที่ 1/12 หมู่ที่ 2 ตำบลดอนเกาะกา อำเภอบางน้ำเปรี้ยว จังหวัดฉะเชิงเทรา 24170 | P7: N/A
A8: 0007 | B8: 05240301 | C8: เทศบาลตำบลดอนฉิมพลี | D8: 05 | E8: =INDEX(Sheet3!B:B,MATCH(D8,Sheet3!A:A,0)) -> เทศบาลตำบล | F8: 2403 | G8: =INDEX(Sheet2!B:B,MATCH(F8,Sheet2!A:A,1)) -> อำเภอบางน้ำเปรี้ยว | H8: 24 | I8: =INDEX(Sheet2!D:D,MATCH(H8,Sheet2!C:C,0)) -> จังหวัดฉะเชิงเทรา | J8: =_xlfn.CONCAT(C8," ",G8," ",I8) -> เทศบาลตำบลดอนฉิมพลี อำเภอบางน้ำเปรี้ยว จังหวัดฉะเชิงเทรา | K8: www.dcp.go.th | L8: นายกเทศมนตรีตำบลดอนฉิมพลี | M8: =_xlfn.CONCAT("ปลัด",J8) -> ปลัดเทศบาลตำบลดอนฉิมพลี อำเภอบางน้ำเปรี้ยว จังหวัดฉะเชิงเทรา | N8: เลขที่ 12/9 หมู่ที่ 18 ถ.เทศบาล 3 ตำบลดอนฉิมพลี อำเภอบางน้ำเปรี้ยว จังหวัดฉะเชิงเทรา รหัสไปรษณีย์ 24170 | O8: =_xlfn.CONCAT(J8," ",N8) -> เทศบาลตำบลดอนฉิมพลี อำเภอบางน้ำเปรี้ยว จังหวัดฉะเชิงเทรา เลขที่ 12/9 หมู่ที่ 18 ถ.เทศบาล 3 ตำบลดอนฉิมพลี อำเภอบางน้ำเปรี้ยว จังหวัดฉะเชิงเทรา รหัสไปรษณีย์ 24170 | P8: N/A
A9: 0008 | B9: 05240403 | C9: เทศบาลตำบลท่าข้าม | D9: 05 | E9: =INDEX(Sheet3!B:B,MATCH(D9,Sheet3!A:A,0)) -> เทศบาลตำบล | F9: 2404 | G9: =INDEX(Sheet2!B:B,MATCH(F9,Sheet2!A:A,1)) -> อำเภอบางปะกง | H9: 24 | I9: =INDEX(Sheet2!D:D,MATCH(H9,Sheet2!C:C,0)) -> จังหวัดฉะเชิงเทรา | J9: =_xlfn.CONCAT(C9," ",G9," ",I9) -> เทศบาลตำบลท่าข้าม อำเภอบางปะกง จังหวัดฉะเชิงเทรา | K9: www.thakam.go.th | L9: นายกเทศมนตรีตำบลท่าข้าม | M9: =_xlfn.CONCAT("ปลัด",J9) -> ปลัดเทศบาลตำบลท่าข้าม อำเภอบางปะกง จังหวัดฉะเชิงเทรา | N9: 122 หมู่ที่ 3 ตำบลท่าข้าม อำเภอบางปะกอง จังหวัดฉะเชิงเทรา 24130 | O9: =_xlfn.CONCAT(J9," ",N9) -> เทศบาลตำบลท่าข้าม อำเภอบางปะกง จังหวัดฉะเชิงเทรา 122 หมู่ที่ 3 ตำบลท่าข้าม อำเภอบางปะกอง จังหวัดฉะเชิงเทรา 24130 | P9: N/A
A10: 0009 | B10: 05240608 | C10: เทศบาลตำบลท่าถ่าน | D10: 05 | E10: =INDEX(Sheet3!B:B,MATCH(D10,Sheet3!A:A,0)) -> เทศบาลตำบล | F10: 2406 | G10: =INDEX(Sheet2!B:B,MATCH(F10,Sheet2!A:A,1)) -> อำเภอพนมสารคาม | H10: 24 | I10: =INDEX(Sheet2!D:D,MATCH(H10,Sheet2!C:C,0)) -> จังหวัดฉะเชิงเทรา | J10: =_xlfn.CONCAT(C10," ",G10," ",I10) -> เทศบาลตำบลท่าถ่าน อำเภอพนมสารคาม จังหวัดฉะเชิงเทรา | K10: www.tatancity.go.th | L10: นายกเทศมนตรีตำบลท่าถ่าน | M10: =_xlfn.CONCAT("ปลัด",J10) -> ปลัดเทศบาลตำบลท่าถ่าน อำเภอพนมสารคาม จังหวัดฉะเชิงเทรา | N10: 12/1 หมู่ 1 ตำบลท่าถ่าน อำเภอพนมสารคาม จังหวัดฉะเชิงเทรา 24120 | O10: =_xlfn.CONCAT(J10," ",N10) -> เทศบาลตำบลท่าถ่าน อำเภอพนมสารคาม จังหวัดฉะเชิงเทรา 12/1 หมู่ 1 ตำบลท่าถ่าน อำเภอพนมสารคาม จังหวัดฉะเชิงเทรา 24120 | P10: N/A
A11: 0010 | B11: 05240404 | C11: เทศบาลตำบลท่าสะอ้าน | D11: 05 | E11: =INDEX(Sheet3!B:B,MATCH(D11,Sheet3!A:A,0)) -> เทศบาลตำบล | F11: 2404 | G11: =INDEX(Sheet2!B:B,MATCH(F11,Sheet2!A:A,1)) -> อำเภอบางปะกง | H11: 24 | I11: =INDEX(Sheet2!D:D,MATCH(H11,Sheet2!C:C,0)) -> จังหวัดฉะเชิงเทรา | J11: =_xlfn.CONCAT(C11," ",G11," ",I11) -> เทศบาลตำบลท่าสะอ้าน อำเภอบางปะกง จังหวัดฉะเชิงเทรา | K11: www.thasaarn.go.th | L11: นายกเทศมนตรีตำบลท่าสะอ้าน | M11: =_xlfn.CONCAT("ปลัด",J11) -> ปลัดเทศบาลตำบลท่าสะอ้าน อำเภอบางปะกง จังหวัดฉะเชิงเทรา | N11: เลขที่ 94 หมู่ที่ 6 ตำบลท่าสะอ้าน อำเภอบางปะกง จังหวัดฉะเชิงเทรา รหัสไปรษณีย์ 24130 | O11: =_xlfn.CONCAT(J11," ",N11) -> เทศบาลตำบลท่าสะอ้าน อำเภอบางปะกง จังหวัดฉะเชิงเทรา เลขที่ 94 หมู่ที่ 6 ตำบลท่าสะอ้าน อำเภอบางปะกง จังหวัดฉะเชิงเทรา รหัสไปรษณีย์ 24130 | P11: N/A
A12: 0011 | B12: 05240901 | C12: เทศบาลตำบลทุ่งสะเดา | D12: 05 | E12: =INDEX(Sheet3!B:B,MATCH(D12,Sheet3!A:A,0)) -> เทศบาลตำบล | F12: 2409 | G12: =INDEX(Sheet2!B:B,MATCH(F12,Sheet2!A:A,1)) -> อำเภอแปลงยาว | H12: 24 | I12: =INDEX(Sheet2!D:D,MATCH(H12,Sheet2!C:C,0)) -> จังหวัดฉะเชิงเทรา | J12: =_xlfn.CONCAT(C12," ",G12," ",I12) -> เทศบาลตำบลทุ่งสะเดา อำเภอแปลงยาว จังหวัดฉะเชิงเทรา | K12: tungsadao.go.th | L12: นายกเทศมนตรีตำบลทุ่งสะเดา | M12: =_xlfn.CONCAT("ปลัด",J12) -> ปลัดเทศบาลตำบลทุ่งสะเดา อำเภอแปลงยาว จังหวัดฉะเชิงเทรา | N12: เลขที่ 99 หมู่ที่ 4 ถนน 331 (ฉะเชิงเทรา - สัตหีบ) ตำบลวังเย็น อำเภอแปลงยาว จังหวัดฉะเชิงเทรา 24190 | O12: =_xlfn.CONCAT(J12," ",N12) -> เทศบาลตำบลทุ่งสะเดา อำเภอแปลงยาว จังหวัดฉะเชิงเทรา เลขที่ 99 หมู่ที่ 4 ถนน 331 (ฉะเชิงเทรา - สัตหีบ) ตำบลวังเย็น อำเภอแปลงยาว จังหวัดฉะเชิงเทรา 24190 | P12: N/A
A13: 0012 | B13: 05240502 | C13: เทศบาลตำบลเทพราช | D13: 05 | E13: =INDEX(Sheet3!B:B,MATCH(D13,Sheet3!A:A,0)) -> เทศบาลตำบล | F13: 2405 | G13: =INDEX(Sheet2!B:B,MATCH(F13,Sheet2!A:A,1)) -> อำเภอบ้านโพธิ์ | H13: 24 | I13: =INDEX(Sheet2!D:D,MATCH(H13,Sheet2!C:C,0)) -> จังหวัดฉะเชิงเทรา | J13: =_xlfn.CONCAT(C13," ",G13," ",I13) -> เทศบาลตำบลเทพราช อำเภอบ้านโพธิ์ จังหวัดฉะเชิงเทรา | K13: www.tepparad.go.th | L13: นายกเทศมนตรีตำบลเทพราช | M13: =_xlfn.CONCAT("ปลัด",J13) -> ปลัดเทศบาลตำบลเทพราช อำเภอบ้านโพธิ์ จังหวัดฉะเชิงเทรา | N13: เลขที่ 111/1 หมู่ที่ 6 ถนนเทพราช-อ่อนนุช ตำบลเทพราช อำเภอบ้านโพธิ์ จังหวัดฉะเชิงเทรา 24140 | O13: =_xlfn.CONCAT(J13," ",N13) -> เทศบาลตำบลเทพราช อำเภอบ้านโพธิ์ จังหวัดฉะเชิงเทรา เลขที่ 111/1 หมู่ที่ 6 ถนนเทพราช-อ่อนนุช ตำบลเทพราช อำเภอบ้านโพธิ์ จังหวัดฉะเชิงเทรา 24140 | P13: N/A
A14: 0013 | B14: 05240103 | C14: เทศบาลตำบลนครเนื่องเขต | D14: 05 | E14: =INDEX(Sheet3!B:B,MATCH(D14,Sheet3!A:A,0)) -> เทศบาลตำบล | F14: 2401 | G14: =INDEX(Sheet2!B:B,MATCH(F14,Sheet2!A:A,1)) -> อำเภอเมืองฉะเชิงเทรา | H14: 24 | I14: =INDEX(Sheet2!D:D,MATCH(H14,Sheet2!C:C,0)) -> จังหวัดฉะเชิงเทรา | J14: =_xlfn.CONCAT(C14," ",G14," ",I14) -> เทศบาลตำบลนครเนื่องเขต อำเภอเมืองฉะเชิงเทรา จังหวัดฉะเชิงเทรา | K14: nakhonnueangkhet.go.th | L14: นายกเทศมนตรีตำบลนครเนื่องเขต | M14: =_xlfn.CONCAT("ปลัด",J14) -> ปลัดเทศบาลตำบลนครเนื่องเขต อำเภอเมืองฉะเชิงเทรา จังหวัดฉะเชิงเทรา | N14: 5/1 ม. 9 ต.คลองนครเนื่องเขต อ.เมืองฉะเชิงเทรา จ.ฉะเชิงเทรา 24000 | O14: =_xlfn.CONCAT(J14," ",N14) -> เทศบาลตำบลนครเนื่องเขต อำเภอเมืองฉะเชิงเทรา จังหวัดฉะเชิงเทรา 5/1 ม. 9 ต.คลองนครเนื่องเขต อ.เมืองฉะเชิงเทรา จ.ฉะเชิงเทรา 24000 | P14: N/A
A15: 0014 | B15: 05240302 | C15: เทศบาลตำบลบางขนาก | D15: 05 | E15: =INDEX(Sheet3!B:B,MATCH(D15,Sheet3!A:A,0)) -> เทศบาลตำบล | F15: 2403 | G15: =INDEX(Sheet2!B:B,MATCH(F15,Sheet2!A:A,1)) -> อำเภอบางน้ำเปรี้ยว | H15: 24 | I15: =INDEX(Sheet2!D:D,MATCH(H15,Sheet2!C:C,0)) -> จังหวัดฉะเชิงเทรา | J15: =_xlfn.CONCAT(C15," ",G15," ",I15) -> เทศบาลตำบลบางขนาก อำเภอบางน้ำเปรี้ยว จังหวัดฉะเชิงเทรา | K15: www.bangkhanag.go.th | L15: นายกเทศมนตรีตำบลบางขนาก | M15: =_xlfn.CONCAT("ปลัด",J15) -> ปลัดเทศบาลตำบลบางขนาก อำเภอบางน้ำเปรี้ยว จังหวัดฉะเชิงเทรา | N15: เลขที่ 156 หมู่ที่ 1 ตำบลบางขนาก อำเภอบางน้ำเปรี้ยว จังหวัดฉะเชิงเทรา 24150 | O15: =_xlfn.CONCAT(J15," ",N15) -> เทศบาลตำบลบางขนาก อำเภอบางน้ำเปรี้ยว จังหวัดฉะเชิงเทรา เลขที่ 156 หมู่ที่ 1 ตำบลบางขนาก อำเภอบางน้ำเปรี้ยว จังหวัดฉะเชิงเทรา 24150 | P15: N/A
... A33: 0032 | B33: 05240801 | C33: เทศบาลตำบลสนามชัยเขต | D33: 05 | E33: =INDEX(Sheet3!B:B,MATCH(D33,Sheet3!A:A,0)) -> เทศบาลตำบล | F33: 2408 | G33: =INDEX(Sheet2!B:B,MATCH(F33,Sheet2!A:A,1)) -> อำเภอสนามชัยเขต | H33: 24 | I33: =INDEX(Sheet2!D:D,MATCH(H33,Sheet2!C:C,0)) -> จังหวัดฉะเชิงเทรา | J33: =_xlfn.CONCAT(C33," ",G33," ",I33) -> เทศบาลตำบลสนามชัยเขต อำเภอสนามชัยเขต จังหวัดฉะเชิงเทรา | K33: www.govesite.com | L33: นายกเทศมนตรีตำบลสนามชัยเขต | M33: =_xlfn.CONCAT("ปลัด",J33) -> ปลัดเทศบาลตำบลสนามชัยเขต อำเภอสนามชัยเขต จังหวัดฉะเชิงเทรา | N33: 111 หมู่ที่ 1 ตำบลคู้ยายหมี อำเภอสนามชัยเขต จังหวัดฉะเชิงเทรา 24160 | O33: =_xlfn.CONCAT(J33," ",N33) -> เทศบาลตำบลสนามชัยเขต อำเภอสนามชัยเขต จังหวัดฉะเชิงเทรา 111 หมู่ที่ 1 ตำบลคู้ยายหมี อำเภอสนามชัยเขต จังหวัดฉะเชิงเทรา 24160 | P33: N/A
A34: 0033 | B34: 05240501 | C34: เทศบาลตำบลแสนภูดาษ | D34: 05 | E34: =INDEX(Sheet3!B:B,MATCH(D34,Sheet3!A:A,0)) -> เทศบาลตำบล | F34: 2405 | G34: =INDEX(Sheet2!B:B,MATCH(F34,Sheet2!A:A,1)) -> อำเภอบ้านโพธิ์ | H34: 24 | I34: =INDEX(Sheet2!D:D,MATCH(H34,Sheet2!C:C,0)) -> จังหวัดฉะเชิงเทรา | J34: =_xlfn.CONCAT(C34," ",G34," ",I34) -> เทศบาลตำบลแสนภูดาษ อำเภอบ้านโพธิ์ จังหวัดฉะเชิงเทรา | K34: www.sanphudad.go.th | L34: นายกเทศมนตรีตำบลแสนภูดาษ | M34: =_xlfn.CONCAT("ปลัด",J34) -> ปลัดเทศบาลตำบลแสนภูดาษ อำเภอบ้านโพธิ์ จังหวัดฉะเชิงเทรา | N34: เทศบาลตำบลแสนภูดาษ อำเภอบ้านโพธิ์ จังหวัดฉะเชิงเทรา 24140 | O34: เทศบาลตำบลแสนภูดาษ อำเภอบ้านโพธิ์ จังหวัดฉะเชิงเทรา 24140 | P34: N/A
A35: 0034 | B35: 05240407 | C35: เทศบาลตำบลหอมศีล | D35: 05 | E35: =INDEX(Sheet3!B:B,MATCH(D35,Sheet3!A:A,0)) -> เทศบาลตำบล | F35: 2404 | G35: =INDEX(Sheet2!B:B,MATCH(F35,Sheet2!A:A,1)) -> อำเภอบางปะกง | H35: 24 | I35: =INDEX(Sheet2!D:D,MATCH(H35,Sheet2!C:C,0)) -> จังหวัดฉะเชิงเทรา | J35: =_xlfn.CONCAT(C35," ",G35," ",I35) -> เทศบาลตำบลหอมศีล อำเภอบางปะกง จังหวัดฉะเชิงเทรา | K35: homsin-mu.go.th | L35: นายกเทศมนตรีตำบลหอมศีล | M35: =_xlfn.CONCAT("ปลัด",J35) -> ปลัดเทศบาลตำบลหอมศีล อำเภอบางปะกง จังหวัดฉะเชิงเทรา | N35: เลขที่ 11 หมู่ 1 ตำบลหอมศีล อำเภอบางปะกง จังหวัดฉะเชิงเทรา 24180 | O35: =_xlfn.CONCAT(J35," ",N35) -> เทศบาลตำบลหอมศีล อำเภอบางปะกง จังหวัดฉะเชิงเทรา เลขที่ 11 หมู่ 1 ตำบลหอมศีล อำเภอบางปะกง จังหวัดฉะเชิงเทรา 24180 | P35: N/A
A36: 0035 | B36: 05240903 | C36: เทศบาลตำบลหัวสำโรง | D36: 05 | E36: =INDEX(Sheet3!B:B,MATCH(D36,Sheet3!A:A,0)) -> เทศบาลตำบล | F36: 2409 | G36: =INDEX(Sheet2!B:B,MATCH(F36,Sheet2!A:A,1)) -> อำเภอแปลงยาว | H36: 24 | I36: =INDEX(Sheet2!D:D,MATCH(H36,Sheet2!C:C,0)) -> จังหวัดฉะเชิงเทรา | J36: =_xlfn.CONCAT(C36," ",G36," ",I36) -> เทศบาลตำบลหัวสำโรง อำเภอแปลงยาว จังหวัดฉะเชิงเทรา | K36: www.hsr.go.th | L36: นายกเทศมนตรีตำบลหัวสำโรง | M36: =_xlfn.CONCAT("ปลัด",J36) -> ปลัดเทศบาลตำบลหัวสำโรง อำเภอแปลงยาว จังหวัดฉะเชิงเทรา | N36: 199 หมู่ 1 ตำบลหัวสำโรง อำเภอแปลงยาว จังหวัดฉะเชิงเทรา 24190 | O36: =_xlfn.CONCAT(J36," ",N36) -> เทศบาลตำบลหัวสำโรง อำเภอแปลงยาว จังหวัดฉะเชิงเทรา 199 หมู่ 1 ตำบลหัวสำโรง อำเภอแปลงยาว จังหวัดฉะเชิงเทรา 24190 | P36: N/A
A37: 0036 | B37: 06241101 | C37: องค์การบริหารส่วนตำบลก้อนแก้ว | D37: 06 | E37: =INDEX(Sheet3!B:B,MATCH(D37,Sheet3!A:A,0)) -> องค์การบริหารส่วนตำบล | F37: 2411 | G37: =INDEX(Sheet2!B:B,MATCH(F37,Sheet2!A:A,1)) -> อำเภอคลองเขื่อน | H37: 24 | I37: =INDEX(Sheet2!D:D,MATCH(H37,Sheet2!C:C,0)) -> จังหวัดฉะเชิงเทรา | J37: =_xlfn.CONCAT(C37," ",G37," ",I37) -> องค์การบริหารส่วนตำบลก้อนแก้ว อำเภอคลองเขื่อน จังหวัดฉะเชิงเทรา | K37: konkaew.go.th | L37: นายกองค์การบริหารส่วนตำบลก้อนแก้ว | M37: =_xlfn.CONCAT("ปลัด",J37) -> ปลัดองค์การบริหารส่วนตำบลก้อนแก้ว อำเภอคลองเขื่อน จังหวัดฉะเชิงเทรา | N37: 5 หมู่ 5 ตำบลก้อนแก้ว อำเภอคลองเขื่อน จังหวัดฉะเชิงเทรา 24000 | O37: =_xlfn.CONCAT(J37," ",N37) -> องค์การบริหารส่วนตำบลก้อนแก้ว อำเภอคลองเขื่อน จังหวัดฉะเชิงเทรา 5 หมู่ 5 ตำบลก้อนแก้ว อำเภอคลองเขื่อน จังหวัดฉะเชิงเทรา 24000 | P37: N/A
A38: 0037 | B38: 06240606 | C38: องค์การบริหารส่วนตำบลเกาะขนุน | D38: 06 | E38: =INDEX(Sheet3!B:B,MATCH(D38,Sheet3!A:A,0)) -> องค์การบริหารส่วนตำบล | F38: 2406 | G38: =INDEX(Sheet2!B:B,MATCH(F38,Sheet2!A:A,1)) -> อำเภอพนมสารคาม | H38: 24 | I38: =INDEX(Sheet2!D:D,MATCH(H38,Sheet2!C:C,0)) -> จังหวัดฉะเชิงเทรา | J38: =_xlfn.CONCAT(C38," ",G38," ",I38) -> องค์การบริหารส่วนตำบลเกาะขนุน อำเภอพนมสารคาม จังหวัดฉะเชิงเทรา | K38: www.khoakanun.go.th | L38: นายกองค์การบริหารส่วนตำบลเกาะขนุน | M38: =_xlfn.CONCAT("ปลัด",J38) -> ปลัดองค์การบริหารส่วนตำบลเกาะขนุน อำเภอพนมสารคาม จังหวัดฉะเชิงเทรา | N38: เลขที่ 402 หมู่ที่ 3 ถนนพนมสารคาม - สนามชัยเขต อำเภอพนมสารคาม จังหวัดฉะเชิงเทรา 24120 | O38: =_xlfn.CONCAT(J38," ",N38) -> องค์การบริหารส่วนตำบลเกาะขนุน อำเภอพนมสารคาม จังหวัดฉะเชิงเทรา เลขที่ 402 หมู่ที่ 3 ถนนพนมสารคาม - สนามชัยเขต อำเภอพนมสารคาม จังหวัดฉะเชิงเทรา 24120 | P38: N/A
A39: 0038 | B39: 06240508 | C39: องค์การบริหารส่วนตำบลเกาะไร่ | D39: 06 | E39: =INDEX(Sheet3!B:B,MATCH(D39,Sheet3!A:A,0)) -> องค์การบริหารส่วนตำบล | F39: 2405 | G39: =INDEX(Sheet2!B:B,MATCH(F39,Sheet2!A:A,1)) -> อำเภอบ้านโพธิ์ | H39: 24 | I39: =INDEX(Sheet2!D:D,MATCH(H39,Sheet2!C:C,0)) -> จังหวัดฉะเชิงเทรา | J39: =_xlfn.CONCAT(C39," ",G39," ",I39) -> องค์การบริหารส่วนตำบลเกาะไร่ อำเภอบ้านโพธิ์ จังหวัดฉะเชิงเทรา | K39: www.kaorai.go.th | L39: นายกองค์การบริหารส่วนตำบลเกาะไร่ | M39: =_xlfn.CONCAT("ปลัด",J39) -> ปลัดองค์การบริหารส่วนตำบลเกาะไร่ อำเภอบ้านโพธิ์ จังหวัดฉะเชิงเทรา | N39: 1/5 ตำบลเกาะไร่ อำเภอบ้านโพธิ์ จังหวัดฉะเชิงเทรา 24140 | O39: =_xlfn.CONCAT(J39," ",N39) -> องค์การบริหารส่วนตำบลเกาะไร่ อำเภอบ้านโพธิ์ จังหวัดฉะเชิงเทรา 1/5 ตำบลเกาะไร่ อำเภอบ้านโพธิ์ จังหวัดฉะเชิงเทรา 24140 | P39: N/A
A40: 0039 | B40: 06240412 | C40: องค์การบริหารส่วนตำบลเขาดิน | D40: 06 | E40: =INDEX(Sheet3!B:B,MATCH(D40,Sheet3!A:A,0)) -> องค์การบริหารส่วนตำบล | F40: 2404 | G40: =INDEX(Sheet2!B:B,MATCH(F40,Sheet2!A:A,1)) -> อำเภอบางปะกง | H40: 24 | I40: =INDEX(Sheet2!D:D,MATCH(H40,Sheet2!C:C,0)) -> จังหวัดฉะเชิงเทรา | J40: =_xlfn.CONCAT(C40," ",G40," ",I40) -> องค์การบริหารส่วนตำบลเขาดิน อำเภอบางปะกง จังหวัดฉะเชิงเทรา | K40: khaodinsao.go.th | L40: นายกองค์การบริหารส่วนตำบลเขาดิน | M40: =_xlfn.CONCAT("ปลัด",J40) -> ปลัดองค์การบริหารส่วนตำบลเขาดิน อำเภอบางปะกง จังหวัดฉะเชิงเทรา | N40: หมู่ที่ 7 ต.เขาดิน อ.บางปะกง จ.ฉะเชิงเทรา 24130 | O40: =_xlfn.CONCAT(J40," ",N40) -> องค์การบริหารส่วนตำบลเขาดิน อำเภอบางปะกง จังหวัดฉะเชิงเทรา หมู่ที่ 7 ต.เขาดิน อ.บางปะกง จ.ฉะเชิงเทรา 24130 | P40: N/A
A41: 0040 | B41: 06240607 | C41: องค์การบริหารส่วนตำบลเขาหินซ้อน | D41: 06 | E41: =INDEX(Sheet3!B:B,MATCH(D41,Sheet3!A:A,0)) -> องค์การบริหารส่วนตำบล | F41: 2406 | G41: =INDEX(Sheet2!B:B,MATCH(F41,Sheet2!A:A,1)) -> อำเภอพนมสารคาม | H41: 24 | I41: =INDEX(Sheet2!D:D,MATCH(H41,Sheet2!C:C,0)) -> จังหวัดฉะเชิงเทรา | J41: =_xlfn.CONCAT(C41," ",G41," ",I41) -> องค์การบริหารส่วนตำบลเขาหินซ้อน อำเภอพนมสารคาม จังหวัดฉะเชิงเทรา | K41: www.khaohinson.go.th | L41: นายกองค์การบริหารส่วนตำบลเขาหินซ้อน | M41: =_xlfn.CONCAT("ปลัด",J41) -> ปลัดองค์การบริหารส่วนตำบลเขาหินซ้อน อำเภอพนมสารคาม จังหวัดฉะเชิงเทรา | N41: 299 หมู่ที่ 1 ตำบลเขาหินซ้อน อำเภอพนมสารคาม จังหวัดฉะเชิงเทรา 24120 | O41: =_xlfn.CONCAT(J41," ",N41) -> องค์การบริหารส่วนตำบลเขาหินซ้อน อำเภอพนมสารคาม จังหวัดฉะเชิงเทรา 299 หมู่ที่ 1 ตำบลเขาหินซ้อน อำเภอพนมสารคาม จังหวัดฉะเชิงเทรา 24120 | P41: N/A
A42: 0041 | B42: 06240505 | C42: องค์การบริหารส่วนตำบลคลองขุด | D42: 06 | E42: =INDEX(Sheet3!B:B,MATCH(D42,Sheet3!A:A,0)) -> องค์การบริหารส่วนตำบล | F42: 2405 | G42: =INDEX(Sheet2!B:B,MATCH(F42,Sheet2!A:A,1)) -> อำเภอบ้านโพธิ์ | H42: 24 | I42: =INDEX(Sheet2!D:D,MATCH(H42,Sheet2!C:C,0)) -> จังหวัดฉะเชิงเทรา | J42: =_xlfn.CONCAT(C42," ",G42," ",I42) -> องค์การบริหารส่วนตำบลคลองขุด อำเภอบ้านโพธิ์ จังหวัดฉะเชิงเทรา | K42: klongkud.go.th | L42: นายกองค์การบริหารส่วนตำบลคลองขุด | M42: =_xlfn.CONCAT("ปลัด",J42) -> ปลัดองค์การบริหารส่วนตำบลคลองขุด อำเภอบ้านโพธิ์ จังหวัดฉะเชิงเทรา | N42: องค์การบริหารส่วนตำบลคลองขุด อำเภอบ้านโพธิ์ จังหวัดฉะเชิงเทรา 24140 | O42: องค์การบริหารส่วนตำบลคลองขุด อำเภอบ้านโพธิ์ จังหวัดฉะเชิงเทรา 24140 | P42: N/A
A43: 0042 | B43: 06241102 | C43: องค์การบริหารส่วนตำบลคลองเขื่อน | D43: 06 | E43: =INDEX(Sheet3!B:B,MATCH(D43,Sheet3!A:A,0)) -> องค์การบริหารส่วนตำบล | F43: 2411 | G43: =INDEX(Sheet2!B:B,MATCH(F43,Sheet2!A:A,1)) -> อำเภอคลองเขื่อน | H43: 24 | I43: =INDEX(Sheet2!D:D,MATCH(H43,Sheet2!C:C,0)) -> จังหวัดฉะเชิงเทรา | J43: =_xlfn.CONCAT(C43," ",G43," ",I43) -> องค์การบริหารส่วนตำบลคลองเขื่อน อำเภอคลองเขื่อน จังหวัดฉะเชิงเทรา | K43: www.khlongkhuean.go.th | L43: นายกองค์การบริหารส่วนตำบลคลองเขื่อน | M43: =_xlfn.CONCAT("ปลัด",J43) -> ปลัดองค์การบริหารส่วนตำบลคลองเขื่อน อำเภอคลองเขื่อน จังหวัดฉะเชิงเทรา | N43: องค์การบริหารส่วนตำบลคลองเขื่อน อำเภอคลองเขื่อน จังหวัดฉะเชิงเทรา 24000 | O43: องค์การบริหารส่วนตำบลคลองเขื่อน อำเภอคลองเขื่อน จังหวัดฉะเชิงเทรา 24000 | P43: N/A
A44: 0043 | B44: 06240105 | C44: องค์การบริหารส่วนตำบลคลองจุกกระเฌอ | D44: 06 | E44: =INDEX(Sheet3!B:B,MATCH(D44,Sheet3!A:A,0)) -> องค์การบริหารส่วนตำบล | F44: 2401 | G44: =INDEX(Sheet2!B:B,MATCH(F44,Sheet2!A:A,1)) -> อำเภอเมืองฉะเชิงเทรา | H44: 24 | I44: =INDEX(Sheet2!D:D,MATCH(H44,Sheet2!C:C,0)) -> จังหวัดฉะเชิงเทรา | J44: =_xlfn.CONCAT(C44," ",G44," ",I44) -> องค์การบริหารส่วนตำบลคลองจุกกระเฌอ อำเภอเมืองฉะเชิงเทรา จังหวัดฉะเชิงเทรา | K44: kkc.go.th | L44: นายกองค์การบริหารส่วนตำบลคลองจุกกระเฌอ | M44: =_xlfn.CONCAT("ปลัด",J44) -> ปลัดองค์การบริหารส่วนตำบลคลองจุกกระเฌอ อำเภอเมืองฉะเชิงเทรา จังหวัดฉะเชิงเทรา | N44: 7/4 หมู่ที่ 4 ตำบลคลองจุกกระเฌอ อำเภอเมืองฉะเชิงเทรา จังหวัดฉะเชิงเทรา 24000 | O44: =_xlfn.CONCAT(J44," ",N44) -> องค์การบริหารส่วนตำบลคลองจุกกระเฌอ อำเภอเมืองฉะเชิงเทรา จังหวัดฉะเชิงเทรา 7/4 หมู่ที่ 4 ตำบลคลองจุกกระเฌอ อำเภอเมืองฉะเชิงเทรา จังหวัดฉะเชิงเทรา 24000 | P44: N/A
A45: 0044 | B45: 06241002 | C45: องค์การบริหารส่วนตำบลคลองตะเกรา | D45: 06 | E45: =INDEX(Sheet3!B:B,MATCH(D45,Sheet3!A:A,0)) -> องค์การบริหารส่วนตำบล | F45: 2410 | G45: =INDEX(Sheet2!B:B,MATCH(F45,Sheet2!A:A,1)) -> อำเภอท่าตะเกียบ | H45: 24 | I45: =INDEX(Sheet2!D:D,MATCH(H45,Sheet2!C:C,0)) -> จังหวัดฉะเชิงเทรา | J45: =_xlfn.CONCAT(C45," ",G45," ",I45) -> องค์การบริหารส่วนตำบลคลองตะเกรา อำเภอท่าตะเกียบ จังหวัดฉะเชิงเทรา | K45: klongtakrao.go.th | L45: นายกองค์การบริหารส่วนตำบลคลองตะเกรา | M45: =_xlfn.CONCAT("ปลัด",J45) -> ปลัดองค์การบริหารส่วนตำบลคลองตะเกรา อำเภอท่าตะเกียบ จังหวัดฉะเชิงเทรา | N45: เลขที่ 100 หมู่ที่ 12 ตำบลคลองตะเกรา อำเภอท่าตะเกียบ จังหวัดฉะเชิงเทรา 24160 | O45: =_xlfn.CONCAT(J45," ",N45) -> องค์การบริหารส่วนตำบลคลองตะเกรา อำเภอท่าตะเกียบ จังหวัดฉะเชิงเทรา เลขที่ 100 หมู่ที่ 12 ตำบลคลองตะเกรา อำเภอท่าตะเกียบ จังหวัดฉะเชิงเทรา 24160 | P45: N/A
A46: 0045 | B46: 06240106 | C46: องค์การบริหารส่วนตำบลคลองนครเนื่องเขต | D46: 06 | E46: =INDEX(Sheet3!B:B,MATCH(D46,Sheet3!A:A,0)) -> องค์การบริหารส่วนตำบล | F46: 2401 | G46: =INDEX(Sheet2!B:B,MATCH(F46,Sheet2!A:A,1)) -> อำเภอเมืองฉะเชิงเทรา | H46: 24 | I46: =INDEX(Sheet2!D:D,MATCH(H46,Sheet2!C:C,0)) -> จังหวัดฉะเชิงเทรา | J46: =_xlfn.CONCAT(C46," ",G46," ",I46) -> องค์การบริหารส่วนตำบลคลองนครเนื่องเขต อำเภอเมืองฉะเชิงเทรา จังหวัดฉะเชิงเทรา | K46: www.knk.go.th | L46: นายกองค์การบริหารส่วนตำบลคลองนครเนื่องเขต | M46: =_xlfn.CONCAT("ปลัด",J46) -> ปลัดองค์การบริหารส่วนตำบลคลองนครเนื่องเขต อำเภอเมืองฉะเชิงเทรา จังหวัดฉะเชิงเทรา | N46: องค์การบริหารส่วนตำบลคลองนครเนื่องเขต อำเภอเมืองฉะเชิงเทรา จังหวัดฉะเชิงเทรา 24000 | O46: องค์การบริหารส่วนตำบลคลองนครเนื่องเขต อำเภอเมืองฉะเชิงเทรา จังหวัดฉะเชิงเทรา 24000 | P46: N/A
A47: 0046 | B47: 06240107 | C47: องค์การบริหารส่วนตำบลคลองนา | D47: 06 | E47: =INDEX(Sheet3!B:B,MATCH(D47,Sheet3!A:A,0)) -> องค์การบริหารส่วนตำบล | F47: 2401 | G47: =INDEX(Sheet2!B:B,MATCH(F47,Sheet2!A:A,1)) -> อำเภอเมืองฉะเชิงเทรา | H47: 24 | I47: =INDEX(Sheet2!D:D,MATCH(H47,Sheet2!C:C,0)) -> จังหวัดฉะเชิงเทรา | J47: =_xlfn.CONCAT(C47," ",G47," ",I47) -> องค์การบริหารส่วนตำบลคลองนา อำเภอเมืองฉะเชิงเทรา จังหวัดฉะเชิงเทรา | K47: www.klongna.go.th | L47: นายกองค์การบริหารส่วนตำบลคลองนา | M47: =_xlfn.CONCAT("ปลัด",J47) -> ปลัดองค์การบริหารส่วนตำบลคลองนา อำเภอเมืองฉะเชิงเทรา จังหวัดฉะเชิงเทรา | N47: 78/9 หมู่ 2 ตำบลคลองนา อำเภอเมืองฉะเชิงเทรา จังหวัดฉะเชิงเทรา 24000 | O47: =_xlfn.CONCAT(J47," ",N47) -> องค์การบริหารส่วนตำบลคลองนา อำเภอเมืองฉะเชิงเทรา จังหวัดฉะเชิงเทรา 78/9 หมู่ 2 ตำบลคลองนา อำเภอเมืองฉะเชิงเทรา จังหวัดฉะเชิงเทรา 24000 | P47: N/A
A48: 0047 | B48: 06240509 | C48: องค์การบริหารส่วนตำบลคลองบ้านโพธิ์ | D48: 06 | E48: =INDEX(Sheet3!B:B,MATCH(D48,Sheet3!A:A,0)) -> องค์การบริหารส่วนตำบล | F48: 2405 | G48: =INDEX(Sheet2!B:B,MATCH(F48,Sheet2!A:A,1)) -> อำเภอบ้านโพธิ์ | H48: 24 | I48: =INDEX(Sheet2!D:D,MATCH(H48,Sheet2!C:C,0)) -> จังหวัดฉะเชิงเทรา | J48: =_xlfn.CONCAT(C48," ",G48," ",I48) -> องค์การบริหารส่วนตำบลคลองบ้านโพธิ์ อำเภอบ้านโพธิ์ จังหวัดฉะเชิงเทรา | K48: www.kbp.go.th | L48: นายกองค์การบริหารส่วนตำบลคลองบ้านโพธิ์ | M48: =_xlfn.CONCAT("ปลัด",J48) -> ปลัดองค์การบริหารส่วนตำบลคลองบ้านโพธิ์ อำเภอบ้านโพธิ์ จังหวัดฉะเชิงเทรา | N48: 40/3 ม.3 ต.คลองบ้านโพธิ์ อ.บ้านโพธิ์ จ.ฉะเชิงเทรา 24140 | O48: =_xlfn.CONCAT(J48," ",N48) -> องค์การบริหารส่วนตำบลคลองบ้านโพธิ์ อำเภอบ้านโพธิ์ จังหวัดฉะเชิงเทรา 40/3 ม.3 ต.คลองบ้านโพธิ์ อ.บ้านโพธิ์ จ.ฉะเชิงเทรา 24140 | P48: N/A
A49: 0048 | B49: 06240510 | C49: องค์การบริหารส่วนตำบลคลองประเวศ | D49: 06 | E49: =INDEX(Sheet3!B:B,MATCH(D49,Sheet3!A:A,0)) -> องค์การบริหารส่วนตำบล | F49: 2405 | G49: =INDEX(Sheet2!B:B,MATCH(F49,Sheet2!A:A,1)) -> อำเภอบ้านโพธิ์ | H49: 24 | I49: =INDEX(Sheet2!D:D,MATCH(H49,Sheet2!C:C,0)) -> จังหวัดฉะเชิงเทรา | J49: =_xlfn.CONCAT(C49," ",G49," ",I49) -> องค์การบริหารส่วนตำบลคลองประเวศ อำเภอบ้านโพธิ์ จังหวัดฉะเชิงเทรา | K49: www.klongprawet.go.th | L49: นายกองค์การบริหารส่วนตำบลคลองประเวศ | M49: =_xlfn.CONCAT("ปลัด",J49) -> ปลัดองค์การบริหารส่วนตำบลคลองประเวศ อำเภอบ้านโพธิ์ จังหวัดฉะเชิงเทรา | N49: 999 หมู่ 3 ตำบลคลองประเวศ อำเภอบ้านโพธิ์ จังหวัดฉะเชิงเทรา 24140 | O49: =_xlfn.CONCAT(J49," ",N49) -> องค์การบริหารส่วนตำบลคลองประเวศ อำเภอบ้านโพธิ์ จังหวัดฉะเชิงเทรา 999 หมู่ 3 ตำบลคลองประเวศ อำเภอบ้านโพธิ์ จังหวัดฉะเชิงเทรา 24140 | P49: N/A
A50: 0049 | B50: 06240108 | C50: องค์การบริหารส่วนตำบลคลองเปรง | D50: 06 | E50: =INDEX(Sheet3!B:B,MATCH(D50,Sheet3!A:A,0)) -> องค์การบริหารส่วนตำบล | F50: 2401 | G50: =INDEX(Sheet2!B:B,MATCH(F50,Sheet2!A:A,1)) -> อำเภอเมืองฉะเชิงเทรา | H50: 24 | I50: =INDEX(Sheet2!D:D,MATCH(H50,Sheet2!C:C,0)) -> จังหวัดฉะเชิงเทรา | J50: =_xlfn.CONCAT(C50," ",G50," ",I50) -> องค์การบริหารส่วนตำบลคลองเปรง อำเภอเมืองฉะเชิงเทรา จังหวัดฉะเชิงเทรา | K50: khlongpreng.go.th | L50: นายกองค์การบริหารส่วนตำบลคลองเปรง | M50: =_xlfn.CONCAT("ปลัด",J50) -> ปลัดองค์การบริหารส่วนตำบลคลองเปรง อำเภอเมืองฉะเชิงเทรา จังหวัดฉะเชิงเทรา | N50: หมู่ 1 ตำบลคลองเปรง อำเภอเมืองฉะเชิงเทรา จังหวัดฉะเชิงเทรา รหัสไปรษณีย์ 24000 | O50: =_xlfn.CONCAT(J50," ",N50) -> องค์การบริหารส่วนตำบลคลองเปรง อำเภอเมืองฉะเชิงเทรา จังหวัดฉะเชิงเทรา หมู่ 1 ตำบลคลองเปรง อำเภอเมืองฉะเชิงเทรา จังหวัดฉะเชิงเทรา รหัสไปรษณีย์ 24000 | P50: N/A
A51: 0050 | B51: 06240109 | C51: องค์การบริหารส่วนตำบลคลองหลวงแพ่ง | D51: 06 | E51: =INDEX(Sheet3!B:B,MATCH(D51,Sheet3!A:A,0)) -> องค์การบริหารส่วนตำบล | F51: 2401 | G51: =INDEX(Sheet2!B:B,MATCH(F51,Sheet2!A:A,1)) -> อำเภอเมืองฉะเชิงเทรา | H51: 24 | I51: =INDEX(Sheet2!D:D,MATCH(H51,Sheet2!C:C,0)) -> จังหวัดฉะเชิงเทรา | J51: =_xlfn.CONCAT(C51," ",G51," ",I51) -> องค์การบริหารส่วนตำบลคลองหลวงแพ่ง อำเภอเมืองฉะเชิงเทรา จังหวัดฉะเชิงเทรา | K51: klongluangpang.go.th | L51: นายกองค์การบริหารส่วนตำบลคลองหลวงแพ่ง | M51: =_xlfn.CONCAT("ปลัด",J51) -> ปลัดองค์การบริหารส่วนตำบลคลองหลวงแพ่ง อำเภอเมืองฉะเชิงเทรา จังหวัดฉะเชิงเทรา | N51: หมู่ที่ 5 ตำบลคลองหลวงแพ่ง อำเภอเมืองฉะเชิงเทรา จังหวัดฉะเชิงเทรา 24000 | O51: =_xlfn.CONCAT(J51," ",N51) -> องค์การบริหารส่วนตำบลคลองหลวงแพ่ง อำเภอเมืองฉะเชิงเทรา จังหวัดฉะเชิงเทรา หมู่ที่ 5 ตำบลคลองหลวงแพ่ง อำเภอเมืองฉะเชิงเทรา จังหวัดฉะเชิงเทรา 24000 | P51: N/A
A52: 0051 | B52: 06240110 | C52: องค์การบริหารส่วนตำบลคลองอุดมชลจร | D52: 06 | E52: =INDEX(Sheet3!B:B,MATCH(D52,Sheet3!A:A,0)) -> องค์การบริหารส่วนตำบล | F52: 2401 | G52: =INDEX(Sheet2!B:B,MATCH(F52,Sheet2!A:A,1)) -> อำเภอเมืองฉะเชิงเทรา | H52: 24 | I52: =INDEX(Sheet2!D:D,MATCH(H52,Sheet2!C:C,0)) -> จังหวัดฉะเชิงเทรา | J52: =_xlfn.CONCAT(C52," ",G52," ",I52) -> องค์การบริหารส่วนตำบลคลองอุดมชลจร อำเภอเมืองฉะเชิงเทรา จังหวัดฉะเชิงเทรา | K52: khlongudomchonlajorn.go.th | L52: นายกองค์การบริหารส่วนตำบลคลองอุดมชลจร | M52: =_xlfn.CONCAT("ปลัด",J52) -> ปลัดองค์การบริหารส่วนตำบลคลองอุดมชลจร อำเภอเมืองฉะเชิงเทรา จังหวัดฉะเชิงเทรา | N52: เลขที่ 9/9 หมู่ 4 ตำบลคลองอุดมชลจร อำเภอเมือง จังหวัดฉะเชิงเทรา 24000 | O52: =_xlfn.CONCAT(J52," ",N52) -> องค์การบริหารส่วนตำบลคลองอุดมชลจร อำเภอเมืองฉะเชิงเทรา จังหวัดฉะเชิงเทรา เลขที่ 9/9 หมู่ 4 ตำบลคลองอุดมชลจร อำเภอเมือง จังหวัดฉะเชิงเทรา 24000 | P52: N/A
A53: 0052 | B53: 06240802 | C53: องค์การบริหารส่วนตำบลคู้ยายหมี | D53: 06 | E53: =INDEX(Sheet3!B:B,MATCH(D53,Sheet3!A:A,0)) -> องค์การบริหารส่วนตำบล | F53: 2408 | G53: =INDEX(Sheet2!B:B,MATCH(F53,Sheet2!A:A,1)) -> อำเภอสนามชัยเขต | H53: 24 | I53: =INDEX(Sheet2!D:D,MATCH(H53,Sheet2!C:C,0)) -> จังหวัดฉะเชิงเทรา | J53: =_xlfn.CONCAT(C53," ",G53," ",I53) -> องค์การบริหารส่วนตำบลคู้ยายหมี อำเภอสนามชัยเขต จังหวัดฉะเชิงเทรา | K53: N/A | L53: นายกองค์การบริหารส่วนตำบลคู้ยายหมี | M53: =_xlfn.CONCAT("ปลัด",J53) -> ปลัดองค์การบริหารส่วนตำบลคู้ยายหมี อำเภอสนามชัยเขต จังหวัดฉะเชิงเทรา | N53: 612 หมู่ 9 ตำบลคู้ยายหมี อำเภอสนามชัยเขต จังหวัดฉะเชิงเทรา 24160 | O53: =_xlfn.CONCAT(J53," ",N53) -> องค์การบริหารส่วนตำบลคู้ยายหมี อำเภอสนามชัยเขต จังหวัดฉะเชิงเทรา 612 หมู่ 9 ตำบลคู้ยายหมี อำเภอสนามชัยเขต จังหวัดฉะเชิงเทรา 24160 | P53: N/A
A54: 0053 | B54: 06240702 | C54: องค์การบริหารส่วนตำบลดงน้อย | D54: 06 | E54: =INDEX(Sheet3!B:B,MATCH(D54,Sheet3!A:A,0)) -> องค์การบริหารส่วนตำบล | F54: 2407 | G54: =INDEX(Sheet2!B:B,MATCH(F54,Sheet2!A:A,1)) -> อำเภอราชสาส์น | H54: 24 | I54: =INDEX(Sheet2!D:D,MATCH(H54,Sheet2!C:C,0)) -> จังหวัดฉะเชิงเทรา | J54: =_xlfn.CONCAT(C54," ",G54," ",I54) -> องค์การบริหารส่วนตำบลดงน้อย อำเภอราชสาส์น จังหวัดฉะเชิงเทรา | K54: dongnoi.go.th | L54: นายกองค์การบริหารส่วนตำบลดงน้อย | M54: =_xlfn.CONCAT("ปลัด",J54) -> ปลัดองค์การบริหารส่วนตำบลดงน้อย อำเภอราชสาส์น จังหวัดฉะเชิงเทรา | N54: 99/9 หมู่ที่ 6 ตำบลดงน้อย อำเภอราชสาส์น จังหวัดฉะเชิงเทรา 24120 | O54: =_xlfn.CONCAT(J54," ",N54) -> องค์การบริหารส่วนตำบลดงน้อย อำเภอราชสาส์น จังหวัดฉะเชิงเทรา 99/9 หมู่ที่ 6 ตำบลดงน้อย อำเภอราชสาส์น จังหวัดฉะเชิงเทรา 24120 | P54: N/A
A55: 0054 | B55: 06240309 | C55: องค์การบริหารส่วนตำบลดอนฉิมพลี | D55: 06 | E55: =INDEX(Sheet3!B:B,MATCH(D55,Sheet3!A:A,0)) -> องค์การบริหารส่วนตำบล | F55: 2403 | G55: =INDEX(Sheet2!B:B,MATCH(F55,Sheet2!A:A,1)) -> อำเภอบางน้ำเปรี้ยว | H55: 24 | I55: =INDEX(Sheet2!D:D,MATCH(H55,Sheet2!C:C,0)) -> จังหวัดฉะเชิงเทรา | J55: =_xlfn.CONCAT(C55," ",G55," ",I55) -> องค์การบริหารส่วนตำบลดอนฉิมพลี อำเภอบางน้ำเปรี้ยว จังหวัดฉะเชิงเทรา | K55: www.donchimplee.go.th | L55: นายกองค์การบริหารส่วนตำบลดอนฉิมพลี | M55: =_xlfn.CONCAT("ปลัด",J55) -> ปลัดองค์การบริหารส่วนตำบลดอนฉิมพลี อำเภอบางน้ำเปรี้ยว จังหวัดฉะเชิงเทรา | N55: 88 หมู่ 8 ตำบลดอนฉิมพลี อำเภอบางน้ำเปรี้ยว จังหวัดฉะเชิงเทรา 24170 | O55: =_xlfn.CONCAT(J55," ",N55) -> องค์การบริหารส่วนตำบลดอนฉิมพลี อำเภอบางน้ำเปรี้ยว จังหวัดฉะเชิงเทรา 88 หมู่ 8 ตำบลดอนฉิมพลี อำเภอบางน้ำเปรี้ยว จังหวัดฉะเชิงเทรา 24170 | P55: N/A
A56: 0055 | B56: 06240511 | C56: องค์การบริหารส่วนตำบลดอนทราย | D56: 06 | E56: =INDEX(Sheet3!B:B,MATCH(D56,Sheet3!A:A,0)) -> องค์การบริหารส่วนตำบล | F56: 2405 | G56: =INDEX(Sheet2!B:B,MATCH(F56,Sheet2!A:A,1)) -> อำเภอบ้านโพธิ์ | H56: 24 | I56: =INDEX(Sheet2!D:D,MATCH(H56,Sheet2!C:C,0)) -> จังหวัดฉะเชิงเทรา | J56: =_xlfn.CONCAT(C56," ",G56," ",I56) -> องค์การบริหารส่วนตำบลดอนทราย อำเภอบ้านโพธิ์ จังหวัดฉะเชิงเทรา | K56: www.donsailocal.go.th | L56: นายกองค์การบริหารส่วนตำบลดอนทราย | M56: =_xlfn.CONCAT("ปลัด",J56) -> ปลัดองค์การบริหารส่วนตำบลดอนทราย อำเภอบ้านโพธิ์ จังหวัดฉะเชิงเทรา | N56: เลขที่ 40/1 หมู่ที่ 4 ตำบลดอนทราย อำเภอบ้านโพธิ์ จังหวัดฉะเชิงเทรา 24140 | O56: =_xlfn.CONCAT(J56," ",N56) -> องค์การบริหารส่วนตำบลดอนทราย อำเภอบ้านโพธิ์ จังหวัดฉะเชิงเทรา เลขที่ 40/1 หมู่ที่ 4 ตำบลดอนทราย อำเภอบ้านโพธิ์ จังหวัดฉะเชิงเทรา 24140 | P56: N/A
A57: 0056 | B57: 06240803 | C57: องค์การบริหารส่วนตำบลท่ากระดาน | D57: 06 | E57: =INDEX(Sheet3!B:B,MATCH(D57,Sheet3!A:A,0)) -> องค์การบริหารส่วนตำบล | F57: 2408 | G57: =INDEX(Sheet2!B:B,MATCH(F57,Sheet2!A:A,1)) -> อำเภอสนามชัยเขต | H57: 24 | I57: =INDEX(Sheet2!D:D,MATCH(H57,Sheet2!C:C,0)) -> จังหวัดฉะเชิงเทรา | J57: =_xlfn.CONCAT(C57," ",G57," ",I57) -> องค์การบริหารส่วนตำบลท่ากระดาน อำเภอสนามชัยเขต จังหวัดฉะเชิงเทรา | K57: tkd.go.th | L57: นายกองค์การบริหารส่วนตำบลท่ากระดาน | M57: =_xlfn.CONCAT("ปลัด",J57) -> ปลัดองค์การบริหารส่วนตำบลท่ากระดาน อำเภอสนามชัยเขต จังหวัดฉะเชิงเทรา | N57: 255 หมู่ที่ 8 ต.ท่ากระดาน อ.สนามชัยเขต จ.ฉะเชิงเทรา 24160 | O57: =_xlfn.CONCAT(J57," ",N57) -> องค์การบริหารส่วนตำบลท่ากระดาน อำเภอสนามชัยเขต จังหวัดฉะเชิงเทรา 255 หมู่ที่ 8 ต.ท่ากระดาน อ.สนามชัยเขต จ.ฉะเชิงเทรา 24160 | P57: N/A
A58: 0057 | B58: 06240111 | C58: องค์การบริหารส่วนตำบลท่าไข่ | D58: 06 | E58: =INDEX(Sheet3!B:B,MATCH(D58,Sheet3!A:A,0)) -> องค์การบริหารส่วนตำบล | F58: 2401 | G58: =INDEX(Sheet2!B:B,MATCH(F58,Sheet2!A:A,1)) -> อำเภอเมืองฉะเชิงเทรา | H58: 24 | I58: =INDEX(Sheet2!D:D,MATCH(H58,Sheet2!C:C,0)) -> จังหวัดฉะเชิงเทรา | J58: =_xlfn.CONCAT(C58," ",G58," ",I58) -> องค์การบริหารส่วนตำบลท่าไข่ อำเภอเมืองฉะเชิงเทรา จังหวัดฉะเชิงเทรา | K58: thakai.go.th | L58: นายกองค์การบริหารส่วนตำบลท่าไข่ | M58: =_xlfn.CONCAT("ปลัด",J58) -> ปลัดองค์การบริหารส่วนตำบลท่าไข่ อำเภอเมืองฉะเชิงเทรา จังหวัดฉะเชิงเทรา | N58: เลขที่ 74 หมู่ 11 ตำบลท่าไข่ อำเภอเมืองฉะเชิงเทรา จังหวัดฉะเชิงเทรา 24000 | O58: =_xlfn.CONCAT(J58," ",N58) -> องค์การบริหารส่วนตำบลท่าไข่ อำเภอเมืองฉะเชิงเทรา จังหวัดฉะเชิงเทรา เลขที่ 74 หมู่ 11 ตำบลท่าไข่ อำเภอเมืองฉะเชิงเทรา จังหวัดฉะเชิงเทรา 24000 | P58: N/A
... A74: 0073 | B74: 06240306 | C74: องค์การบริหารส่วนตำบลบางน้ำเปรี้ยว | D74: 06 | E74: =INDEX(Sheet3!B:B,MATCH(D74,Sheet3!A:A,0)) -> องค์การบริหารส่วนตำบล | F74: 2403 | G74: =INDEX(Sheet2!B:B,MATCH(F74,Sheet2!A:A,1)) -> อำเภอบางน้ำเปรี้ยว | H74: 24 | I74: =INDEX(Sheet2!D:D,MATCH(H74,Sheet2!C:C,0)) -> จังหวัดฉะเชิงเทรา | J74: =_xlfn.CONCAT(C74," ",G74," ",I74) -> องค์การบริหารส่วนตำบลบางน้ำเปรี้ยว อำเภอบางน้ำเปรี้ยว จังหวัดฉะเชิงเทรา | K74: www.bangnampriao.go.th | L74: นายกองค์การบริหารส่วนตำบลบางน้ำเปรี้ยว | M74: =_xlfn.CONCAT("ปลัด",J74) -> ปลัดองค์การบริหารส่วนตำบลบางน้ำเปรี้ยว อำเภอบางน้ำเปรี้ยว จังหวัดฉะเชิงเทรา | N74: ถนน 3481 หลวงแพ่ง-บ้านสร้าง ตำบลบางน้ำเปรี้ยว อำเภอบางน้ำเปรี้ยว จังหวัดฉะเชิงเทรา 24150 | O74: =_xlfn.CONCAT(J74," ",N74) -> องค์การบริหารส่วนตำบลบางน้ำเปรี้ยว อำเภอบางน้ำเปรี้ยว จังหวัดฉะเชิงเทรา ถนน 3481 หลวงแพ่ง-บ้านสร้าง ตำบลบางน้ำเปรี้ยว อำเภอบางน้ำเปรี้ยว จังหวัดฉะเชิงเทรา 24150 | P74: N/A
A75: 0074 | B75: 06240114 | C75: องค์การบริหารส่วนตำบลบางไผ่ | D75: 06 | E75: =INDEX(Sheet3!B:B,MATCH(D75,Sheet3!A:A,0)) -> องค์การบริหารส่วนตำบล | F75: 2401 | G75: =INDEX(Sheet2!B:B,MATCH(F75,Sheet2!A:A,1)) -> อำเภอเมืองฉะเชิงเทรา | H75: 24 | I75: =INDEX(Sheet2!D:D,MATCH(H75,Sheet2!C:C,0)) -> จังหวัดฉะเชิงเทรา | J75: =_xlfn.CONCAT(C75," ",G75," ",I75) -> องค์การบริหารส่วนตำบลบางไผ่ อำเภอเมืองฉะเชิงเทรา จังหวัดฉะเชิงเทรา | K75: bangpaisao.go.th | L75: นายกองค์การบริหารส่วนตำบลบางไผ่ | M75: =_xlfn.CONCAT("ปลัด",J75) -> ปลัดองค์การบริหารส่วนตำบลบางไผ่ อำเภอเมืองฉะเชิงเทรา จังหวัดฉะเชิงเทรา | N75: องค์การบริหารส่วนตำบลบางไผ่ อำเภอเมืองฉะเชิงเทรา จังหวัดฉะเชิงเทรา 24000 | O75: องค์การบริหารส่วนตำบลบางไผ่ อำเภอเมืองฉะเชิงเทรา จังหวัดฉะเชิงเทรา 24000 | P75: N/A
A76: 0075 | B76: 06240104 | C76: องค์การบริหารส่วนตำบลบางพระ | D76: 06 | E76: =INDEX(Sheet3!B:B,MATCH(D76,Sheet3!A:A,0)) -> องค์การบริหารส่วนตำบล | F76: 2401 | G76: =INDEX(Sheet2!B:B,MATCH(F76,Sheet2!A:A,1)) -> อำเภอเมืองฉะเชิงเทรา | H76: 24 | I76: =INDEX(Sheet2!D:D,MATCH(H76,Sheet2!C:C,0)) -> จังหวัดฉะเชิงเทรา | J76: =_xlfn.CONCAT(C76," ",G76," ",I76) -> องค์การบริหารส่วนตำบลบางพระ อำเภอเมืองฉะเชิงเทรา จังหวัดฉะเชิงเทรา | K76: www.bang-pha.go.th | L76: นายกองค์การบริหารส่วนตำบลบางพระ | M76: =_xlfn.CONCAT("ปลัด",J76) -> ปลัดองค์การบริหารส่วนตำบลบางพระ อำเภอเมืองฉะเชิงเทรา จังหวัดฉะเชิงเทรา | N76: 55 หมู่ที่ 6 ตำบลบางพระ อำเภอเมือง จังหวัดฉะเชิงเทรา 24000 | O76: =_xlfn.CONCAT(J76," ",N76) -> องค์การบริหารส่วนตำบลบางพระ อำเภอเมืองฉะเชิงเทรา จังหวัดฉะเชิงเทรา 55 หมู่ที่ 6 ตำบลบางพระ อำเภอเมือง จังหวัดฉะเชิงเทรา 24000 | P76: N/A
A77: 0076 | B77: 06241104 | C77: องค์การบริหารส่วนตำบลบางโรง | D77: 06 | E77: =INDEX(Sheet3!B:B,MATCH(D77,Sheet3!A:A,0)) -> องค์การบริหารส่วนตำบล | F77: 2411 | G77: =INDEX(Sheet2!B:B,MATCH(F77,Sheet2!A:A,1)) -> อำเภอคลองเขื่อน | H77: 24 | I77: =INDEX(Sheet2!D:D,MATCH(H77,Sheet2!C:C,0)) -> จังหวัดฉะเชิงเทรา | J77: =_xlfn.CONCAT(C77," ",G77," ",I77) -> องค์การบริหารส่วนตำบลบางโรง อำเภอคลองเขื่อน จังหวัดฉะเชิงเทรา | K77: bangrong.go.th | L77: นายกองค์การบริหารส่วนตำบลบางโรง | M77: =_xlfn.CONCAT("ปลัด",J77) -> ปลัดองค์การบริหารส่วนตำบลบางโรง อำเภอคลองเขื่อน จังหวัดฉะเชิงเทรา | N77: 99 หมู่ 1 ตำบลบางโรง อำเภอคลองเขื่อน จังหวัดฉะเชิงเทรา 24000 | O77: =_xlfn.CONCAT(J77," ",N77) -> องค์การบริหารส่วนตำบลบางโรง อำเภอคลองเขื่อน จังหวัดฉะเชิงเทรา 99 หมู่ 1 ตำบลบางโรง อำเภอคลองเขื่อน จังหวัดฉะเชิงเทรา 24000 | P77: N/A
A78: 0077 | B78: 06241105 | C78: องค์การบริหารส่วนตำบลบางเล่า | D78: 06 | E78: =INDEX(Sheet3!B:B,MATCH(D78,Sheet3!A:A,0)) -> องค์การบริหารส่วนตำบล | F78: 2411 | G78: =INDEX(Sheet2!B:B,MATCH(F78,Sheet2!A:A,1)) -> อำเภอคลองเขื่อน | H78: 24 | I78: =INDEX(Sheet2!D:D,MATCH(H78,Sheet2!C:C,0)) -> จังหวัดฉะเชิงเทรา | J78: =_xlfn.CONCAT(C78," ",G78," ",I78) -> องค์การบริหารส่วนตำบลบางเล่า อำเภอคลองเขื่อน จังหวัดฉะเชิงเทรา | K78: banglaow.go.th | L78: นายกองค์การบริหารส่วนตำบลบางเล่า | M78: =_xlfn.CONCAT("ปลัด",J78) -> ปลัดองค์การบริหารส่วนตำบลบางเล่า อำเภอคลองเขื่อน จังหวัดฉะเชิงเทรา | N78: 1/3 หมู่ที่ 6 ตำบลบางเล่า อำเภอคลองเขื่อน จังหวัดฉะเชิงเทรา 24000 | O78: =_xlfn.CONCAT(J78," ",N78) -> องค์การบริหารส่วนตำบลบางเล่า อำเภอคลองเขื่อน จังหวัดฉะเชิงเทรา 1/3 หมู่ที่ 6 ตำบลบางเล่า อำเภอคลองเขื่อน จังหวัดฉะเชิงเทรา 24000 | P78: N/A
A79: 0078 | B79: 06240209 | C79: องค์การบริหารส่วนตำบลบางสวน | D79: 06 | E79: =INDEX(Sheet3!B:B,MATCH(D79,Sheet3!A:A,0)) -> องค์การบริหารส่วนตำบล | F79: 2402 | G79: =INDEX(Sheet2!B:B,MATCH(F79,Sheet2!A:A,1)) -> อำเภอบางคล้า | H79: 24 | I79: =INDEX(Sheet2!D:D,MATCH(H79,Sheet2!C:C,0)) -> จังหวัดฉะเชิงเทรา | J79: =_xlfn.CONCAT(C79," ",G79," ",I79) -> องค์การบริหารส่วนตำบลบางสวน อำเภอบางคล้า จังหวัดฉะเชิงเทรา | K79: bangsoun.go.th | L79: นายกองค์การบริหารส่วนตำบลบางสวน | M79: =_xlfn.CONCAT("ปลัด",J79) -> ปลัดองค์การบริหารส่วนตำบลบางสวน อำเภอบางคล้า จังหวัดฉะเชิงเทรา | N79: 31/4 หมู่ที่ 1 ตำบลบางสวน อำเภอบางคล้า จังหวัดฉะเชิงเทรา 24100 | O79: =_xlfn.CONCAT(J79," ",N79) -> องค์การบริหารส่วนตำบลบางสวน อำเภอบางคล้า จังหวัดฉะเชิงเทรา 31/4 หมู่ที่ 1 ตำบลบางสวน อำเภอบางคล้า จังหวัดฉะเชิงเทรา 24100 | P79: N/A
A80: 0079 | B80: 06240120 | C80: องค์การบริหารส่วนตำบลบ้านใหม่ | D80: 06 | E80: =INDEX(Sheet3!B:B,MATCH(D80,Sheet3!A:A,0)) -> องค์การบริหารส่วนตำบล | F80: 2401 | G80: =INDEX(Sheet2!B:B,MATCH(F80,Sheet2!A:A,1)) -> อำเภอเมืองฉะเชิงเทรา | H80: 24 | I80: =INDEX(Sheet2!D:D,MATCH(H80,Sheet2!C:C,0)) -> จังหวัดฉะเชิงเทรา | J80: =_xlfn.CONCAT(C80," ",G80," ",I80) -> องค์การบริหารส่วนตำบลบ้านใหม่ อำเภอเมืองฉะเชิงเทรา จังหวัดฉะเชิงเทรา | K80: banmai-sao.go.th | L80: นายกองค์การบริหารส่วนตำบลบ้านใหม่ | M80: =_xlfn.CONCAT("ปลัด",J80) -> ปลัดองค์การบริหารส่วนตำบลบ้านใหม่ อำเภอเมืองฉะเชิงเทรา จังหวัดฉะเชิงเทรา | N80: หมู่ที่ 3 ตำบลบ้านใหม่ อำเภอเมือง จังหวัดฉะเชิงเทรา 24000 | O80: =_xlfn.CONCAT(J80," ",N80) -> องค์การบริหารส่วนตำบลบ้านใหม่ อำเภอเมืองฉะเชิงเทรา จังหวัดฉะเชิงเทรา หมู่ที่ 3 ตำบลบ้านใหม่ อำเภอเมือง จังหวัดฉะเชิงเทรา 24000 | P80: N/A
A81: 0080 | B81: 06240311 | C81: องค์การบริหารส่วนตำบลบึงน้ำรักษ์ | D81: 06 | E81: =INDEX(Sheet3!B:B,MATCH(D81,Sheet3!A:A,0)) -> องค์การบริหารส่วนตำบล | F81: 2403 | G81: =INDEX(Sheet2!B:B,MATCH(F81,Sheet2!A:A,1)) -> อำเภอบางน้ำเปรี้ยว | H81: 24 | I81: =INDEX(Sheet2!D:D,MATCH(H81,Sheet2!C:C,0)) -> จังหวัดฉะเชิงเทรา | J81: =_xlfn.CONCAT(C81," ",G81," ",I81) -> องค์การบริหารส่วนตำบลบึงน้ำรักษ์ อำเภอบางน้ำเปรี้ยว จังหวัดฉะเชิงเทรา | K81: www.bungnamruk.go.th | L81: นายกองค์การบริหารส่วนตำบลบึงน้ำรักษ์ | M81: =_xlfn.CONCAT("ปลัด",J81) -> ปลัดองค์การบริหารส่วนตำบลบึงน้ำรักษ์ อำเภอบางน้ำเปรี้ยว จังหวัดฉะเชิงเทรา | N81: 19/4 หมู่ที่ 11 ตำบลบึงน้ำรักษ์ อำเภอบางน้ำเปรี้ยว จังหวัดฉะเชิงเทรา รหัสไปรษณีย์ 24170 | O81: =_xlfn.CONCAT(J81," ",N81) -> องค์การบริหารส่วนตำบลบึงน้ำรักษ์ อำเภอบางน้ำเปรี้ยว จังหวัดฉะเชิงเทรา 19/4 หมู่ที่ 11 ตำบลบึงน้ำรักษ์ อำเภอบางน้ำเปรี้ยว จังหวัดฉะเชิงเทรา รหัสไปรษณีย์ 24170 | P81: N/A
A82: 0081 | B82: 06240907 | C82: องค์การบริหารส่วนตำบลแปลงยาว | D82: 06 | E82: =INDEX(Sheet3!B:B,MATCH(D82,Sheet3!A:A,0)) -> องค์การบริหารส่วนตำบล | F82: 2409 | G82: =INDEX(Sheet2!B:B,MATCH(F82,Sheet2!A:A,1)) -> อำเภอแปลงยาว | H82: 24 | I82: =INDEX(Sheet2!D:D,MATCH(H82,Sheet2!C:C,0)) -> จังหวัดฉะเชิงเทรา | J82: =_xlfn.CONCAT(C82," ",G82," ",I82) -> องค์การบริหารส่วนตำบลแปลงยาว อำเภอแปลงยาว จังหวัดฉะเชิงเทรา | K82: www.plaengyao.go.th | L82: นายกองค์การบริหารส่วนตำบลแปลงยาว | M82: =_xlfn.CONCAT("ปลัด",J82) -> ปลัดองค์การบริหารส่วนตำบลแปลงยาว อำเภอแปลงยาว จังหวัดฉะเชิงเทรา | N82: 86 หมู่ที่ 7 ตำบลแปลงยาว อำเภอแปลงยาว จังหวัดฉะเชิงเทรา 24190 | O82: =_xlfn.CONCAT(J82," ",N82) -> องค์การบริหารส่วนตำบลแปลงยาว อำเภอแปลงยาว จังหวัดฉะเชิงเทรา 86 หมู่ที่ 7 ตำบลแปลงยาว อำเภอแปลงยาว จังหวัดฉะเชิงเทรา 24190 | P82: N/A
A83: 0082 | B83: 06240605 | C83: องค์การบริหารส่วนตำบลพนมสารคาม | D83: 06 | E83: =INDEX(Sheet3!B:B,MATCH(D83,Sheet3!A:A,0)) -> องค์การบริหารส่วนตำบล | F83: 2406 | G83: =INDEX(Sheet2!B:B,MATCH(F83,Sheet2!A:A,1)) -> อำเภอพนมสารคาม | H83: 24 | I83: =INDEX(Sheet2!D:D,MATCH(H83,Sheet2!C:C,0)) -> จังหวัดฉะเชิงเทรา | J83: =_xlfn.CONCAT(C83," ",G83," ",I83) -> องค์การบริหารส่วนตำบลพนมสารคาม อำเภอพนมสารคาม จังหวัดฉะเชิงเทรา | K83: www.phanomsarakham.go.th | L83: นายกองค์การบริหารส่วนตำบลพนมสารคาม | M83: =_xlfn.CONCAT("ปลัด",J83) -> ปลัดองค์การบริหารส่วนตำบลพนมสารคาม อำเภอพนมสารคาม จังหวัดฉะเชิงเทรา | N83: 1700 ตำบลพนมสารคาม อำเภอพนมสารคาม จังหวัดฉะเชิงเทรา 24120 | O83: =_xlfn.CONCAT(J83," ",N83) -> องค์การบริหารส่วนตำบลพนมสารคาม อำเภอพนมสารคาม จังหวัดฉะเชิงเทรา 1700 ตำบลพนมสารคาม อำเภอพนมสารคาม จังหวัดฉะเชิงเทรา 24120 | P83: N/A
A84: 0083 | B84: 06240307 | C84: องค์การบริหารส่วนตำบลโพรงอากาศ | D84: 06 | E84: =INDEX(Sheet3!B:B,MATCH(D84,Sheet3!A:A,0)) -> องค์การบริหารส่วนตำบล | F84: 2403 | G84: =INDEX(Sheet2!B:B,MATCH(F84,Sheet2!A:A,1)) -> อำเภอบางน้ำเปรี้ยว | H84: 24 | I84: =INDEX(Sheet2!D:D,MATCH(H84,Sheet2!C:C,0)) -> จังหวัดฉะเชิงเทรา | J84: =_xlfn.CONCAT(C84," ",G84," ",I84) -> องค์การบริหารส่วนตำบลโพรงอากาศ อำเภอบางน้ำเปรี้ยว จังหวัดฉะเชิงเทรา | K84: www.prongarkard.go.th | L84: นายกองค์การบริหารส่วนตำบลโพรงอากาศ | M84: =_xlfn.CONCAT("ปลัด",J84) -> ปลัดองค์การบริหารส่วนตำบลโพรงอากาศ อำเภอบางน้ำเปรี้ยว จังหวัดฉะเชิงเทรา | N84: เลขที่ 99 หมู่ 9 ตำบลโพรงอากาศ อำเภอบางน้ำเปรี้ยว จังหวัดฉะเชิงเทรา 24150 | O84: =_xlfn.CONCAT(J84," ",N84) -> องค์การบริหารส่วนตำบลโพรงอากาศ อำเภอบางน้ำเปรี้ยว จังหวัดฉะเชิงเทรา เลขที่ 99 หมู่ 9 ตำบลโพรงอากาศ อำเภอบางน้ำเปรี้ยว จังหวัดฉะเชิงเทรา 24150 | P84: N/A
A85: 0084 | B85: 06240609 | C85: องค์การบริหารส่วนตำบลเมืองเก่า | D85: 06 | E85: =INDEX(Sheet3!B:B,MATCH(D85,Sheet3!A:A,0)) -> องค์การบริหารส่วนตำบล | F85: 2406 | G85: =INDEX(Sheet2!B:B,MATCH(F85,Sheet2!A:A,1)) -> อำเภอพนมสารคาม | H85: 24 | I85: =INDEX(Sheet2!D:D,MATCH(H85,Sheet2!C:C,0)) -> จังหวัดฉะเชิงเทรา | J85: =_xlfn.CONCAT(C85," ",G85," ",I85) -> องค์การบริหารส่วนตำบลเมืองเก่า อำเภอพนมสารคาม จังหวัดฉะเชิงเทรา | K85: muangkaolocal.go.th | L85: นายกองค์การบริหารส่วนตำบลเมืองเก่า | M85: =_xlfn.CONCAT("ปลัด",J85) -> ปลัดองค์การบริหารส่วนตำบลเมืองเก่า อำเภอพนมสารคาม จังหวัดฉะเชิงเทรา | N85: 101 หมู่ 3 ตำบลเมืองเก่า อำเภอพนมสารคาม จังหวัดฉะเชิงเทรา 24120 | O85: =_xlfn.CONCAT(J85," ",N85) -> องค์การบริหารส่วนตำบลเมืองเก่า อำเภอพนมสารคาม จังหวัดฉะเชิงเทรา 101 หมู่ 3 ตำบลเมืองเก่า อำเภอพนมสารคาม จังหวัดฉะเชิงเทรา 24120 | P85: N/A
A86: 0085 | B86: 06240703 | C86: องค์การบริหารส่วนตำบลเมืองใหม่ | D86: 06 | E86: =INDEX(Sheet3!B:B,MATCH(D86,Sheet3!A:A,0)) -> องค์การบริหารส่วนตำบล | F86: 2407 | G86: =INDEX(Sheet2!B:B,MATCH(F86,Sheet2!A:A,1)) -> อำเภอราชสาส์น | H86: 24 | I86: =INDEX(Sheet2!D:D,MATCH(H86,Sheet2!C:C,0)) -> จังหวัดฉะเชิงเทรา | J86: =_xlfn.CONCAT(C86," ",G86," ",I86) -> องค์การบริหารส่วนตำบลเมืองใหม่ อำเภอราชสาส์น จังหวัดฉะเชิงเทรา | K86: www.muangmailocal.go.th | L86: นายกองค์การบริหารส่วนตำบลเมืองใหม่ | M86: =_xlfn.CONCAT("ปลัด",J86) -> ปลัดองค์การบริหารส่วนตำบลเมืองใหม่ อำเภอราชสาส์น จังหวัดฉะเชิงเทรา | N86: 199 หมูที่ 6 ตำบลเมืองใหม่ อำเภอราชสาส์น จังหวัดฉะเชิงเทรา 24120 | O86: =_xlfn.CONCAT(J86," ",N86) -> องค์การบริหารส่วนตำบลเมืองใหม่ อำเภอราชสาส์น จังหวัดฉะเชิงเทรา 199 หมูที่ 6 ตำบลเมืองใหม่ อำเภอราชสาส์น จังหวัดฉะเชิงเทรา 24120 | P86: N/A
A87: 0086 | B87: 06240312 | C87: องค์การบริหารส่วนตำบลโยธะกา | D87: 06 | E87: =INDEX(Sheet3!B:B,MATCH(D87,Sheet3!A:A,0)) -> องค์การบริหารส่วนตำบล | F87: 2403 | G87: =INDEX(Sheet2!B:B,MATCH(F87,Sheet2!A:A,1)) -> อำเภอบางน้ำเปรี้ยว | H87: 24 | I87: =INDEX(Sheet2!D:D,MATCH(H87,Sheet2!C:C,0)) -> จังหวัดฉะเชิงเทรา | J87: =_xlfn.CONCAT(C87," ",G87," ",I87) -> องค์การบริหารส่วนตำบลโยธะกา อำเภอบางน้ำเปรี้ยว จังหวัดฉะเชิงเทรา | K87: yothaka.go.th | L87: นายกองค์การบริหารส่วนตำบลโยธะกา | M87: =_xlfn.CONCAT("ปลัด",J87) -> ปลัดองค์การบริหารส่วนตำบลโยธะกา อำเภอบางน้ำเปรี้ยว จังหวัดฉะเชิงเทรา | N87: ถนนบางน้ำเปรี้ยว-ตลาด 16 อำเภอบางน้ำเปรี้ยว จังหวัดฉะเชิงเทรา 24150 | O87: =_xlfn.CONCAT(J87," ",N87) -> องค์การบริหารส่วนตำบลโยธะกา อำเภอบางน้ำเปรี้ยว จังหวัดฉะเชิงเทรา ถนนบางน้ำเปรี้ยว-ตลาด 16 อำเภอบางน้ำเปรี้ยว จังหวัดฉะเชิงเทรา 24150 | P87: N/A
... A102: 0101 | B102: 06240905 | C102: องค์การบริหารส่วนตำบลหนองไม้แก่น | D102: 06 | E102: =INDEX(Sheet3!B:B,MATCH(D102,Sheet3!A:A,0)) -> องค์การบริหารส่วนตำบล | F102: 2409 | G102: =INDEX(Sheet2!B:B,MATCH(F102,Sheet2!A:A,1)) -> อำเภอแปลงยาว | H102: 24 | I102: =INDEX(Sheet2!D:D,MATCH(H102,Sheet2!C:C,0)) -> จังหวัดฉะเชิงเทรา | J102: =_xlfn.CONCAT(C102," ",G102," ",I102) -> องค์การบริหารส่วนตำบลหนองไม้แก่น อำเภอแปลงยาว จังหวัดฉะเชิงเทรา | K102: nongmaikan.go.th | L102: นายกองค์การบริหารส่วนตำบลหนองไม้แก่น | M102: =_xlfn.CONCAT("ปลัด",J102) -> ปลัดองค์การบริหารส่วนตำบลหนองไม้แก่น อำเภอแปลงยาว จังหวัดฉะเชิงเทรา | N102: 49 หมู่ 3 อำเภอแปลงยาว จังหวัดฉะเชิงเทรา 24190 | O102: =_xlfn.CONCAT(J102," ",N102) -> องค์การบริหารส่วนตำบลหนองไม้แก่น อำเภอแปลงยาว จังหวัดฉะเชิงเทรา 49 หมู่ 3 อำเภอแปลงยาว จังหวัดฉะเชิงเทรา 24190 | P102: N/A
A103: 0102 | B103: 06240610 | C103: องค์การบริหารส่วนตำบลหนองยาว | D103: 06 | E103: =INDEX(Sheet3!B:B,MATCH(D103,Sheet3!A:A,0)) -> องค์การบริหารส่วนตำบล | F103: 2406 | G103: =INDEX(Sheet2!B:B,MATCH(F103,Sheet2!A:A,1)) -> อำเภอพนมสารคาม | H103: 24 | I103: =INDEX(Sheet2!D:D,MATCH(H103,Sheet2!C:C,0)) -> จังหวัดฉะเชิงเทรา | J103: =_xlfn.CONCAT(C103," ",G103," ",I103) -> องค์การบริหารส่วนตำบลหนองยาว อำเภอพนมสารคาม จังหวัดฉะเชิงเทรา | K103: www.nongyao.go.th | L103: นายกองค์การบริหารส่วนตำบลหนองยาว | M103: =_xlfn.CONCAT("ปลัด",J103) -> ปลัดองค์การบริหารส่วนตำบลหนองยาว อำเภอพนมสารคาม จังหวัดฉะเชิงเทรา | N103: องค์การบริหารส่วนตำบลหนองยาว อำเภอพนมสารคาม จังหวัดฉะเชิงเทรา 24120 | O103: องค์การบริหารส่วนตำบลหนองยาว อำเภอพนมสารคาม จังหวัดฉะเชิงเทรา 24120 | P103: N/A
A104: 0103 | B104: 06240611 | C104: องค์การบริหารส่วนตำบลหนองแหน | D104: 06 | E104: =INDEX(Sheet3!B:B,MATCH(D104,Sheet3!A:A,0)) -> องค์การบริหารส่วนตำบล | F104: 2406 | G104: =INDEX(Sheet2!B:B,MATCH(F104,Sheet2!A:A,1)) -> อำเภอพนมสารคาม | H104: 24 | I104: =INDEX(Sheet2!D:D,MATCH(H104,Sheet2!C:C,0)) -> จังหวัดฉะเชิงเทรา | J104: =_xlfn.CONCAT(C104," ",G104," ",I104) -> องค์การบริหารส่วนตำบลหนองแหน อำเภอพนมสารคาม จังหวัดฉะเชิงเทรา | K104: nongnae.go.th | L104: นายกองค์การบริหารส่วนตำบลหนองแหน | M104: =_xlfn.CONCAT("ปลัด",J104) -> ปลัดองค์การบริหารส่วนตำบลหนองแหน อำเภอพนมสารคาม จังหวัดฉะเชิงเทรา | N104: เลขที่ 136 หมู่ที่ 13 ตำบลหนองแหน อำเภอพนมสารคาม จังหวัดฉะเชิงเทรา 24120 | O104: =_xlfn.CONCAT(J104," ",N104) -> องค์การบริหารส่วนตำบลหนองแหน อำเภอพนมสารคาม จังหวัดฉะเชิงเทรา เลขที่ 136 หมู่ที่ 13 ตำบลหนองแหน อำเภอพนมสารคาม จังหวัดฉะเชิงเทรา 24120 | P104: N/A
A105: 0104 | B105: 06240116 | C105: องค์การบริหารส่วนตำบลหนามแดง | D105: 06 | E105: =INDEX(Sheet3!B:B,MATCH(D105,Sheet3!A:A,0)) -> องค์การบริหารส่วนตำบล | F105: 2401 | G105: =INDEX(Sheet2!B:B,MATCH(F105,Sheet2!A:A,1)) -> อำเภอเมืองฉะเชิงเทรา | H105: 24 | I105: =INDEX(Sheet2!D:D,MATCH(H105,Sheet2!C:C,0)) -> จังหวัดฉะเชิงเทรา | J105: =_xlfn.CONCAT(C105," ",G105," ",I105) -> องค์การบริหารส่วนตำบลหนามแดง อำเภอเมืองฉะเชิงเทรา จังหวัดฉะเชิงเทรา | K105: www.namdaeng.go.th | L105: นายกองค์การบริหารส่วนตำบลหนามแดง | M105: =_xlfn.CONCAT("ปลัด",J105) -> ปลัดองค์การบริหารส่วนตำบลหนามแดง อำเภอเมืองฉะเชิงเทรา จังหวัดฉะเชิงเทรา | N105: 18 หมู่ 5 ตำบลหนามแดง อำเภอเมืองฉะเชิงเทรา จังหวัดฉะเชิงเทรา 24000 | O105: =_xlfn.CONCAT(J105," ",N105) -> องค์การบริหารส่วนตำบลหนามแดง อำเภอเมืองฉะเชิงเทรา จังหวัดฉะเชิงเทรา 18 หมู่ 5 ตำบลหนามแดง อำเภอเมืองฉะเชิงเทรา จังหวัดฉะเชิงเทรา 24000 | P105: N/A
A106: 0105 | B106: 06240308 | C106: องค์การบริหารส่วนตำบลหมอนทอง | D106: 06 | E106: =INDEX(Sheet3!B:B,MATCH(D106,Sheet3!A:A,0)) -> องค์การบริหารส่วนตำบล | F106: 2403 | G106: =INDEX(Sheet2!B:B,MATCH(F106,Sheet2!A:A,1)) -> อำเภอบางน้ำเปรี้ยว | H106: 24 | I106: =INDEX(Sheet2!D:D,MATCH(H106,Sheet2!C:C,0)) -> จังหวัดฉะเชิงเทรา | J106: =_xlfn.CONCAT(C106," ",G106," ",I106) -> องค์การบริหารส่วนตำบลหมอนทอง อำเภอบางน้ำเปรี้ยว จังหวัดฉะเชิงเทรา | K106: mhontong.go.th | L106: นายกองค์การบริหารส่วนตำบลหมอนทอง | M106: =_xlfn.CONCAT("ปลัด",J106) -> ปลัดองค์การบริหารส่วนตำบลหมอนทอง อำเภอบางน้ำเปรี้ยว จังหวัดฉะเชิงเทรา | N106: เลขที่ 3/4 หมู่ 2 ต.หมอนทอง อ.บางน้ำเปรี้ยว จ.ฉะเชิงเทรา 24150 | O106: =_xlfn.CONCAT(J106," ",N106) -> องค์การบริหารส่วนตำบลหมอนทอง อำเภอบางน้ำเปรี้ยว จังหวัดฉะเชิงเทรา เลขที่ 3/4 หมู่ 2 ต.หมอนทอง อ.บางน้ำเปรี้ยว จ.ฉะเชิงเทรา 24150 | P106: N/A
A107: 0106 | B107: 06240414 | C107: องค์การบริหารส่วนตำบลหอมศีล | D107: 06 | E107: =INDEX(Sheet3!B:B,MATCH(D107,Sheet3!A:A,0)) -> องค์การบริหารส่วนตำบล | F107: 2404 | G107: =INDEX(Sheet2!B:B,MATCH(F107,Sheet2!A:A,1)) -> อำเภอบางปะกง | H107: 24 | I107: =INDEX(Sheet2!D:D,MATCH(H107,Sheet2!C:C,0)) -> จังหวัดฉะเชิงเทรา | J107: =_xlfn.CONCAT(C107," ",G107," ",I107) -> องค์การบริหารส่วนตำบลหอมศีล อำเภอบางปะกง จังหวัดฉะเชิงเทรา | K107: homsin.go.th | L107: นายกองค์การบริหารส่วนตำบลหอมศีล | M107: =_xlfn.CONCAT("ปลัด",J107) -> ปลัดองค์การบริหารส่วนตำบลหอมศีล อำเภอบางปะกง จังหวัดฉะเชิงเทรา | N107: หมู่ที่ 1 ตำบลหอมศีล อำเภอบางปะกง จังหวัดฉะเชิงเทรา 24180 | O107: =_xlfn.CONCAT(J107," ",N107) -> องค์การบริหารส่วนตำบลหอมศีล อำเภอบางปะกง จังหวัดฉะเชิงเทรา หมู่ที่ 1 ตำบลหอมศีล อำเภอบางปะกง จังหวัดฉะเชิงเทรา 24180 | P107: N/A
A108: 0107 | B108: 06240208 | C108: องค์การบริหารส่วนตำบลหัวไทร | D108: 06 | E108: =INDEX(Sheet3!B:B,MATCH(D108,Sheet3!A:A,0)) -> องค์การบริหารส่วนตำบล | F108: 2402 | G108: =INDEX(Sheet2!B:B,MATCH(F108,Sheet2!A:A,1)) -> อำเภอบางคล้า | H108: 24 | I108: =INDEX(Sheet2!D:D,MATCH(H108,Sheet2!C:C,0)) -> จังหวัดฉะเชิงเทรา | J108: =_xlfn.CONCAT(C108," ",G108," ",I108) -> องค์การบริหารส่วนตำบลหัวไทร อำเภอบางคล้า จังหวัดฉะเชิงเทรา | K108: huasaibangkhla.go.th | L108: นายกองค์การบริหารส่วนตำบลหัวไทร | M108: =_xlfn.CONCAT("ปลัด",J108) -> ปลัดองค์การบริหารส่วนตำบลหัวไทร อำเภอบางคล้า จังหวัดฉะเชิงเทรา | N108: 99 หมู่ 4 ตำบลหัวไทร อำเภอบางคล้า จังหวัดฉะเชิงเทรา 24110 | O108: =_xlfn.CONCAT(J108," ",N108) -> องค์การบริหารส่วนตำบลหัวไทร อำเภอบางคล้า จังหวัดฉะเชิงเทรา 99 หมู่ 4 ตำบลหัวไทร อำเภอบางคล้า จังหวัดฉะเชิงเทรา 24110 | P108: N/A
A109: 0108 | B109: 06240906 | C109: องค์การบริหารส่วนตำบลหัวสำโรง | D109: 06 | E109: =INDEX(Sheet3!B:B,MATCH(D109,Sheet3!A:A,0)) -> องค์การบริหารส่วนตำบล | F109: 2409 | G109: =INDEX(Sheet2!B:B,MATCH(F109,Sheet2!A:A,1)) -> อำเภอแปลงยาว | H109: 24 | I109: =INDEX(Sheet2!D:D,MATCH(H109,Sheet2!C:C,0)) -> จังหวัดฉะเชิงเทรา | J109: =_xlfn.CONCAT(C109," ",G109," ",I109) -> องค์การบริหารส่วนตำบลหัวสำโรง อำเภอแปลงยาว จังหวัดฉะเชิงเทรา | K109: huasamrong-sao.go.th | L109: นายกองค์การบริหารส่วนตำบลหัวสำโรง | M109: =_xlfn.CONCAT("ปลัด",J109) -> ปลัดองค์การบริหารส่วนตำบลหัวสำโรง อำเภอแปลงยาว จังหวัดฉะเชิงเทรา | N109: เลขที่ 75 หมู่ที่ 9 ตำบลหัวสำโรง อำเภอแปลงยาว จังหวัดฉะเชิงเทรา 24190 | O109: =_xlfn.CONCAT(J109," ",N109) -> องค์การบริหารส่วนตำบลหัวสำโรง อำเภอแปลงยาว จังหวัดฉะเชิงเทรา เลขที่ 75 หมู่ที่ 9 ตำบลหัวสำโรง อำเภอแปลงยาว จังหวัดฉะเชิงเทรา 24190 | P109: N/A
A110: 0109 | B110: 06240516 | C110: องค์การบริหารส่วนตำบลแหลมประดู่ | D110: 06 | E110: =INDEX(Sheet3!B:B,MATCH(D110,Sheet3!A:A,0)) -> องค์การบริหารส่วนตำบล | F110: 2405 | G110: =INDEX(Sheet2!B:B,MATCH(F110,Sheet2!A:A,1)) -> อำเภอบ้านโพธิ์ | H110: 24 | I110: =INDEX(Sheet2!D:D,MATCH(H110,Sheet2!C:C,0)) -> จังหวัดฉะเชิงเทรา | J110: =_xlfn.CONCAT(C110," ",G110," ",I110) -> องค์การบริหารส่วนตำบลแหลมประดู่ อำเภอบ้านโพธิ์ จังหวัดฉะเชิงเทรา | K110: www.lampradoo.go.th | L110: นายกองค์การบริหารส่วนตำบลแหลมประดู่ | M110: =_xlfn.CONCAT("ปลัด",J110) -> ปลัดองค์การบริหารส่วนตำบลแหลมประดู่ อำเภอบ้านโพธิ์ จังหวัดฉะเชิงเทรา | N110: องค์การบริหารส่วนตำบลแหลมประดู่ อำเภอบ้านโพธิ์ จังหวัดฉะเชิงเทรา 24140 | O110: องค์การบริหารส่วนตำบลแหลมประดู่ อำเภอบ้านโพธิ์ จังหวัดฉะเชิงเทรา 24140 | P110: N/A
A111: 0110 | B111: 02200101 | C111: องค์การบริหารส่วนจังหวัดชลบุรี | D111: 02 | E111: =INDEX(Sheet3!B:B,MATCH(D111,Sheet3!A:A,0)) -> องค์การบริหารส่วนจังหวัด | F111: 2001 | G111: =INDEX(Sheet2!B:B,MATCH(F111,Sheet2!A:A,1)) -> อำเภอเมืองชลบุรี | H111: 20 | I111: =INDEX(Sheet2!D:D,MATCH(H111,Sheet2!C:C,0)) -> จังหวัดชลบุรี | J111: องค์การบริหารส่วนจังหวัดชลบุรี | K111: www.chon.go.th/cpao | L111: นายกองค์การบริหารส่วนจังหวัดชลบุรี | M111: =_xlfn.CONCAT("ปลัด",J111) -> ปลัดองค์การบริหารส่วนจังหวัดชลบุรี | N111: ตำบลเสม็ด อำเภอเมืองชลบุรี จังหวัดชลบุรี 20000 | O111: =_xlfn.CONCAT(J111," ",N111) -> องค์การบริหารส่วนจังหวัดชลบุรี ตำบลเสม็ด อำเภอเมืองชลบุรี จังหวัดชลบุรี 20000 | P111: 751R4
A112: 0111 | B112: 03200703 | C112: เทศบาลนครเจ้าพระยาสุรศักดิ์ | D112: 03 | E112: =INDEX(Sheet3!B:B,MATCH(D112,Sheet3!A:A,0)) -> เทศบาลนคร | F112: 2007 | G112: =INDEX(Sheet2!B:B,MATCH(F112,Sheet2!A:A,1)) -> อำเภอศรีราชา | H112: 20 | I112: =INDEX(Sheet2!D:D,MATCH(H112,Sheet2!C:C,0)) -> จังหวัดชลบุรี | J112: =_xlfn.CONCAT(C112," ",G112," ",I112) -> เทศบาลนครเจ้าพระยาสุรศักดิ์ อำเภอศรีราชา จังหวัดชลบุรี | K112: chaoprayasurasak.go.th | L112: นายกเทศมนตรีนครเจ้าพระยาสุรศักดิ์ | M112: =_xlfn.CONCAT("ปลัด",J112) -> ปลัดเทศบาลนครเจ้าพระยาสุรศักดิ์ อำเภอศรีราชา จังหวัดชลบุรี | N112: เลขที่ 8 หมู่ 1 ถนนสายท่อน้ำ ตำบลหนองขาม อำเภอศรีราชา จังหวัดชลบุรี 20230 | O112: =_xlfn.CONCAT(J112," ",N112) -> เทศบาลนครเจ้าพระยาสุรศักดิ์ อำเภอศรีราชา จังหวัดชลบุรี เลขที่ 8 หมู่ 1 ถนนสายท่อน้ำ ตำบลหนองขาม อำเภอศรีราชา จังหวัดชลบุรี 20230 | P112: 751SW
A113: 0112 | B113: 03200701 | C113: เทศบาลนครแหลมฉบัง | D113: 03 | E113: =INDEX(Sheet3!B:B,MATCH(D113,Sheet3!A:A,0)) -> เทศบาลนคร | F113: 2007 | G113: =INDEX(Sheet2!B:B,MATCH(F113,Sheet2!A:A,1)) -> อำเภอศรีราชา | H113: 20 | I113: =INDEX(Sheet2!D:D,MATCH(H113,Sheet2!C:C,0)) -> จังหวัดชลบุรี | J113: =_xlfn.CONCAT(C113," ",G113," ",I113) -> เทศบาลนครแหลมฉบัง อำเภอศรีราชา จังหวัดชลบุรี | K113: www.lcb.go.th | L113: นายกเทศมนตรีนครแหลมฉบัง | M113: =_xlfn.CONCAT("ปลัด",J113) -> ปลัดเทศบาลนครแหลมฉบัง อำเภอศรีราชา จังหวัดชลบุรี | N113: 99 หมู่ 10 ต.ทุ่งสุขลา อ.ศรีราชา จ.ชลบุรี 20230 | O113: =_xlfn.CONCAT(J113," ",N113) -> เทศบาลนครแหลมฉบัง อำเภอศรีราชา จังหวัดชลบุรี 99 หมู่ 10 ต.ทุ่งสุขลา อ.ศรีราชา จ.ชลบุรี 20230 | P113: 751SV
A114: 0113 | B114: 04200102 | C114: เทศบาลเมืองชลบุรี | D114: 04 | E114: =INDEX(Sheet3!B:B,MATCH(D114,Sheet3!A:A,0)) -> เทศบาลเมือง | F114: 2001 | G114: =INDEX(Sheet2!B:B,MATCH(F114,Sheet2!A:A,1)) -> อำเภอเมืองชลบุรี | H114: 20 | I114: =INDEX(Sheet2!D:D,MATCH(H114,Sheet2!C:C,0)) -> จังหวัดชลบุรี | J114: =_xlfn.CONCAT(C114," ",G114," ",I114) -> เทศบาลเมืองชลบุรี อำเภอเมืองชลบุรี จังหวัดชลบุรี | K114: chonburicity.go.th | L114: นายกเทศมนตรีเมืองชลบุรี | M114: =_xlfn.CONCAT("ปลัด",J114) -> ปลัดเทศบาลเมืองชลบุรี อำเภอเมืองชลบุรี จังหวัดชลบุรี | N114: ถนนวชิรปราการ ตำบลบางปลาสร้อย อำเภอเมืองชลบุรี จังหวัดชลบุรี 20000 | O114: =_xlfn.CONCAT(J114," ",N114) -> เทศบาลเมืองชลบุรี อำเภอเมืองชลบุรี จังหวัดชลบุรี ถนนวชิรปราการ ตำบลบางปลาสร้อย อำเภอเมืองชลบุรี จังหวัดชลบุรี 20000 | P114: 751QR
A115: 0114 | B115: 04200201 | C115: เทศบาลเมืองบ้านบึง | D115: 04 | E115: =INDEX(Sheet3!B:B,MATCH(D115,Sheet3!A:A,0)) -> เทศบาลเมือง | F115: 2002 | G115: =INDEX(Sheet2!B:B,MATCH(F115,Sheet2!A:A,1)) -> อำเภอบ้านบึง | H115: 20 | I115: =INDEX(Sheet2!D:D,MATCH(H115,Sheet2!C:C,0)) -> จังหวัดชลบุรี | J115: =_xlfn.CONCAT(C115," ",G115," ",I115) -> เทศบาลเมืองบ้านบึง อำเภอบ้านบึง จังหวัดชลบุรี | K115: www.banbungcity.go.th | L115: นายกเทศมนตรีเมืองบ้านบึง | M115: =_xlfn.CONCAT("ปลัด",J115) -> ปลัดเทศบาลเมืองบ้านบึง อำเภอบ้านบึง จังหวัดชลบุรี | N115: เลขที่ 335 ถนนชลบุรี-บ้านบึง ต.บ้านบึง อ.บ้านบึง จ.ชลบุรี 20170 | O115: =_xlfn.CONCAT(J115," ",N115) -> เทศบาลเมืองบ้านบึง อำเภอบ้านบึง จังหวัดชลบุรี เลขที่ 335 ถนนชลบุรี-บ้านบึง ต.บ้านบึง อ.บ้านบึง จ.ชลบุรี 20170 | P115: 751R8
A116: 0115 | B116: 04200104 | C116: เทศบาลเมืองบ้านสวน | D116: 04 | E116: =INDEX(Sheet3!B:B,MATCH(D116,Sheet3!A:A,0)) -> เทศบาลเมือง | F116: 2001 | G116: =INDEX(Sheet2!B:B,MATCH(F116,Sheet2!A:A,1)) -> อำเภอเมืองชลบุรี | H116: 20 | I116: =INDEX(Sheet2!D:D,MATCH(H116,Sheet2!C:C,0)) -> จังหวัดชลบุรี | J116: =_xlfn.CONCAT(C116," ",G116," ",I116) -> เทศบาลเมืองบ้านสวน อำเภอเมืองชลบุรี จังหวัดชลบุรี | K116: www.bansuan.go.th | L116: นายกเทศมนตรีเมืองบ้านสวน | M116: =_xlfn.CONCAT("ปลัด",J116) -> ปลัดเทศบาลเมืองบ้านสวน อำเภอเมืองชลบุรี จังหวัดชลบุรี | N116: 999 หมู่ 3 ถนนพระยาสัจจา ตำบลบ้านสวน อำเภอเมืองชลบุรี จังหวัดชลบุรี 20000 | O116: =_xlfn.CONCAT(J116," ",N116) -> เทศบาลเมืองบ้านสวน อำเภอเมืองชลบุรี จังหวัดชลบุรี 999 หมู่ 3 ถนนพระยาสัจจา ตำบลบ้านสวน อำเภอเมืองชลบุรี จังหวัดชลบุรี 20000 | P116: 751QS
A117: 0116 | B117: 04201101 | C117: เทศบาลเมืองปรกฟ้า | D117: 04 | E117: =INDEX(Sheet3!B:B,MATCH(D117,Sheet3!A:A,0)) -> เทศบาลเมือง | F117: 2011 | G117: =INDEX(Sheet2!B:B,MATCH(F117,Sheet2!A:A,1)) -> อำเภอเกาะจันทร์ | H117: 20 | I117: =INDEX(Sheet2!D:D,MATCH(H117,Sheet2!C:C,0)) -> จังหวัดชลบุรี | J117: =_xlfn.CONCAT(C117," ",G117," ",I117) -> เทศบาลเมืองปรกฟ้า อำเภอเกาะจันทร์ จังหวัดชลบุรี | K117: www.prokfa.go.th | L117: นายกเทศมนตรีเมืองปรกฟ้า | M117: =_xlfn.CONCAT("ปลัด",J117) -> ปลัดเทศบาลเมืองปรกฟ้า อำเภอเกาะจันทร์ จังหวัดชลบุรี | N117: 999 หมู่ 7 ตำบลเกาะจันทร์ อำเภอเกาะจันทร์ จังหวัดชลบุรี 20240 | O117: =_xlfn.CONCAT(J117," ",N117) -> เทศบาลเมืองปรกฟ้า อำเภอเกาะจันทร์ จังหวัดชลบุรี 999 หมู่ 7 ตำบลเกาะจันทร์ อำเภอเกาะจันทร์ จังหวัดชลบุรี 20240 | P117: 751TJ
A118: 0117 | B118: 04200601 | C118: เทศบาลเมืองพนัสนิคม | D118: 04 | E118: =INDEX(Sheet3!B:B,MATCH(D118,Sheet3!A:A,0)) -> เทศบาลเมือง | F118: 2006 | G118: =INDEX(Sheet2!B:B,MATCH(F118,Sheet2!A:A,1)) -> อำเภอพนัสนิคม | H118: 20 | I118: =INDEX(Sheet2!D:D,MATCH(H118,Sheet2!C:C,0)) -> จังหวัดชลบุรี | J118: =_xlfn.CONCAT(C118," ",G118," ",I118) -> เทศบาลเมืองพนัสนิคม อำเภอพนัสนิคม จังหวัดชลบุรี | K118: www.phanatnikhomcity.go.th | L118: นายกเทศมนตรีเมืองพนัสนิคม | M118: =_xlfn.CONCAT("ปลัด",J118) -> ปลัดเทศบาลเมืองพนัสนิคม อำเภอพนัสนิคม จังหวัดชลบุรี | N118: 22/7 ถนนเมืองเก่า ตำบลพนัสนิคม อำเภอพนัสนิคม จังหวัดชลบุรี 20140 | O118: =_xlfn.CONCAT(J118," ",N118) -> เทศบาลเมืองพนัสนิคม อำเภอพนัสนิคม จังหวัดชลบุรี 22/7 ถนนเมืองเก่า ตำบลพนัสนิคม อำเภอพนัสนิคม จังหวัดชลบุรี 20140 | P118: 751S8
A119: 0118 | B119: 04200702 | C119: เทศบาลเมืองศรีราชา | D119: 04 | E119: =INDEX(Sheet3!B:B,MATCH(D119,Sheet3!A:A,0)) -> เทศบาลเมือง | F119: 2007 | G119: =INDEX(Sheet2!B:B,MATCH(F119,Sheet2!A:A,1)) -> อำเภอศรีราชา | H119: 20 | I119: =INDEX(Sheet2!D:D,MATCH(H119,Sheet2!C:C,0)) -> จังหวัดชลบุรี | J119: =_xlfn.CONCAT(C119," ",G119," ",I119) -> เทศบาลเมืองศรีราชา อำเภอศรีราชา จังหวัดชลบุรี | K119: www.srirachacity.go.th | L119: นายกเทศมนตรีเมืองศรีราชา | M119: =_xlfn.CONCAT("ปลัด",J119) -> ปลัดเทศบาลเมืองศรีราชา อำเภอศรีราชา จังหวัดชลบุรี | N119: เลขที่ 161 ถนนเจิมจอมพล ตำบลศรีราชา อำเภอศรีราชา จังหวัดชลบุรี 20110 | O119: =_xlfn.CONCAT(J119," ",N119) -> เทศบาลเมืองศรีราชา อำเภอศรีราชา จังหวัดชลบุรี เลขที่ 161 ถนนเจิมจอมพล ตำบลศรีราชา อำเภอศรีราชา จังหวัดชลบุรี 20110 | P119: 751SU
A120: 0119 | B120: 04200901 | C120: เทศบาลเมืองสัตหีบ | D120: 04 | E120: =INDEX(Sheet3!B:B,MATCH(D120,Sheet3!A:A,0)) -> เทศบาลเมือง | F120: 2009 | G120: =INDEX(Sheet2!B:B,MATCH(F120,Sheet2!A:A,1)) -> อำเภอสัตหีบ | H120: 20 | I120: =INDEX(Sheet2!D:D,MATCH(H120,Sheet2!C:C,0)) -> จังหวัดชลบุรี | J120: =_xlfn.CONCAT(C120," ",G120," ",I120) -> เทศบาลเมืองสัตหีบ อำเภอสัตหีบ จังหวัดชลบุรี | K120: www.sattahipmunicipality.go.th | L120: นายกเทศมนตรีเมืองสัตหีบ | M120: =_xlfn.CONCAT("ปลัด",J120) -> ปลัดเทศบาลเมืองสัตหีบ อำเภอสัตหีบ จังหวัดชลบุรี | N120: เลขที่ 654 ถนนเทศบาล 13 หมู่ที่ 2 ตำบลสัตหีบ อำเภอสัตหีบ จังหวัดชลบุรี รหัสไปรษณีย์ 20180 | O120: =_xlfn.CONCAT(J120," ",N120) -> เทศบาลเมืองสัตหีบ อำเภอสัตหีบ จังหวัดชลบุรี เลขที่ 654 ถนนเทศบาล 13 หมู่ที่ 2 ตำบลสัตหีบ อำเภอสัตหีบ จังหวัดชลบุรี รหัสไปรษณีย์ 20180 | P120: 751T3
A121: 0120 | B121: 04200103 | C121: เทศบาลเมืองแสนสุข | D121: 04 | E121: =INDEX(Sheet3!B:B,MATCH(D121,Sheet3!A:A,0)) -> เทศบาลเมือง | F121: 2001 | G121: =INDEX(Sheet2!B:B,MATCH(F121,Sheet2!A:A,1)) -> อำเภอเมืองชลบุรี | H121: 20 | I121: =INDEX(Sheet2!D:D,MATCH(H121,Sheet2!C:C,0)) -> จังหวัดชลบุรี | J121: =_xlfn.CONCAT(C121," ",G121," ",I121) -> เทศบาลเมืองแสนสุข อำเภอเมืองชลบุรี จังหวัดชลบุรี | K121: www.saensukcity.go.th | L121: นายกเทศมนตรีเมืองแสนสุข | M121: =_xlfn.CONCAT("ปลัด",J121) -> ปลัดเทศบาลเมืองแสนสุข อำเภอเมืองชลบุรี จังหวัดชลบุรี | N121: ถ.บางแสนสาย 2 ต.แสนสุข อ.เมือง จ.ชลบุรี 20130 | O121: =_xlfn.CONCAT(J121," ",N121) -> เทศบาลเมืองแสนสุข อำเภอเมืองชลบุรี จังหวัดชลบุรี ถ.บางแสนสาย 2 ต.แสนสุข อ.เมือง จ.ชลบุรี 20130 | P121: 751QT
A122: 0121 | B122: 04200401 | C122: เทศบาลเมืองหนองปรือ | D122: 04 | E122: =INDEX(Sheet3!B:B,MATCH(D122,Sheet3!A:A,0)) -> เทศบาลเมือง | F122: 2004 | G122: =INDEX(Sheet2!B:B,MATCH(F122,Sheet2!A:A,1)) -> อำเภอบางละมุง | H122: 20 | I122: =INDEX(Sheet2!D:D,MATCH(H122,Sheet2!C:C,0)) -> จังหวัดชลบุรี | J122: =_xlfn.CONCAT(C122," ",G122," ",I122) -> เทศบาลเมืองหนองปรือ อำเภอบางละมุง จังหวัดชลบุรี | K122: nongpruecity.go.th | L122: นายกเทศมนตรีเมืองหนองปรือ | M122: =_xlfn.CONCAT("ปลัด",J122) -> ปลัดเทศบาลเมืองหนองปรือ อำเภอบางละมุง จังหวัดชลบุรี | N122: 111 หมู่ที่ 7 ตำบลหนองปรือ อำเภอบางละมุง จังหวัดชลบุรี 20150 | O122: =_xlfn.CONCAT(J122," ",N122) -> เทศบาลเมืองหนองปรือ อำเภอบางละมุง จังหวัดชลบุรี 111 หมู่ที่ 7 ตำบลหนองปรือ อำเภอบางละมุง จังหวัดชลบุรี 20150 | P122: 751RR
A123: 0122 | B123: 04200105 | C123: เทศบาลเมืองอ่างศิลา | D123: 04 | E123: =INDEX(Sheet3!B:B,MATCH(D123,Sheet3!A:A,0)) -> เทศบาลเมือง | F123: 2001 | G123: =INDEX(Sheet2!B:B,MATCH(F123,Sheet2!A:A,1)) -> อำเภอเมืองชลบุรี | H123: 20 | I123: =INDEX(Sheet2!D:D,MATCH(H123,Sheet2!C:C,0)) -> จังหวัดชลบุรี | J123: =_xlfn.CONCAT(C123," ",G123," ",I123) -> เทศบาลเมืองอ่างศิลา อำเภอเมืองชลบุรี จังหวัดชลบุรี | K123: www.angsilacity.go.th | L123: นายกเทศมนตรีเมืองอ่างศิลา | M123: =_xlfn.CONCAT("ปลัด",J123) -> ปลัดเทศบาลเมืองอ่างศิลา อำเภอเมืองชลบุรี จังหวัดชลบุรี | N123: 90/338 ม.3 ต.เสม็ด อ.เมือง จ.ชลบุรี 20000 | O123: =_xlfn.CONCAT(J123," ",N123) -> เทศบาลเมืองอ่างศิลา อำเภอเมืองชลบุรี จังหวัดชลบุรี 90/338 ม.3 ต.เสม็ด อ.เมือง จ.ชลบุรี 20000 | P123: 751R5
A124: 0123 | B124: 05200603 | C124: เทศบาลตำบลกุฎโง้ง | D124: 05 | E124: =INDEX(Sheet3!B:B,MATCH(D124,Sheet3!A:A,0)) -> เทศบาลตำบล | F124: 2006 | G124: =INDEX(Sheet2!B:B,MATCH(F124,Sheet2!A:A,1)) -> อำเภอพนัสนิคม | H124: 20 | I124: =INDEX(Sheet2!D:D,MATCH(H124,Sheet2!C:C,0)) -> จังหวัดชลบุรี | J124: =_xlfn.CONCAT(C124," ",G124," ",I124) -> เทศบาลตำบลกุฎโง้ง อำเภอพนัสนิคม จังหวัดชลบุรี | K124: kudngong.go.th | L124: นายกเทศมนตรีตำบลกุฏโง้ง | M124: =_xlfn.CONCAT("ปลัด",J124) -> ปลัดเทศบาลตำบลกุฎโง้ง อำเภอพนัสนิคม จังหวัดชลบุรี | N124: เทศบาลตำบลกุฎโง้ง อำเภอพนัสนิคม จังหวัดชลบุรี 20140 | O124: เทศบาลตำบลกุฎโง้ง อำเภอพนัสนิคม จังหวัดชลบุรี 20140 | P124: N/A
A125: 0124 | B125: 05200906 | C125: เทศบาลตำบลเกล็ดแก้ว | D125: 05 | E125: =INDEX(Sheet3!B:B,MATCH(D125,Sheet3!A:A,0)) -> เทศบาลตำบล | F125: 2009 | G125: =INDEX(Sheet2!B:B,MATCH(F125,Sheet2!A:A,1)) -> อำเภอสัตหีบ | H125: 20 | I125: =INDEX(Sheet2!D:D,MATCH(H125,Sheet2!C:C,0)) -> จังหวัดชลบุรี | J125: =_xlfn.CONCAT(C125," ",G125," ",I125) -> เทศบาลตำบลเกล็ดแก้ว อำเภอสัตหีบ จังหวัดชลบุรี | K125: www.kledkaew.go.th | L125: นายกเทศมนตรีตำบลเกล็ดแก้ว | M125: =_xlfn.CONCAT("ปลัด",J125) -> ปลัดเทศบาลตำบลเกล็ดแก้ว อำเภอสัตหีบ จังหวัดชลบุรี | N125: 333 หมู่ที่ 6 ตำบลบางเสร่ อำเภอสัตหีบ จังหวัดชลบุรี 20250 | O125: =_xlfn.CONCAT(J125," ",N125) -> เทศบาลตำบลเกล็ดแก้ว อำเภอสัตหีบ จังหวัดชลบุรี 333 หมู่ที่ 6 ตำบลบางเสร่ อำเภอสัตหีบ จังหวัดชลบุรี 20250 | P125: N/A
A126: 0125 | B126: 05201102 | C126: เทศบาลตำบลเกาะจันทร์ | D126: 05 | E126: =INDEX(Sheet3!B:B,MATCH(D126,Sheet3!A:A,0)) -> เทศบาลตำบล | F126: 2011 | G126: =INDEX(Sheet2!B:B,MATCH(F126,Sheet2!A:A,1)) -> อำเภอเกาะจันทร์ | H126: 20 | I126: =INDEX(Sheet2!D:D,MATCH(H126,Sheet2!C:C,0)) -> จังหวัดชลบุรี | J126: =_xlfn.CONCAT(C126," ",G126," ",I126) -> เทศบาลตำบลเกาะจันทร์ อำเภอเกาะจันทร์ จังหวัดชลบุรี | K126: www.kochanmunic.go.th | L126: นายกเทศมนตรีตำบลเกาะจันทร์ | M126: =_xlfn.CONCAT("ปลัด",J126) -> ปลัดเทศบาลตำบลเกาะจันทร์ อำเภอเกาะจันทร์ จังหวัดชลบุรี | N126: 1/9 หมู่ที่ 1 ตำบลเกาะจันทร์ อำเภอเกาะจันทร์ จังหวัดชลบุรี 20240 | O126: =_xlfn.CONCAT(J126," ",N126) -> เทศบาลตำบลเกาะจันทร์ อำเภอเกาะจันทร์ จังหวัดชลบุรี 1/9 หมู่ที่ 1 ตำบลเกาะจันทร์ อำเภอเกาะจันทร์ จังหวัดชลบุรี 20240 | P126: N/A
A127: 0126 | B127: 05200801 | C127: เทศบาลตำบลเกาะสีชัง | D127: 05 | E127: =INDEX(Sheet3!B:B,MATCH(D127,Sheet3!A:A,0)) -> เทศบาลตำบล | F127: 2008 | G127: =INDEX(Sheet2!B:B,MATCH(F127,Sheet2!A:A,1)) -> อำเภอเกาะสีชัง | H127: 20 | I127: =INDEX(Sheet2!D:D,MATCH(H127,Sheet2!C:C,0)) -> จังหวัดชลบุรี | J127: =_xlfn.CONCAT(C127," ",G127," ",I127) -> เทศบาลตำบลเกาะสีชัง อำเภอเกาะสีชัง จังหวัดชลบุรี | K127: www.kohsichang.go.th | L127: นายกเทศมนตรีตำบลเกาะสีชัง | M127: =_xlfn.CONCAT("ปลัด",J127) -> ปลัดเทศบาลตำบลเกาะสีชัง อำเภอเกาะสีชัง จังหวัดชลบุรี | N127: 70 หมู่ 5 ถนนอัษฎางค์ ตำบลท่าเทววงษ์ อำเภอเกาะสีชัง จังหวัดชลบุรี 20120 | O127: =_xlfn.CONCAT(J127," ",N127) -> เทศบาลตำบลเกาะสีชัง อำเภอเกาะสีชัง จังหวัดชลบุรี 70 หมู่ 5 ถนนอัษฎางค์ ตำบลท่าเทววงษ์ อำเภอเกาะสีชัง จังหวัดชลบุรี 20120 | P127: N/A
A128: 0127 | B128: 05200905 | C128: เทศบาลตำบลเขตรอุดมศักดิ์ | D128: 05 | E128: =INDEX(Sheet3!B:B,MATCH(D128,Sheet3!A:A,0)) -> เทศบาลตำบล | F128: 2009 | G128: =INDEX(Sheet2!B:B,MATCH(F128,Sheet2!A:A,1)) -> อำเภอสัตหีบ | H128: 20 | I128: =INDEX(Sheet2!D:D,MATCH(H128,Sheet2!C:C,0)) -> จังหวัดชลบุรี | J128: =_xlfn.CONCAT(C128," ",G128," ",I128) -> เทศบาลตำบลเขตรอุดมศักดิ์ อำเภอสัตหีบ จังหวัดชลบุรี | K128: www.sattahip.go.th | L128: นายกเทศมนตรีตำบลเขตรอุดมศักดิ์ | M128: =_xlfn.CONCAT("ปลัด",J128) -> ปลัดเทศบาลตำบลเขตรอุดมศักดิ์ อำเภอสัตหีบ จังหวัดชลบุรี | N128: เลขที่ 100 หมู่ที่ 8 ถ.สุขุมวิท ต.สัตหีบ อ.สัตหีบ จ.ชลบุรี 20180 | O128: =_xlfn.CONCAT(J128," ",N128) -> เทศบาลตำบลเขตรอุดมศักดิ์ อำเภอสัตหีบ จังหวัดชลบุรี เลขที่ 100 หมู่ที่ 8 ถ.สุขุมวิท ต.สัตหีบ อ.สัตหีบ จ.ชลบุรี 20180 | P128: N/A
A129: 0128 | B129: 05200902 | C129: เทศบาลตำบลเขาชีจรรย์ | D129: 05 | E129: =INDEX(Sheet3!B:B,MATCH(D129,Sheet3!A:A,0)) -> เทศบาลตำบล | F129: 2009 | G129: =INDEX(Sheet2!B:B,MATCH(F129,Sheet2!A:A,1)) -> อำเภอสัตหีบ | H129: 20 | I129: =INDEX(Sheet2!D:D,MATCH(H129,Sheet2!C:C,0)) -> จังหวัดชลบุรี | J129: =_xlfn.CONCAT(C129," ",G129," ",I129) -> เทศบาลตำบลเขาชีจรรย์ อำเภอสัตหีบ จังหวัดชลบุรี | K129: www.khaocheechan.go.th | L129: นายกเทศมนตรีตำบลเขาชีจรรย์ | M129: =_xlfn.CONCAT("ปลัด",J129) -> ปลัดเทศบาลตำบลเขาชีจรรย์ อำเภอสัตหีบ จังหวัดชลบุรี | N129: 99/9 หมู่ที่ 6 ตำบลนาจอมเทียน อำเภอสัตหีบ จังหวัดชลบุรี 20250 | O129: =_xlfn.CONCAT(J129," ",N129) -> เทศบาลตำบลเขาชีจรรย์ อำเภอสัตหีบ จังหวัดชลบุรี 99/9 หมู่ที่ 6 ตำบลนาจอมเทียน อำเภอสัตหีบ จังหวัดชลบุรี 20250 | P129: N/A
A130: 0129 | B130: 05200107 | C130: เทศบาลตำบลคลองตำหรุ | D130: 05 | E130: =INDEX(Sheet3!B:B,MATCH(D130,Sheet3!A:A,0)) -> เทศบาลตำบล | F130: 2001 | G130: =INDEX(Sheet2!B:B,MATCH(F130,Sheet2!A:A,1)) -> อำเภอเมืองชลบุรี | H130: 20 | I130: =INDEX(Sheet2!D:D,MATCH(H130,Sheet2!C:C,0)) -> จังหวัดชลบุรี | J130: =_xlfn.CONCAT(C130," ",G130," ",I130) -> เทศบาลตำบลคลองตำหรุ อำเภอเมืองชลบุรี จังหวัดชลบุรี | K130: www.klongtumrucity.go.th | L130: นายกเทศมนตรีตำบลคลองตำหรุ | M130: =_xlfn.CONCAT("ปลัด",J130) -> ปลัดเทศบาลตำบลคลองตำหรุ อำเภอเมืองชลบุรี จังหวัดชลบุรี | N130: 88 ม.3 ตำบลคลองตำหรุ อำเภอเมือง จังหวัดชลบุรี 20000 | O130: =_xlfn.CONCAT(J130," ",N130) -> เทศบาลตำบลคลองตำหรุ อำเภอเมืองชลบุรี จังหวัดชลบุรี 88 ม.3 ตำบลคลองตำหรุ อำเภอเมือง จังหวัดชลบุรี 20000 | P130: N/A
A131: 0130 | B131: 05200110 | C131: เทศบาลตำบลดอนหัวฬ่อ | D131: 05 | E131: =INDEX(Sheet3!B:B,MATCH(D131,Sheet3!A:A,0)) -> เทศบาลตำบล | F131: 2001 | G131: =INDEX(Sheet2!B:B,MATCH(F131,Sheet2!A:A,1)) -> อำเภอเมืองชลบุรี | H131: 20 | I131: =INDEX(Sheet2!D:D,MATCH(H131,Sheet2!C:C,0)) -> จังหวัดชลบุรี | J131: =_xlfn.CONCAT(C131," ",G131," ",I131) -> เทศบาลตำบลดอนหัวฬ่อ อำเภอเมืองชลบุรี จังหวัดชลบุรี | K131: www.dhr.go.th | L131: นายกเทศมนตรีตำบลดอนหัวฬ่อ | M131: =_xlfn.CONCAT("ปลัด",J131) -> ปลัดเทศบาลตำบลดอนหัวฬ่อ อำเภอเมืองชลบุรี จังหวัดชลบุรี | N131: 49 หมู่ 6 ถนนดอนหัวฬ่อ-นาป่า ตำบลดอนหัวฬ่อ อำเภอเมืองชลบุรี จังหวัดชลบุรี 20000 | O131: =_xlfn.CONCAT(J131," ",N131) -> เทศบาลตำบลดอนหัวฬ่อ อำเภอเมืองชลบุรี จังหวัดชลบุรี 49 หมู่ 6 ถนนดอนหัวฬ่อ-นาป่า ตำบลดอนหัวฬ่อ อำเภอเมืองชลบุรี จังหวัดชลบุรี 20000 | P131: N/A
A132: 0131 | B132: 05200405 | C132: เทศบาลตำบลตะเคียนเตี้ย | D132: 05 | E132: =INDEX(Sheet3!B:B,MATCH(D132,Sheet3!A:A,0)) -> เทศบาลตำบล | F132: 2004 | G132: =INDEX(Sheet2!B:B,MATCH(F132,Sheet2!A:A,1)) -> อำเภอบางละมุง | H132: 20 | I132: =INDEX(Sheet2!D:D,MATCH(H132,Sheet2!C:C,0)) -> จังหวัดชลบุรี | J132: =_xlfn.CONCAT(C132," ",G132," ",I132) -> เทศบาลตำบลตะเคียนเตี้ย อำเภอบางละมุง จังหวัดชลบุรี | K132: takhiantia.go.th | L132: นายกเทศมนตรีตำบลตะเคียนเตี้ย | M132: =_xlfn.CONCAT("ปลัด",J132) -> ปลัดเทศบาลตำบลตะเคียนเตี้ย อำเภอบางละมุง จังหวัดชลบุรี | N132: เลขที่ 88 หมู่ที่ 3 ถนนโรงโป๊ะ-เขาไม้แก้ว ตำบลตะเคียนเตี้ย อำเภอบางละมุง จังหวัดชลบุรี 20150 | O132: =_xlfn.CONCAT(J132," ",N132) -> เทศบาลตำบลตะเคียนเตี้ย อำเภอบางละมุง จังหวัดชลบุรี เลขที่ 88 หมู่ที่ 3 ถนนโรงโป๊ะ-เขาไม้แก้ว ตำบลตะเคียนเตี้ย อำเภอบางละมุง จังหวัดชลบุรี 20150 | P132: N/A
A133: 0132 | B133: 05201103 | C133: เทศบาลตำบลท่าบุญมี | D133: 05 | E133: =INDEX(Sheet3!B:B,MATCH(D133,Sheet3!A:A,0)) -> เทศบาลตำบล | F133: 2011 | G133: =INDEX(Sheet2!B:B,MATCH(F133,Sheet2!A:A,1)) -> อำเภอเกาะจันทร์ | H133: 20 | I133: =INDEX(Sheet2!D:D,MATCH(H133,Sheet2!C:C,0)) -> จังหวัดชลบุรี | J133: =_xlfn.CONCAT(C133," ",G133," ",I133) -> เทศบาลตำบลท่าบุญมี อำเภอเกาะจันทร์ จังหวัดชลบุรี | K133: www.thabunmee.go.th | L133: นายกเทศมนตรีตำบลท่าบุญมี | M133: =_xlfn.CONCAT("ปลัด",J133) -> ปลัดเทศบาลตำบลท่าบุญมี อำเภอเกาะจันทร์ จังหวัดชลบุรี | N133: 999 หมู่ที่ 4 ถ.เกาะโพธิ์-สามแยก ต.ท่าบุญมี อ.เกาะจันทร์ จ.ชลบุรี 20240 | O133: =_xlfn.CONCAT(J133," ",N133) -> เทศบาลตำบลท่าบุญมี อำเภอเกาะจันทร์ จังหวัดชลบุรี 999 หมู่ที่ 4 ถ.เกาะโพธิ์-สามแยก ต.ท่าบุญมี อ.เกาะจันทร์ จ.ชลบุรี 20240 | P133: N/A
A134: 0133 | B134: 05201002 | C134: เทศบาลตำบลธาตุทอง | D134: 05 | E134: =INDEX(Sheet3!B:B,MATCH(D134,Sheet3!A:A,0)) -> เทศบาลตำบล | F134: 2010 | G134: =INDEX(Sheet2!B:B,MATCH(F134,Sheet2!A:A,1)) -> อำเภอบ่อทอง | H134: 20 | I134: =INDEX(Sheet2!D:D,MATCH(H134,Sheet2!C:C,0)) -> จังหวัดชลบุรี | J134: =_xlfn.CONCAT(C134," ",G134," ",I134) -> เทศบาลตำบลธาตุทอง อำเภอบ่อทอง จังหวัดชลบุรี | K134: www.thadtongcity.go.th | L134: นายกเทศมนตรีตำบลธาตุทอง | M134: =_xlfn.CONCAT("ปลัด",J134) -> ปลัดเทศบาลตำบลธาตุทอง อำเภอบ่อทอง จังหวัดชลบุรี | N134: เลขที่ 1 หมู่ที่ 1 ตำบลธาตุทอง อำเภอบ่อทอง จังหวัดชลบุรี 20270 | O134: =_xlfn.CONCAT(J134," ",N134) -> เทศบาลตำบลธาตุทอง อำเภอบ่อทอง จังหวัดชลบุรี เลขที่ 1 หมู่ที่ 1 ตำบลธาตุทอง อำเภอบ่อทอง จังหวัดชลบุรี 20270 | P134: N/A
A135: 0134 | B135: 05200903 | C135: เทศบาลตำบลนาจอมเทียน | D135: 05 | E135: =INDEX(Sheet3!B:B,MATCH(D135,Sheet3!A:A,0)) -> เทศบาลตำบล | F135: 2009 | G135: =INDEX(Sheet2!B:B,MATCH(F135,Sheet2!A:A,1)) -> อำเภอสัตหีบ | H135: 20 | I135: =INDEX(Sheet2!D:D,MATCH(H135,Sheet2!C:C,0)) -> จังหวัดชลบุรี | J135: =_xlfn.CONCAT(C135," ",G135," ",I135) -> เทศบาลตำบลนาจอมเทียน อำเภอสัตหีบ จังหวัดชลบุรี | K135: www.tessabannajomtien.go.th | L135: นายกเทศมนตรีตำบลนาจอมเทียน | M135: =_xlfn.CONCAT("ปลัด",J135) -> ปลัดเทศบาลตำบลนาจอมเทียน อำเภอสัตหีบ จังหวัดชลบุรี | N135: 999 หมู่ที่ 4 ตำบลนาจอมเทียน อำเภอสัตหีบ จังหวัดชลบุรี 20250 | O135: =_xlfn.CONCAT(J135," ",N135) -> เทศบาลตำบลนาจอมเทียน อำเภอสัตหีบ จังหวัดชลบุรี 999 หมู่ที่ 4 ตำบลนาจอมเทียน อำเภอสัตหีบ จังหวัดชลบุรี 20250 | P135: N/A
A136: 0135 | B136: 05200113 | C136: เทศบาลตำบลนาป่า | D136: 05 | E136: =INDEX(Sheet3!B:B,MATCH(D136,Sheet3!A:A,0)) -> เทศบาลตำบล | F136: 2001 | G136: =INDEX(Sheet2!B:B,MATCH(F136,Sheet2!A:A,1)) -> อำเภอเมืองชลบุรี | H136: 20 | I136: =INDEX(Sheet2!D:D,MATCH(H136,Sheet2!C:C,0)) -> จังหวัดชลบุรี | J136: =_xlfn.CONCAT(C136," ",G136," ",I136) -> เทศบาลตำบลนาป่า อำเภอเมืองชลบุรี จังหวัดชลบุรี | K136: www.napachon.go.th | L136: นายกเทศมนตรีตำบลนาป่า | M136: =_xlfn.CONCAT("ปลัด",J136) -> ปลัดเทศบาลตำบลนาป่า อำเภอเมืองชลบุรี จังหวัดชลบุรี | N136: เลขที่ 89 หมู่ที่ 2 ตำบลนาป่า อำเภอเมืองชลบุรี จังหวัดชลบุรี 20000 | O136: =_xlfn.CONCAT(J136," ",N136) -> เทศบาลตำบลนาป่า อำเภอเมืองชลบุรี จังหวัดชลบุรี เลขที่ 89 หมู่ที่ 2 ตำบลนาป่า อำเภอเมืองชลบุรี จังหวัดชลบุรี 20000 | P136: N/A
... A172: 0171 | B172: 06200606 | C172: องค์การบริหารส่วนตำบลทุ่งขวาง | D172: 06 | E172: =INDEX(Sheet3!B:B,MATCH(D172,Sheet3!A:A,0)) -> องค์การบริหารส่วนตำบล | F172: 2006 | G172: =INDEX(Sheet2!B:B,MATCH(F172,Sheet2!A:A,1)) -> อำเภอพนัสนิคม | H172: 20 | I172: =INDEX(Sheet2!D:D,MATCH(H172,Sheet2!C:C,0)) -> จังหวัดชลบุรี | J172: =_xlfn.CONCAT(C172," ",G172," ",I172) -> องค์การบริหารส่วนตำบลทุ่งขวาง อำเภอพนัสนิคม จังหวัดชลบุรี | K172: www.thungkwang.go.th | L172: นายกองค์การบริหารส่วนตำบลทุ่งขวาง | M172: =_xlfn.CONCAT("ปลัด",J172) -> ปลัดองค์การบริหารส่วนตำบลทุ่งขวาง อำเภอพนัสนิคม จังหวัดชลบุรี | N172: 49 หมู่ที่ 3 อำเภอพนัสนิคม จังหวัดชลบุรี 20140 | O172: =_xlfn.CONCAT(J172," ",N172) -> องค์การบริหารส่วนตำบลทุ่งขวาง อำเภอพนัสนิคม จังหวัดชลบุรี 49 หมู่ที่ 3 อำเภอพนัสนิคม จังหวัดชลบุรี 20140 | P172: N/A
A173: 0172 | B173: 06200607 | C173: องค์การบริหารส่วนตำบลนามะตูม | D173: 06 | E173: =INDEX(Sheet3!B:B,MATCH(D173,Sheet3!A:A,0)) -> องค์การบริหารส่วนตำบล | F173: 2006 | G173: =INDEX(Sheet2!B:B,MATCH(F173,Sheet2!A:A,1)) -> อำเภอพนัสนิคม | H173: 20 | I173: =INDEX(Sheet2!D:D,MATCH(H173,Sheet2!C:C,0)) -> จังหวัดชลบุรี | J173: =_xlfn.CONCAT(C173," ",G173," ",I173) -> องค์การบริหารส่วนตำบลนามะตูม อำเภอพนัสนิคม จังหวัดชลบุรี | K173: namatoom.go.th | L173: นายกองค์การบริหารส่วนตำบลนามะตูม | M173: =_xlfn.CONCAT("ปลัด",J173) -> ปลัดองค์การบริหารส่วนตำบลนามะตูม อำเภอพนัสนิคม จังหวัดชลบุรี | N173: องค์การบริหารส่วนตำบลนามะตูม อำเภอพนัสนิคม จังหวัดชลบุรี 20140 | O173: องค์การบริหารส่วนตำบลนามะตูม อำเภอพนัสนิคม จังหวัดชลบุรี 20140 | P173: N/A
A174: 0173 | B174: 06200608 | C174: องค์การบริหารส่วนตำบลนาเริก | D174: 06 | E174: =INDEX(Sheet3!B:B,MATCH(D174,Sheet3!A:A,0)) -> องค์การบริหารส่วนตำบล | F174: 2006 | G174: =INDEX(Sheet2!B:B,MATCH(F174,Sheet2!A:A,1)) -> อำเภอพนัสนิคม | H174: 20 | I174: =INDEX(Sheet2!D:D,MATCH(H174,Sheet2!C:C,0)) -> จังหวัดชลบุรี | J174: =_xlfn.CONCAT(C174," ",G174," ",I174) -> องค์การบริหารส่วนตำบลนาเริก อำเภอพนัสนิคม จังหวัดชลบุรี | K174: www.narerk.go.th | L174: นายกองค์การบริหารส่วนตำบลนาเริก | M174: =_xlfn.CONCAT("ปลัด",J174) -> ปลัดองค์การบริหารส่วนตำบลนาเริก อำเภอพนัสนิคม จังหวัดชลบุรี | N174: หมู่ที่ 10 ตำบลนาเริก อำเภอพนัสนิคม จังหวัดชลบุรี 20240 | O174: =_xlfn.CONCAT(J174," ",N174) -> องค์การบริหารส่วนตำบลนาเริก อำเภอพนัสนิคม จังหวัดชลบุรี หมู่ที่ 10 ตำบลนาเริก อำเภอพนัสนิคม จังหวัดชลบุรี 20240 | P174: N/A
A175: 0174 | B175: 06200609 | C175: องค์การบริหารส่วนตำบลนาวังหิน | D175: 06 | E175: =INDEX(Sheet3!B:B,MATCH(D175,Sheet3!A:A,0)) -> องค์การบริหารส่วนตำบล | F175: 2006 | G175: =INDEX(Sheet2!B:B,MATCH(F175,Sheet2!A:A,1)) -> อำเภอพนัสนิคม | H175: 20 | I175: =INDEX(Sheet2!D:D,MATCH(H175,Sheet2!C:C,0)) -> จังหวัดชลบุรี | J175: =_xlfn.CONCAT(C175," ",G175," ",I175) -> องค์การบริหารส่วนตำบลนาวังหิน อำเภอพนัสนิคม จังหวัดชลบุรี | K175: www.nawanghin.go.th | L175: นายกองค์การบริหารส่วนตำบลนาวังหิน | M175: =_xlfn.CONCAT("ปลัด",J175) -> ปลัดองค์การบริหารส่วนตำบลนาวังหิน อำเภอพนัสนิคม จังหวัดชลบุรี | N175: เลขที่ 49 หมู่ 9 ตำบลนาวังหิน อำเภอพนัสนิคม จังหวัดชลบุรี 20140 | O175: =_xlfn.CONCAT(J175," ",N175) -> องค์การบริหารส่วนตำบลนาวังหิน อำเภอพนัสนิคม จังหวัดชลบุรี เลขที่ 49 หมู่ 9 ตำบลนาวังหิน อำเภอพนัสนิคม จังหวัดชลบุรี 20140 | P175: N/A
A176: 0175 | B176: 06201005 | C176: องค์การบริหารส่วนตำบลบ่อทอง | D176: 06 | E176: =INDEX(Sheet3!B:B,MATCH(D176,Sheet3!A:A,0)) -> องค์การบริหารส่วนตำบล | F176: 2010 | G176: =INDEX(Sheet2!B:B,MATCH(F176,Sheet2!A:A,1)) -> อำเภอบ่อทอง | H176: 20 | I176: =INDEX(Sheet2!D:D,MATCH(H176,Sheet2!C:C,0)) -> จังหวัดชลบุรี | J176: =_xlfn.CONCAT(C176," ",G176," ",I176) -> องค์การบริหารส่วนตำบลบ่อทอง อำเภอบ่อทอง จังหวัดชลบุรี | K176: botong.go.th | L176: นายกองค์การบริหารส่วนตำบลบ่อทอง | M176: =_xlfn.CONCAT("ปลัด",J176) -> ปลัดองค์การบริหารส่วนตำบลบ่อทอง อำเภอบ่อทอง จังหวัดชลบุรี | N176: เลขที่ 270 ตำบลบ่อทอง อำเภอบ่อทอง จังหวัดชลบุรี 20270 | O176: =_xlfn.CONCAT(J176," ",N176) -> องค์การบริหารส่วนตำบลบ่อทอง อำเภอบ่อทอง จังหวัดชลบุรี เลขที่ 270 ตำบลบ่อทอง อำเภอบ่อทอง จังหวัดชลบุรี 20270 | P176: N/A
A177: 0176 | B177: 06200706 | C177: องค์การบริหารส่วนตำบลบ่อวิน | D177: 06 | E177: =INDEX(Sheet3!B:B,MATCH(D177,Sheet3!A:A,0)) -> องค์การบริหารส่วนตำบล | F177: 2007 | G177: =INDEX(Sheet2!B:B,MATCH(F177,Sheet2!A:A,1)) -> อำเภอศรีราชา | H177: 20 | I177: =INDEX(Sheet2!D:D,MATCH(H177,Sheet2!C:C,0)) -> จังหวัดชลบุรี | J177: =_xlfn.CONCAT(C177," ",G177," ",I177) -> องค์การบริหารส่วนตำบลบ่อวิน อำเภอศรีราชา จังหวัดชลบุรี | K177: bowin.go.th | L177: นายกองค์การบริหารส่วนตำบลบ่อวิน | M177: =_xlfn.CONCAT("ปลัด",J177) -> ปลัดองค์การบริหารส่วนตำบลบ่อวิน อำเภอศรีราชา จังหวัดชลบุรี | N177: เลขที่ 1 หมู่ที่ 6 ตำบลบ่อวิน อำเภอศรีราชา จังหวัดชลบุรี 20230 | O177: =_xlfn.CONCAT(J177," ",N177) -> องค์การบริหารส่วนตำบลบ่อวิน อำเภอศรีราชา จังหวัดชลบุรี เลขที่ 1 หมู่ที่ 6 ตำบลบ่อวิน อำเภอศรีราชา จังหวัดชลบุรี 20230 | P177: N/A
A178: 0177 | B178: 06200505 | C178: องค์การบริหารส่วนตำบลบางนาง | D178: 06 | E178: =INDEX(Sheet3!B:B,MATCH(D178,Sheet3!A:A,0)) -> องค์การบริหารส่วนตำบล | F178: 2005 | G178: =INDEX(Sheet2!B:B,MATCH(F178,Sheet2!A:A,1)) -> อำเภอพานทอง | H178: 20 | I178: =INDEX(Sheet2!D:D,MATCH(H178,Sheet2!C:C,0)) -> จังหวัดชลบุรี | J178: =_xlfn.CONCAT(C178," ",G178," ",I178) -> องค์การบริหารส่วนตำบลบางนาง อำเภอพานทอง จังหวัดชลบุรี | K178: bangnang.go.th | L178: นายกองค์การบริหารส่วนตำบลบางนาง | M178: =_xlfn.CONCAT("ปลัด",J178) -> ปลัดองค์การบริหารส่วนตำบลบางนาง อำเภอพานทอง จังหวัดชลบุรี | N178: เลขที่ 20 หมู่ 9 ตำบลบางนาง อำเภอพานทอง จังหวัดชลบุรี 20160 | O178: =_xlfn.CONCAT(J178," ",N178) -> องค์การบริหารส่วนตำบลบางนาง อำเภอพานทอง จังหวัดชลบุรี เลขที่ 20 หมู่ 9 ตำบลบางนาง อำเภอพานทอง จังหวัดชลบุรี 20160 | P178: N/A
A179: 0178 | B179: 06200707 | C179: องค์การบริหารส่วนตำบลบางพระ | D179: 06 | E179: =INDEX(Sheet3!B:B,MATCH(D179,Sheet3!A:A,0)) -> องค์การบริหารส่วนตำบล | F179: 2007 | G179: =INDEX(Sheet2!B:B,MATCH(F179,Sheet2!A:A,1)) -> อำเภอศรีราชา | H179: 20 | I179: =INDEX(Sheet2!D:D,MATCH(H179,Sheet2!C:C,0)) -> จังหวัดชลบุรี | J179: =_xlfn.CONCAT(C179," ",G179," ",I179) -> องค์การบริหารส่วนตำบลบางพระ อำเภอศรีราชา จังหวัดชลบุรี | K179: www.bangphrachon-sao.go.th | L179: นายกองค์การบริหารส่วนตำบลบางพระ | M179: =_xlfn.CONCAT("ปลัด",J179) -> ปลัดองค์การบริหารส่วนตำบลบางพระ อำเภอศรีราชา จังหวัดชลบุรี | N179: 38 หมู่ 11 ถนนสาย 3144 รอบอ่างเก็บน้ำบางพระ ต.บางพระ อ.ศรีราชา จ.ชลบุรี 20110 | O179: =_xlfn.CONCAT(J179," ",N179) -> องค์การบริหารส่วนตำบลบางพระ อำเภอศรีราชา จังหวัดชลบุรี 38 หมู่ 11 ถนนสาย 3144 รอบอ่างเก็บน้ำบางพระ ต.บางพระ อ.ศรีราชา จ.ชลบุรี 20110 | P179: N/A
A180: 0179 | B180: 06200506 | C180: องค์การบริหารส่วนตำบลบ้านเก่า | D180: 06 | E180: =INDEX(Sheet3!B:B,MATCH(D180,Sheet3!A:A,0)) -> องค์การบริหารส่วนตำบล | F180: 2005 | G180: =INDEX(Sheet2!B:B,MATCH(F180,Sheet2!A:A,1)) -> อำเภอพานทอง | H180: 20 | I180: =INDEX(Sheet2!D:D,MATCH(H180,Sheet2!C:C,0)) -> จังหวัดชลบุรี | J180: =_xlfn.CONCAT(C180," ",G180," ",I180) -> องค์การบริหารส่วนตำบลบ้านเก่า อำเภอพานทอง จังหวัดชลบุรี | K180: bankaochonburi.go.th | L180: นายกองค์การบริหารส่วนตำบลบ้านเก่า | M180: =_xlfn.CONCAT("ปลัด",J180) -> ปลัดองค์การบริหารส่วนตำบลบ้านเก่า อำเภอพานทอง จังหวัดชลบุรี | N180: 66 หมู่ 3 ตำบลบ้านเก่า อำเภอพานทอง จังหวัดชลบุรี 20160 | O180: =_xlfn.CONCAT(J180," ",N180) -> องค์การบริหารส่วนตำบลบ้านเก่า อำเภอพานทอง จังหวัดชลบุรี 66 หมู่ 3 ตำบลบ้านเก่า อำเภอพานทอง จังหวัดชลบุรี 20160 | P180: N/A
A181: 0180 | B181: 06200610 | C181: องค์การบริหารส่วนตำบลบ้านช้าง | D181: 06 | E181: =INDEX(Sheet3!B:B,MATCH(D181,Sheet3!A:A,0)) -> องค์การบริหารส่วนตำบล | F181: 2006 | G181: =INDEX(Sheet2!B:B,MATCH(F181,Sheet2!A:A,1)) -> อำเภอพนัสนิคม | H181: 20 | I181: =INDEX(Sheet2!D:D,MATCH(H181,Sheet2!C:C,0)) -> จังหวัดชลบุรี | J181: =_xlfn.CONCAT(C181," ",G181," ",I181) -> องค์การบริหารส่วนตำบลบ้านช้าง อำเภอพนัสนิคม จังหวัดชลบุรี | K181: www.obtbanchang.go.th | L181: นายกองค์การบริหารส่วนตำบลบ้านช้าง | M181: =_xlfn.CONCAT("ปลัด",J181) -> ปลัดองค์การบริหารส่วนตำบลบ้านช้าง อำเภอพนัสนิคม จังหวัดชลบุรี | N181: เลขที่ 222 หมู่ 1 ตำบลบ้านช้าง อำเภอพนัสนิคม จังหวัดชลบุรี 20140 | O181: =_xlfn.CONCAT(J181," ",N181) -> องค์การบริหารส่วนตำบลบ้านช้าง อำเภอพนัสนิคม จังหวัดชลบุรี เลขที่ 222 หมู่ 1 ตำบลบ้านช้าง อำเภอพนัสนิคม จังหวัดชลบุรี 20140 | P181: N/A
...

Sheet Meta data
A1: ลำดับ | B1: หัวข้อ | C1: ข้อมูล
B2: ข้อมูลทั่วไปของชุดข้อมูล
A3: 1 | B3: เลขที่ชุดข้อมูล (Dataset ID) | C3: CMD001
A4: 2 | B4: ชื่อชุดข้อมูล (Dataset Name) | C4: ชุดข้อมูลองค์กรปกครองส่วนท้องถิ่นในพื้นที่ อีอีซี
A5: 3 | B5: เจ้าของข้อมูล (Data Owner) | C5: สำนักบริหารโครงการ สำนักงานคณะกรรมการนโยบายเขตพัฒนาพิเศษภาคตะวันออก (สกพอ.) โดยผู้รับผิดชอบหลักคือ นางสาวปิยนุช แตงชัยภูมิ เจ้าหน้าที่อาวุโส สำนักบริหารโครงการความร่วมมือ
A6: 4 | B6: ผู้สนับสนุน หรือผู้ร่วมดำเนินการ (Data Supporter) | C6: สำนักบริหารโครงการความร่วมมือ สำนักงานคณะกรรมการนโยบายเขตพัฒนาพิเศษภาคตะวันออก (สกพอ.)
A7: 5 | B7: คำสำคัญ (Keyword) | C7: องค์กรปกครองส่วนท้องถิ่น, อปท., LGO, อำเภอ, จังหวัด
A8: 6 | B8: คำอธิบาย (Description) | C8: ชุดข้อมูลที่แสดงรายละเอียดขององค์กรปกครองส่วนท้องถิ่นในพื้นที่ อีอีซี ทุกแห่ง ทุกประเภท
A9: 7 | B9: ขอบเขตของข้อมูล (Data Scope) | C9: ครอบคลุมรายละเอียดขององค์กรปกครองส่วนท้องถิ่นในพื้นที่ อีอีซี ทั้ง 3 จังหวัด ตั้งแต่ชื่อ ที่อยู่ ตำแหน่งผู้บริหารสูงสุดทั้งฝ่ายข้าราชการการเมืองและข้าราชการประจำ รหัสที่กำหนดโดยหน่วยงานต่าง ๆ
A10: 8 | B10: วัตถุประสงค์ (Objecttive) | C10: เป็นชุดข้อมูลพื้นฐานสำหรับติดต่อกับองค์กรปกครองส่วนท้องถิ่น
A11: 9 | B11: แหล่งอ้างอิง (Data Source) | C11: อ้างอิงจากฐานข้อมูลของกระทรวงมหาดไทย เว็บไซต์ขององค์กรปกครองส่วนท้องถิ่นแต่ละแห่ง รวมทั้งราชกิจจานุเบกษา
B12: คุณลักษณะชุดข้อมูล
A13: 1 | B13: ภาษาที่ใช้บันทึกข้อมูล (Language) | C13: ภาษาไทย และภาษาอังกฤษ
A14: 2 | B14: ประเภทข้อมูล | C14: มีโครงสร้าง (Structured Data)
A15: 3 | B15: มีระบบฐานข้อมูลหรือไม่ (Database System) | C15: ยังไม่มี
A16: 4 | B16: รูปแบบข้อมูล (Data format) | C16: XLSX
A17: 5 | B17: จำนวนไฟล์ (Number of File) | C17: 1 ไฟล์ ในรูปแบบ XLSX
B18: การจัดหมวดหมู่และการจัดชั้นความลับ
A19: 1 | B19: เป็น/มีข้อมูลส่วนบุคคลหรือไม่ (Personal Data) | C19: ไม่มีข้อมูลส่วนบุคคล
A20: 2 | B20: ขอบเขตการเผยแพร่ข้อมูล (Data Dissemination) และระดับชั้นความลับ (Data Classification) | C20: ข้อมูลเปิดเผยสาธารณะทั้งหมด
A21: 3 | B21: สิทธิในการเข้าถึงและการใช้ข้อมูล (Right of Access and Use) | C21: เนื่องจากเป็นข้อมูลที่เปิดเผยได้ทั้งหมด ดังนั้น เจ้าหน้าที่ อีอีซี และประชาชนทุกคนสามารถเข้าถึงและใช้ประโยชน์จากข้อมูลนี้ได้
B22: การจัดเก็บ การปรับปรุง และการทำลายข้อมูล
A23: 1 | B23: แหล่งจัดเก็บข้อมูล Location | C23: 1. ระบบ https://sharedrive.eeco.or.th/ 2. เครื่องคอมพิวเตอร์ส่วนตัวของ นางสาวปิยนุช แตงชัยภูมิ เจ้าหน้าที่อาวุโส สำนักบริหารโครงการ
A24: 2 | B24: ระยะเวลาในการจัดเก็บข้อมูล (Data Retention Period) | C24: เท่าที่มีความจำเป็นในการใช้งาน
A25: 3 | B25: การสำรองข้อมูล (Backup) | C25: มีการสำรองข้อมูล (Backup) ในแหล่งจัดเก็บที่ 1 ส่วนในแหล่งจัดเก็บที่ 2 มีการสำรองข้อมูลอย่างน้อยเดือนละ 1 ครั้ง
A26: 4 | B26: การจัดเก็บถาวร (Archive) | C26: เมื่อมีการปรับปรุงข้อมูลให้เป็นปัจจุบัน ให้จัดเก็บไฟล์ข้อมูล พจนานุกรมข้อมูล (Data Dictionary) คำอธิบายชุดข้อมูล (Metadata) ไว้ใน ระบบ https://sharedrive.eeco.or.th/
A27: 5 | B27: การปรับปรุงข้อมูล (Update) | C27: 1. ตรวจสอบข้อมูลอย่างน้อยปีละ 1 ครั้ง 2. หากผู้ใช้ข้อมูลคนใดพบว่า ข้อมูลมีความผิดพลาดหรือมีข้อสงสัยเกี่ยวกับชุดข้อมูล สามารถติดต่อสอบถามได้ที่ไปรษณีย์อิเล็กทรอนิกส์ (E-mail) Nattapa.sup@eeco.or.th โดยสำนักบริหารโครงการ จะตรวจสอบและแจ้งผลทางไปรษณีย์อิเล็กทรอนิกส์ภายใน 7 วันทำการ และจะปรับปรุงข้อมูลให้ถูกต้องและเป็นปัจจุบันโดยเร็วที่สุด 3. ต้องปรับปรุงข้อมูลในแหล่งจัดเก็บทั้ง 2 แหล่งให้สอดคล้องกันเสมอ
A28: 6 | B28: วันที่ปรับปรุงข้อมูลล่าสุด (Last Update) | C28: 20 กุมภาพันธ์ 2567
A29: 7 | B29: การทำลายข้อมูล (Destroy) | C29: เมื่อได้รับการอนุมัติจากผู้บริหาร สกพอ. โดยให้ลบข้อมูลออกจากระบบ แต่ให้เก็บรักษา Data Dictionary ไว้

Sheet Data Dic
A1: ลำดับ | B1: ชื่อคอลัมน์ | C1: คำอธิบาย | D1: ขอบเขตและรูปแบบข้อมูล | E1: ชั้นความลับ
A2: 1 | B2: No | C2: ลำดับขององค์กรปกครองส่วนท้องถิ่นในไฟล์ข้อมูล | D2: เลขอาระบิก 4 หลัก เรียงตามลำดับไปเรื่อย ๆ ตั้งแต่ 0001 | E2: เปิดเผยได้
A3: 2 | B3: CodeLGO_MOI | C3: รหัสขององค์กรปกครองส่วนท้องถิ่นตามที่กระทรวงมหาดไทยกำหนด | D3: ตัวเลขอาระบิก 8 หลัก โดยมีความหมายแต่ละหลัก ดังนี้ 1. หลักที่ 1 และ 2 คือ ประเภทขององค์กรปกครองส่วนท้องถิ่น โดย 02 หมายถึง องค์การบริหารส่วนจังหวัด 03 หมายถึง เมืองพัทยาและเทศบาลนคร 04 หมายถึง เทศบาลเมือง 05 หมายถึง เทศบาลตำบล และ 06 หมายถึง องค์การบริหารส่วนตำบล 2. หลักที่ 3 และ 4 คือ รหัสจังหวัดที่กระทรวงมหาดไทยกำหนด 3. หลักที่ 5 และ 6 คือ รหัสอำเภอในแต่ละจังหวัดตามที่กระทรวงมหาดไทยกำหนด 4. หลักที่ 7 และ 8 คือ ลำดับขององค์กรปกครองส่วนท้องถิ่นในแต่ละอำเภอ อ้างอิงจาก https://www.dla.go.th/servlet/InfoServlet | E3: เปิดเผยได้
A4: 3 | B4: LGONameThai | C4: ชื่อขององค์กรปกครองส่วนท้องถิ่นแต่ละแห่ง โดยไม่รวมอำเภอและจังหวัด | D4: ขึ้นต้นด้วยประเภทขององค์กรปกครองส่วนท้องถิ่นตามด้วยชื่อโดยไม่มีการเว้นวรรค เช่น องค์การบริหารส่วนจังหวัดฉะเชิงเทรา เทศบาลเมืองชลบุรี เทศบาลนครระยอง เทศบาลตำบลกุฎโง้ง องค์การบริหารส่วนตำบลท่าตะเกียบ โดยสะกดชื่อตามเว็บไซต์กรมส่งเสริมการปกครองท้องถิ่น https://www.dla.go.th/servlet/InfoServlet ในกรณีที่สะกดไม่ตรงกับเอกสารที่ประกาศในราชกิจจานุเบกษา ให้ยึดถือการสะกดตามเอกสารที่ประกาศในราชกิจจานุเบกษา เป็นสำคัญ | E4: เปิดเผยได้
A5: 4 | B5: LGOTypeID | C5: รหัสแสดงประเภทขององค์กรปกครองส่วนท้องถิ่น | D5: เลขอาระบิก 2 หลัก โดย 02 หมายถึง องค์การบริหารส่วนจังหวัด 03 หมายถึง เมืองพัทยาและเทศบาลนคร 04 หมายถึง เทศบาลเมือง 05 หมายถึง เทศบาลตำบล และ 06 หมายถึง องค์การบริหารส่วนตำบล อ้างอิงจาก https://www.dla.go.th/servlet/InfoServlet | E5: เปิดเผยได้
A6: 5 | B6: LGOTypeName | C6: ประเภทขององค์กรปกครองส่วนท้องถิ่น | D6: ระบุคำใดคำหนึ่ง ดังต่อไปนี้ องค์การบริหารส่วนจังหวัด, เทศบาลนคร, เทศบาลเมือง, เทศบาลตำบล, องค์การบริหารส่วนตำบล และ เมืองพัทยา | E6: เปิดเผยได้
A7: 6 | B7: DistrictMOI_ID | C7: รหัสอำเภอที่องค์กรปกครองส่วนท้องถิ่นแต่ละแห่งตั้งอยู่ | D7: เลขอาระบิก 4 หลักตามที่กระทรวงมหาดไทยกำหนด เช่น 2401 2006 2103 | E7: เปิดเผยได้
A8: 7 | B8: DistrictNameThai | C8: ชื่ออำเภอที่องค์กรปกครองส่วนท้องถิ่นแต่ละแห่งตั้งอยู่ | D8: ชื่ออำเภอในจังหวัดฉะเชิงเทรา ชลบุรี และระยอง โดยมีคำว่า อำเภอนำหน้า เช่น อำเภอพนมสารคาม อำเภอบ้านบึง อำเภอแกลง | E8: เปิดเผยได้
A9: 8 | B9: ProvinceMOI_ID | C9: รหัสจังหวัดที่องค์กรปกครองส่วนท้องถิ่นแต่ละแห่งตั้งอยู่ | D9: เลขอาระบิก 2 หลักตามที่กระทรวงมหาดไทยกำหนด คือ 24 20 และ 21 | E9: เปิดเผยได้
A10: 9 | B10: ProvinceNameThai | C10: ชื่อจังหวัดที่องค์กรปกครองส่วนท้องถิ่นแต่ละแห่งตั้งอยู่ | D10: ชื่อจังหวัดที่องค์กรปกครองส่วนท้องถิ่นแต่ละแห่งตั้งอยู่ โดยมีคำว่า จังหวัดนำหน้า ไม่มีการเว้นวรรค คือ จังหวัดฉะเชิงเทรา จังหวัดชลบุรี จังหวัดระยอง | E10: เปิดเผยได้
A11: 10 | B11: LGONameFull | C11: ชื่อองค์กรปกครองส่วนท้องถิ่นแบบสมบูรณ์ที่มีชื่อหน่วยงาน ชื่ออำเภอและจังหวัดที่หน่วยงานตั้งอยู่ | D11: นำข้อมูลจาก 3 คอลัมน์มาเชื่อมต่อกัน โดยมีการเว้นวรรค 1 เคาะ คือ ชื่อองค์กรปกครองส่วนท้องถิ่นในคอลัมน์ที่ 3 LGONameThai ตามด้วยชื่ออำเภอในคอลัมน์ที่ 7 DistrictNameThai และชื่อจังหวัดในคอลัมน์ที่ 9 ProvinceNameThai เช่น เทศบาลตำบลบางวัว อำเภอบางปะกง จังหวัดฉะเชิงเทรา ข้อยกเว้น องค์การบริหารส่วนจังหวัดทั้ง 3 จังหวัด และเมืองพัทยา ระบุชื่อเดียวกับคอลัมน์ที่ 3 คือ องค์การบริหารส่วนจังหวัดฉะเชิงเทรา องค์การบริหารส่วนจังหวัดชลบุรี องค์การบริหารส่วนจังหวัดระยอง และเมืองพัทยา | E11: เปิดเผยได้
A12: 11 | B12: OrgWebsiteStandardised | C12: เว็บไซต์ขององค์กรปกครองส่วนท้องถิ่นแต่ละแห่ง | D12: 1. เว็บไซต์ที่มี www ให้ขึ้นต้นด้วย www เช่น www.phanomcity.go.th 2. เว็บไซต์ที่ไม่มี www คือ ขึ้นต้นด้วย http:// หรือ https:// ให้ตัด http:// หรือ https:// ออกไป เช่น bangpaisao.go.th 3. หน่วยงานใดไม่มีเว็บไซต์ หรือเว็บไซต์ไม่สามารถเข้าใช้งานได้ ให้ระบุว่า N/A | E12: เปิดเผยได้
A13: 12 | B13: OrgTopExecutive_Politician | C13: ตำแหน่งผู้บริหารสูงสุดฝ่ายการเมือง | D13: 1. กรณีเทศบาล ให้ระบุตำแหน่งเป็น นายกเทศมนตรีนคร นายกเทศมนตรีเมือง หรือนายกเทศมนตรีตำบล แล้วแต่กรณี เช่น เทศบาลตำบลบ่อทอง อำเภอบ่องทอง จังหวัดชลบุรี ให้ระบุตำแหน่งเป็น นายกเทศมนตรีตำบลบ่อทอง อำเภอบ่อทอง จังหวัดชลบุรี หรือ เทศบาลนครระยอง อำเภอเมืองระยอง จังหวัดระยอง ระบุตำแหน่งเป็น นายกเทศมนตรีนครระยอง อำเภอเมืองระยอง จังหวัดระยอง 2. กรณีองค์การบริหารส่วนจังหวัด ให้ระบุตำแหน่งเป็น นายกองค์การบริหารส่วนจังหวัด คือ นายกองค์การบริหารส่วนจังหวัดฉะเชิงเทรา นายกองค์การบริหารส่วนจังหวัดชลบุรี และนายกองค์การบริหารส่วนจังหวัดระยอง 3.. กรณีองค์การบริหารส่วนตำบล ให้ระบุตำแหน่งเป็น นายกองค์การบริหารส่วนตำบล เช่น องค์การบริหารส่วนตำบลเขาชะมา อำเภอเขาชะเมา จังหวัดระยอง ระบุตำแหน่งเป็น นายกองค์การบริหารส่วนตำบลเขาชะมา อำเภอเขาชะมา จังหวัดระยอง 4. กรณีเมืองพัทยา ให้ระบุตำแหน่งเป็น นายกเมืองพัทยา | E13: เปิดเผยได้
... A17: 16 | B17: CodeLGO_BudgetBureau2564 | C17: รหัสขององค์กรปกครองส่วนท้องถิ่นตามที่สำนักงบประมาณกำหนดประจำปีงบประมาณ พ.ศ. 2564 | D17: ตัวเลขอาระบิก 3 หลัก ตามด้วยตัวอักษรภาษาอังกฤษพิมพ์ใหญ่ 2 ตัว | E17: เปิดเผยได้

Sheet Sheet2
A1: DistrictMOI_ID | B1: DistrictNameThai | C1: ProvinceMOI_ID | D1: ProvinceNameThai
A2: 1001 | B2: เขตพระนคร | C2: 10 | D2: กรุงเทพมหานคร
A3: 1002 | B3: เขตดุสิต | C3: 11 | D3: จังหวัดสมุทรปราการ
A4: 1003 | B4: เขตหนองจอก | C4: 12 | D4: จังหวัดนนทบุรี
A5: 1004 | B5: เขตบางรัก | C5: 13 | D5: จังหวัดปทุมธานี
A6: 1005 | B6: เขตบางเขน | C6: 14 | D6: จังหวัดพระนครศรีอยุธยา
A7: 1006 | B7: เขตบางกะปิ | C7: 15 | D7: จังหวัดอ่างทอง
A8: 1007 | B8: เขตปทุมวัน | C8: 16 | D8: จังหวัดลพบุรี
A9: 1008 | B9: เขตป้อมปราบศัตรูพ่าย | C9: 17 | D9: จังหวัดสิงห์บุรี
A10: 1009 | B10: เขตพระโขนง | C10: 18 | D10: จังหวัดชัยนาท
A11: 1010 | B11: เขตมีนบุรี | C11: 19 | D11: จังหวัดสระบุรี
A12: 1011 | B12: เขตลาดกระบัง | C12: 20 | D12: จังหวัดชลบุรี
A13: 1012 | B13: เขตยานนาวา | C13: 21 | D13: จังหวัดระยอง
... A78: 1408 | B78: อำเภอผักไห่ | C78: 96 | D78: จังหวัดนราธิวาส
A79: 1409 | B79: อำเภอภาชี
A80: 1410 | B80: อำเภอลาดบัวหลวง
A81: 1411 | B81: อำเภอวังน้อย
A82: 1412 | B82: อำเภอเสนา
A83: 1413 | B83: อำเภอบางซ้าย
A84: 1414 | B84: อำเภออุทัย
A85: 1415 | B85: อำเภอมหาราช
A86: 1416 | B86: อำเภอบ้านแพรก
A87: 1501 | B87: อำเภอเมืองอ่างทอง
A88: 1502 | B88: อำเภอไชโย
A89: 1503 | B89: อำเภอป่าโมก
A90: 1504 | B90: อำเภอโพธิ์ทอง
... A929: 9613 | B929: อำเภอเจาะไอร้อง

Sheet Sheet3
A1: LGOTypeID | B1: LGOTypeName | C1: LGOTypeName_English
A2: 01 | B2: กรุงเทพมหานคร | C2: Bangkok Metropolitan Administration
A3: 02 | B3: องค์การบริหารส่วนจังหวัด | C3: Provincial Administration Organization
A4: 03 | B4: เทศบาลนคร | C4: City Municipality
A5: 04 | B5: เทศบาลเมือง | C5: Town Municipality
A6: 05 | B6: เทศบาลตำบล | C6: Subdistrict Municipality
A7: 06 | B7: องค์การบริหารส่วนตำบล | C7: Subdistrict Administrative Organization
A8: 07 | B8: เมืองพัทยา | C8: City of Pattaya

Sheet Sheet4
A1: 1 | B1: อำเภอเมืองฉะเชิงเทรา | C1: ฉะเชิงเทรา
A2: 2 | B2: อำเภอพนมสารคาม | C2: ฉะเชิงเทรา
A3: 3 | B3: อำเภอบางน้ำเปรี้ยว | C3: ฉะเชิงเทรา
A4: 4 | B4: อำเภอบางปะกง | C4: ฉะเชิงเทรา
A5: 5 | B5: อำเภอแปลงยาว | C5: ฉะเชิงเทรา
A6: 6 | B6: อำเภอบ้านโพธิ์ | C6: ฉะเชิงเทรา
A7: 7 | B7: อำเภอบางคล้า | C7: ฉะเชิงเทรา
A8: 8 | B8: อำเภอสนามชัยเขต | C8: ฉะเชิงเทรา
A9: 9 | B9: อำเภอคลองเขื่อน | C9: ฉะเชิงเทรา
A10: 10 | B10: อำเภอท่าตะเกียบ | C10: ฉะเชิงเทรา
A11: 11 | B11: อำเภอราชสาส์น | C11: ฉะเชิงเทรา
A12: 12 | B12: อำเภอเมืองชลบุรี | C12: ชลบุรี
... A30: 30 | B30: อำเภอนิคมพัฒนา | C30: ระยอง
