Workbook

Sheet Master Data
A1: No | B1: CodeLGO_MOI | C1: LGONameThai | D1: LGOTypeID | E1: LGOTypeName | F1: DistrictMOI_ID | G1: DistrictNameThai | H1: ProvinceMOI_ID | I1: ProvinceNameThai | J1: LGONameFull | K1: OrgWebsiteStandardised | L1: OrgTopExecutive_Politician | M1: OrgTopExecutive_Bureaucrat | N1: AddressOnly | O1: AddressandOrgNameFull | P1: CodeLGO_BudgetBureau2564
A2: 0001 | B2: 02240101 | C2: องค์การบริหารส่วนจังหวัดฉะเชิงเทรา | D2: 02 | E2: =INDEX(Sheet3!B:B,MATCH(D2,Sheet3!A:A,0)) -> องค์การบริหารส่วนจังหวัด | F2: 2401 | G2: =INDEX(Sheet2!B:B,MATCH(F2,Sheet2!A:A,1)) -> อำเภอเมืองฉะเชิงเทรา | H2: 24 | I2: =INDEX(Sheet2!D:D,MATCH(H2,Sheet2!C:C,0)) -> จังหวัดฉะเชิงเทรา | J2: องค์การบริหารส่วนจังหวัดฉะเชิงเทรา | K2: www.cpao.go.th | L2: นายกองค์การบริหารส่วนจังหวัดฉะเชิงเทรา | M2: ปลัดองค์การบริหารส่วนจังหวัดฉะเชิงเทรา | N2: เลขที่ 51/4 หมู่ที่ 1 ต.บางแก้ว อ.เมืองฉะเชิงเทรา จ.ฉะเชิงเทรา 24000 | O2: องค์การบริหารส่วนจังหวัดฉะเชิงเทรา เลขที่ 51/4 หมู่ที่ 1 ต.บางแก้ว อ.เมืองฉะเชิงเทรา จ.ฉะเชิงเทรา 24000 | P2: 751MR
A3: 0002 | B3: 04240102 | C3: เทศบาลเมืองฉะเชิงเทรา | D3: 04 | E3: =INDEX(Sheet3!B:B,MATCH(D3,Sheet3!A:A,0)) -> เทศบาลเมือง | F3: 2401 | G3: =INDEX(Sheet2!B:B,MATCH(F3,Sheet2!A:A,1)) -> อำเภอเมืองฉะเชิงเทรา | H3: 24 | I3: =INDEX(Sheet2!D:D,MATCH(H3,Sheet2!C:C,0)) -> จังหวัดฉะเชิงเทรา | J3: =_xlfn.CONCAT(C3," ",G3," ",I3) -> เทศบาลเมืองฉะเชิงเทรา อำเภอเมืองฉะเชิงเทรา จังหวัดฉะเชิงเทรา | K3: www.tbmccs.go.th | L3: นายกเทศมนตรีเมืองฉะเชิงเทรา | M3: =_xlfn.CONCAT("ปลัด",J3) -> ปลัดเทศบาลเมืองฉะเชิงเทรา อำเภอเมืองฉะเชิงเทรา จังหวัดฉะเชิงเทรา | N3: 1 ถนนจุลละนันทน์ อำเภอเมือง จังหวัดฉะเชิงเทรา 24000 | O3: เทศบาลเมืองฉะเชิงเทรา อำเภอเมืองฉะเชิงเทรา จังหวัดฉะเชิงเทรา 1 ถนนจุลละนันทน์ อำเภอเมือง จังหวัดฉะเชิงเทรา 24000 | P3: 751MJ
A4: 0003 | B4: 05240601 | C4: เทศบาลตำบลเกาะขนุน | D4: 05 | E4: =INDEX(Sheet3!B:B,MATCH(D4,Sheet3!A:A,0)) -> เทศบาลตำบล | F4: 2406 | G4: =INDEX(Sheet2!B:B,MATCH(F4,Sheet2!A:A,1)) -> อำเภอพนมสารคาม | H4: 24 | I4: =INDEX(Sheet2!D:D,MATCH(H4,Sheet2!C:C,0)) -> จังหวัดฉะเชิงเทรา | J4: =_xlfn.CONCAT(C4," ",G4," ",I4) -> เทศบาลตำบลเกาะขนุน อำเภอพนมสารคาม จังหวัดฉะเชิงเทรา | K4: www.kohkhanooncity.go.th | L4: นายกเทศมนตรีตำบลเกาะขนุน | M4: =_xlfn.CONCAT("ปลัด",J4) -> ปลัดเทศบาลตำบลเกาะขนุน อำเภอพนมสารคาม จังหวัดฉะเชิงเทรา | N4: 999 ม.2 ถ.พนมสารคาม-สนามชัยเขต ต.เกาะขนุน อ.พนมสารคาม จ.ฉะเชิงเทรา 24120 | O4: =_xlfn.CONCAT(J4," ",N4) -> เทศบาลตำบลเกาะขนุน อำเภอพนมสารคาม จังหวัดฉะเชิงเทรา 999 ม.2 ถ.พนมสารคาม-สนามชัยเขต ต.เกาะขนุน อ.พนมสารคาม จ.ฉะเชิงเทรา 24120 | P4: N/A
A5: 0004 | B5: 05240602 | C5: เทศบาลตำบลเขาหินซ้อน | D5: 05 | E5: =INDEX(Sheet3!B:B,MATCH(D5,Sheet3!A:A,0)) -> เทศบาลตำบล | F5: 2406 | G5: =INDEX(Sheet2!B:B,MATCH(F5,Sheet2!A:A,1)) -> อำเภอพนมสารคาม | H5: 24 | I5: =INDEX(Sheet2!D:D,MATCH(H5,Sheet2!C:C,0)) -> จังหวัดฉะเชิงเทรา | J5: =_xlfn.CONCAT(C5," ",G5," ",I5) -> เทศบาลตำบลเขาหินซ้อน อำเภอพนมสารคาม จังหวัดฉะเชิงเทรา | K5: www.khaohinsorn.go.th | L5: นายกเทศมนตรีตำบลเขาหินซ้อน | M5: =_xlfn.CONCAT("ปลัด",J5) -> ปลัดเทศบาลตำบลเขาหินซ้อน อำเภอพนมสารคาม จังหวัดฉะเชิงเทรา | N5: เลขที่ 40 หมู่ 2 ตำบลเขาหินซ้อน อำเภอพนมสารคาม จังหวัดฉะเชิงเทรา 24120 | O5: =_xlfn.CONCAT(J5," ",N5) -> เทศบาลตำบลเขาหินซ้อน อำเภอพนมสารคาม จังหวัดฉะเชิงเทรา เลขที่ 40 หมู่ 2 ตำบลเขาหินซ้อน อำเภอพนมสารคาม จังหวัดฉะเชิงเทรา 24120 | P5: N/A
A6: 0005 | B6: 05240310 | C6: เทศบาลตำบลคลองแสนแสบ | D6: 05 | E6: =INDEX(Sheet3!B:B,MATCH(D6,Sheet3!A:A,0)) -> เทศบาลตำบล | F6: 2403 | G6: =INDEX(Sheet2!B:B,MATCH(F6,Sheet2!A:A,1)) -> อำเภอบางน้ำเปรี้ยว | H6: 24 | I6: =INDEX(Sheet2!D:D,MATCH(H6,Sheet2!C:C,0)) -> จังหวัดฉะเชิงเทรา | J6: =_xlfn.CONCAT(C6," ",G6," ",I6) -> เทศบาลตำบลคลองแสนแสบ อำเภอบางน้ำเปรี้ยว จังหวัดฉะเชิงเทรา | K6: www.klongsaensaeb.go.th | L6: นายกเทศมนตรีตำบลคลองแสนแสบ | M6: =_xlfn.CONCAT("ปลัด",J6) -> ปลัดเทศบาลตำบลคลองแสนแสบ อำเภอบางน้ำเปรี้ยว จังหวัดฉะเชิงเทรา | N6: เลขที่ 95 หมู่ที่ 3 ตำบลบางขนาก อำเภอบางน้ำเปรี้ยว จังหวัดฉะเชิงเทรา 24150 | O6: =_xlfn.CONCAT(J6," ",N6) -> เทศบาลตำบลคลองแสนแสบ อำเภอบางน้ำเปรี้ยว จังหวัดฉะเชิงเทรา เลขที่ 95 หมู่ที่ 3 ตำบลบางขนาก อำเภอบางน้ำเปรี้ยว จังหวัดฉะเชิงเทรา 24150 | P6: N/A
A7: 0006 | B7: 05240305 | C7: เทศบาลตำบลดอนเกาะกา | D7: 05 | E7: =INDEX(Sheet3!B:B,MATCH(D7,Sheet3!A:A,0)) -> เทศบาลตำบล | F7: 2403 | G7: =INDEX(Sheet2!B:B,MATCH(F7,Sheet2!A:A,1)) -> อำเภอบางน้ำเปรี้ยว | H7: 24 | I7: =INDEX(Sheet2!D:D,MATCH(H7,Sheet2!C:C,0)) -> จังหวัดฉะเชิงเทรา | J7: =_xlfn.CONCAT(C7," ",G7," ",I7) -> เทศบาลตำบลดอนเกาะกา อำเภอบางน้ำเปรี้ยว จังหวัดฉะเชิงเทรา | K7: donkoaka.go.th | L7: นายกเทศมนตรีตำบลดอนเกาะกา | M7: =_xlfn.CONCAT("ปลัด",J7) -> ปลัดเทศบาลตำบลดอนเกาะกา อำเภอบางน้ำเปรี้ยว จังหวัดฉะเชิงเทรา | N7: เลขที่ 1/12 หมู่ที่ 2 ตำบลดอนเกาะกา อำเภอบางน้ำเปรี้ยว จังหวัดฉะเชิงเทรา 24170 | O7: =_xlfn.CONCAT(J7," ",N7) -> เทศบาลตำบลดอนเกาะกา อำเภอบางน้ำเปรี้ยว จังหวัดฉะเชิงเทรา เลขที่ 1/12 หมู่ที่ 2 ตำบลดอนเกาะกา อำเภอบางน้ำเปรี้ยว จังหวัดฉะเชิงเทรา 24170 | P7: N/A
A8: 0007 | B8: 05240301 | C8: เทศบาลตำบลดอนฉิมพลี | D8: 05 | E8: =INDEX(Sheet3!B:B,MATCH(D8,Sheet3!A:A,0)) -> เทศบาลตำบล | F8: 2403 | G8: =INDEX(Sheet2!B:B,MATCH(F8,Sheet2!A:A,1)) -> อำเภอบางน้ำเปรี้ยว | H8: 24 | I8: =INDEX(Sheet2!D:D,MATCH(H8,Sheet2!C:C,0)) -> จังหวัดฉะเชิงเทรา | J8: =_xlfn.CONCAT(C8," ",G8," ",I8) -> เทศบาลตำบลดอนฉิมพลี อำเภอบางน้ำเปรี้ยว จังหวัดฉะเชิงเทรา | K8: www.dcp.go.th | L8: นายกเทศมนตรีตำบลดอนฉิมพลี | M8: =_xlfn.CONCAT("ปลัด",J8) -> ปลัดเทศบาลตำบลดอนฉิมพลี อำเภอบางน้ำเปรี้ยว จังหวัดฉะเชิงเทรา | N8: เลขที่ 12/9 หมู่ที่ 18 ถ.เทศบาล 3 ตำบลดอนฉิมพลี อำเภอบางน้ำเปรี้ยว จังหวัดฉะเชิงเทรา รหัสไปรษณีย์ 24170 | O8: =_xlfn.CONCAT(J8," ",N8) -> เทศบาลตำบลดอนฉิมพลี อำเภอบางน้ำเปรี้ยว จังหวัดฉะเชิงเทรา เลขที่ 12/9 หมู่ที่ 18 ถ.เทศบาล 3 ตำบลดอนฉิมพลี อำเภอบางน้ำเปรี้ยว จังหวัดฉะเชิงเทรา รหัสไปรษณีย์ 24170 | P8: N/A
A9: 0008 | B9: 05240403 | C9: เทศบาลตำบลท่าข้าม | D9: 05 | E9: =INDEX(Sheet3!B:B,MATCH(D9,Sheet3!A:A,0)) -> เทศบาลตำบล | F9: 2404 | G9: =INDEX(Sheet2!B:B,MATCH(F9,Sheet2!A:A,1)) -> อำเภอบางปะกง | H9: 24 | I9: =INDEX(Sheet2!D:D,MATCH(H9,Sheet2!C:C,0)) -> จังหวัดฉะเชิงเทรา | J9: =_xlfn.CONCAT(C9," ",G9," ",I9) -> เทศบาลตำบลท่าข้าม อำเภอบางปะกง จังหวัดฉะเชิงเทรา | K9: www.thakam.go.th | L9: นายกเทศมนตรีตำบลท่าข้าม | M9: =_xlfn.CONCAT("ปลัด",J9) -> ปลัดเทศบาลตำบลท่าข้าม อำเภอบางปะกง จังหวัดฉะเชิงเทรา | N9: 122 หมู่ที่ 3 ตำบลท่าข้าม อำเภอบางปะกอง จังหวัดฉะเชิงเทรา 24130 | O9: =_xlfn.CONCAT(J9," ",N9) -> เทศบาลตำบลท่าข้าม อำเภอบางปะกง จังหวัดฉะเชิงเทรา 122 หมู่ที่ 3 ตำบลท่าข้าม อำเภอบางปะกอง จังหวัดฉะเชิงเทรา 24130 | P9: N/A
A10: 0009 | B10: 05240608 | C10: เทศบาลตำบลท่าถ่าน | D10: 05 | E10: =INDEX(Sheet3!B:B,MATCH(D10,Sheet3!A:A,0)) -> เทศบาลตำบล | F10: 2406 | G10: =INDEX(Sheet2!B:B,MATCH(F10,Sheet2!A:A,1)) -> อำเภอพนมสารคาม | H10: 24 | I10: =INDEX(Sheet2!D:D,MATCH(H10,Sheet2!C:C,0)) -> จังหวัดฉะเชิงเทรา | J10: =_xlfn.CONCAT(C10," ",G10," ",I10) -> เทศบาลตำบลท่าถ่าน อำเภอพนมสารคาม จังหวัดฉะเชิงเทรา | K10: www.tatancity.go.th | L10: นายกเทศมนตรีตำบลท่าถ่าน | M10: =_xlfn.CONCAT("ปลัด",J10) -> ปลัดเทศบาลตำบลท่าถ่าน อำเภอพนมสารคาม จังหวัดฉะเชิงเทรา | N10: 12/1 หมู่ 1 ตำบลท่าถ่าน อำเภอพนมสารคาม จังหวัดฉะเชิงเทรา 24120 | O10: =_xlfn.CONCAT(J10," ",N10) -> เทศบาลตำบลท่าถ่าน อำเภอพนมสารคาม จังหวัดฉะเชิงเทรา 12/1 หมู่ 1 ตำบลท่าถ่าน อำเภอพนมสารคาม จังหวัดฉะเชิงเทรา 24120 | P10: N/A
A11: 0010 | B11: 05240404 | C11: เทศบาลตำบลท่าสะอ้าน | D11: 05 | E11: =INDEX(Sheet3!B:B,MATCH(D11,Sheet3!A:A,0)) -> เทศบาลตำบล | F11: 2404 | G11: =INDEX(Sheet2!B:B,MATCH(F11,Sheet2!A:A,1)) -> อำเภอบางปะกง | H11: 24 | I11: =INDEX(Sheet2!D:D,MATCH(H11,Sheet2!C:C,0)) -> จังหวัดฉะเชิงเทรา | J11: =_xlfn.CONCAT(C11," ",G11," ",I11) -> เทศบาลตำบลท่าสะอ้าน อำเภอบางปะกง จังหวัดฉะเชิงเทรา | K11: www.thasaarn.go.th | L11: นายกเทศมนตรีตำบลท่าสะอ้าน | M11: =_xlfn.CONCAT("ปลัด",J11) -> ปลัดเทศบาลตำบลท่าสะอ้าน อำเภอบางปะกง จังหวัดฉะเชิงเทรา | N11: เลขที่ 94 หมู่ที่ 6 ตำบลท่าสะอ้าน อำเภอบางปะกง จังหวัดฉะเชิงเทรา รหัสไปรษณีย์ 24130 | O11: =_xlfn.CONCAT(J11," ",N11) -> เทศบาลตำบลท่าสะอ้าน อำเภอบางปะกง จังหวัดฉะเชิงเทรา เลขที่ 94 หมู่ที่ 6 ตำบลท่าสะอ้าน อำเภอบางปะกง จังหวัดฉะเชิงเทรา รหัสไปรษณีย์ 24130 | P11: N/A
A12: 0011 | B12: 05240901 | C12: เทศบาลตำบลทุ่งสะเดา | D12: 05 | E12: =INDEX(Sheet3!B:B,MATCH(D12,Sheet3!A:A,0)) -> เทศบาลตำบล | F12: 2409 | G12: =INDEX(Sheet2!B:B,MATCH(F12,Sheet2!A:A,1)) -> อำเภอแปลงยาว | H12: 24 | I12: =INDEX(Sheet2!D:D,MATCH(H12,Sheet2!C:C,0)) -> จังหวัดฉะเชิงเทรา | J12: =_xlfn.CONCAT(C12," ",G12," ",I12) -> เทศบาลตำบลทุ่งสะเดา อำเภอแปลงยาว จังหวัดฉะเชิงเทรา | K12: tungsadao.go.th | L12: นายกเทศมนตรีตำบลทุ่งสะเดา | M12: =_xlfn.CONCAT("ปลัด",J12) -> ปลัดเทศบาลตำบลทุ่งสะเดา อำเภอแปลงยาว จังหวัดฉะเชิงเทรา | N12: เลขที่ 99 หมู่ที่ 4 ถนน 331 (ฉะเชิงเทรา - สัตหีบ) ตำบลวังเย็น อำเภอแปลงยาว จังหวัดฉะเชิงเทรา 24190 | O12: =_xlfn.CONCAT(J12," ",N12) -> เทศบาลตำบลทุ่งสะเดา อำเภอแปลงยาว จังหวัดฉะเชิงเทรา เลขที่ 99 หมู่ที่ 4 ถนน 331 (ฉะเชิงเทรา - สัตหีบ) ตำบลวังเย็น อำเภอแปลงยาว จังหวัดฉะเชิงเทรา 24190 | P12: N/A
A13: 0012 | B13: 05240502 | C13: เทศบาลตำบลเทพราช | D13: 05 | E13: =INDEX(Sheet3!B:B,MATCH(D13,Sheet3!A:A,0)) -> เทศบาลตำบล | F13: 2405 | G13: =INDEX(Sheet2!B:B,MATCH(F13,Sheet2!A:A,1)) -> อำเภอบ้านโพธิ์ | H13: 24 | I13: =INDEX(Sheet2!D:D,MATCH(H13,Sheet2!C:C,0)) -> จังหวัดฉะเชิงเทรา | J13: =_xlfn.CONCAT(C13," ",G13," ",I13) -> เทศบาลตำบลเทพราช อำเภอบ้านโพธิ์ จังหวัดฉะเชิงเทรา | K13: www.tepparad.go.th | L13: นายกเทศมนตรีตำบลเทพราช | M13: =_xlfn.CONCAT("ปลัด",J13) -> ปลัดเทศบาลตำบลเทพราช อำเภอบ้านโพธิ์ จังหวัดฉะเชิงเทรา | N13: เลขที่ 111/1 หมู่ที่ 6 ถนนเทพราช-อ่อนนุช ตำบลเทพราช อำเภอบ้านโพธิ์ จังหวัดฉะเชิงเทรา 24140 | O13: =_xlfn.CONCAT(J13," ",N13) -> เทศบาลตำบลเทพราช อำเภอบ้านโพธิ์ จังหวัดฉะเชิงเทรา เลขที่ 111/1 หมู่ที่ 6 ถนนเทพราช-อ่อนนุช ตำบลเทพราช อำเภอบ้านโพธิ์ จังหวัดฉะเชิงเทรา 24140 | P13: N/A
A14: 0013 | B14: 05240103 | C14: เทศบาลตำบลนครเนื่องเขต | D14: 05 | E14: =INDEX(Sheet3!B:B,MATCH(D14,Sheet3!A:A,0)) -> เทศบาลตำบล | F14: 2401 | G14: =INDEX(Sheet2!B:B,MATCH(F14,Sheet2!A:A,1)) -> อำเภอเมืองฉะเชิงเทรา | H14: 24 | I14: =INDEX(Sheet2!D:D,MATCH(H14,Sheet2!C:C,0)) -> จังหวัดฉะเชิงเทรา | J14: =_xlfn.CONCAT(C14," ",G14," ",I14) -> เทศบาลตำบลนครเนื่องเขต อำเภอเมืองฉะเชิงเทรา จังหวัดฉะเชิงเทรา | K14: nakhonnueangkhet.go.th | L14: นายกเทศมนตรีตำบลนครเนื่องเขต | M14: =_xlfn.CONCAT("ปลัด",J14) -> ปลัดเทศบาลตำบลนครเนื่องเขต อำเภอเมืองฉะเชิงเทรา จังหวัดฉะเชิงเทรา | N14: 5/1 ม. 9 ต.คลองนครเนื่องเขต อ.เมืองฉะเชิงเทรา จ.ฉะเชิงเทรา 24000 | O14: =_xlfn.CONCAT(J14," ",N14) -> เทศบาลตำบลนครเนื่องเขต อำเภอเมืองฉะเชิงเทรา จังหวัดฉะเชิงเทรา 5/1 ม. 9 ต.คลองนครเนื่องเขต อ.เมืองฉะเชิงเทรา จ.ฉะเชิงเทรา 24000 | P14: N/A
A15: 0014 | B15: 05240302 | C15: เทศบาลตำบลบางขนาก | D15: 05 | E15: =INDEX(Sheet3!B:B,MATCH(D15,Sheet3!A:A,0)) -> เทศบาลตำบล | F15: 2403 | G15: =INDEX(Sheet2!B:B,MATCH(F15,Sheet2!A:A,1)) -> อำเภอบางน้ำเปรี้ยว | H15: 24 | I15: =INDEX(Sheet2!D:D,MATCH(H15,Sheet2!C:C,0)) -> จังหวัดฉะเชิงเทรา | J15: =_xlfn.CONCAT(C15," ",G15," ",I15) -> เทศบาลตำบลบางขนาก อำเภอบางน้ำเปรี้ยว จังหวัดฉะเชิงเทรา | K15: www.bangkhanag.go.th | L15: นายกเทศมนตรีตำบลบางขนาก | M15: =_xlfn.CONCAT("ปลัด",J15) -> ปลัดเทศบาลตำบลบางขนาก อำเภอบางน้ำเปรี้ยว จังหวัดฉะเชิงเทรา | N15: เลขที่ 156 หมู่ที่ 1 ตำบลบางขนาก อำเภอบางน้ำเปรี้ยว จังหวัดฉะเชิงเทรา 24150 | O15: =_xlfn.CONCAT(J15," ",N15) -> เทศบาลตำบลบางขนาก อำเภอบางน้ำเปรี้ยว จังหวัดฉะเชิงเทรา เลขที่ 156 หมู่ที่ 1 ตำบลบางขนาก อำเภอบางน้ำเปรี้ยว จังหวัดฉะเชิงเทรา 24150 | P15: N/A
... A33: 0032 | B33: 05240801 | C33: เทศบาลตำบลสนามชัยเขต | D33: 05 | E33: =INDEX(Sheet3!B:B,MATCH(D33,Sheet3!A:A,0)) -> เทศบาลตำบล | F33: 2408 | G33: =INDEX(Sheet2!B:B,MATCH(F33,Sheet2!A:A,1)) -> อำเภอสนามชัยเขต | H33: 24 | I33: =INDEX(Sheet2!D:D,MATCH(H33,Sheet2!C:C,0)) -> จังหวัดฉะเชิงเทรา | J33: =_xlfn.CONCAT(C33," ",G33," ",I33) -> เทศบาลตำบลสนามชัยเขต อำเภอสนามชัยเขต จังหวัดฉะเชิงเทรา | K33: www.govesite.com | L33: นายกเทศมนตรีตำบลสนามชัยเขต | M33: =_xlfn.CONCAT("ปลัด",J33) -> ปลัดเทศบาลตำบลสนามชัยเขต อำเภอสนามชัยเขต จังหวัดฉะเชิงเทรา | N33: 111 หมู่ที่ 1 ตำบลคู้ยายหมี อำเภอสนามชัยเขต จังหวัดฉะเชิงเทรา 24160 | O33: =_xlfn.CONCAT(J33," ",N33) -> เทศบาลตำบลสนามชัยเขต อำเภอสนามชัยเขต จังหวัดฉะเชิงเทรา 111 หมู่ที่ 1 ตำบลคู้ยายหมี อำเภอสนามชัยเขต จังหวัดฉะเชิงเทรา 24160 | P33: N/A
A34: 0033 | B34: 05240501 | C34: เทศบาลตำบลแสนภูดาษ | D34: 05 | E34: =INDEX(Sheet3!B:B,MATCH(D34,Sheet3!A:A,0)) -> เทศบาลตำบล | F34: 2405 | G34: =INDEX(Sheet2!B:B,MATCH(F34,Sheet2!A:A,1)) -> อำเภอบ้านโพธิ์ | H34: 24 | I34: =INDEX(Sheet2!D:D,MATCH(H34,Sheet2!C:C,0)) -> จังหวัดฉะเชิงเทรา | J34: =_xlfn.CONCAT(C34," ",G34," ",I34) -> เทศบาลตำบลแสนภูดาษ อำเภอบ้านโพธิ์ จังหวัดฉะเชิงเทรา | K34: www.sanphudad.go.th | L34: นายกเทศมนตรีตำบลแสนภูดาษ | M34: =_xlfn.CONCAT("ปลัด",J34) -> ปลัดเทศบาลตำบลแสนภูดาษ อำเภอบ้านโพธิ์ จังหวัดฉะเชิงเทรา | N34: เทศบาลตำบลแสนภูดาษ อำเภอบ้านโพธิ์ จังหวัดฉะเชิงเทรา 24140 | O34: เทศบาลตำบลแสนภูดาษ อำเภอบ้านโพธิ์ จังหวัดฉะเชิงเทรา 24140 | P34: N/A
A35: 0034 | B35: 05240407 | C35: เทศบาลตำบลหอมศีล | D35: 05 | E35: =INDEX(Sheet3!B:B,MATCH(D35,Sheet3!A:A,0)) -> เทศบาลตำบล | F35: 2404 | G35: =INDEX(Sheet2!B:B,MATCH(F35,Sheet2!A:A,1)) -> อำเภอบางปะกง | H35: 24 | I35: =INDEX(Sheet2!D:D,MATCH(H35,Sheet2!C:C,0)) -> จังหวัดฉะเชิงเทรา | J35: =_xlfn.CONCAT(C35," ",G35," ",I35) -> เทศบาลตำบลหอมศีล อำเภอบางปะกง จังหวัดฉะเชิงเทรา | K35: homsin-mu.go.th | L35: นายกเทศมนตรีตำบลหอมศีล | M35: =_xlfn.CONCAT("ปลัด",J35) -> ปลัดเทศบาลตำบลหอมศีล อำเภอบางปะกง จังหวัดฉะเชิงเทรา | N35: เลขที่ 11 หมู่ 1 ตำบลหอมศีล อำเภอบางปะกง จังหวัดฉะเชิงเทรา 24180 | O35: =_xlfn.CONCAT(J35," ",N35) -> เทศบาลตำบลหอมศีล อำเภอบางปะกง จังหวัดฉะเชิงเทรา เลขที่ 11 หมู่ 1 ตำบลหอมศีล อำเภอบางปะกง จังหวัดฉะเชิงเทรา 24180 | P35: N/A
A36: 0035 | B36: 05240903 | C36: เทศบาลตำบลหัวสำโรง | D36: 05 | E36: =INDEX(Sheet3!B:B,MATCH(D36,Sheet3!A:A,0)) -> เทศบาลตำบล | F36: 2409 | G36: =INDEX(Sheet2!B:B,MATCH(F36,Sheet2!A:A,1)) -> อำเภอแปลงยาว | H36: 24 | I36: =INDEX(Sheet2!D:D,MATCH(H36,Sheet2!C:C,0)) -> จังหวัดฉะเชิงเทรา | J36: =_xlfn.CONCAT(C36," ",G36," ",I36) -> เทศบาลตำบลหัวสำโรง อำเภอแปลงยาว จังหวัดฉะเชิงเทรา | K36: www.hsr.go.th | L36: นายกเทศมนตรีตำบลหัวสำโรง | M36: =_xlfn.CONCAT("ปลัด",J36) -> ปลัดเทศบาลตำบลหัวสำโรง อำเภอแปลงยาว จังหวัดฉะเชิงเทรา | N36: 199 หมู่ 1 ตำบลหัวสำโรง อำเภอแปลงยาว จังหวัดฉะเชิงเทรา 24190 | O36: =_xlfn.CONCAT(J36," ",N36) -> เทศบาลตำบลหัวสำโรง อำเภอแปลงยาว จังหวัดฉะเชิงเทรา 199 หมู่ 1 ตำบลหัวสำโรง อำเภอแปลงยาว จังหวัดฉะเชิงเทรา 24190 | P36: N/A
A37: 0036 | B37: 06241101 | C37: องค์การบริหารส่วนตำบลก้อนแก้ว | D37: 06 | E37: =INDEX(Sheet3!B:B,MATCH(D37,Sheet3!A:A,0)) -> องค์การบริหารส่วนตำบล | F37: 2411 | G37: =INDEX(Sheet2!B:B,MATCH(F37,Sheet2!A:A,1)) -> อำเภอคลองเขื่อน | H37: 24 | I37: =INDEX(Sheet2!D:D,MATCH(H37,Sheet2!C:C,0)) -> จังหวัดฉะเชิงเทรา | J37: =_xlfn.CONCAT(C37," ",G37," ",I37) -> องค์การบริหารส่วนตำบลก้อนแก้ว อำเภอคลองเขื่อน จังหวัดฉะเชิงเทรา | K37: konkaew.go.th | L37: นายกองค์การบริหารส่วนตำบลก้อนแก้ว | M37: =_xlfn.CONCAT("ปลัด",J37) -> ปลัดองค์การบริหารส่วนตำบลก้อนแก้ว อำเภอคลองเขื่อน จังหวัดฉะเชิงเทรา | N37: 5 หมู่ 5 ตำบลก้อนแก้ว อำเภอคลองเขื่อน จังหวัดฉะเชิงเทรา 24000 | O37: =_xlfn.CONCAT(J37," ",N37) -> องค์การบริหารส่วนตำบลก้อนแก้ว อำเภอคลองเขื่อน จังหวัดฉะเชิงเทรา 5 หมู่ 5 ตำบลก้อนแก้ว อำเภอคลองเขื่อน จังหวัดฉะเชิงเทรา 24000 | P37: N/A
A38: 0037 | B38: 06240606 | C38: องค์การบริหารส่วนตำบลเกาะขนุน | D38: 06 | E38: =INDEX(Sheet3!B:B,MATCH(D38,Sheet3!A:A,0)) -> องค์การบริหารส่วนตำบล | F38: 2406 | G38: =INDEX(Sheet2!B:B,MATCH(F38,Sheet2!A:A,1)) -> อำเภอพนมสารคาม | H38: 24 | I38: =INDEX(Sheet2!D:D,MATCH(H38,Sheet2!C:C,0)) -> จังหวัดฉะเชิงเทรา | J38: =_xlfn.CONCAT(C38," ",G38," ",I38) -> องค์การบริหารส่วนตำบลเกาะขนุน อำเภอพนมสารคาม จังหวัดฉะเชิงเทรา | K38: www.khoakanun.go.th | L38: นายกองค์การบริหารส่วนตำบลเกาะขนุน | M38: =_xlfn.CONCAT("ปลัด",J38) -> ปลัดองค์การบริหารส่วนตำบลเกาะขนุน อำเภอพนมสารคาม จังหวัดฉะเชิงเทรา | N38: เลขที่ 402 หมู่ที่ 3 ถนนพนมสารคาม - สนามชัยเขต อำเภอพนมสารคาม จังหวัดฉะเชิงเทรา 24120 | O38: =_xlfn.CONCAT(J38," ",N38) -> องค์การบริหารส่วนตำบลเกาะขนุน อำเภอพนมสารคาม จังหวัดฉะเชิงเทรา เลขที่ 402 หมู่ที่ 3 ถนนพนมสารคาม - สนามชัยเขต อำเภอพนมสารคาม จังหวัดฉะเชิงเทรา 24120 | P38: N/A
A39: 0038 | B39: 06240508 | C39: องค์การบริหารส่วนตำบลเกาะไร่ | D39: 06 | E39: =INDEX(Sheet3!B:B,MATCH(D39,Sheet3!A:A,0)) -> องค์การบริหารส่วนตำบล | F39: 2405 | G39: =INDEX(Sheet2!B:B,MATCH(F39,Sheet2!A:A,1)) -> อำเภอบ้านโพธิ์ | H39: 24 | I39: =INDEX(Sheet2!D:D,MATCH(H39,Sheet2!C:C,0)) -> จังหวัดฉะเชิงเทรา | J39: =_xlfn.CONCAT(C39," ",G39," ",I39) -> องค์การบริหารส่วนตำบลเกาะไร่ อำเภอบ้านโพธิ์ จังหวัดฉะเชิงเทรา | K39: www.kaorai.go.th | L39: นายกองค์การบริหารส่วนตำบลเกาะไร่ | M39: =_xlfn.CONCAT("ปลัด",J39) -> ปลัดองค์การบริหารส่วนตำบลเกาะไร่ อำเภอบ้านโพธิ์ จังหวัดฉะเชิงเทรา | N39: 1/5 ตำบลเกาะไร่ อำเภอบ้านโพธิ์ จังหวัดฉะเชิงเทรา 24140 | O39: =_xlfn.CONCAT(J39," ",N39) -> องค์การบริหารส่วนตำบลเกาะไร่ อำเภอบ้านโพธิ์ จังหวัดฉะเชิงเทรา 1/5 ตำบลเกาะไร่ อำเภอบ้านโพธิ์ จังหวัดฉะเชิงเทรา 24140 | P39: N/A
A40: 0039 | B40: 06240412 | C40: องค์การบริหารส่วนตำบลเขาดิน | D40: 06 | E40: =INDEX(Sheet3!B:B,MATCH(D40,Sheet3!A:A,0)) -> องค์การบริหารส่วนตำบล | F40: 2404 | G40: =INDEX(Sheet2!B:B,MATCH(F40,Sheet2!A:A,1)) -> อำเภอบางปะกง | H40: 24 | I40: =INDEX(Sheet2!D:D,MATCH(H40,Sheet2!C:C,0)) -> จังหวัดฉะเชิงเทรา | J40: =_xlfn.CONCAT(C40," ",G40," ",I40) -> องค์การบริหารส่วนตำบลเขาดิน อำเภอบางปะกง จังหวัดฉะเชิงเทรา | K40: khaodinsao.go.th | L40: นายกองค์การบริหารส่วนตำบลเขาดิน | M40: =_xlfn.CONCAT("ปลัด",J40) -> ปลัดองค์การบริหารส่วนตำบลเขาดิน อำเภอบางปะกง จังหวัดฉะเชิงเทรา | N40: หมู่ที่ 7 ต.เขาดิน อ.บางปะกง จ.ฉะเชิงเทรา 24130 | O40: =_xlfn.CONCAT(J40," ",N40) -> องค์การบริหารส่วนตำบลเขาดิน อำเภอบางปะกง จังหวัดฉะเชิงเทรา หมู่ที่ 7 ต.เขาดิน อ.บางปะกง จ.ฉะเชิงเทรา 24130 | P40: N/A
A41: 0040 | B41: 06240607 | C41: องค์การบริหารส่วนตำบลเขาหินซ้อน | D41: 06 | E41: =INDEX(Sheet3!B:B,MATCH(D41,Sheet3!A:A,0)) -> องค์การบริหารส่วนตำบล | F41: 2406 | G41: =INDEX(Sheet2!B:B,MATCH(F41,Sheet2!A:A,1)) -> อำเภอพนมสารคาม | H41: 24 | I41: =INDEX(Sheet2!D:D,MATCH(H41,Sheet2!C:C,0)) -> จังหวัดฉะเชิงเทรา | J41: =_xlfn.CONCAT(C41," ",G41," ",I41) -> องค์การบริหารส่วนตำบลเขาหินซ้อน อำเภอพนมสารคาม จังหวัดฉะเชิงเทรา | K41: www.khaohinson.go.th | L41: นายกองค์การบริหารส่วนตำบลเขาหินซ้อน | M41: =_xlfn.CONCAT("ปลัด",J41) -> ปลัดองค์การบริหารส่วนตำบลเขาหินซ้อน อำเภอพนมสารคาม จังหวัดฉะเชิงเทรา | N41: 299 หมู่ที่ 1 ตำบลเขาหินซ้อน อำเภอพนมสารคาม จังหวัดฉะเชิงเทรา 24120 | O41: =_xlfn.CONCAT(J41," ",N41) -> องค์การบริหารส่วนตำบลเขาหินซ้อน อำเภอพนมสารคาม จังหวัดฉะเชิงเทรา 299 หมู่ที่ 1 ตำบลเขาหินซ้อน อำเภอพนมสารคาม จังหวัดฉะเชิงเทรา 24120 | P41: N/A
A42: 0041 | B42: 06240505 | C42: องค์การบริหารส่วนตำบลคลองขุด | D42: 06 | E42: =INDEX(Sheet3!B:B,MATCH(D42,Sheet3!A:A,0)) -> องค์การบริหารส่วนตำบล | F42: 2405 | G42: =INDEX(Sheet2!B:B,MATCH(F42,Sheet2!A:A,1)) -> อำเภอบ้านโพธิ์ | H42: 24 | I42: =INDEX(Sheet2!D:D,MATCH(H42,Sheet2!C:C,0)) -> จังหวัดฉะเชิงเทรา | J42: =_xlfn.CONCAT(C42," ",G42," ",I42) -> องค์การบริหารส่วนตำบลคลองขุด อำเภอบ้านโพธิ์ จังหวัดฉะเชิงเทรา | K42: klongkud.go.th | L42: นายกองค์การบริหารส่วนตำบลคลองขุด | M42: =_xlfn.CONCAT("ปลัด",J42) -> ปลัดองค์การบริหารส่วนตำบลคลองขุด อำเภอบ้านโพธิ์ จังหวัดฉะเชิงเทรา | N42: องค์การบริหารส่วนตำบลคลองขุด อำเภอบ้านโพธิ์ จังหวัดฉะเชิงเทรา 24140 | O42: องค์การบริหารส่วนตำบลคลองขุด อำเภอบ้านโพธิ์ จังหวัดฉะเชิงเทรา 24140 | P42: N/A
A43: 0042 | B43: 06241102 | C43: องค์การบริหารส่วนตำบลคลองเขื่อน | D43: 06 | E43: =INDEX(Sheet3!B:B,MATCH(D43,Sheet3!A:A,0)) -> องค์การบริหารส่วนตำบล | F43: 2411 | G43: =INDEX(Sheet2!B:B,MATCH(F43,Sheet2!A:A,1)) -> อำเภอคลองเขื่อน | H43: 24 | I43: =INDEX(Sheet2!D:D,MATCH(H43,Sheet2!C:C,0)) -> จังหวัดฉะเชิงเทรา | J43: =_xlfn.CONCAT(C43," ",G43," ",I43) -> องค์การบริหารส่วนตำบลคลองเขื่อน อำเภอคลองเขื่อน จังหวัดฉะเชิงเทรา | K43: www.khlongkhuean.go.th | L43: นายกองค์การบริหารส่วนตำบลคลองเขื่อน | M43: =_xlfn.CONCAT("ปลัด",J43) -> ปลัดองค์การบริหารส่วนตำบลคลองเขื่อน อำเภอคลองเขื่อน จังหวัดฉะเชิงเทรา | N43: องค์การบริหารส่วนตำบลคลองเขื่อน อำเภอคลองเขื่อน จังหวัดฉะเชิงเทรา 24000 | O43: องค์การบริหารส่วนตำบลคลองเขื่อน อำเภอคลองเขื่อน จังหวัดฉะเชิงเทรา 24000 | P43: N/A
A44: 0043 | B44: 06240105 | C44: องค์การบริหารส่วนตำบลคลองจุกกระเฌอ | D44: 06 | E44: =INDEX(Sheet3!B:B,MATCH(D44,Sheet3!A:A,0)) -> องค์การบริหารส่วนตำบล | F44: 2401 | G44: =INDEX(Sheet2!B:B,MATCH(F44,Sheet2!A:A,1)) -> อำเภอเมืองฉะเชิงเทรา | H44: 24 | I44: =INDEX(Sheet2!D:D,MATCH(H44,Sheet2!C:C,0)) -> จังหวัดฉะเชิงเทรา | J44: =_xlfn.CONCAT(C44," ",G44," ",I44) -> องค์การบริหารส่วนตำบลคลองจุกกระเฌอ อำเภอเมืองฉะเชิงเทรา จังหวัดฉะเชิงเทรา | K44: kkc.go.th | L44: นายกองค์การบริหารส่วนตำบลคลองจุกกระเฌอ | M44: =_xlfn.CONCAT("ปลัด",J44) -> ปลัดองค์การบริหารส่วนตำบลคลองจุกกระเฌอ อำเภอเมืองฉะเชิงเทรา จังหวัดฉะเชิงเทรา | N44: 7/4 หมู่ที่ 4 ตำบลคลองจุกกระเฌอ อำเภอเมืองฉะเชิงเทรา จังหวัดฉะเชิงเทรา 24000 | O44: =_xlfn.CONCAT(J44," ",N44) -> องค์การบริหารส่วนตำบลคลองจุกกระเฌอ อำเภอเมืองฉะเชิงเทรา จังหวัดฉะเชิงเทรา 7/4 หมู่ที่ 4 ตำบลคลองจุกกระเฌอ อำเภอเมืองฉะเชิงเทรา จังหวัดฉะเชิงเทรา 24000 | P44: N/A
A45: 0044 | B45: 06241002 | C45: องค์การบริหารส่วนตำบลคลองตะเกรา | D45: 06 | E45: =INDEX(Sheet3!B:B,MATCH(D45,Sheet3!A:A,0)) -> องค์การบริหารส่วนตำบล | F45: 2410 | G45: =INDEX(Sheet2!B:B,MATCH(F45,Sheet2!A:A,1)) -> อำเภอท่าตะเกียบ | H45: 24 | I45: =INDEX(Sheet2!D:D,MATCH(H45,Sheet2!C:C,0)) -> จังหวัดฉะเชิงเทรา | J45: =_xlfn.CONCAT(C45," ",G45," ",I45) -> องค์การบริหารส่วนตำบลคลองตะเกรา อำเภอท่าตะเกียบ จังหวัดฉะเชิงเทรา | K45: klongtakrao.go.th | L45: นายกองค์การบริหารส่วนตำบลคลองตะเกรา | M45: =_xlfn.CONCAT("ปลัด",J45) -> ปลัดองค์การบริหารส่วนตำบลคลองตะเกรา อำเภอท่าตะเกียบ จังหวัดฉะเชิงเทรา | N45: เลขที่ 100 หมู่ที่ 12 ตำบลคลองตะเกรา อำเภอท่าตะเกียบ จังหวัดฉะเชิงเทรา 24160 | O45: =_xlfn.CONCAT(J45," ",N45) -> องค์การบริหารส่วนตำบลคลองตะเกรา อำเภอท่าตะเกียบ จังหวัดฉะเชิงเทรา เลขที่ 100 หมู่ที่ 12 ตำบลคลองตะเกรา อำเภอท่าตะเกียบ จังหวัดฉะเชิงเทรา 24160 | P45: N/A
A46: 0045 | B46: 06240106 | C46: องค์การบริหารส่วนตำบลคลองนครเนื่องเขต | D46: 06 | E46: =INDEX(Sheet3!B:B,MATCH(D46,Sheet3!A:A,0)) -> องค์การบริหารส่วนตำบล | F46: 2401 | G46: =INDEX(Sheet2!B:B,MATCH(F46,Sheet2!A:A,1)) -> อำเภอเมืองฉะเชิงเทรา | H46: 24 | I46: =INDEX(Sheet2!D:D,MATCH(H46,Sheet2!C:C,0)) -> จังหวัดฉะเชิงเทรา | J46: =_xlfn.CONCAT(C46," ",G46," ",I46) -> องค์การบริหารส่วนตำบลคลองนครเนื่องเขต อำเภอเมืองฉะเชิงเทรา จังหวัดฉะเชิงเทรา | K46: www.knk.go.th | L46: นายกองค์การบริหารส่วนตำบลคลองนครเนื่องเขต | M46: =_xlfn.CONCAT("ปลัด",J46) -> ปลัดองค์การบริหารส่วนตำบลคลองนครเนื่องเขต อำเภอเมืองฉะเชิงเทรา จังหวัดฉะเชิงเทรา | N46: องค์การบริหารส่วนตำบลคลองนครเนื่องเขต อำเภอเมืองฉะเชิงเทรา จังหวัดฉะเชิงเทรา 24000 | O46: องค์การบริหารส่วนตำบลคลองนครเนื่องเขต อำเภอเมืองฉะเชิงเทรา จังหวัดฉะเชิงเทรา 24000 | P46: N/A
A47: 0046 | B47: 06240107 | C47: องค์การบริหารส่วนตำบลคลองนา | D47: 06 | E47: =INDEX(Sheet3!B:B,MATCH(D47,Sheet3!A:A,0)) -> องค์การบริหารส่วนตำบล | F47: 2401 | G47: =INDEX(Sheet2!B:B,MATCH(F47,Sheet2!A:A,1)) -> อำเภอเมืองฉะเชิงเทรา | H47: 24 | I47: =INDEX(Sheet2!D:D,MATCH(H47,Sheet2!C:C,0)) -> จังหวัดฉะเชิงเทรา | J47: =_xlfn.CONCAT(C47," ",G47," ",I47) -> องค์การบริหารส่วนตำบลคลองนา อำเภอเมืองฉะเชิงเทรา จังหวัดฉะเชิงเทรา | K47: www.klongna.go.th | L47: นายกองค์การบริหารส่วนตำบลคลองนา | M47: =_xlfn.CONCAT("ปลัด",J47) -> ปลัดองค์การบริหารส่วนตำบลคลองนา อำเภอเมืองฉะเชิงเทรา จังหวัดฉะเชิงเทรา | N47: 78/9 หมู่ 2 ตำบลคลองนา อำเภอเมืองฉะเชิงเทรา จังหวัดฉะเชิงเทรา 24000 | O47: =_xlfn.CONCAT(J47," ",N47) -> องค์การบริหารส่วนตำบลคลองนา อำเภอเมืองฉะเชิงเทรา จังหวัดฉะเชิงเทรา 78/9 หมู่ 2 ตำบลคลองนา อำเภอเมืองฉะเชิงเทรา จังหวัดฉะเชิงเทรา 24000 | P47: N/A
A48: 0047 | B48: 06240509 | C48: องค์การบริหารส่วนตำบลคลองบ้านโพธิ์ | D48: 06 | E48: =INDEX(Sheet3!B:B,MATCH(D48,Sheet3!A:A,0)) -> องค์การบริหารส่วนตำบล | F48: 2405 | G48: =INDEX(Sheet2!B:B,MATCH(F48,Sheet2!A:A,1)) -> อำเภอบ้านโพธิ์ | H48: 24 | I48: =INDEX(Sheet2!D:D,MATCH(H48,Sheet2!C:C,0)) -> จังหวัดฉะเชิงเทรา | J48: =_xlfn.CONCAT(C48," ",G48," ",I48) -> องค์การบริหารส่วนตำบลคลองบ้านโพธิ์ อำเภอบ้านโพธิ์ จังหวัดฉะเชิงเทรา | K48: www.kbp.go.th | L48: นายกองค์การบริหารส่วนตำบลคลองบ้านโพธิ์ | M48: =_xlfn.CONCAT("ปลัด",J48) -> ปลัดองค์การบริหารส่วนตำบลคลองบ้านโพธิ์ อำเภอบ้านโพธิ์ จังหวัดฉะเชิงเทรา | N48: 40/3 ม.3 ต.คลองบ้านโพธิ์ อ.บ้านโพธิ์ จ.ฉะเชิงเทรา 24140 | O48: =_xlfn.CONCAT(J48," ",N48) -> องค์การบริหารส่วนตำบลคลองบ้านโพธิ์ อำเภอบ้านโพธิ์ จังหวัดฉะเชิงเทรา 40/3 ม.3 ต.คลองบ้านโพธิ์ อ.บ้านโพธิ์ จ.ฉะเชิงเทรา 24140 | P48: N/A
A49: 0048 | B49: 06240510 | C49: องค์การบริหารส่วนตำบลคลองประเวศ | D49: 06 | E49: =INDEX(Sheet3!B:B,MATCH(D49,Sheet3!A:A,0)) -> องค์การบริหารส่วนตำบล | F49: 2405 | G49: =INDEX(Sheet2!B:B,MATCH(F49,Sheet2!A:A,1)) -> อำเภอบ้านโพธิ์ | H49: 24 | I49: =INDEX(Sheet2!D:D,MATCH(H49,Sheet2!C:C,0)) -> จังหวัดฉะเชิงเทรา | J49: =_xlfn.CONCAT(C49," ",G49," ",I49) -> องค์การบริหารส่วนตำบลคลองประเวศ อำเภอบ้านโพธิ์ จังหวัดฉะเชิงเทรา | K49: www.klongprawet.go.th | L49: นายกองค์การบริหารส่วนตำบลคลองประเวศ | M49: =_xlfn.CONCAT("ปลัด",J49) -> ปลัดองค์การบริหารส่วนตำบลคลองประเวศ อำเภอบ้านโพธิ์ จังหวัดฉะเชิงเทรา | N49: 999 หมู่ 3 ตำบลคลองประเวศ อำเภอบ้านโพธิ์ จังหวัดฉะเชิงเทรา 24140 | O49: =_xlfn.CONCAT(J49," ",N49) -> องค์การบริหารส่วนตำบลคลองประเวศ อำเภอบ้านโพธิ์ จังหวัดฉะเชิงเทรา 999 หมู่ 3 ตำบลคลองประเวศ อำเภอบ้านโพธิ์ จังหวัดฉะเชิงเทรา 24140 | P49: N/A
A50: 0049 | B50: 06240108 | C50: องค์การบริหารส่วนตำบลคลองเปรง | D50: 06 | E50: =INDEX(Sheet3!B:B,MATCH(D50,Sheet3!A:A,0)) -> องค์การบริหารส่วนตำบล | F50: 2401 | G50: =INDEX(Sheet2!B:B,MATCH(F50,Sheet2!A:A,1)) -> อำเภอเมืองฉะเชิงเทรา | H50: 24 | I50: =INDEX(Sheet2!D:D,MATCH(H50,Sheet2!C:C,0)) -> จังหวัดฉะเชิงเทรา | J50: =_xlfn.CONCAT(C50," ",G50," ",I50) -> องค์การบริหารส่วนตำบลคลองเปรง อำเภอเมืองฉะเชิงเทรา จังหวัดฉะเชิงเทรา | K50: khlongpreng.go.th | L50: นายกองค์การบริหารส่วนตำบลคลองเปรง | M50: =_xlfn.CONCAT("ปลัด",J50) -> ปลัดองค์การบริหารส่วนตำบลคลองเปรง อำเภอเมืองฉะเชิงเทรา จังหวัดฉะเชิงเทรา | N50: หมู่ 1 ตำบลคลองเปรง อำเภอเมืองฉะเชิงเทรา จังหวัดฉะเชิงเทรา รหัสไปรษณีย์ 24000 | O50: =_xlfn.CONCAT(J50," ",N50) -> องค์การบริหารส่วนตำบลคลองเปรง อำเภอเมืองฉะเชิงเทรา จังหวัดฉะเชิงเทรา หมู่ 1 ตำบลคลองเปรง อำเภอเมืองฉะเชิงเทรา จังหวัดฉะเชิงเทรา รหัสไปรษณีย์ 24000 | P50: N/A
A51: 0050 | B51: 06240109 | C51: องค์การบริหารส่วนตำบลคลองหลวงแพ่ง | D51: 06 | E51: =INDEX(Sheet3!B:B,MATCH(D51,Sheet3!A:A,0)) -> องค์การบริหารส่วนตำบล | F51: 2401 | G51: =INDEX(Sheet2!B:B,MATCH(F51,Sheet2!A:A,1)) -> อำเภอเมืองฉะเชิงเทรา | H51: 24 | I51: =INDEX(Sheet2!D:D,MATCH(H51,Sheet2!C:C,0)) -> จังหวัดฉะเชิงเทรา | J51: =_xlfn.CONCAT(C51," ",G51," ",I51) -> องค์การบริหารส่วนตำบลคลองหลวงแพ่ง อำเภอเมืองฉะเชิงเทรา จังหวัดฉะเชิงเทรา | K51: klongluangpang.go.th | L51: นายกองค์การบริหารส่วนตำบลคลองหลวงแพ่ง | M51: =_xlfn.CONCAT("ปลัด",J51) -> ปลัดองค์การบริหารส่วนตำบลคลองหลวงแพ่ง อำเภอเมืองฉะเชิงเทรา จังหวัดฉะเชิงเทรา | N51: หมู่ที่ 5 ตำบลคลองหลวงแพ่ง อำเภอเมืองฉะเชิงเทรา จังหวัดฉะเชิงเทรา 24000 | O51: =_xlfn.CONCAT(J51," ",N51) -> องค์การบริหารส่วนตำบลคลองหลวงแพ่ง อำเภอเมืองฉะเชิงเทรา จังหวัดฉะเชิงเทรา หมู่ที่ 5 ตำบลคลองหลวงแพ่ง อำเภอเมืองฉะเชิงเทรา จังหวัดฉะเชิงเทรา 24000 | P51: N/A
A52: 0051 | B52: 06240110 | C52: องค์การบริหารส่วนตำบลคลองอุดมชลจร | D52: 06 | E52: =INDEX(Sheet3!B:B,MATCH(D52,Sheet3!A:A,0)) -> องค์การบริหารส่วนตำบล | F52: 2401 | G52: =INDEX(Sheet2!B:B,MATCH(F52,Sheet2!A:A,1)) -> อำเภอเมืองฉะเชิงเทรา | H52: 24 | I52: =INDEX(Sheet2!D:D,MATCH(H52,Sheet2!C:C,0)) -> จังหวัดฉะเชิงเทรา | J52: =_xlfn.CONCAT(C52," ",G52," ",I52) -> องค์การบริหารส่วนตำบลคลองอุดมชลจร อำเภอเมืองฉะเชิงเทรา จังหวัดฉะเชิงเทรา | K52: khlongudomchonlajorn.go.th | L52: นายกองค์การบริหารส่วนตำบลคลองอุดมชลจร | M52: =_xlfn.CONCAT("ปลัด",J52) -> ปลัดองค์การบริหารส่วนตำบลคลองอุดมชลจร อำเภอเมืองฉะเชิงเทรา จังหวัดฉะเชิงเทรา | N52: เลขที่ 9/9 หมู่ 4 ตำบลคลองอุดมชลจร อำเภอเมือง จังหวัดฉะเชิงเทรา 24000 | O52: =_xlfn.CONCAT(J52," ",N52) -> องค์การบริหารส่วนตำบลคลองอุดมชลจร อำเภอเมืองฉะเชิงเทรา จังหวัดฉะเชิงเทรา เลขที่ 9/9 หมู่ 4 ตำบลคลองอุดมชลจร อำเภอเมือง จังหวัดฉะเชิงเทรา 24000 | P52: N/A
A53: 0052 | B53: 06240802 | C53: องค์การบริหารส่วนตำบลคู้ยายหมี | D53: 06 | E53: =INDEX(Sheet3!B:B,MATCH(D53,Sheet3!A:A,0)) -> องค์การบริหารส่วนตำบล | F53: 2408 | G53: =INDEX(Sheet2!B:B,MATCH(F53,Sheet2!A:A,1)) -> อำเภอสนามชัยเขต | H53: 24 | I53: =INDEX(Sheet2!D:D,MATCH(H53,Sheet2!C:C,0)) -> จังหวัดฉะเชิงเทรา | J53: =_xlfn.CONCAT(C53," ",G53," ",I53) -> องค์การบริหารส่วนตำบลคู้ยายหมี อำเภอสนามชัยเขต จังหวัดฉะเชิงเทรา | K53: N/A | L53: นายกองค์การบริหารส่วนตำบลคู้ยายหมี | M53: =_xlfn.CONCAT("ปลัด",J53) -> ปลัดองค์การบริหารส่วนตำบลคู้ยายหมี อำเภอสนามชัยเขต จังหวัดฉะเชิงเทรา | N53: 612 หมู่ 9 ตำบลคู้ยายหมี อำเภอสนามชัยเขต จังหวัดฉะเชิงเทรา 24160 | O53: =_xlfn.CONCAT(J53," ",N53) -> องค์การบริหารส่วนตำบลคู้ยายหมี อำเภอสนามชัยเขต จังหวัดฉะเชิงเทรา 612 หมู่ 9 ตำบลคู้ยายหมี อำเภอสนามชัยเขต จังหวัดฉะเชิงเทรา 24160 | P53: N/A
A54: 0053 | B54: 06240702 | C54: องค์การบริหารส่วนตำบลดงน้อย | D54: 06 | E54: =INDEX(Sheet3!B:B,MATCH(D54,Sheet3!A:A,0)) -> องค์การบริหารส่วนตำบล | F54: 2407 | G54: =INDEX(Sheet2!B:B,MATCH(F54,Sheet2!A:A,1)) -> อำเภอราชสาส์น | H54: 24 | I54: =INDEX(Sheet2!D:D,MATCH(H54,Sheet2!C:C,0)) -> จังหวัดฉะเชิงเทรา | J54: =_xlfn.CONCAT(C54," ",G54," ",I54) -> องค์การบริหารส่วนตำบลดงน้อย อำเภอราชสาส์น จังหวัดฉะเชิงเทรา | K54: dongnoi.go.th | L54: นายกองค์การบริหารส่วนตำบลดงน้อย | M54: =_xlfn.CONCAT("ปลัด",J54) -> ปลัดองค์การบริหารส่วนตำบลดงน้อย อำเภอราชสาส์น จังหวัดฉะเชิงเทรา | N54: 99/9 หมู่ที่ 6 ตำบลดงน้อย อำเภอราชสาส์น จังหวัดฉะเชิงเทรา 24120 | O54: =_xlfn.CONCAT(J54," ",N54) -> องค์การบริหารส่วนตำบลดงน้อย อำเภอราชสาส์น จังหวัดฉะเชิงเทรา 99/9 หมู่ที่ 6 ตำบลดงน้อย อำเภอราชสาส์น จังหวัดฉะเชิงเทรา 24120 | P54: N/A
A55: 0054 | B55: 06240309 | C55: องค์การบริหารส่วนตำบลดอนฉิมพลี | D55: 06 | E55: =INDEX(Sheet3!B:B,MATCH(D55,Sheet3!A:A,0)) -> องค์การบริหารส่วนตำบล | F55: 2403 | G55: =INDEX(Sheet2!B:B,MATCH(F55,Sheet2!A:A,1)) -> อำเภอบางน้ำเปรี้ยว | H55: 24 | I55: =INDEX(Sheet2!D:D,MATCH(H55,Sheet2!C:C,0)) -> จังหวัดฉะเชิงเทรา | J55: =_xlfn.CONCAT(C55," ",G55," ",I55) -> องค์การบริหารส่วนตำบลดอนฉิมพลี อำเภอบางน้ำเปรี้ยว จังหวัดฉะเชิงเทรา | K55: www.donchimplee.go.th | L55: นายกองค์การบริหารส่วนตำบลดอนฉิมพลี | M55: =_xlfn.CONCAT("ปลัด",J55) -> ปลัดองค์การบริหารส่วนตำบลดอนฉิมพลี อำเภอบางน้ำเปรี้ยว จังหวัดฉะเชิงเทรา | N55: 88 หมู่ 8 ตำบลดอนฉิมพลี อำเภอบางน้ำเปรี้ยว จังหวัดฉะเชิงเทรา 24170 | O55: =_xlfn.CONCAT(J55," ",N55) -> องค์การบริหารส่วนตำบลดอนฉิมพลี อำเภอบางน้ำเปรี้ยว จังหวัดฉะเชิงเทรา 88 หมู่ 8 ตำบลดอนฉิมพลี อำเภอบางน้ำเปรี้ยว จังหวัดฉะเชิงเทรา 24170 | P55: N/A
A56: 0055 | B56: 06240511 | C56: องค์การบริหารส่วนตำบลดอนทราย | D56: 06 | E56: =INDEX(Sheet3!B:B,MATCH(D56,Sheet3!A:A,0)) -> องค์การบริหารส่วนตำบล | F56: 2405 | G56: =INDEX(Sheet2!B:B,MATCH(F56,Sheet2!A:A,1)) -> อำเภอบ้านโพธิ์ | H56: 24 | I56: =INDEX(Sheet2!D:D,MATCH(H56,Sheet2!C:C,0)) -> จังหวัดฉะเชิงเทรา | J56: =_xlfn.CONCAT(C56," ",G56," ",I56) -> องค์การบริหารส่วนตำบลดอนทราย อำเภอบ้านโพธิ์ จังหวัดฉะเชิงเทรา | K56: www.donsailocal.go.th | L56: นายกองค์การบริหารส่วนตำบลดอนทราย | M56: =_xlfn.CONCAT("ปลัด",J56) -> ปลัดองค์การบริหารส่วนตำบลดอนทราย อำเภอบ้านโพธิ์ จังหวัดฉะเชิงเทรา | N56: เลขที่ 40/1 หมู่ที่ 4 ตำบลดอนทราย อำเภอบ้านโพธิ์ จังหวัดฉะเชิงเทรา 24140 | O56: =_xlfn.CONCAT(J56," ",N56) -> องค์การบริหารส่วนตำบลดอนทราย อำเภอบ้านโพธิ์ จังหวัดฉะเชิงเทรา เลขที่ 40/1 หมู่ที่ 4 ตำบลดอนทราย อำเภอบ้านโพธิ์ จังหวัดฉะเชิงเทรา 24140 | P56: N/A
A57: 0056 | B57: 06240803 | C57: องค์การบริหารส่วนตำบลท่ากระดาน | D57: 06 | E57: =INDEX(Sheet3!B:B,MATCH(D57,Sheet3!A:A,0)) -> องค์การบริหารส่วนตำบล | F57: 2408 | G57: =INDEX(Sheet2!B:B,MATCH(F57,Sheet2!A:A,1)) -> อำเภอสนามชัยเขต | H57: 24 | I57: =INDEX(Sheet2!D:D,MATCH(H57,Sheet2!C:C,0)) -> จังหวัดฉะเชิงเทรา | J57: =_xlfn.CONCAT(C57," ",G57," ",I57) -> องค์การบริหารส่วนตำบลท่ากระดาน อำเภอสนามชัยเขต จังหวัดฉะเชิงเทรา | K57: tkd.go.th | L57: นายกองค์การบริหารส่วนตำบลท่ากระดาน | M57: =_xlfn.CONCAT("ปลัด",J57) -> ปลัดองค์การบริหารส่วนตำบลท่ากระดาน อำเภอสนามชัยเขต จังหวัดฉะเชิงเทรา | N57: 255 หมู่ที่ 8 ต.ท่ากระดาน อ.สนามชัยเขต จ.ฉะเชิงเทรา 24160 | O57: =_xlfn.CONCAT(J57," ",N57) -> องค์การบริหารส่วนตำบลท่ากระดาน อำเภอสนามชัยเขต จังหวัดฉะเชิงเทรา 255 หมู่ที่ 8 ต.ท่ากระดาน อ.สนามชัยเขต จ.ฉะเชิงเทรา 24160 | P57: N/A
...

Sheet Meta data
A1: ลำดับ | B1: หัวข้อ | C1: ข้อมูล
B2: ข้อมูลทั่วไปของชุดข้อมูล
A3: 1 | B3: เลขที่ชุดข้อมูล (Dataset ID) | C3: CMD001
A4: 2 | B4: ชื่อชุดข้อมูล (Dataset Name) | C4: ชุดข้อมูลองค์กรปกครองส่วนท้องถิ่นในพื้นที่ อีอีซี
A5: 3 | B5: เจ้าของข้อมูล (Data Owner) | C5: สำนักบริหารโครงการ สำนักงานคณะกรรมการนโยบายเขตพัฒนาพิเศษภาคตะวันออก (สกพอ.) โดยผู้รับผิดชอบหลักคือ นางสาวปิยนุช แตงชัยภูมิ เจ้าหน้าที่อาวุโส สำนักบริหารโครงการความร่วมมือ
A6: 4 | B6: ผู้สนับสนุน หรือผู้ร่วมดำเนินการ (Data Supporter) | C6: สำนักบริหารโครงการความร่วมมือ สำนักงานคณะกรรมการนโยบายเขตพัฒนาพิเศษภาคตะวันออก (สกพอ.)
A7: 5 | B7: คำสำคัญ (Keyword) | C7: องค์กรปกครองส่วนท้องถิ่น, อปท., LGO, อำเภอ, จังหวัด
A8: 6 | B8: คำอธิบาย (Description) | C8: ชุดข้อมูลที่แสดงรายละเอียดขององค์กรปกครองส่วนท้องถิ่นในพื้นที่ อีอีซี ทุกแห่ง ทุกประเภท
A9: 7 | B9: ขอบเขตของข้อมูล (Data Scope) | C9: ครอบคลุมรายละเอียดขององค์กรปกครองส่วนท้องถิ่นในพื้นที่ อีอีซี ทั้ง 3 จังหวัด ตั้งแต่ชื่อ ที่อยู่ ตำแหน่งผู้บริหารสูงสุดทั้งฝ่ายข้าราชการการเมืองและข้าราชการประจำ รหัสที่กำหนดโดยหน่วยงานต่าง ๆ
A10: 8 | B10: วัตถุประสงค์ (Objecttive) | C10: เป็นชุดข้อมูลพื้นฐานสำหรับติดต่อกับองค์กรปกครองส่วนท้องถิ่น
A11: 9 | B11: แหล่งอ้างอิง (Data Source) | C11: อ้างอิงจากฐานข้อมูลของกระทรวงมหาดไทย เว็บไซต์ขององค์กรปกครองส่วนท้องถิ่นแต่ละแห่ง รวมทั้งราชกิจจานุเบกษา
B12: คุณลักษณะชุดข้อมูล
A13: 1 | B13: ภาษาที่ใช้บันทึกข้อมูล (Language) | C13: ภาษาไทย และภาษาอังกฤษ
A14: 2 | B14: ประเภทข้อมูล | C14: มีโครงสร้าง (Structured Data)
A15: 3 | B15: มีระบบฐานข้อมูลหรือไม่ (Database System) | C15: ยังไม่มี
A16: 4 | B16: รูปแบบข้อมูล (Data format) | C16: XLSX
A17: 5 | B17: จำนวนไฟล์ (Number of File) | C17: 1 ไฟล์ ในรูปแบบ XLSX
B18: การจัดหมวดหมู่และการจัดชั้นความลับ
A19: 1 | B19: เป็น/มีข้อมูลส่วนบุคคลหรือไม่ (Personal Data) | C19: ไม่มีข้อมูลส่วนบุคคล
A20: 2 | B20: ขอบเขตการเผยแพร่ข้อมูล (Data Dissemination) และระดับชั้นความลับ (Data Classification) | C20: ข้อมูลเปิดเผยสาธารณะทั้งหมด
A21: 3 | B21: สิทธิในการเข้าถึงและการใช้ข้อมูล (Right of Access and Use) | C21: เนื่องจากเป็นข้อมูลที่เปิดเผยได้ทั้งหมด ดังนั้น เจ้าหน้าที่ อีอีซี และประชาชนทุกคนสามารถเข้าถึงและใช้ประโยชน์จากข้อมูลนี้ได้
B22: การจัดเก็บ การปรับปรุง และการทำลายข้อมูล
A23: 1 | B23: แหล่งจัดเก็บข้อมูล Location | C23: 1. ระบบ https://sharedrive.eeco.or.th/ 2. เครื่องคอมพิวเตอร์ส่วนตัวของ นางสาวปิยนุช แตงชัยภูมิ เจ้าหน้าที่อาวุโส สำนักบริหารโครงการ
A24: 2 | B24: ระยะเวลาในการจัดเก็บข้อมูล (Data Retention Period) | C24: เท่าที่มีความจำเป็นในการใช้งาน
A25: 3 | B25: การสำรองข้อมูล (Backup) | C25: มีการสำรองข้อมูล (Backup) ในแหล่งจัดเก็บที่ 1 ส่วนในแหล่งจัดเก็บที่ 2 มีการสำรองข้อมูลอย่างน้อยเดือนละ 1 ครั้ง
A26: 4 | B26: การจัดเก็บถาวร (Archive) | C26: เมื่อมีการปรับปรุงข้อมูลให้เป็นปัจจุบัน ให้จัดเก็บไฟล์ข้อมูล พจนานุกรมข้อมูล (Data Dictionary) คำอธิบายชุดข้อมูล (Metadata) ไว้ใน ระบบ https://sharedrive.eeco.or.th/
A27: 5 | B27: การปรับปรุงข้อมูล (Update) | C27: 1. ตรวจสอบข้อมูลอย่างน้อยปีละ 1 ครั้ง 2. หากผู้ใช้ข้อมูลคนใดพบว่า ข้อมูลมีความผิดพลาดหรือมีข้อสงสัยเกี่ยวกับชุดข้อมูล สามารถติดต่อสอบถามได้ที่ไปรษณีย์อิเล็กทรอนิกส์ (E-mail) Nattapa.sup@eeco.or.th โดยสำนักบริหารโครงการ จะตรวจสอบและแจ้งผลทางไปรษณีย์อิเล็กทรอนิกส์ภายใน 7 วันทำการ และจะปรับปรุงข้อมูลให้ถูกต้องและเป็นปัจจุบันโดยเร็วที่สุด 3. ต้องปรับปรุงข้อมูลในแหล่งจัดเก็บทั้ง 2 แหล่งให้สอดคล้องกันเสมอ
A28: 6 | B28: วันที่ปรับปรุงข้อมูลล่าสุด (Last Update) | C28: 20 กุมภาพันธ์ 2567
A29: 7 | B29: การทำลายข้อมูล (Destroy) | C29: เมื่อได้รับการอนุมัติจากผู้บริหาร สกพอ. โดยให้ลบข้อมูลออกจากระบบ แต่ให้เก็บรักษา Data Dictionary ไว้

Sheet Data Dic
A1: ลำดับ | B1: ชื่อคอลัมน์ | C1: คำอธิบาย | D1: ขอบเขตและรูปแบบข้อมูล | E1: ชั้นความลับ
A2: 1 | B2: No | C2: ลำดับขององค์กรปกครองส่วนท้องถิ่นในไฟล์ข้อมูล | D2: เลขอาระบิก 4 หลัก เรียงตามลำดับไปเรื่อย ๆ ตั้งแต่ 0001 | E2: เปิดเผยได้
A3: 2 | B3: CodeLGO_MOI | C3: รหัสขององค์กรปกครองส่วนท้องถิ่นตามที่กระทรวงมหาดไทยกำหนด | D3: ตัวเลขอาระบิก 8 หลัก โดยมีความหมายแต่ละหลัก ดังนี้ 1. หลักที่ 1 และ 2 คือ ประเภทขององค์กรปกครองส่วนท้องถิ่น โดย 02 หมายถึง องค์การบริหารส่วนจังหวัด 03 หมายถึง เมืองพัทยาและเทศบาลนคร 04 หมายถึง เทศบาลเมือง 05 หมายถึง เทศบาลตำบล และ 06 หมายถึง องค์การบริหารส่วนตำบล 2. หลักที่ 3 และ 4 คือ รหัสจังหวัดที่กระทรวงมหาดไทยกำหนด 3. หลักที่ 5 และ 6 คือ รหัสอำเภอในแต่ละจังหวัดตามที่กระทรวงมหาดไทยกำหนด 4. หลักที่ 7 และ 8 คือ ลำดับขององค์กรปกครองส่วนท้องถิ่นในแต่ละอำเภอ อ้างอิงจาก https://www.dla.go.th/servlet/InfoServlet | E3: เปิดเผยได้
A4: 3 | B4: LGONameThai | C4: ชื่อขององค์กรปกครองส่วนท้องถิ่นแต่ละแห่ง โดยไม่รวมอำเภอและจังหวัด | D4: ขึ้นต้นด้วยประเภทขององค์กรปกครองส่วนท้องถิ่นตามด้วยชื่อโดยไม่มีการเว้นวรรค เช่น องค์การบริหารส่วนจังหวัดฉะเชิงเทรา เทศบาลเมืองชลบุรี เทศบาลนครระยอง เทศบาลตำบลกุฎโง้ง องค์การบริหารส่วนตำบลท่าตะเกียบ โดยสะกดชื่อตามเว็บไซต์กรมส่งเสริมการปกครองท้องถิ่น https://www.dla.go.th/servlet/InfoServlet ในกรณีที่สะกดไม่ตรงกับเอกสารที่ประกาศในราชกิจจานุเบกษา ให้ยึดถือการสะกดตามเอกสารที่ประกาศในราชกิจจานุเบกษา เป็นสำคัญ | E4: เปิดเผยได้
A5: 4 | B5: LGOTypeID | C5: รหัสแสดงประเภทขององค์กรปกครองส่วนท้องถิ่น | D5: เลขอาระบิก 2 หลัก โดย 02 หมายถึง องค์การบริหารส่วนจังหวัด 03 หมายถึง เมืองพัทยาและเทศบาลนคร 04 หมายถึง เทศบาลเมือง 05 หมายถึง เทศบาลตำบล และ 06 หมายถึง องค์การบริหารส่วนตำบล อ้างอิงจาก https://www.dla.go.th/servlet/InfoServlet | E5: เปิดเผยได้
A6: 5 | B6: LGOTypeName | C6: ประเภทขององค์กรปกครองส่วนท้องถิ่น | D6: ระบุคำใดคำหนึ่ง ดังต่อไปนี้ องค์การบริหารส่วนจังหวัด, เทศบาลนคร, เทศบาลเมือง, เทศบาลตำบล, องค์การบริหารส่วนตำบล และ เมืองพัทยา | E6: เปิดเผยได้
A7: 6 | B7: DistrictMOI_ID | C7: รหัสอำเภอที่องค์กรปกครองส่วนท้องถิ่นแต่ละแห่งตั้งอยู่ | D7: เลขอาระบิก 4 หลักตามที่กระทรวงมหาดไทยกำหนด เช่น 2401 2006 2103 | E7: เปิดเผยได้
A8: 7 | B8: DistrictNameThai | C8: ชื่ออำเภอที่องค์กรปกครองส่วนท้องถิ่นแต่ละแห่งตั้งอยู่ | D8: ชื่ออำเภอในจังหวัดฉะเชิงเทรา ชลบุรี และระยอง โดยมีคำว่า อำเภอนำหน้า เช่น อำเภอพนมสารคาม อำเภอบ้านบึง อำเภอแกลง | E8: เปิดเผยได้
A9: 8 | B9: ProvinceMOI_ID | C9: รหัสจังหวัดที่องค์กรปกครองส่วนท้องถิ่นแต่ละแห่งตั้งอยู่ | D9: เลขอาระบิก 2 หลักตามที่กระทรวงมหาดไทยกำหนด คือ 24 20 และ 21 | E9: เปิดเผยได้
A10: 9 | B10: ProvinceNameThai | C10: ชื่อจังหวัดที่องค์กรปกครองส่วนท้องถิ่นแต่ละแห่งตั้งอยู่ | D10: ชื่อจังหวัดที่องค์กรปกครองส่วนท้องถิ่นแต่ละแห่งตั้งอยู่ โดยมีคำว่า จังหวัดนำหน้า ไม่มีการเว้นวรรค คือ จังหวัดฉะเชิงเทรา จังหวัดชลบุรี จังหวัดระยอง | E10: เปิดเผยได้
A11: 10 | B11: LGONameFull | C11: ชื่อองค์กรปกครองส่วนท้องถิ่นแบบสมบูรณ์ที่มีชื่อหน่วยงาน ชื่ออำเภอและจังหวัดที่หน่วยงานตั้งอยู่ | D11: นำข้อมูลจาก 3 คอลัมน์มาเชื่อมต่อกัน โดยมีการเว้นวรรค 1 เคาะ คือ ชื่อองค์กรปกครองส่วนท้องถิ่นในคอลัมน์ที่ 3 LGONameThai ตามด้วยชื่ออำเภอในคอลัมน์ที่ 7 DistrictNameThai และชื่อจังหวัดในคอลัมน์ที่ 9 ProvinceNameThai เช่น เทศบาลตำบลบางวัว อำเภอบางปะกง จังหวัดฉะเชิงเทรา ข้อยกเว้น องค์การบริหารส่วนจังหวัดทั้ง 3 จังหวัด และเมืองพัทยา ระบุชื่อเดียวกับคอลัมน์ที่ 3 คือ องค์การบริหารส่วนจังหวัดฉะเชิงเทรา องค์การบริหารส่วนจังหวัดชลบุรี องค์การบริหารส่วนจังหวัดระยอง และเมืองพัทยา | E11: เปิดเผยได้
A12: 11 | B12: OrgWebsiteStandardised | C12: เว็บไซต์ขององค์กรปกครองส่วนท้องถิ่นแต่ละแห่ง | D12: 1. เว็บไซต์ที่มี www ให้ขึ้นต้นด้วย www เช่น www.phanomcity.go.th 2. เว็บไซต์ที่ไม่มี www คือ ขึ้นต้นด้วย http:// หรือ https:// ให้ตัด http:// หรือ https:// ออกไป เช่น bangpaisao.go.th 3. หน่วยงานใดไม่มีเว็บไซต์ หรือเว็บไซต์ไม่สามารถเข้าใช้งานได้ ให้ระบุว่า N/A | E12: เปิดเผยได้
A13: 12 | B13: OrgTopExecutive_Politician | C13: ตำแหน่งผู้บริหารสูงสุดฝ่ายการเมือง | D13: 1. กรณีเทศบาล ให้ระบุตำแหน่งเป็น นายกเทศมนตรีนคร นายกเทศมนตรีเมือง หรือนายกเทศมนตรีตำบล แล้วแต่กรณี เช่น เทศบาลตำบลบ่อทอง อำเภอบ่องทอง จังหวัดชลบุรี ให้ระบุตำแหน่งเป็น นายกเทศมนตรีตำบลบ่อทอง อำเภอบ่อทอง จังหวัดชลบุรี หรือ เทศบาลนครระยอง อำเภอเมืองระยอง จังหวัดระยอง ระบุตำแหน่งเป็น นายกเทศมนตรีนครระยอง อำเภอเมืองระยอง จังหวัดระยอง 2. กรณีองค์การบริหารส่วนจังหวัด ให้ระบุตำแหน่งเป็น นายกองค์การบริหารส่วนจังหวัด คือ นายกองค์การบริหารส่วนจังหวัดฉะเชิงเทรา นายกองค์การบริหารส่วนจังหวัดชลบุรี และนายกองค์การบริหารส่วนจังหวัดระยอง 3.. กรณีองค์การบริหารส่วนตำบล ให้ระบุตำแหน่งเป็น นายกองค์การบริหารส่วนตำบล เช่น องค์การบริหารส่วนตำบลเขาชะมา อำเภอเขาชะเมา จังหวัดระยอง ระบุตำแหน่งเป็น นายกองค์การบริหารส่วนตำบลเขาชะมา อำเภอเขาชะมา จังหวัดระยอง 4. กรณีเมืองพัทยา ให้ระบุตำแหน่งเป็น นายกเมืองพัทยา | E13: เปิดเผยได้
... A17: 16 | B17: CodeLGO_BudgetBureau2564 | C17: รหัสขององค์กรปกครองส่วนท้องถิ่นตามที่สำนักงบประมาณกำหนดประจำปีงบประมาณ พ.ศ. 2564 | D17: ตัวเลขอาระบิก 3 หลัก ตามด้วยตัวอักษรภาษาอังกฤษพิมพ์ใหญ่ 2 ตัว | E17: เปิดเผยได้

Sheet Sheet2
A1: DistrictMOI_ID | B1: DistrictNameThai | C1: ProvinceMOI_ID | D1: ProvinceNameThai
A2: 1001 | B2: เขตพระนคร | C2: 10 | D2: กรุงเทพมหานคร
A3: 1002 | B3: เขตดุสิต | C3: 11 | D3: จังหวัดสมุทรปราการ
A4: 1003 | B4: เขตหนองจอก | C4: 12 | D4: จังหวัดนนทบุรี
A5: 1004 | B5: เขตบางรัก | C5: 13 | D5: จังหวัดปทุมธานี
A6: 1005 | B6: เขตบางเขน | C6: 14 | D6: จังหวัดพระนครศรีอยุธยา
A7: 1006 | B7: เขตบางกะปิ | C7: 15 | D7: จังหวัดอ่างทอง
A8: 1007 | B8: เขตปทุมวัน | C8: 16 | D8: จังหวัดลพบุรี
A9: 1008 | B9: เขตป้อมปราบศัตรูพ่าย | C9: 17 | D9: จังหวัดสิงห์บุรี
A10: 1009 | B10: เขตพระโขนง | C10: 18 | D10: จังหวัดชัยนาท
A11: 1010 | B11: เขตมีนบุรี | C11: 19 | D11: จังหวัดสระบุรี
A12: 1011 | B12: เขตลาดกระบัง | C12: 20 | D12: จังหวัดชลบุรี
A13: 1012 | B13: เขตยานนาวา | C13: 21 | D13: จังหวัดระยอง
... A78: 1408 | B78: อำเภอผักไห่ | C78: 96 | D78: จังหวัดนราธิวาส
A79: 1409 | B79: อำเภอภาชี
A80: 1410 | B80: อำเภอลาดบัวหลวง
A81: 1411 | B81: อำเภอวังน้อย
A82: 1412 | B82: อำเภอเสนา
A83: 1413 | B83: อำเภอบางซ้าย
A84: 1414 | B84: อำเภออุทัย
A85: 1415 | B85: อำเภอมหาราช
A86: 1416 | B86: อำเภอบ้านแพรก
A87: 1501 | B87: อำเภอเมืองอ่างทอง
A88: 1502 | B88: อำเภอไชโย
A89: 1503 | B89: อำเภอป่าโมก
A90: 1504 | B90: อำเภอโพธิ์ทอง
... A929: 9613 | B929: อำเภอเจาะไอร้อง

Sheet Sheet3
A1: LGOTypeID | B1: LGOTypeName | C1: LGOTypeName_English
A2: 01 | B2: กรุงเทพมหานคร | C2: Bangkok Metropolitan Administration
A3: 02 | B3: องค์การบริหารส่วนจังหวัด | C3: Provincial Administration Organization
A4: 03 | B4: เทศบาลนคร | C4: City Municipality
A5: 04 | B5: เทศบาลเมือง | C5: Town Municipality
A6: 05 | B6: เทศบาลตำบล | C6: Subdistrict Municipality
A7: 06 | B7: องค์การบริหารส่วนตำบล | C7: Subdistrict Administrative Organization
A8: 07 | B8: เมืองพัทยา | C8: City of Pattaya

Sheet Sheet4
A1: 1 | B1: อำเภอเมืองฉะเชิงเทรา | C1: ฉะเชิงเทรา
A2: 2 | B2: อำเภอพนมสารคาม | C2: ฉะเชิงเทรา
A3: 3 | B3: อำเภอบางน้ำเปรี้ยว | C3: ฉะเชิงเทรา
A4: 4 | B4: อำเภอบางปะกง | C4: ฉะเชิงเทรา
A5: 5 | B5: อำเภอแปลงยาว | C5: ฉะเชิงเทรา
A6: 6 | B6: อำเภอบ้านโพธิ์ | C6: ฉะเชิงเทรา
A7: 7 | B7: อำเภอบางคล้า | C7: ฉะเชิงเทรา
A8: 8 | B8: อำเภอสนามชัยเขต | C8: ฉะเชิงเทรา
A9: 9 | B9: อำเภอคลองเขื่อน | C9: ฉะเชิงเทรา
A10: 10 | B10: อำเภอท่าตะเกียบ | C10: ฉะเชิงเทรา
A11: 11 | B11: อำเภอราชสาส์น | C11: ฉะเชิงเทรา
A12: 12 | B12: อำเภอเมืองชลบุรี | C12: ชลบุรี
... A30: 30 | B30: อำเภอนิคมพัฒนา | C30: ระยอง
