Workbook

Sheet อุตสาหกรรมเกษตร
A1: ข้อมูลแผนพัฒนากำลังคนจังหวัดกาฬสินธุ์ ปี พ.ศ. 2569
A2: กลุ่มอุตสาหกรรมเกษตรและเกษตรแปรรูปผลผลิตทางการเกษตร
A3: ที่ | B3: ประเด็นการ | C3: ประเด็นการ | D3: แผนงาน/โครงการ | E3: รองรับ | F3: หน่วยนับ | G3: ปี พ.ศ. 2569 | I3: หน่วยงาน | J3: แหล่ง
B4: พัฒนาจังหวัด | C4: พัฒนากำลังคนจังหวัด | E4: อุตสาหกรรม | G4: แผน(คน) | H4: ผล(คน) | I4: รับผิดชอบ | J4: งบประมาณ
A5: รวมจำนวนทั้งสิ้น | F5: คน | G5: =SUM(G7,G11,G15,G19,G23,G28,G32,G36,G42,G47,G52,G57,G61,G65,G69,G73,G77,G81,G85,G90,G95,G99,G103,G108,G114,G119,G123,G128,G133,G137,G141,G146,G150,G155,G160,G165,G169,G173,G177,G181,G185,G189,G193,G197,G201,G205,G209,G213,G217,G221,G225,G229,G233,G237,G241,G245,G249,G253,G257,G261,G265,G269,G273,G277,G281,G285,G289,G293,G297,G301,G305,G309,G313,G317,G321,G325,G329,G333,G339,G343,G350,G357,G361,G365,G369,G373,G377,G381,G385,G389,G393,G397) -> 21338 | H5: =SUM(H7,H11,H15,H19,H23,H28,H32,H36,H42,H47,H52,H57,H61,H65,H69,H73,H77,H81,H85,H90,H95,H99,H103,H108,H114,H119,H123,H128,H133,H137,H141,H146,H150,H155,H160,H165,H169,H173,H177,H181,H185,H189,H193,H197,H201,H205,H209,H213,H217,H221,H225,H229,H233,H237,H241,H245,H249,H253,H257,H261,H265,H269,H273,H277,H281,H285,H289,H293,H297,H301,H305,H309,H313,H317,H321,H325,H329,H333,H339,H343,H350,H357,H361,H365,H369,H373,H377,H381,H385,H389,H393,H397) -> 18876
F6: งบประมาณ (บาท) | G6: =SUM(G8,G12,G16,G20,G24,G29,G33,G37,G43,G48,G53,G58,G62,G66,G70,G74,G78,G82,G86,G91,G96,G100,G104,G109,G115,G120,G124,G129,G134,G138,G142,G147,G151,G156,G161,G166,G170,G174,G178,G182,G186,G190,G194,G198,G202,G206,G210,G214,G218,G222,G226,G230,G234,G238,G242,G246,G250,G254,G258,G262,G266,G270,G274,G278,G282,G286,G290,G294,G298,G302,G306,G310,G314,G318,G322,G326,G330,G334,G340,G344,G351,G358,G362,G366,G370,G374,G378,G382,G386,G390,G394,G398) -> 41024569 | H6: =SUM(H8,H12,H16,H20,H24,H29,H33,H37,H43,H48,H53,H58,H62,H66,H70,H74,H78,H82,H86,H91,H96,H100,H104,H109,H115,H120,H124,H129,H134,H138,H142,H147,H151,H156,H161,H166,H170,H174,H178,H182,H186,H190,H194,H198,H202,H206,H210,H214,H218,H222,H226,H230,H234,H238,H242,H246,H250,H254,H258,H262,H266,H270,H274,H278,H282,H286,H290,H294,H298,H302,H306,H310,H314,H318,H322,H326,H330,H334,H340,H344,H351,H358,H362,H366,H370,H374,H378,H382,H386,H390,H394,H398) -> 32599755
A7: 1 | B7: ประเด็นการพัฒนาที่ 1 พัฒนาศักยภาพที่มุ่งเน้นการผลิตสินค้าเกษตรและอาหารปลอดภัย | C7: รายได้ภาคการเกษตร | D7: โครงการส่งเสริมและพัฒนาสินค้าเกษตรชีวภาพ (สมุนไพร) ประจำปีงบประมาณ พ.ศ. 2569 | E7: เกษตรและแปรรูป | F7: คน | G7: 30 | H7: 30 | I7: สนง.เกษตรและสหกรณ์จังหวัดกาฬสินธุ์ | J7: งบปกติ
C8: ของจังหวัดเพิ่มขึ้น | F8: งบประมาณ (บาท) | G8: 77000 | H8: 77000
A11: 2 | B11: ประเด็นการพัฒนาที่ 1 พัฒนาศักยภาพที่มุ่งเน้นการผลิตสินค้าเกษตรและอาหารปลอดภัย | C11: รายได้ภาคการเกษตร | D11: โครงการพัฒนาอาสาสมัครเกษตรหมู่บ้าน | E11: เกษตรและแปรรูป | F11: คน | G11: 180 | H11: 180 | I11: สำนักงานเกษตรจังหวัดกาฬสินธุ์ | J11: กรมส่งเสริมการเกษตร
C12: ของจังหวัดเพิ่มขึ้น | F12: งบประมาณ (บาท) | G12: 79400 | H12: 79400
A15: 3 | B15: ประเด็นการพัฒนาที่ 1 พัฒนาศักยภาพที่มุ่งเน้นการผลิตสินค้าเกษตรและอาหารปลอดภัย | C15: รายได้ภาคการเกษตร | D15: โครงการพัฒนาเครือข่ายงานส่งเสริมการเกษตร (ระบบส่งเสริมการเกษตร) | E15: เกษตรและแปรรูป | F15: คน | G15: 154 | H15: 154 | I15: สำนักงานเกษตรจังหวัดกาฬสินธุ์ | J15: กรมส่งเสริมการเกษตร
C16: ของจังหวัดเพิ่มขึ้น | F16: งบประมาณ (บาท) | G16: 30030 | H16: 30030
A19: 4 | B19: ประเด็นการพัฒนาที่ 1 พัฒนาศักยภาพที่มุ่งเน้นการผลิตสินค้าเกษตรและอาหารปลอดภัย | C19: รายได้ภาคการเกษตร | D19: โครงการส่งเสริมการใช้เครื่องจักรกลทางการเกษตร/ กิจกรรมส่งเสริมการใช้เครื่องจักรกลการเกษตรทดแทนแรงงานเกษตร | E19: เกษตรและแปรรูป | F19: คน | G19: 50 | H19: 50 | I19: สำนักงานเกษตรจังหวัดกาฬสินธุ์ | J19: กรมส่งเสริมการเกษตร
C20: ของจังหวัดเพิ่มขึ้น | F20: งบประมาณ (บาท) | G20: 48900 | H20: 48900
A23: 5 | B23: ประเด็นการพัฒนาที่ 1 พัฒนาศักยภาพที่มุ่งเน้นการผลิตสินค้าเกษตรและอาหารปลอดภัย | C23: รายได้ภาคการเกษตร | D23: โครงการส่งเสริมการผลิตสินค้าเกษตรตามมาตรฐาน GAP/กิจกรรมพัฒนาคุณภาพสินค้าเกษตรสู่มาตรฐาน | E23: เกษตรและแปรรูป | F23: คน | G23: 209 | H23: 209 | I23: สำนักงานเกษตรจังหวัดกาฬสินธุ์ | J23: กรมส่งเสริมการเกษตร
C24: ของจังหวัดเพิ่มขึ้น | F24: งบประมาณ (บาท) | G24: 300000 | H24: 300000
A28: 6 | B28: ประเด็นการพัฒนาที่ 1 พัฒนาศักยภาพที่มุ่งเน้นการผลิตสินค้าเกษตรและอาหารปลอดภัย | C28: รายได้ภาคการเกษตร | D28: โครงการส่งเสริมการอารักขาพืชเพื่อเพิ่มประสิทธิภาพการผลิตสินค้าเกษตร/ กิจกรรมส่งเสริมการอารักขาพืชเพื่อเพิ่มประสิทธิภาพการผลิตสินค้าเกษตร | E28: เกษตรและแปรรูป | F28: คน | G28: 100 | H28: 100 | I28: สำนักงานเกษตรจังหวัดกาฬสินธุ์ | J28: กรมส่งเสริมการเกษตร
C29: ของจังหวัดเพิ่มขึ้น | F29: งบประมาณ (บาท) | G29: 125000 | H29: 125000
A32: 7 | B32: ประเด็นการพัฒนาที่ 1 พัฒนาศักยภาพที่มุ่งเน้นการผลิตสินค้าเกษตรและอาหารปลอดภัย | D32: กิจกรรมส่งเสริมการจัดการสุขภาพพืชเพื่อเพิ่มประสิทธิภาพการผลิตสินค้าเกษตร | E32: เกษตรและแปรรูป | F32: คน | G32: 76 | H32: 76 | I32: สำนักงานเกษตรจังหวัดกาฬสินธุ์ | J32: กรมส่งเสริมการเกษตร
F33: งบประมาณ (บาท) | G33: 463890 | H33: 463890
A36: 8 | B36: ประเด็นการพัฒนาที่ 1 พัฒนาศักยภาพที่มุ่งเน้นการผลิตสินค้าเกษตรและอาหารปลอดภัย | C36: รายได้ภาคการเกษตร | D36: โครงการบริหารจัดการการผลิตสินค้าเกษตรตามแผนที่เกษตรเพื่อการบริหารจัดการเชิงรุก (Agri - Map)/กิจกรรมบริหารจัดการเขตเกษตรเศรษฐกิจสำหรับสินค้าเกษตรที่สำคัญ (Zoning) | E36: เกษตรและแปรรูป | F36: คน | G36: 10 | H36: 10 | I36: สำนักงานเกษตรจังหวัดกาฬสินธุ์ | J36: กรมส่งเสริมการเกษตร
C37: ของจังหวัดเพิ่มขึ้น | F37: งบประมาณ (บาท) | G37: 120600 | H37: 120600
A42: 9 | B42: ประเด็นการพัฒนาที่ 1 พัฒนาศักยภาพที่มุ่งเน้นการผลิตสินค้าเกษตรและอาหารปลอดภัย | C42: รายได้ภาคการเกษตร | D42: โครงการส่งเสริมการเพิ่มประสิทธิภาพการผลิตสมุนไพร/กิจกรรมส่งเสริมการเพิ่มประสิทธิภาพการผลิตสมุนไพร | E42: เกษตรและแปรรูป | F42: คน | G42: 30 | H42: 30 | I42: สำนักงานเกษตรจังหวัดกาฬสินธุ์ | J42: กรมส่งเสริมการเกษตร
C43: ของจังหวัดเพิ่มขึ้น | F43: งบประมาณ (บาท) | G43: 98500 | H43: 98500
A47: 9 | B47: ประเด็นการพัฒนาที่ 1 พัฒนาศักยภาพที่มุ่งเน้นการผลิตสินค้าเกษตรและอาหารปลอดภัย | C47: รายได้ภาคการเกษตร | D47: โครงการส่งเสริมการผลิตสินค้าเกษตรอินทรีย์/กิจกรรมพัฒนาการผลิตเกษตรอินทรีย์ | E47: เกษตรและแปรรูป | F47: คน | G47: 60 | H47: 60 | I47: สำนักงานเกษตรจังหวัดกาฬสินธุ์ | J47: กรมส่งเสริมการเกษตร
C48: ของจังหวัดเพิ่มขึ้น | F48: งบประมาณ (บาท) | G48: 86760 | H48: 86760
A52: 10 | B52: ประเด็นการพัฒนาที่ 1 พัฒนาศักยภาพที่มุ่งเน้นการผลิตสินค้าเกษตรและอาหารปลอดภัย | C52: รายได้ภาคการเกษตร | D52: โครงการระบบส่งเสริมเกษตรแบบแปลงใหญ่/กิจกรรมระบบส่งเสริมเกษตรแบบแปลงใหญ่ | E52: เกษตรและแปรรูป | F52: คน | G52: 1960 | H52: 2120 | I52: สำนักงานเกษตรจังหวัดกาฬสินธุ์ | J52: กรมส่งเสริมการเกษตร
C53: ของจังหวัดเพิ่มขึ้น | F53: งบประมาณ (บาท) | G53: 2382502 | H53: 2382502
A57: 11 | B57: ประเด็นการพัฒนาที่ 1 พัฒนาศักยภาพที่มุ่งเน้นการผลิตสินค้าเกษตรและอาหารปลอดภัย | C57: รายได้ภาคการเกษตร | D57: โครงการเพิ่มประสิทธิภาพการผลิตสินค้าเกษตร/กิจกรรมเพิ่มประสิทธิภาพการผลิตมันสำปะหลัง | E57: เกษตรและแปรรูป | F57: คน | G57: - | H57: - | I57: สำนักงานเกษตรจังหวัดกาฬสินธุ์ | J57: กรมส่งเสริมการเกษตร
C58: ของจังหวัดเพิ่มขึ้น | F58: งบประมาณ (บาท) | G58: - | H58: -
A61: 12 | B61: ประเด็นการพัฒนาที่ 1 พัฒนาศักยภาพที่มุ่งเน้นการผลิตสินค้าเกษตรและอาหารปลอดภัย | C61: รายได้ภาคการเกษตร | D61: โครงการเพิ่มประสิทธิภาพการผลิตสินค้าเกษตร/กิจกรรมส่งเสริมการเพิ่มประสิทธิภาพการผลิตอ้อย | E61: เกษตรและแปรรูป | F61: คน | G61: 30 | H61: 30 | I61: สำนักงานเกษตรจังหวัดกาฬสินธุ์ | J61: กรมส่งเสริมการเกษตร
C62: ของจังหวัดเพิ่มขึ้น | F62: งบประมาณ (บาท) | G62: 39680 | H62: 39680
A65: 13 | B65: ประเด็นการพัฒนาที่ 1 พัฒนาศักยภาพที่มุ่งเน้นการผลิตสินค้าเกษตรและอาหารปลอดภัย | C65: รายได้ภาคการเกษตร | D65: โครงการเพิ่มประสิทธิภาพการผลิตสินค้าเกษตร/กิจกรรมเพิ่มประสิทธิภาพการผลิตข้าวโพดเลี้ยงสัตว์หลังฤดูทำนา | E65: เกษตรและแปรรูป | F65: คน | G65: 20 | H65: 20 | I65: สำนักงานเกษตรจังหวัดกาฬสินธุ์ | J65: กรมส่งเสริมการเกษตร
C66: ของจังหวัดเพิ่มขึ้น | F66: งบประมาณ (บาท) | G66: 13000 | H66: 13000
A69: 14 | B69: ประเด็นการพัฒนาที่ 1 พัฒนาศักยภาพที่มุ่งเน้นการผลิตสินค้าเกษตรและอาหารปลอดภัย | C69: รายได้ภาคการเกษตร | D69: โครงการส่งเสริมเศรษฐกิจพอเพียงในชุมชน | E69: เกษตรและแปรรูป | F69: คน | G69: 210 | H69: 210 | I69: สำนักงานเกษตรจังหวัดกาฬสินธุ์ | J69: กรมส่งเสริมการเกษตร
C70: ของจังหวัดเพิ่มขึ้น | D70: ตามพระราชดำริสมเด็จพระกนิษฐา | F70: งบประมาณ (บาท) | G70: 64000 | H70: 64000
D71: ธิราชเจ้า กรมสมเด็จพระเทพรัตนราชสุดา ฯ
D72: สยามบรมราชกุมารี
A73: 15 | B73: ประเด็นการพัฒนาที่ 1 พัฒนาศักยภาพที่มุ่งเน้นการผลิตสินค้าเกษตรและอาหารปลอดภัย | C73: รายได้ภาคการเกษตร | D73: โครงการส่งเสริมการเกษตรที่เป็นมิตร | E73: เกษตรและแปรรูป | F73: คน | G73: 540 | H73: 540 | I73: สำนักงานเกษตรจังหวัดกาฬสินธุ์ | J73: กรมส่งเสริมการเกษตร
C74: ของจังหวัดเพิ่มขึ้น | D74: กับสิ่งแวดล้อม/ กิจกรรมส่งเสริมการเกษตร | F74: งบประมาณ (บาท) | G74: 573800 | H74: 573800
...

Sheet อุตสาหกรรมท่องเที่ยว
A1: ข้อมูลแผนพัฒนากำลังคนจังหวัดกาฬสินธุ์ ปี พ.ศ. 2569
A2: กลุ่มอุตสาหกรรมท่องเที่ยวและบริการ
A3: ที่ | B3: ประเด็นการ | C3: ประเด็นการ | D3: แผนงาน/โครงการ | E3: รองรับ | F3: หน่วยนับ | G3: ปี พ.ศ. 2569 | I3: หน่วยงาน | J3: แหล่ง
B4: พัฒนาจังหวัด | C4: พัฒนากำลังคนจังหวัด | E4: อุตสาหกรรม | G4: แผน(คน) | H4: ผล(คน) | I4: รับผิดชอบ | J4: งบประมาณ
A5: รวมจำนวนทั้งสิ้น | F5: คน | G5: =SUM(G7,G11,G16,G21,G25,G32,G36,G42,G46,G50,G54,G58,G61,G65,G69,G73,G77,G81,G85,G89,G93,G97,G101,G105,G109,G113,G117,G121,G125,G129,G133,G137,G141,G145,G149,G153,G157,G161,G165,G169,G173,G177,G181,G185,G189,G193,G197) -> 2865 | H5: =SUM(H7,H11,H16,H21,H25,H32,H36,H42,H46,H50,H54,H58,H61,H65,H69,H73,H77,H81,H85,H89,H93,H97,H101,H105,H109,H113,H117,H121,H125,H129,H133,H137,H141,H145,H149,H153,H157,H161,H165,H169,H173,H177,H181,H185,H189,H193,H197) -> 2657
F6: งบประมาณ (บาท) | G6: =SUM(G8,G12,G17,G22,G26,G33,G37,G43,G47,G51,G55,G59,G62,G66,G70,G74,G78,G82,G86,G90,G94,G98,G102,G106,G110,G114,G118,G122,G126,G130,G134,G138,G142,G146,G150,G154,G158,G162,G166,G170,G174,G178,G182,G186,G190,G194,G198) -> 14211927 | H6: =SUM(H8,H12,H17,H22,H26,H33,H37,H43,H47,H51,H55,H59,H62,H66,H70,H74,H78,H82,H86,H90,H94,H98,H102,H106,H110,H114,H118,H122,H126,H130,H134,H138,H142,H146,H150,H154,H158,H162,H166,H170,H174,H178,H182,H186,H190,H194,H198) -> 12503429
A7: 1 | B7: ประเด็นการพัฒนาที่ 4 การพัฒนาทุนมนุษย์ลดความเหลื่อมล้ำสร้างสังคมที่มีความมั่งคงและสงบสุข | C7: ยกระดับคุณภาพและเพิ่มรายได้จากการท่องเที่ยว | D7: แผนงาน ยุทธศาสตร์พัฒนาศักยภาพคนตลอดช่วงชีวิตโครงการ เตรียมความพร้อมแก่กำลังแรงงาน / กิจกรรม เพิ่มอาชีพ เพิ่มรายได้ | E7: ท่องเที่ยวและบริการ | F7: คน | G7: 20 | H7: 20 | I7: สจจ.กาฬสินธุ์ | J7: กรมการจัดหางาน
F8: งบประมาณ (บาท) | G8: 33300 | H8: 33300
A11: 2 | B11: ประเด็นการพัฒนาที่ 4 การพัฒนาทุนมนุษย์ลดความเหลื่อมล้ำสร้างสังคมที่มีความมั่งคงและสงบสุข | C11: ยกระดับคุณภาพและเพิ่มรายได้จากการท่องเที่ยว | D11: แผนงาน บูรณาการเตรียมความพร้อมเพื่อรองรับสังคมสูงวัยโครงการ ส่งเสริมการประกอบอาชีพอิสระให้ผู้สูงอายุ/กิจกรรม ส่งเสริมการประกอบอาชีพอิสระให้ผู้สูงอายุ | E11: ท่องเที่ยวและบริการ | F11: คน | G11: 20 | H11: 20 | I11: สจจ.กาฬสินธุ์ | J11: กรมการจัดหางาน
F12: งบประมาณ (บาท) | G12: 43800 | H12: 43800
A16: 3 | B16: ประเด็นการพัฒนาที่ 4 การพัฒนาทุนมนุษย์ลดความเหลื่อมล้ำสร้างสังคมที่มีความมั่งคงและสงบสุข | C16: ยกระดับคุณภาพและเพิ่มรายได้จากการท่องเที่ยว | D16: แผนงาน บูรณาการเตรียมความพร้อมเพื่อรองรับสังคมสูงวัยโครงการ ส่งเสริมการประกอบอาชีพอิสระให้ผู้สูงอายุ/กิจกรรม พัฒนาศักยภาพผู้สูงอายุสู่การเป็นวิทยากรถ่ายทอดภูมิปัญญา | E16: ท่องเที่ยวและบริการ | F16: คน | G16: 10 | H16: 10 | I16: สจจ.กาฬสินธุ์ | J16: กรมการจัดหางาน
F17: งบประมาณ (บาท) | G17: 20200 | H17: 20200
A21: 4 | B21: ประเด็นการพัฒนาที่ 4 การพัฒนาทุนมนุษย์ลดความเหลื่อมล้ำสร้างสังคมที่มีความมั่งคงและสงบสุข | C21: ยกระดับคุณภาพและเพิ่มรายได้จากการท่องเที่ยว | D21: โครงการสร้างอาชีพสร้างรายได้แก่ประชาชนด้วยการแพทย์แผนไทย จังหวัดกาฬสินธุ์ ปีงบประมาณ พ.ศ. 2568 | E21: ท่องเที่ยวและบริการ | F21: คน | G21: 50 | H21: 50 | I21: สสจ.กส. | J21: กรมอนามัย
F22: งบประมาณ (บาท) | G22: 2956500 | H22: 2956500
A25: 5 | B25: ประเด็นการพัฒนาที่ 4 การพัฒนาทุนมนุษย์ลดความเหลื่อมล้ำสร้างสังคมที่มีความมั่งคงและสงบสุข | C25: ยกระดับคุณภาพและเพิ่มรายได้จากการท่องเที่ยว | D25: กิจกรรมที่ 1 จัดอบรมพัฒนายกระดับ | E25: ท่องเที่ยวและบริการ | F25: คน | G25: 36 | H25: 36 | I25: สสจ.กส. | J25: กรมอนามัย
D26: มาตรฐานการบริหารจัดการด้านบริการเพื่อ | F26: งบประมาณ (บาท) | G26: 191902 | H26: 191902
D27: ส่งเสริมการท่องเที่ยวเชิงสุขภาพแบบครบ
D28: วงจร/โครงการพัฒนายกระดับสถาน
D29: ประกอบการเพื่อสุขภาพเข้าสู่มาตรฐาน
D30: สากลการท่องเที่ยวเชิงสขภาพอาหาร
D31: ปลอดภัย ระดับพรีเมี่ยมครบวงจร งปม.69
A32: 6 | B32: ประเด็นที่ 2 ยกระดับคุณภาพและรายได้ด้านการท่องเที่ยวและส่งเสริมการค้า การลงทุนและอุตสาหกรรมปลอดภัย | C32: ยกระดับคุณภาพและเพิ่มรายได้จากการท่องเที่ยว | D32: กิจกรรมส่งเสริมภูมิปัญญาท้องถิ่นสู่การท่องเที่ยวอย่างยั่งยืน | E32: ท่องเที่ยวและบริการ | F32: คน | I32: สนง.ท่องเที่ยวฯ | J32: กระทรวงการท่องเที่ยวและกีฬา
F33: งบประมาณ (บาท)
A36: 7 | B36: ประเด็นที่ 2 ยกระดับคุณภาพและรายได้ด้านการท่องเที่ยวและส่งเสริมการค้า การลงทุนและอุตสาหกรรมปลอดภัย | C36: ยกระดับคุณภาพและเพิ่มรายได้จากการท่องเที่ยว | D36: กิจกรรมส่งเสริมและพัฒนาเพื่อยกระดับการท่องเที่ยวสู่มาตรฐานความปลอดัยด้านสุขอนามัยของสถานประกอบการ (Amazing Thailand Safety & Health Administration : SHA) จังหวัดกาฬสินธุ์ | E36: ท่องเที่ยวและบริการ | F36: คน | I36: สนง.ท่องเที่ยวฯ | J36: กระทรวงการท่องเที่ยวและกีฬา
F37: งบประมาณ (บาท)
A42: 8 | B42: ประเด็นที่ 2 ยกระดับคุณภาพและรายได้ด้านการท่องเที่ยวและส่งเสริมการค้า การลงทุนและอุตสาหกรรมปลอดภัย | C42: ยกระดับคุณภาพและเพิ่มรายได้จากการท่องเที่ยว | D42: กิจกรรมเตรียมความพร้อมบุคลากรอุตสาหกรรมการท่องเที่ยวจังหวัดกาฬสินธุ์ | E42: ท่องเที่ยวและบริการ | F42: คน | I42: สนง.ท่องเที่ยวฯ | J42: กระทรวงการท่องเที่ยวและกีฬา
F43: งบประมาณ (บาท)
A46: 9 | B46: ประเด็นที่ 2 ยกระดับคุณภาพและรายได้ด้านการท่องเที่ยวและส่งเสริมการค้า การลงทุนและอุตสาหกรรมปลอดภัย | C46: ยกระดับคุณภาพและเพิ่มรายได้จากการท่องเที่ยว | D46: กิจกรรมพัฒนาศักยภาพผู้ประกอบการ | E46: ท่องเที่ยวและบริการ | F46: คน | I46: สนง.ท่องเที่ยวฯ | J46: กระทรวงการท่องเที่ยวและกีฬา
D47: ท่องเที่ยว จังหวัดกาฬสินธุ์ เพื่อเตรียม | F47: งบประมาณ (บาท)
D48: ความพร้อมในการเปิดประเทศ
D49: รับนักท่องเที่ยว
A50: 10 | B50: ประเด็นที่ 2 ยกระดับคุณภาพและรายได้ด้านการท่องเที่ยวและส่งเสริมการค้า การลงทุนและอุตสาหกรรมปลอดภัย | C50: ยกระดับคุณภาพและเพิ่มรายได้จากการท่องเที่ยว | D50: กิจกรรมพัฒนาศักยภาพผู้ประกอบการ | E50: ท่องเที่ยวและบริการ | F50: คน | I50: สนง.ท่องเที่ยวฯ | J50: กระทรวงการท่องเที่ยวและกีฬา
D51: ท่องเที่ยวจังหวัดกาฬสินธุ์ เพื่อเตรียม | F51: งบประมาณ (บาท)
D52: ความพร้อมในการเปิดประเทศรับ
D53: นักท่องเที่ยว
A54: 11 | B54: ประเด็นที่ 2 ยกระดับคุณภาพและรายได้ด้านการท่องเที่ยวและส่งเสริมการค้า การลงทุนและอุตสาหกรรมปลอดภัย | C54: ยกระดับคุณภาพและเพิ่มรายได้จากการท่องเที่ยว | D54: กิจกรรมพัฒนาศักยภาพยกระดับชุมชนเข้าสู่การท่องเที่ยวเชิงคุณภาพ | E54: ท่องเที่ยวและบริการ | F54: คน | G54: 40 | I54: สนง.ท่องเที่ยวฯ | J54: กระทรวงการท่องเที่ยวและกีฬา
F55: งบประมาณ (บาท) | G55: 36600
A58: 12 | B58: ประเด็นที่ 2 ยกระดับคุณภาพและรายได้ด้านการท่องเที่ยวและส่งเสริมการค้า การลงทุนและอุตสาหกรรมปลอดภัย | C58: ยกระดับคุณภาพและเพิ่มรายได้จากการท่องเที่ยว | D58: กิจกรรมอบรมเพิ่มศักยภาพเครือข่ายการท่องเที่ยวจังหวัดกาฬสินธุ์ | E58: ท่องเที่ยวและบริการ | F58: คน | G58: 50 | I58: สนง.ท่องเที่ยวฯ | J58: กระทรวงการท่องเที่ยวและกีฬา
F59: งบประมาณ (บาท) | G59: 40000
A61: 13 | B61: ประเด็นที่ 2 ยกระดับคุณภาพและรายได้ด้านการท่องเที่ยวและส่งเสริมการค้า การลงทุนและอุตสาหกรรมปลอดภัย | C61: ยกระดับคุณภาพและเพิ่มรายได้จากการท่องเที่ยว | D61: กิจกรรมอบรมยกระดับมาตรฐาน | E61: ท่องเที่ยวและบริการ | F61: คน | G61: 80 | I61: สนง.ท่องเที่ยวฯ | J61: กระทรวงการท่องเที่ยวและกีฬา
...

Sheet อุตสาหกรรมสมัยใหม่
A1: ข้อมูลแผนพัฒนากำลังคนจังหวัดกาฬสินธุ์ ปี พ.ศ. 2569
A2: กลุ่มอุตสาหกรรมเทคโนโลยีสมัยใหม่
A3: ที่ | B3: ประเด็นการ | C3: ประเด็นการ | D3: แผนงาน/โครงการ | E3: รองรับ | F3: หน่วยนับ | G3: ปี พ.ศ. 2569 | I3: หน่วยงาน | J3: แหล่ง
B4: พัฒนาจังหวัด | C4: พัฒนากำลังคนจังหวัด | E4: อุตสาหกรรม | G4: แผน(คน) | H4: ผล(คน) | I4: รับผิดชอบ | J4: งบประมาณ
A5: รวมจำนวนทั้งสิ้น | F5: คน | G5: =SUM(G7,G12,G16,G20,G24,G28,G32,G36,G40,G44,G48,G52,G56,G60,G64,G68,G72,G77,G84,G90,G97,G102,G107,G112,G114,G118,G122,G126,G130,G134,G138,G142,G146,G150,G154,G158,G162,G166,G170) -> 8372 | H5: =SUM(H7,H12,H16,H20,H24,H28,H32,H36,H40,H44,H48,H52,H56,H60,H64,H68,H72,H77,H84,H90,H97,H102,H107,H112,H114,H118,H122,H126,H130,H134,H138,H142,H146,H150,H154,H158,H162,H166,H170) -> 7443
F6: งบประมาณ (บาท) | G6: =SUM(G8,G13,G17,G21,G25,G29,G33,G37,G41,G45,G49,G53,G57,G61,G65,G69,G73,G78,G85,G91,G98,G103,G108,G113,G115,G119,G123,G127,G131,G135,G139,G143,G147,G151,G155,G159,G163,G167,G171) -> 7847040 | H6: =SUM(H8,H13,H17,H21,H25,H29,H33,H37,H41,H45,H49,H53,H57,H61,H65,H69,H73,H78,H85,H91,H98,H103,H108,H113,H115,H119,H123,H127,H131,H135,H139,H143,H147,H151,H155,H159,H163,H167,H171) -> 6516202
A7: 1 | B7: ประเด็นการพัฒนาที่ 4 การพัฒนาทุนมนุษย์ลดความเหลื่อมล้ำสร้างสังคมที่มีความมั่งคงและสงบสุข | C7: ยกระดับคุณภาพและเพิ่มรายได้จากการท่องเที่ยว | D7: โครงการส่งเสริมการค้า การลงทุน การอุตสาหกรรม และการบริการของกลุ่มจังหวัด เพื่อสนับสนุนระบบเศรษฐกิจมุลค่าสูง | E7: เทคโนโลยีสมัยใหม่ | F7: คน | G7: 50 | H7: 50 | I7: สนง.พาณิชย์ | J7: งบกลุ่มจังหวัด | K7: ขอแก้ไขค่ะ
F8: งบประมาณ (บาท) | G8: 2030400 | H8: 2030400 | I8: จังหวัดกาฬสินธุ์
A12: 2 | B12: ประเด็นการพัฒนาที่ 4 การพัฒนาทุนมนุษย์ลดความเหลื่อมล้ำสร้างสังคมที่มีความมั่งคงและสงบสุข | C12: ประชาการของจังหวัดได้รับการพัฒนาทุนมนุษย์ในทุกช่วงวัย | D12: กิจกรรมส่งเสริมและเพิ่มสิทธิภาพ | E12: เทคโนโลยีสมัยใหม่ | F12: คน | G12: 120 | H12: 169 | I12: สนพ.กาฬสินธุ์ | J12: กรมพัฒนาฝีมือ
D13: กระบวนการรับรองความรู้ | F13: งบประมาณ (บาท) | G13: 25200 | H13: 25200 | J13: แรงาน
D14: ความสามารถตามกฏหมาย
A16: 3 | B16: ประเด็นการพัฒนาที่ 4 การพัฒนาทุนมนุษย์ลดความเหลื่อมล้ำสร้างสังคมที่มีความมั่งคงและสงบสุข | C16: ประชาการของจังหวัดได้รับการพัฒนาทุนมนุษย์ในทุกช่วงวัย | D16: โครงการยกระดับเพื่อเพิ่มศักยภาพ | E16: เทคโนโลยีสมัยใหม่ | F16: คน | G16: 100 | H16: 100 | I16: สนพ.กาฬสินธุ์ | J16: กรมพัฒนาฝีมือแรงงาน
D17: ฝีมือและสมรรถนะแรงงาน | F17: งบประมาณ (บาท) | G17: 400000 | H17: 100000
A20: 4 | B20: ประเด็นการพัฒนาที่ 4 การพัฒนาทุนมนุษย์ลดความเหลื่อมล้ำสร้างสังคมที่มีความมั่งคงและสงบสุข | C20: ประชาการของจังหวัดได้รับการพัฒนาทุนมนุษย์ในทุกช่วงวัย | D20: โครงการยกระดับแรงงานไทยให้ได้ | E20: เทคโนโลยีสมัยใหม่ | F20: คน | G20: 300 | H20: 314 | I20: สนพ.กาฬสินธุ์ | J20: กรมพัฒนาฝีมือ
D21: มาตรฐานฝีมือแรงงานเพื่อรองรับ | F21: งบประมาณ (บาท) | G21: 324000 | H21: 116275 | J21: แรงาน
D22: การแข่งขัน
A24: 5 | B24: ประเด็นการพัฒนาที่ 4 การพัฒนาทุนมนุษย์ลดความเหลื่อมล้ำสร้างสังคมที่มีความมั่งคงและสงบสุข | C24: ประชาการของจังหวัดได้รับการพัฒนาทุนมนุษย์ในทุกช่วงวัย | D24: กิจกรรม ทดสอบมาตรฐานฝีมือแรงาน | E24: เทคโนโลยีสมัยใหม่ | F24: คน | G24: 0 | H24: 0 | I24: สนพ.กาฬสินธุ์ | J24: กรมพัฒนาฝีมือ
D25: แห่งชาติ | F25: งบประมาณ (บาท) | G25: 0 | H25: 0 | J25: แรงาน
K26: ออก
A28: 6 | B28: ประเด็นการพัฒนาที่ 4 การพัฒนาทุนมนุษย์ลดความเหลื่อมล้ำสร้างสังคมที่มีความมั่งคงและสงบสุข | C28: ประชาการของจังหวัดได้รับการพัฒนาทุนมนุษย์ในทุกช่วงวัย | D28: กิจกรรม พัฒนาศักยภาพเพื่อรองรับ | E28: เทคโนโลยีสมัยใหม่ | F28: คน | G28: 0 | H28: 0 | I28: สนพ.กาฬสินธุ์ | J28: กรมพัฒนาฝีมือ
D29: การจ่ายค่าจ้างตามมาตรฐานฝีมือ | F29: งบประมาณ (บาท) | G29: 0 | H29: 0 | J29: แรงาน
A32: 7 | B32: ประเด็นการพัฒนาที่ 4 การพัฒนาทุนมนุษย์ลดความเหลื่อมล้ำสร้างสังคมที่มีความมั่งคงและสงบสุข | C32: ประชาการของจังหวัดได้รับการพัฒนาทุนมนุษย์ในทุกช่วงวัย | D32: กิจกรรม เพิ่มทักษะด้านอาชีพแก่ | E32: เทคโนโลยีสมัยใหม่ | F32: คน | G32: 10 | H32: 12 | I32: สนพ.กาฬสินธุ์ | J32: กรมพัฒนาฝีมือ
D33: นักเรียนครอบครัวยากจนที่ไม่ได้เรียน | F33: งบประมาณ (บาท) | G33: 173400 | H33: 157677 | J33: แรงาน
D34: ต่อหลังจบการศึกษาภาคบังคับ
A36: 8 | B36: ประเด็นการพัฒนาที่ 4 การพัฒนาทุนมนุษย์ลดความเหลื่อมล้ำสร้างสังคมที่มีความมั่งคงและสงบสุข | C36: ประชาการของจังหวัดได้รับการพัฒนาทุนมนุษย์ในทุกช่วงวัย | D36: โครงการเสริมสร้างสมรรถนะแรงงาน | E36: เทคโนโลยีสมัยใหม่ | F36: คน | G36: 0 | H36: 0 | I36: สนพ.กาฬสินธุ์ | J36: กรมพัฒนาฝีมือ
D37: ด้านเทคโนโลยีรองรับการทำงาน | F37: งบประมาณ (บาท) | G37: - | H37: - | J37: แรงาน
D38: ในศตวรรษที่ 21
A40: 9 | B40: ประเด็นการพัฒนาที่ 4 การพัฒนาทุนมนุษย์ลดความเหลื่อมล้ำสร้างสังคมที่มีความมั่งคงและสงบสุข | C40: ประชาการของจังหวัดได้รับการพัฒนาทุนมนุษย์ในทุกช่วงวัย | D40: โครงการพัฒนาศักยภาพ | E40: เทคโนโลยีสมัยใหม่ | F40: คน | G40: 100 | H40: 60 | I40: สนพ.กาฬสินธุ์ | J40: กรมพัฒนาฝีมือ
D41: อุตสาหกรรมสมัยใหม่ | F41: งบประมาณ (บาท) | G41: 385000 | H41: 231000 | J41: แรงาน
A44: 10 | B44: ประเด็นการพัฒนาที่ 4 การพัฒนาทุนมนุษย์ลดความเหลื่อมล้ำสร้างสังคมที่มีความมั่งคงและสงบสุข | C44: ประชาการของจังหวัดได้รับการพัฒนาทุนมนุษย์ในทุกช่วงวัย | D44: การพัฒนาสมรรถนะบุคลากรดิจิทัล | E44: เทคโนโลยีสมัยใหม่ | F44: คน | G44: 20 | H44: 20 | I44: สนพ.กาฬสินธุ์ | J44: กรมพัฒนาฝีมือ
D45: รองรับอุตสาหกรรมและบริการแห่ง | F45: งบประมาณ (บาท) | G45: 60000 | H45: 60000 | J45: แรงาน
D46: อนาคต (D-Workforce)
A48: 11 | B48: ประเด็นการพัฒนาที่ 4 การพัฒนาทุนมนุษย์ลดความเหลื่อมล้ำสร้างสังคมที่มีความมั่งคงและสงบสุข | C48: ประชาการของจังหวัดได้รับการพัฒนาทุนมนุษย์ในทุกช่วงวัย | D48: กิจกรรม พัฒนาศักยภาพช่างเชื่อมไทย | E48: เทคโนโลยีสมัยใหม่ | F48: คน | G48: 40 | H48: 40 | I48: สนพ.กาฬสินธุ์ | J48: กรมพัฒนาฝีมือ
D49: สู่ระดับสากล | F49: งบประมาณ (บาท) | G49: 166700 | H49: 166700 | J49: แรงาน
A52: 12 | B52: ประเด็นการพัฒนาที่ 4 การพัฒนาทุนมนุษย์ลดความเหลื่อมล้ำสร้างสังคมที่มีความมั่งคงและสงบสุข | C52: ประชาการของจังหวัดได้รับการพัฒนาทุนมนุษย์ในทุกช่วงวัย | D52: โครงการส่งเสริมและเชื่อมต่อธุรกิจชุมชนเพื่อคนเปราะบางจังหวัดกาฬสินธุ์ (Start Up Aged and Teens Kalasin Connected) | E52: เทคโนโลยีสมัยใหม่ | F52: คน | G52: 900 | H52: 800 | I52: สนพ.พมจ.กาฬสินธุ์ | J52: กระทรวงพัฒนาสังคมและความมั่นคงของมนุษย์
F53: งบประมาณ (บาท) | G53: 3000000 | H53: 2400000
A56: 13 | B56: ประเด็นการพัฒนาที่ 4 การพัฒนาทุนมนุษย์ลดความเหลื่อมล้ำสร้างสังคมที่มีความมั่งคงและสงบสุข | C56: ประชาการของจังหวัดได้รับการพัฒนาทุนมนุษย์ในทุกช่วงวัย | D56: โครงการอาสาสมัครดิจิทัล(อสด) กาฬสินธุ์ แจ้งภัยไซเบอร์ | E56: เทคโนโลยีสมัยใหม่ | F56: คน | G56: 159 | H56: 159 | I56: สนง.สถิตกาฬสินธุ์ | J56: กระทรวงดิจิทัล | K56: แก้ไขค่ะ
F57: งบประมาณ (บาท) | G57: - | H57: -
A60: 14 | B60: ประเด็นการพัฒนาที่ 4 การพัฒนาทุนมนุษย์ลดความเหลื่อมล้ำสร้างสังคมที่มีความมั่งคงและสงบสุข | C60: ประชาการของจังหวัดได้รับการพัฒนาทุนมนุษย์ในทุกช่วงวัย | D60: โครงการอาสาสมัครดิจิทัล (อสด) กาฬสินธุ์ Click! 1212 (ETDA) | E60: เทคโนโลยีสมัยใหม่ | F60: คน | G60: 169 | H60: 169 | I60: สนง.สถิตกาฬสินธุ์ | J60: กระทรวงดิจิทัล | K60: แก้ไขค่ะ
F61: งบประมาณ (บาท) | G61: - | H61: -
...

Sheet รวม
A1: แผนและผลการดำเนินงานการพัฒนากำลังคนจังหวัดกาฬสินธุ์ ประจำปีงบประมาณ พ.ศ. 2569
A2: ที่ | B2: กลุ่มอุตสาหกรรม | C2: หน่วยนับ | D2: ปีงบประมาณ พ.ศ. 2569 | G2: หมายเหตุ
D3: แผน | E3: ผล | F3: ร้อยละ
A4: 1 | B4: กลุ่มอุตสาหกรรมเกษตรและเกษตรแปรรูปผลผลิตทางการเกษตร | C4: คน | D4: =อุตสาหกรรมเกษตร!G5 -> 21338 | E4: =อุตสาหกรรมเกษตร!H5 -> 18876 | F4: 89.95
C5: งบประมาณ (บาท) | D5: =อุตสาหกรรมเกษตร!G6 -> 41024569 | E5: =อุตสาหกรรมเกษตร!H6 -> 32599755 | F5: 78.63
A6: 2 | B6: กลุ่มอุตสาหกรรมท่องเที่ยวและบริการ | C6: คน | D6: =อุตสาหกรรมท่องเที่ยว!G5 -> 2865 | E6: =อุตสาหกรรมท่องเที่ยว!H5 -> 2657 | F6: 76.31
C7: งบประมาณ (บาท) | D7: =อุตสาหกรรมท่องเที่ยว!G6 -> 14211927 | E7: =อุตสาหกรรมท่องเที่ยว!H6 -> 12503429 | F7: 74.3
A8: 3 | B8: กลุ่มอุตสาหกรรมเทคโนโลยีสมัยใหม่ | C8: คน | D8: =อุตสาหกรรมสมัยใหม่!G5 -> 8372 | E8: =อุตสาหกรรมสมัยใหม่!H5 -> 7443 | F8: 62.41
C9: งบประมาณ (บาท) | D9: =อุตสาหกรรมสมัยใหม่!G6 -> 7847040 | E9: =อุตสาหกรรมสมัยใหม่!H6 -> 6516202 | F9: 72.25
A10: รวม | C10: คน | D10: =SUM(D4,D6,D8) -> 32575 | E10: =SUM(E4,E6,E8) -> 28976 | F10: 79.93
C11: งบประมาณ (บาท) | D11: =SUM(D5,D7,D9) -> 63083536 | E11: =SUM(E5,E7,E9) -> 51619386 | F11: 77.1
