Workbook

Sheet Sheet1
A1: อำเภอ | B1: เนื้อที่ | C1: เนื้อที่1 | D1: เนื้อที่2 | E1: ราย | F1: แปลง | G1: พระราชทาน | H1: พระราชทาน1 | I1: พระราชทาน2 | J1: ราย2 | K1: แปลง2 | L1: เอกชน | M1: เอกชน2 | N1: เอกชน3 | O1: ราย3 | P1: แปลง3 | Q1: ราชพัสดุ | R1: ราชพัสดุ2 | S1: ราชพัสดุ3 | T1: ราย4 | U1: แปลง4 | V1: บริจาค | W1: บริจาค2 | X1: บริจาค3 | Y1: ราย5 | Z1: แปลง5
A2: อำเภอลาดบัวหลวง | B2: =[1]ทั้งหมด!B8 -> 12529 | C2: =[1]ทั้งหมด!C8 -> 3 | D2: =[1]ทั้งหมด!D8 -> 91 | E2: =[1]ทั้งหมด!E8 -> 1290 | F2: =[1]ทั้งหมด!F8 -> 1978 | G2: =[1]ทั้งหมด!B5 -> 0 | H2: =[1]ทั้งหมด!C5 -> 0 | I2: =[1]ทั้งหมด!D5 -> 0 | J2: =[1]ทั้งหมด!E5 -> 0 | K2: =[1]ทั้งหมด!F5 -> 0 | L2: =[1]ทั้งหมด!B4 -> 12342 | M2: =[1]ทั้งหมด!C4 -> 2 | N2: =[1]ทั้งหมด!D4 -> 57 | O2: =[1]ทั้งหมด!E4 -> 1281 | P2: =[1]ทั้งหมด!F4 -> 1963 | Q2: =[1]ทั้งหมด!B6 -> 5 | R2: =[1]ทั้งหมด!C6 -> 3 | S2: =[1]ทั้งหมด!D6 -> 12 | T2: =[1]ทั้งหมด!E6 -> 1 | U2: =[1]ทั้งหมด!F6 -> 1 | V2: =[1]ทั้งหมด!B7 -> 181 | W2: =[1]ทั้งหมด!C7 -> 2 | X2: =[1]ทั้งหมด!D7 -> 22 | Y2: =[1]ทั้งหมด!E7 -> 8 | Z2: =[1]ทั้งหมด!F7 -> 14
A3: อำเภอวังน้อย | B3: =[1]ทั้งหมด!B17 -> 11697 | C3: =[1]ทั้งหมด!C17 -> 3 | D3: =[1]ทั้งหมด!D17 -> 90.2 | E3: =[1]ทั้งหมด!E17 -> 655 | F3: =[1]ทั้งหมด!F17 -> 765 | G3: 3648 | H3: 2 | I3: 60 | J3: 260 | K3: 266 | L3: =[1]ทั้งหมด!B13 -> 6647 | M3: =[1]ทั้งหมด!C13 -> 2 | N3: =[1]ทั้งหมด!D13 -> 24.2 | O3: =[1]ทั้งหมด!E13 -> 381 | P3: =[1]ทั้งหมด!F13 -> 461 | Q3: =[1]ทั้งหมด!B15 -> 1226 | R3: =[1]ทั้งหมด!C15 -> 2 | S3: =[1]ทั้งหมด!D15 -> 92 | T3: =[1]ทั้งหมด!E15 -> 66 | U3: =[1]ทั้งหมด!F15 -> 67 | V3: =[1]ทั้งหมด!B16 -> 136 | W3: =[1]ทั้งหมด!C16 -> 3 | X3: =[1]ทั้งหมด!D16 -> 69 | Y3: =[1]ทั้งหมด!E16 -> 5 | Z3: =[1]ทั้งหมด!F16 -> 5
A4: อำเภอบางไทร | B4: =[1]ทั้งหมด!B26 -> 5062 | C4: =[1]ทั้งหมด!C26 -> 0 | D4: =[1]ทั้งหมด!D26 -> 65 | E4: =[1]ทั้งหมด!E26 -> 435 | F4: =[1]ทั้งหมด!F26 -> 689 | G4: =[1]ทั้งหมด!B23 -> 3770 | H4: =[1]ทั้งหมด!C23 -> 1 | I4: =[1]ทั้งหมด!D23 -> 20 | J4: =[1]ทั้งหมด!E23 -> 371 | K4: =[1]ทั้งหมด!F23 -> 529 | L4: =[1]ทั้งหมด!B22 -> 742 | M4: =[1]ทั้งหมด!C22 -> 2 | N4: =[1]ทั้งหมด!D22 -> 45 | O4: =[1]ทั้งหมด!E22 -> 0 | P4: =[1]ทั้งหมด!F22 -> 86 | Q4: =[1]ทั้งหมด!B24 -> 549 | R4: =[1]ทั้งหมด!C24 -> 1 | S4: =[1]ทั้งหมด!D24 -> 0 | T4: =[1]ทั้งหมด!E24 -> 64 | U4: =[1]ทั้งหมด!F24 -> 74 | V4: =[1]ทั้งหมด!B25 -> 0 | W4: =[1]ทั้งหมด!C25 -> 0 | X4: =[1]ทั้งหมด!D25 -> 0 | Y4: =[1]ทั้งหมด!D25 -> 0 | Z4: =[1]ทั้งหมด!E25 -> 0
A5: อำเภอเสนา | B5: =[1]ทั้งหมด!B35 -> 1878 | C5: =[1]ทั้งหมด!C35 -> 0 | D5: =[1]ทั้งหมด!D35 -> 17 | E5: =[1]ทั้งหมด!E35 -> 224 | F5: =[1]ทั้งหมด!F35 -> 359 | G5: =[1]ทั้งหมด!B32 -> 1701 | H5: =[1]ทั้งหมด!C32 -> 0 | I5: =[1]ทั้งหมด!D32 -> 25 | J5: =[1]ทั้งหมด!E32 -> 207 | K5: =[1]ทั้งหมด!F32 -> 303 | L5: =[1]ทั้งหมด!B31 -> 38 | M5: =[1]ทั้งหมด!C31 -> 3 | N5: =[1]ทั้งหมด!D31 -> 31 | O5: =[1]ทั้งหมด!E31 -> 1 | P5: =[1]ทั้งหมด!F31 -> 39 | Q5: =[1]ทั้งหมด!B33 -> 138 | R5: =[1]ทั้งหมด!C33 -> 0 | S5: =[1]ทั้งหมด!D33 -> 61 | T5: =[1]ทั้งหมด!E33 -> 16 | U5: =[1]ทั้งหมด!F33 -> 17 | V5: =[1]ทั้งหมด!B34 -> 0 | W5: =[1]ทั้งหมด!C34 -> 0 | X5: =[1]ทั้งหมด!D34 -> 0 | Y5: =[1]ทั้งหมด!D34 -> 0 | Z5: =[1]ทั้งหมด!E34 -> 0
A6: อำเภอพระนครศรีอยุธยา | B6: =[1]ทั้งหมด!B44 -> 1470 | C6: =[1]ทั้งหมด!C44 -> 1 | D6: =[1]ทั้งหมด!D44 -> 31 | E6: =[1]ทั้งหมด!E44 -> 123 | F6: =[1]ทั้งหมด!F44 -> 157 | G6: =[1]ทั้งหมด!B41 -> 1414 | H6: =[1]ทั้งหมด!C41 -> 1 | I6: =[1]ทั้งหมด!D41 -> 62 | J6: =[1]ทั้งหมด!E41 -> 88 | K6: =[1]ทั้งหมด!F41 -> 112 | L6: =[1]ทั้งหมด!B40 -> 0 | M6: =[1]ทั้งหมด!C40 -> 0 | N6: =[1]ทั้งหมด!D40 -> 0 | O6: =[1]ทั้งหมด!E40 -> 0 | P6: =[1]ทั้งหมด!F40 -> 0 | Q6: =[1]ทั้งหมด!B42 -> 51 | R6: =[1]ทั้งหมด!C42 -> 0 | S6: =[1]ทั้งหมด!D42 -> 46 | T6: =[1]ทั้งหมด!E42 -> 33 | U6: =[1]ทั้งหมด!F42 -> 43 | V6: =[1]ทั้งหมด!B43 -> 4 | W6: =[1]ทั้งหมด!C43 -> 3 | X6: =[1]ทั้งหมด!D43 -> 23 | Y6: =[1]ทั้งหมด!E43 -> 2 | Z6: =[1]ทั้งหมด!F43 -> 2
A7: อำเภอบางบาล | B7: =[1]ทั้งหมด!B53 -> 358 | C7: =[1]ทั้งหมด!C53 -> 0 | D7: =[1]ทั้งหมด!D53 -> 91 | E7: =[1]ทั้งหมด!E53 -> 44 | F7: =[1]ทั้งหมด!F53 -> 51 | G7: =[1]ทั้งหมด!B50 -> 358 | H7: =[1]ทั้งหมด!C50 -> 0 | I7: =[1]ทั้งหมด!D50 -> 91 | J7: =[1]ทั้งหมด!E50 -> 44 | K7: =[1]ทั้งหมด!F50 -> 51 | L7: =[1]ทั้งหมด!B49 -> 0 | M7: =[1]ทั้งหมด!C49 -> 0 | N7: =[1]ทั้งหมด!D49 -> 0 | O7: =[1]ทั้งหมด!E49 -> 0 | P7: =[1]ทั้งหมด!F49 -> 0 | Q7: =[1]ทั้งหมด!B51 -> 0 | R7: =[1]ทั้งหมด!C51 -> 0 | S7: =[1]ทั้งหมด!D51 -> 0 | T7: =[1]ทั้งหมด!E51 -> 0 | U7: =[1]ทั้งหมด!B52 -> 0 | V7: =[1]ทั้งหมด!C52 -> 0 | W7: =[1]ทั้งหมด!D52 -> 0 | X7: =[1]ทั้งหมด!E52 -> 0 | Y7: =[1]ทั้งหมด!F52 -> 0 | Z7: =[1]ทั้งหมด!G52 -> 0
A8: อำเภอบางปะอิน | B8: =[1]ทั้งหมด!B62 -> 595 | C8: =[1]ทั้งหมด!C62 -> 1 | D8: =[1]ทั้งหมด!D62 -> 18 | E8: =[1]ทั้งหมด!E62 -> 43 | F8: =[1]ทั้งหมด!F62 -> 54 | G8: =[1]ทั้งหมด!B59 -> 99 | H8: =[1]ทั้งหมด!C59 -> 1 | I8: =[1]ทั้งหมด!D59 -> 47 | J8: =[1]ทั้งหมด!E59 -> 10 | K8: =[1]ทั้งหมด!F59 -> 15 | L8: =[1]ทั้งหมด!B58 -> 0 | M8: =[1]ทั้งหมด!C58 -> 0 | N8: =[1]ทั้งหมด!D58 -> 0 | O8: =[1]ทั้งหมด!E58 -> 0 | P8: =[1]ทั้งหมด!F58 -> 0 | Q8: =[1]ทั้งหมด!B60 -> 495 | R8: =[1]ทั้งหมด!C60 -> 3 | S8: =[1]ทั้งหมด!D60 -> 71 | T8: =[1]ทั้งหมด!E60 -> 33 | U8: =[1]ทั้งหมด!F60 -> 39 | V8: =[1]ทั้งหมด!B61 -> 0 | W8: =[1]ทั้งหมด!C61 -> 0 | X8: =[1]ทั้งหมด!D61 -> 0 | Y8: =[1]ทั้งหมด!E61 -> 0 | Z8: =[1]ทั้งหมด!F61 -> 0
A9: อำเภออุทัย | B9: =[1]ทั้งหมด!B71 -> 376 | C9: =[1]ทั้งหมด!C71 -> 2 | D9: =[1]ทั้งหมด!D71 -> 16 | E9: =[1]ทั้งหมด!E71 -> 47 | F9: =[1]ทั้งหมด!F71 -> 50 | G9: =[1]ทั้งหมด!B68 -> 118 | H9: =[1]ทั้งหมด!C68 -> 1 | I9: =[1]ทั้งหมด!D68 -> 82 | J9: =[1]ทั้งหมด!E68 -> 11 | K9: =[1]ทั้งหมด!F68 -> 16 | L9: =[1]ทั้งหมด!B67 -> 0 | M9: =[1]ทั้งหมด!C67 -> 0 | N9: =[1]ทั้งหมด!D67 -> 0 | O9: =[1]ทั้งหมด!E67 -> 0 | P9: =[1]ทั้งหมด!F67 -> 0 | Q9: =[1]ทั้งหมด!B69 -> 258 | R9: =[1]ทั้งหมด!C69 -> 0 | S9: =[1]ทั้งหมด!D69 -> 34 | T9: =[1]ทั้งหมด!E69 -> 36 | U9: =[1]ทั้งหมด!F69 -> 34 | V9: =[1]ทั้งหมด!B70 -> 0 | W9: =[1]ทั้งหมด!C70 -> 0 | X9: =[1]ทั้งหมด!D70 -> 0 | Y9: =[1]ทั้งหมด!E70 -> 0 | Z9: =[1]ทั้งหมด!F70 -> 0
