Workbook

Sheet 2556
A1: จำนวนและอัตราการประสบอันตรายต่อลูกจ้าง 1,000 ราย จำแนกรายจังหวัด ปี 2556
C3: จำนวนลูกจ้าง | D3: ความรุนแรง | I3: รวมจำนวน | K3: อัตราการประสบอันตราย
A4: รหัส | B4: จังหวัด | C4: ในข่ายฯ | D4: ตาย | E4: ทุพพลภาพ | F4: สูญเสีย | G4: หยุดงาน | H4: หยุดงาน | I4: การประสบอันตราย | K4: ต่อลูกจ้าง 1,000 ราย
C5: (ณ 31 ธ.ค. 56) | F5: อวัยวะบางส่วน | G5: เกิน 3 วัน | H5: ไม่เกิน 3 วัน | I5: นับทุกกรณี | J5: นับกรณีร้ายแรง | K5: นับทุกกรณี | L5: นับกรณีร้ายแรง
A6: 1000 | B6: กรุงเทพมหานคร | C6: ='[1]จังหวัด (4)'!C5 -> 3219887 | D6: ='[1]จังหวัด (4)'!D5 -> 165 | E6: ='[1]จังหวัด (4)'!E5 -> 4 | F6: ='[1]จังหวัด (4)'!F5 -> 458 | G6: ='[1]จังหวัด (4)'!G5 -> 8865 | H6: 23090 | I6: =SUM(D6:H6) -> 32582 | J6: =SUM(D6:G6) -> 9492 | K6: =I6*1000/C6 -> 10.118989 | L6: =J6*1000/C6 -> 2.9479295
A7: 1100 | B7: สมุทรปราการ | C7: ='[1]จังหวัด (4)'!C6 -> 695185 | D7: =[2]จังหวัด!B21 -> 29 | E7: =[2]จังหวัด!C21 -> 2 | F7: =[2]จังหวัด!D21 -> 647 | G7: =[2]จังหวัด!E21 -> 4760 | H7: =[2]จังหวัด!F21 -> 12244 | I7: =SUM(D7:H7) -> 17682 | J7: =SUM(D7:G7) -> 5438 | K7: =I7*1000/C7 -> 25.434956 | L7: =J7*1000/C7 -> 7.8223782
A8: 1200 | B8: นนทบุรี | C8: ='[1]จังหวัด (4)'!C7 -> 241379 | D8: =[2]จังหวัด!B22 -> 22 | E8: =[2]จังหวัด!C22 -> 1 | F8: =[2]จังหวัด!D22 -> 79 | G8: =[2]จังหวัด!E22 -> 1154 | H8: =[2]จังหวัด!F22 -> 1753 | I8: =SUM(D8:H8) -> 3009 | J8: =SUM(D8:G8) -> 1256 | K8: =I8*1000/C8 -> 12.465873 | L8: =J8*1000/C8 -> 5.2034353
A9: 1300 | B9: ปทุมธานี | C9: ='[1]จังหวัด (4)'!C8 -> 349289 | D9: =[2]จังหวัด!B23 -> 27 | E9: =[2]จังหวัด!C23 -> 1 | F9: =[2]จังหวัด!D23 -> 112 | G9: =[2]จังหวัด!E23 -> 1445 | H9: =[2]จังหวัด!F23 -> 3019 | I9: =SUM(D9:H9) -> 4604 | J9: =SUM(D9:G9) -> 1585 | K9: =I9*1000/C9 -> 13.181062 | L9: =J9*1000/C9 -> 4.5377896
A10: 1400 | B10: พระนครศรีอยุธยา | C10: ='[1]จังหวัด (4)'!C11 -> 310624 | D10: =[2]จังหวัด!B33 -> 16 | E10: =[2]จังหวัด!C33 -> - | F10: =[2]จังหวัด!D33 -> 61 | G10: =[2]จังหวัด!E33 -> 824 | H10: =[2]จังหวัด!F33 -> 2517 | I10: =SUM(D10:H10) -> 3418 | J10: =SUM(D10:G10) -> 901 | K10: =I10*1000/C10 -> 11.003657 | L10: =J10*1000/C10 -> 2.900613
A11: 1500 | B11: อ่างทอง | C11: ='[1]จังหวัด (4)'!C12 -> 8299 | D11: =[2]จังหวัด!B34 -> 2 | E11: =[2]จังหวัด!C34 -> - | F11: =[2]จังหวัด!D34 -> 2 | G11: =[2]จังหวัด!E34 -> 27 | H11: =[2]จังหวัด!F34 -> 44 | I11: =SUM(D11:H11) -> 75 | J11: =SUM(D11:G11) -> 31 | K11: =I11*1000/C11 -> 9.0372334 | L11: =J11*1000/C11 -> 3.7353898
A12: 1600 | B12: ลพบุรี | C12: ='[1]จังหวัด (4)'!C13 -> 62615 | D12: =[2]จังหวัด!B35 -> 8 | E12: =[2]จังหวัด!C35 -> - | F12: =[2]จังหวัด!D35 -> 23 | G12: =[2]จังหวัด!E35 -> 123 | H12: =[2]จังหวัด!F35 -> 430 | I12: =SUM(D12:H12) -> 584 | J12: =SUM(D12:G12) -> 154 | K12: =I12*1000/C12 -> 9.3268386 | L12: =J12*1000/C12 -> 2.4594746
A13: 1700 | B13: สิงห์บุรี | C13: ='[1]จังหวัด (4)'!C14 -> 17662 | D13: =[2]จังหวัด!B36 -> 4 | E13: =[2]จังหวัด!C36 -> - | F13: =[2]จังหวัด!D36 -> 2 | G13: =[2]จังหวัด!E36 -> 82 | H13: =[2]จังหวัด!F36 -> 231 | I13: =SUM(D13:H13) -> 319 | J13: =SUM(D13:G13) -> 88 | K13: =I13*1000/C13 -> 18.061375 | L13: =J13*1000/C13 -> 4.9824482
A14: 1800 | B14: ชัยนาท | C14: ='[1]จังหวัด (4)'!C15 -> 11479 | D14: =[2]จังหวัด!B37 -> 3 | E14: =[2]จังหวัด!C37 -> - | F14: =[2]จังหวัด!D37 -> 7 | G14: =[2]จังหวัด!E37 -> 44 | H14: =[2]จังหวัด!F37 -> 107 | I14: =SUM(D14:H14) -> 161 | J14: =SUM(D14:G14) -> 54 | K14: =I14*1000/C14 -> 14.025612 | L14: =J14*1000/C14 -> 4.7042425
A15: 1900 | B15: สระบุรี | C15: ='[1]จังหวัด (4)'!C16 -> 162165 | D15: =[2]จังหวัด!B38 -> 18 | E15: =[2]จังหวัด!C38 -> - | F15: =[2]จังหวัด!D38 -> 30 | G15: =[2]จังหวัด!E38 -> 560 | H15: =[2]จังหวัด!F38 -> 1450 | I15: =SUM(D15:H15) -> 2058 | J15: =SUM(D15:G15) -> 608 | K15: =I15*1000/C15 -> 12.690778 | L15: =J15*1000/C15 -> 3.7492677
A16: 2000 | B16: ชลบุรี | C16: ='[1]จังหวัด (4)'!C17 -> 622415 | D16: =[2]จังหวัด!B39 -> 33 | E16: =[2]จังหวัด!C39 -> 3 | F16: =[2]จังหวัด!D39 -> 183 | G16: =[2]จังหวัด!E39 -> 1597 | H16: =[2]จังหวัด!F39 -> 5972 | I16: =SUM(D16:H16) -> 7788 | J16: =SUM(D16:G16) -> 1816 | K16: =I16*1000/C16 -> 12.512552 | L16: =J16*1000/C16 -> 2.9176675
A17: 2100 | B17: ระยอง | C17: ='[1]จังหวัด (4)'!C18 -> 354831 | D17: =[2]จังหวัด!B40 -> 15 | E17: =[2]จังหวัด!C40 -> - | F17: =[2]จังหวัด!D40 -> 100 | G17: =[2]จังหวัด!E40 -> 777 | H17: =[2]จังหวัด!F40 -> 3159 | I17: =SUM(D17:H17) -> 4051 | J17: =SUM(D17:G17) -> 892 | K17: =I17*1000/C17 -> 11.416703 | L17: =J17*1000/C17 -> 2.5138728
A18: 2200 | B18: จันทบุรี | C18: ='[1]จังหวัด (4)'!C19 -> 23171 | D18: =[2]จังหวัด!B41 -> 4 | E18: =[2]จังหวัด!C41 -> - | F18: =[2]จังหวัด!D41 -> 1 | G18: =[2]จังหวัด!E41 -> 78 | H18: =[2]จังหวัด!F41 -> 118 | I18: =SUM(D18:H18) -> 201 | J18: =SUM(D18:G18) -> 83 | K18: =I18*1000/C18 -> 8.6746364 | L18: =J18*1000/C18 -> 3.5820638
A19: 2300 | B19: ตราด | C19: ='[1]จังหวัด (4)'!C20 -> 10835 | D19: =[2]จังหวัด!B42 -> - | E19: =[2]จังหวัด!C42 -> - | F19: =[2]จังหวัด!D42 -> 2 | G19: =[2]จังหวัด!E42 -> 31 | H19: =[2]จังหวัด!F42 -> 18 | I19: =SUM(D19:H19) -> 51 | J19: =SUM(D19:G19) -> 33 | K19: =I19*1000/C19 -> 4.7069682 | L19: =J19*1000/C19 -> 3.0456853
A20: 2400 | B20: ฉะเชิงเทรา | C20: ='[1]จังหวัด (4)'!C21 -> 198201 | D20: =[2]จังหวัด!B43 -> 9 | E20: =[2]จังหวัด!C43 -> - | F20: =[2]จังหวัด!D43 -> 89 | G20: =[2]จังหวัด!E43 -> 981 | H20: =[2]จังหวัด!F43 -> 2536 | I20: =SUM(D20:H20) -> 3615 | J20: =SUM(D20:G20) -> 1079 | K20: =I20*1000/C20 -> 18.23906 | L20: =J20*1000/C20 -> 5.4439685
A21: 2500 | B21: ปราจีนบุรี | C21: ='[1]จังหวัด (4)'!C22 -> 116603 | D21: =[2]จังหวัด!B44 -> 4 | E21: =[2]จังหวัด!C44 -> 1 | F21: =[2]จังหวัด!D44 -> 35 | G21: =[2]จังหวัด!E44 -> 387 | H21: =[2]จังหวัด!F44 -> 1085 | I21: =SUM(D21:H21) -> 1512 | J21: =SUM(D21:G21) -> 427 | K21: =I21*1000/C21 -> 12.967076 | L21: =J21*1000/C21 -> 3.6619984
... A23: 2700 | B23: สระแก้ว | C23: ='[1]จังหวัด (4)'!C24 -> 12618 | D23: =[2]จังหวัด!B46 -> 4 | E23: =[2]จังหวัด!C46 -> - | F23: =[2]จังหวัด!D46 -> 4 | G23: =[2]จังหวัด!E46 -> 35 | H23: =[2]จังหวัด!F46 -> 65 | I23: =SUM(D23:H23) -> 108 | J23: =SUM(D23:G23) -> 43 | K23: =I23*1000/C23 -> 8.5592011 | L23: =J23*1000/C23 -> 3.4078301
A24: 3000 | B24: นครราชสีมา | C24: ='[1]จังหวัด (4)'!C48 -> 211281 | D24: =[2]จังหวัด!B84 -> 15 | E24: =[2]จังหวัด!C84 -> 3 | F24: =[2]จังหวัด!D84 -> 46 | G24: =[2]จังหวัด!E84 -> 566 | H24: =[2]จังหวัด!F84 -> 1975 | I24: =SUM(D24:H24) -> 2605 | J24: =SUM(D24:G24) -> 630 | K24: =I24*1000/C24 -> 12.329552 | L24: =J24*1000/C24 -> 2.981811
A25: 3100 | B25: บุรีรัมย์ | C25: ='[1]จังหวัด (4)'!C49 -> 23785 | D25: =[2]จังหวัด!B85 -> 2 | E25: =[2]จังหวัด!C85 -> 2 | F25: =[2]จังหวัด!D85 -> 4 | G25: =[2]จังหวัด!E85 -> 72 | H25: =[2]จังหวัด!F85 -> 52 | I25: =SUM(D25:H25) -> 132 | J25: =SUM(D25:G25) -> 80 | K25: =I25*1000/C25 -> 5.5497162 | L25: =J25*1000/C25 -> 3.3634644
A26: 3200 | B26: สุรินทร์ | C26: ='[1]จังหวัด (4)'!C50 -> 20453 | D26: =[2]จังหวัด!B86 -> 3 | E26: =[2]จังหวัด!C86 -> - | F26: =[2]จังหวัด!D86 -> 11 | G26: =[2]จังหวัด!E86 -> 90 | H26: =[2]จังหวัด!F86 -> 96 | I26: =SUM(D26:H26) -> 200 | J26: =SUM(D26:G26) -> 104 | K26: =I26*1000/C26 -> 9.7785166 | L26: =J26*1000/C26 -> 5.0848286
A27: 3300 | B27: ศรีสะเกษ | C27: ='[1]จังหวัด (4)'!C51 -> 12371 | D27: =[2]จังหวัด!B87 -> 5 | E27: =[2]จังหวัด!C87 -> - | F27: =[2]จังหวัด!D87 -> 4 | G27: =[2]จังหวัด!E87 -> 19 | H27: =[2]จังหวัด!F87 -> 4 | I27: =SUM(D27:H27) -> 32 | J27: =SUM(D27:G27) -> 28 | K27: =I27*1000/C27 -> 2.5866947 | L27: =J27*1000/C27 -> 2.2633579
A28: 3400 | B28: อุบลราชธานี | C28: ='[1]จังหวัด (4)'!C52 -> 40789 | D28: =[2]จังหวัด!B88 -> 1 | E28: =[2]จังหวัด!C88 -> - | F28: =[2]จังหวัด!D88 -> 13 | G28: =[2]จังหวัด!E88 -> 138 | H28: =[2]จังหวัด!F88 -> 202 | I28: =SUM(D28:H28) -> 354 | J28: =SUM(D28:G28) -> 152 | K28: =I28*1000/C28 -> 8.6788105 | L28: =J28*1000/C28 -> 3.7264949
A29: 3500 | B29: ยโสธร | C29: ='[1]จังหวัด (4)'!C53 -> 7430 | D29: =[2]จังหวัด!B89 -> - | E29: =[2]จังหวัด!C89 -> 1 | F29: =[2]จังหวัด!D89 -> 2 | G29: =[2]จังหวัด!E89 -> 7 | H29: =[2]จังหวัด!F89 -> 10 | I29: =SUM(D29:H29) -> 20 | J29: =SUM(D29:G29) -> 10 | K29: =I29*1000/C29 -> 2.69179 | L29: =J29*1000/C29 -> 1.345895
A30: 3600 | B30: ชัยภูมิ | C30: ='[1]จังหวัด (4)'!C54 -> 16799 | D30: =[2]จังหวัด!B90 -> 2 | E30: =[2]จังหวัด!C90 -> - | F30: =[2]จังหวัด!D90 -> - | G30: =[2]จังหวัด!E90 -> 35 | H30: =[2]จังหวัด!F90 -> 31 | I30: =SUM(D30:H30) -> 68 | J30: =SUM(D30:G30) -> 37 | K30: =I30*1000/C30 -> 4.04786 | L30: =J30*1000/C30 -> 2.2025121
A31: 3700 | B31: อำนาจเจริญ | C31: ='[1]จังหวัด (4)'!C55 -> 2850 | D31: =[2]จังหวัด!B91 -> - | E31: =[2]จังหวัด!C91 -> - | F31: =[2]จังหวัด!D91 -> 1 | G31: =[2]จังหวัด!E91 -> 5 | H31: =[2]จังหวัด!F91 -> 4 | I31: =SUM(D31:H31) -> 10 | J31: =SUM(D31:G31) -> 6 | K31: =I31*1000/C31 -> 3.5087719 | L31: =J31*1000/C31 -> 2.1052632
A32: 3800 | B32: บึงกาฬ | C32: ='[1]จังหวัด (4)'!C56 -> 3409 | D32: =[2]จังหวัด!B92 -> 2 | E32: =[2]จังหวัด!C92 -> 1 | F32: =[2]จังหวัด!D92 -> 4 | G32: =[2]จังหวัด!E92 -> 19 | H32: =[2]จังหวัด!F92 -> 26 | I32: =SUM(D32:H32) -> 52 | J32: =SUM(D32:G32) -> 26 | K32: =I32*1000/C32 -> 15.25374 | L32: =J32*1000/C32 -> 7.62687
A33: 3900 | B33: หนองบัวลำภู | C33: ='[1]จังหวัด (4)'!C57 -> 7220 | D33: =[2]จังหวัด!B93 -> - | E33: =[2]จังหวัด!C93 -> - | F33: =[2]จังหวัด!D93 -> 6 | G33: =[2]จังหวัด!E93 -> 19 | H33: =[2]จังหวัด!F93 -> 14 | I33: =SUM(D33:H33) -> 39 | J33: =SUM(D33:G33) -> 25 | K33: =I33*1000/C33 -> 5.401662 | L33: =J33*1000/C33 -> 3.4626039
A34: 4000 | B34: ขอนแก่น | C34: ='[1]จังหวัด (4)'!C58 -> 100495 | D34: =[2]จังหวัด!B94 -> 16 | E34: =[2]จังหวัด!C94 -> - | F34: =[2]จังหวัด!D94 -> 20 | G34: =[2]จังหวัด!E94 -> 237 | H34: =[2]จังหวัด!F94 -> 365 | I34: =SUM(D34:H34) -> 638 | J34: =SUM(D34:G34) -> 273 | K34: =I34*1000/C34 -> 6.3485746 | L34: =J34*1000/C34 -> 2.7165531
A35: 4100 | B35: อุดรธานี | C35: ='[1]จังหวัด (4)'!C59 -> 41167 | D35: =[2]จังหวัด!B95 -> 7 | E35: =[2]จังหวัด!C95 -> - | F35: =[2]จังหวัด!D95 -> 14 | G35: =[2]จังหวัด!E95 -> 138 | H35: =[2]จังหวัด!F95 -> 414 | I35: =SUM(D35:H35) -> 573 | J35: =SUM(D35:G35) -> 159 | K35: =I35*1000/C35 -> 13.918916 | L35: =J35*1000/C35 -> 3.8623169
... A40: 4600 | B40: กาฬสินธุ์ | C40: ='[1]จังหวัด (4)'!C64 -> 13361 | D40: =[2]จังหวัด!B100 -> 6 | E40: =[2]จังหวัด!C100 -> - | F40: =[2]จังหวัด!D100 -> 3 | G40: =[2]จังหวัด!E100 -> 32 | H40: =[2]จังหวัด!F100 -> 17 | I40: =SUM(D40:H40) -> 58 | J40: =SUM(D40:G40) -> 41 | K40: =I40*1000/C40 -> 4.3409924 | L40: =J40*1000/C40 -> 3.0686326
A41: 4700 | B41: สกลนคร | C41: ='[1]จังหวัด (4)'!C65 -> 15047 | D41: =[2]จังหวัด!B107 -> 3 | E41: =[2]จังหวัด!C107 -> 1 | F41: =[2]จังหวัด!D107 -> 7 | G41: =[2]จังหวัด!E107 -> 43 | H41: =[2]จังหวัด!F107 -> 57 | I41: =SUM(D41:H41) -> 111 | J41: =SUM(D41:G41) -> 54 | K41: =I41*1000/C41 -> 7.3768858 | L41: =J41*1000/C41 -> 3.5887552
A42: 4800 | B42: นครพนม | C42: ='[1]จังหวัด (4)'!C66 -> 6485 | D42: =[2]จังหวัด!B108 -> 1 | E42: =[2]จังหวัด!C108 -> - | F42: =[2]จังหวัด!D108 -> 4 | G42: =[2]จังหวัด!E108 -> 23 | H42: =[2]จังหวัด!F108 -> 3 | I42: =SUM(D42:H42) -> 31 | J42: =SUM(D42:G42) -> 28 | K42: =I42*1000/C42 -> 4.7802621 | L42: =J42*1000/C42 -> 4.3176561
A43: 4900 | B43: มุกดาหาร | C43: ='[1]จังหวัด (4)'!C67 -> 8025 | D43: =[2]จังหวัด!B109 -> 2 | E43: =[2]จังหวัด!C109 -> - | F43: =[2]จังหวัด!D109 -> 3 | G43: =[2]จังหวัด!E109 -> 31 | H43: =[2]จังหวัด!F109 -> 55 | I43: =SUM(D43:H43) -> 91 | J43: =SUM(D43:G43) -> 36 | K43: =I43*1000/C43 -> 11.339564 | L43: =J43*1000/C43 -> 4.4859813
A44: 5000 | B44: เชียงใหม่ | C44: ='[1]จังหวัด (4)'!C31 -> 154881 | D44: =[2]จังหวัด!B60 -> 13 | E44: =[2]จังหวัด!C60 -> 1 | F44: =[2]จังหวัด!D60 -> 21 | G44: =[2]จังหวัด!E60 -> 656 | H44: =[2]จังหวัด!F60 -> 1707 | I44: =SUM(D44:H44) -> 2398 | J44: =SUM(D44:G44) -> 691 | K44: =I44*1000/C44 -> 15.482855 | L44: =J44*1000/C44 -> 4.4614898
A45: 5100 | B45: ลำพูน | C45: ='[1]จังหวัด (4)'!C32 -> 70320 | D45: =[2]จังหวัด!B61 -> 4 | E45: =[2]จังหวัด!C61 -> - | F45: =[2]จังหวัด!D61 -> 15 | G45: =[2]จังหวัด!E61 -> 99 | H45: =[2]จังหวัด!F61 -> 566 | I45: =SUM(D45:H45) -> 684 | J45: =SUM(D45:G45) -> 118 | K45: =I45*1000/C45 -> 9.7269625 | L45: =J45*1000/C45 -> 1.6780432
A46: 5200 | B46: ลำปาง | C46: ='[1]จังหวัด (4)'!C33 -> 40296 | D46: =[2]จังหวัด!B62 -> 3 | E46: =[2]จังหวัด!C62 -> - | F46: =[2]จังหวัด!D62 -> 16 | G46: =[2]จังหวัด!E62 -> 169 | H46: =[2]จังหวัด!F62 -> 281 | I46: =SUM(D46:H46) -> 469 | J46: =SUM(D46:G46) -> 188 | K46: =I46*1000/C46 -> 11.638872 | L46: =J46*1000/C46 -> 4.6654755
A47: 5300 | B47: อุตรดิตถ์ | C47: ='[1]จังหวัด (4)'!C34 -> 10744 | D47: =[2]จังหวัด!B63 -> 2 | E47: =[2]จังหวัด!C63 -> - | F47: =[2]จังหวัด!D63 -> 10 | G47: =[2]จังหวัด!E63 -> 90 | H47: =[2]จังหวัด!F63 -> 88 | I47: =SUM(D47:H47) -> 190 | J47: =SUM(D47:G47) -> 102 | K47: =I47*1000/C47 -> 17.684289 | L47: =J47*1000/C47 -> 9.4936709
A48: 5400 | B48: แพร่ | C48: ='[1]จังหวัด (4)'!C35 -> 11185 | D48: =[2]จังหวัด!B64 -> - | E48: =[2]จังหวัด!C64 -> - | F48: =[2]จังหวัด!D64 -> 5 | G48: =[2]จังหวัด!E64 -> 89 | H48: =[2]จังหวัด!F64 -> 39 | I48: =SUM(D48:H48) -> 133 | J48: =SUM(D48:G48) -> 94 | K48: =I48*1000/C48 -> 11.890925 | L48: =J48*1000/C48 -> 8.4041127
A49: 5500 | B49: น่าน | C49: ='[1]จังหวัด (4)'!C36 -> 7642 | D49: =[2]จังหวัด!B65 -> - | E49: =[2]จังหวัด!C65 -> - | F49: =[2]จังหวัด!D65 -> 1 | G49: =[2]จังหวัด!E65 -> 15 | H49: =[2]จังหวัด!F65 -> 1 | I49: =SUM(D49:H49) -> 17 | J49: =SUM(D49:G49) -> 16 | K49: =I49*1000/C49 -> 2.2245485 | L49: =J49*1000/C49 -> 2.0936928
A50: 5600 | B50: พะเยา | C50: ='[1]จังหวัด (4)'!C37 -> 8573 | D50: =[2]จังหวัด!B66 -> 1 | E50: =[2]จังหวัด!C66 -> - | F50: =[2]จังหวัด!D66 -> - | G50: =[2]จังหวัด!E66 -> 34 | H50: =[2]จังหวัด!F66 -> 34 | I50: =SUM(D50:H50) -> 69 | J50: =SUM(D50:G50) -> 35 | K50: =I50*1000/C50 -> 8.0485244 | L50: =J50*1000/C50 -> 4.0825849
A51: 5700 | B51: เชียงราย | C51: ='[1]จังหวัด (4)'!C38 -> 40972 | D51: =[2]จังหวัด!B67 -> 8 | E51: =[2]จังหวัด!C67 -> - | F51: =[2]จังหวัด!D67 -> 2 | G51: =[2]จังหวัด!E67 -> 77 | H51: =[2]จังหวัด!F67 -> 224 | I51: =SUM(D51:H51) -> 311 | J51: =SUM(D51:G51) -> 87 | K51: =I51*1000/C51 -> 7.5905496 | L51: =J51*1000/C51 -> 2.1234013
A52: 5800 | B52: แม่ฮ่องสอน | C52: ='[1]จังหวัด (4)'!C39 -> 2400 | D52: =[2]จังหวัด!B68 -> - | E52: =[2]จังหวัด!C68 -> - | F52: =[2]จังหวัด!D68 -> - | G52: =[2]จังหวัด!E68 -> 2 | H52: =[2]จังหวัด!F68 -> 1 | I52: =SUM(D52:H52) -> 3 | J52: =SUM(D52:G52) -> 2 | K52: =I52*1000/C52 -> 1.25 | L52: =J52*1000/C52 -> 0.83333333
A53: 6000 | B53: นครสวรรค์ | C53: ='[1]จังหวัด (4)'!C40 -> 39551 | D53: =[2]จังหวัด!B69 -> 4 | E53: =[2]จังหวัด!C69 -> - | F53: =[2]จังหวัด!D69 -> 12 | G53: =[2]จังหวัด!E69 -> 134 | H53: =[2]จังหวัด!F69 -> 474 | I53: =SUM(D53:H53) -> 624 | J53: =SUM(D53:G53) -> 150 | K53: =I53*1000/C53 -> 15.777098 | L53: =J53*1000/C53 -> 3.7925716
A54: 6100 | B54: อุทัยธานี | C54: ='[1]จังหวัด (4)'!C41 -> 6679 | D54: =[2]จังหวัด!B70 -> 1 | E54: =[2]จังหวัด!C70 -> - | F54: =[2]จังหวัด!D70 -> 5 | G54: =[2]จังหวัด!E70 -> 35 | H54: =[2]จังหวัด!F70 -> 77 | I54: =SUM(D54:H54) -> 118 | J54: =SUM(D54:G54) -> 41 | K54: =I54*1000/C54 -> 17.667315 | L54: =J54*1000/C54 -> 6.1386435
A55: 6200 | B55: กำแพงเพชร | C55: ='[1]จังหวัด (4)'!C42 -> 18410 | D55: =[2]จังหวัด!B71 -> 5 | E55: =[2]จังหวัด!C71 -> 1 | F55: =[2]จังหวัด!D71 -> 13 | G55: =[2]จังหวัด!E71 -> 62 | H55: =[2]จังหวัด!F71 -> 79 | I55: =SUM(D55:H55) -> 160 | J55: =SUM(D55:G55) -> 81 | K55: =I55*1000/C55 -> 8.6909288 | L55: =J55*1000/C55 -> 4.3997827
... A59: 6600 | B59: พิจิตร | C59: ='[1]จังหวัด (4)'!C46 -> 12994 | D59: =[2]จังหวัด!B75 -> 2 | E59: =[2]จังหวัด!C75 -> - | F59: =[2]จังหวัด!D75 -> 7 | G59: =[2]จังหวัด!E75 -> 63 | H59: =[2]จังหวัด!F75 -> 57 | I59: =SUM(D59:H59) -> 129 | J59: =SUM(D59:G59) -> 72 | K59: =I59*1000/C59 -> 9.9276589 | L59: =J59*1000/C59 -> 5.5410189
A60: 6700 | B60: เพชรบูรณ์ | C60: ='[1]จังหวัด (4)'!C47 -> 20538 | D60: =[2]จังหวัด!B82 -> 4 | E60: =[2]จังหวัด!C82 -> - | F60: =[2]จังหวัด!D82 -> 9 | G60: =[2]จังหวัด!E82 -> 69 | H60: =[2]จังหวัด!F82 -> 212 | I60: =SUM(D60:H60) -> 294 | J60: =SUM(D60:G60) -> 82 | K60: =I60*1000/C60 -> 14.314928 | L60: =J60*1000/C60 -> 3.9925991
A61: 7000 | B61: ราชบุรี | C61: ='[1]จังหวัด (4)'!C25 -> 80742 | D61: =[2]จังหวัด!B47 -> 8 | E61: =[2]จังหวัด!C47 -> - | F61: =[2]จังหวัด!D47 -> 47 | G61: =[2]จังหวัด!E47 -> 328 | H61: =[2]จังหวัด!F47 -> 684 | I61: =SUM(D61:H61) -> 1067 | J61: =SUM(D61:G61) -> 383 | K61: =I61*1000/C61 -> 13.214932 | L61: =J61*1000/C61 -> 4.743504
A62: 7100 | B62: กาญจนบุรี | C62: ='[1]จังหวัด (4)'!C26 -> 44387 | D62: =[2]จังหวัด!B48 -> 8 | E62: =[2]จังหวัด!C48 -> - | F62: =[2]จังหวัด!D48 -> 13 | G62: =[2]จังหวัด!E48 -> 171 | H62: =[2]จังหวัด!F48 -> 209 | I62: =SUM(D62:H62) -> 401 | J62: =SUM(D62:G62) -> 192 | K62: =I62*1000/C62 -> 9.0341767 | L62: =J62*1000/C62 -> 4.3255908
A63: 7200 | B63: สุพรรณบุรี | C63: ='[1]จังหวัด (4)'!C27 -> 31640 | D63: =[2]จังหวัด!B49 -> 8 | E63: =[2]จังหวัด!C49 -> - | F63: =[2]จังหวัด!D49 -> 27 | G63: =[2]จังหวัด!E49 -> 121 | H63: =[2]จังหวัด!F49 -> 189 | I63: =SUM(D63:H63) -> 345 | J63: =SUM(D63:G63) -> 156 | K63: =I63*1000/C63 -> 10.903919 | L63: =J63*1000/C63 -> 4.9304678
A64: 7300 | B64: นครปฐม | C64: ='[1]จังหวัด (4)'!C9 -> 186111 | D64: =[2]จังหวัด!B24 -> 14 | E64: =[2]จังหวัด!C24 -> 3 | F64: =[2]จังหวัด!D24 -> 204 | G64: =[2]จังหวัด!E24 -> 581 | H64: =[2]จังหวัด!F24 -> 2053 | I64: =SUM(D64:H64) -> 2855 | J64: =SUM(D64:G64) -> 802 | K64: =I64*1000/C64 -> 15.340308 | L64: =J64*1000/C64 -> 4.3092563
A65: 7400 | B65: สมุทรสาคร | C65: ='[1]จังหวัด (4)'!C10 -> 363521 | D65: =[2]จังหวัด!B25 -> 28 | E65: =[2]จังหวัด!C25 -> - | F65: =[2]จังหวัด!D25 -> 492 | G65: =[2]จังหวัด!E25 -> 1913 | H65: =[2]จังหวัด!F25 -> 4506 | I65: =SUM(D65:H65) -> 6939 | J65: =SUM(D65:G65) -> 2433 | K65: =I65*1000/C65 -> 19.088306 | L65: =J65*1000/C65 -> 6.6928733
A66: 7500 | B66: สมุทรสงคราม | C66: ='[1]จังหวัด (4)'!C28 -> 13242 | D66: =[2]จังหวัด!B50 -> 4 | E66: =[2]จังหวัด!C50 -> - | F66: =[2]จังหวัด!D50 -> 3 | G66: =[2]จังหวัด!E50 -> 62 | H66: =[2]จังหวัด!F50 -> 80 | I66: =SUM(D66:H66) -> 149 | J66: =SUM(D66:G66) -> 69 | K66: =I66*1000/C66 -> 11.252077 | L66: =J66*1000/C66 -> 5.2106932
A67: 7600 | B67: เพชรบุรี | C67: ='[1]จังหวัด (4)'!C29 -> 33943 | D67: =[2]จังหวัด!B57 -> 7 | E67: =[2]จังหวัด!C57 -> - | F67: =[2]จังหวัด!D57 -> 18 | G67: =[2]จังหวัด!E57 -> 134 | H67: =[2]จังหวัด!F57 -> 264 | I67: =SUM(D67:H67) -> 423 | J67: =SUM(D67:G67) -> 159 | K67: =I67*1000/C67 -> 12.462069 | L67: =J67*1000/C67 -> 4.6843237
A68: 7700 | B68: ประจวบคีรีขันธ์ | C68: ='[1]จังหวัด (4)'!C30 -> 49611 | D68: =[2]จังหวัด!B58 -> 1 | E68: =[2]จังหวัด!C58 -> - | F68: =[2]จังหวัด!D58 -> 4 | G68: =[2]จังหวัด!E58 -> 187 | H68: =[2]จังหวัด!F58 -> 285 | I68: =SUM(D68:H68) -> 477 | J68: =SUM(D68:G68) -> 192 | K68: =I68*1000/C68 -> 9.6148032 | L68: =J68*1000/C68 -> 3.8701095
A69: 8000 | B69: นครศรีธรรมราช | C69: ='[1]จังหวัด (4)'!C68 -> 41833 | D69: =[2]จังหวัด!B111 -> 6 | E69: =[2]จังหวัด!C111 -> - | F69: =[2]จังหวัด!D111 -> 12 | G69: =[2]จังหวัด!E111 -> 234 | H69: =[2]จังหวัด!F111 -> 190 | I69: =SUM(D69:H69) -> 442 | J69: =SUM(D69:G69) -> 252 | K69: =I69*1000/C69 -> 10.565821 | L69: =J69*1000/C69 -> 6.0239524
A70: 8100 | B70: กระบี่ | C70: ='[1]จังหวัด (4)'!C69 -> 32231 | D70: =[2]จังหวัด!B112 -> 3 | E70: =[2]จังหวัด!C112 -> - | F70: =[2]จังหวัด!D112 -> 5 | G70: =[2]จังหวัด!E112 -> 208 | H70: =[2]จังหวัด!F112 -> 155 | I70: =SUM(D70:H70) -> 371 | J70: =SUM(D70:G70) -> 216 | K70: =I70*1000/C70 -> 11.510657 | L70: =J70*1000/C70 -> 6.7016227
A71: 8200 | B71: พังงา | C71: ='[1]จังหวัด (4)'!C70 -> 14865 | D71: =[2]จังหวัด!B113 -> 2 | E71: =[2]จังหวัด!C113 -> - | F71: =[2]จังหวัด!D113 -> 1 | G71: =[2]จังหวัด!E113 -> 68 | H71: =[2]จังหวัด!F113 -> 54 | I71: =SUM(D71:H71) -> 125 | J71: =SUM(D71:G71) -> 71 | K71: =I71*1000/C71 -> 8.4090145 | L71: =J71*1000/C71 -> 4.7763202
A72: 8300 | B72: ภูเก็ต | C72: ='[1]จังหวัด (4)'!C71 -> 125229 | D72: =[2]จังหวัด!B114 -> 9 | E72: =[2]จังหวัด!C114 -> - | F72: =[2]จังหวัด!D114 -> 12 | G72: =[2]จังหวัด!E114 -> 408 | H72: =[2]จังหวัด!F114 -> 658 | I72: =SUM(D72:H72) -> 1087 | J72: =SUM(D72:G72) -> 429 | K72: =I72*1000/C72 -> 8.6800981 | L72: =J72*1000/C72 -> 3.4257241
A73: 8400 | B73: สุราษฏร์ธานี | C73: ='[1]จังหวัด (4)'!C72 -> 79607 | D73: =[2]จังหวัด!B115 -> 13 | E73: =[2]จังหวัด!C115 -> 1 | F73: =[2]จังหวัด!D115 -> 13 | G73: =[2]จังหวัด!E115 -> 328 | H73: =[2]จังหวัด!F115 -> 581 | I73: =SUM(D73:H73) -> 936 | J73: =SUM(D73:G73) -> 355 | K73: =I73*1000/C73 -> 11.75776 | L73: =J73*1000/C73 -> 4.4594068
A74: 8500 | B74: ระนอง | C74: ='[1]จังหวัด (4)'!C73 -> 8887 | D74: =[2]จังหวัด!B116 -> - | E74: =[2]จังหวัด!C116 -> - | F74: =[2]จังหวัด!D116 -> 3 | G74: =[2]จังหวัด!E116 -> 10 | H74: =[2]จังหวัด!F116 -> 7 | I74: =SUM(D74:H74) -> 20 | J74: =SUM(D74:G74) -> 13 | K74: =I74*1000/C74 -> 2.2504782 | L74: =J74*1000/C74 -> 1.4628108
A75: 8600 | B75: ชุมพร | C75: ='[1]จังหวัด (4)'!C74 -> 24464 | D75: =[2]จังหวัด!B117 -> 5 | E75: =[2]จังหวัด!C117 -> - | F75: =[2]จังหวัด!D117 -> 8 | G75: =[2]จังหวัด!E117 -> 100 | H75: =[2]จังหวัด!F117 -> 86 | I75: =SUM(D75:H75) -> 199 | J75: =SUM(D75:G75) -> 113 | K75: =I75*1000/C75 -> 8.1344016 | L75: =J75*1000/C75 -> 4.619032
A76: 9000 | B76: สงขลา | C76: ='[1]จังหวัด (4)'!C75 -> 151707 | D76: =[2]จังหวัด!B118 -> 10 | E76: =[2]จังหวัด!C118 -> - | F76: =[2]จังหวัด!D118 -> 13 | G76: =[2]จังหวัด!E118 -> 747 | H76: =[2]จังหวัด!F118 -> 777 | I76: =SUM(D76:H76) -> 1547 | J76: =SUM(D76:G76) -> 770 | K76: =I76*1000/C76 -> 10.197288 | L76: =J76*1000/C76 -> 5.0755733
A77: 9100 | B77: สตูล | C77: ='[1]จังหวัด (4)'!C76 -> 8510 | D77: =[2]จังหวัด!B119 -> - | E77: =[2]จังหวัด!C119 -> - | F77: =[2]จังหวัด!D119 -> - | G77: =[2]จังหวัด!E119 -> 70 | H77: =[2]จังหวัด!F119 -> 32 | I77: =SUM(D77:H77) -> 102 | J77: =SUM(D77:G77) -> 70 | K77: =I77*1000/C77 -> 11.985899 | L77: =J77*1000/C77 -> 8.2256169
A78: 9200 | B78: ตรัง | C78: ='[1]จังหวัด (4)'!C77 -> 28533 | D78: =[2]จังหวัด!B120 -> 6 | E78: =[2]จังหวัด!C120 -> - | F78: =[2]จังหวัด!D120 -> 10 | G78: =[2]จังหวัด!E120 -> 169 | H78: =[2]จังหวัด!F120 -> 214 | I78: =SUM(D78:H78) -> 399 | J78: =SUM(D78:G78) -> 185 | K78: =I78*1000/C78 -> 13.983808 | L78: =J78*1000/C78 -> 6.4837206
A79: 9300 | B79: พัทลุง | C79: ='[1]จังหวัด (4)'!C78 -> 9579 | D79: =[2]จังหวัด!B121 -> 2 | E79: =[2]จังหวัด!C121 -> - | F79: =[2]จังหวัด!D121 -> - | G79: =[2]จังหวัด!E121 -> 95 | H79: =[2]จังหวัด!F121 -> 52 | I79: =SUM(D79:H79) -> 149 | J79: =SUM(D79:G79) -> 97 | K79: =I79*1000/C79 -> 15.55486 | L79: =J79*1000/C79 -> 10.126318
A80: 9400 | B80: ปัตตานี | C80: ='[1]จังหวัด (4)'!C79 -> 13626 | D80: =[2]จังหวัด!B122 -> 3 | E80: =[2]จังหวัด!C122 -> - | F80: =[2]จังหวัด!D122 -> 1 | G80: =[2]จังหวัด!E122 -> 68 | H80: =[2]จังหวัด!F122 -> 52 | I80: =SUM(D80:H80) -> 124 | J80: =SUM(D80:G80) -> 72 | K80: =I80*1000/C80 -> 9.1002495 | L80: =J80*1000/C80 -> 5.2840159
... A82: 9600 | B82: นราธิวาส | C82: ='[1]จังหวัด (4)'!C81 -> 8907 | D82: =[2]จังหวัด!B124 -> 2 | E82: =[2]จังหวัด!C124 -> - | F82: =[2]จังหวัด!D124 -> 2 | G82: =[2]จังหวัด!E124 -> 32 | H82: =[2]จังหวัด!F124 -> 12 | I82: =SUM(D82:H82) -> 48 | J82: =SUM(D82:G82) -> 36 | K82: =I82*1000/C82 -> 5.3890199 | L82: =J82*1000/C82 -> 4.0417649
B83: รวมทั่วประเทศ | C83: =SUM(C6:C82) -> 8901624 | D83: =SUM(D6:D82) -> 635 | E83: =SUM(E6:E82) -> 28 | F83: =SUM(F6:F82) -> 3036 | G83: =SUM(G6:G82) -> 31419 | H83: =SUM(H6:H82) -> 76776 | I83: =SUM(D83:H83) -> 111894 | J83: =SUM(D83:G83) -> 35118 | K83: =I83*1000/C83 -> 12.570066 | L83: =J83*1000/C83 -> 3.9451228
B85: หมายเหตุ
B86: 1. อัตราการประสบอันตรายต่อลูกจ้าง 1,000 ราย (นับทุกกรณี) = | G86: จำนวนการประสบอันตรายนับทุกกรณี x 1,000
G87: จำนวนลูกจ้าง ณ 31 ธ.ค. 56
B88: 2. อัตราการประสบอันตรายต่อลูกจ้าง 1,000 ราย (นับกรณีร้ายแรง) = | G88: จำนวนการประสบอันตรายนับกรณีร้ายแรง x 1,000
G89: จำนวนลูกจ้าง ณ 31 ธ.ค. 56
B90: 3. นับทุกกรณี หมายถึง ตาย ทุพพลภาพ สูญเสียอวัยวะ หยุดงานเกิน 3 วัน หยุดงานไม่เกิน 3 วัน
B91: 4. นับกรณีร้ายแรง หมายถึง ตาย ทุพพลภาพ สูญเสียอวัยวะ หยุดงานเกิน 3 วัน
B92: 5. ข้อมูลจำนวนการประสบอันตรายนับ ณ จุดวินิจฉัย 31 ธันวาคม 2556 ประมวลผล ณ 30 พฤษภาคม 2557
B93: 6. ข้อมูลอาจเปลี่ยนแปลงตามข้อเท็จจริงที่เกิดขึ้นในภายหลังจากการวินิจฉัยเดิม
