Workbook
Name หน่วย: #REF!

Sheet ข้อมูลสิ่งแวดล้อม 2563
A1: Sample | B1: Place_Sample | C1: sampling_location | D1: latitude | E1: longitude | F1: collection_date | G1: method | H1: analysis | I1: value | J1: unit | K1: aeer
A2: น้ำผิวดิน | B2: สถานีสูบน้ำ 1 | C2: องครักษ์ | D2: 14.12086 | E2: 101.02308 | F2: 43773 | G2: กรอสแอลฟา-บีตา | H2: แอลฟารวม | I2: 0 | J2: Bq/L | K2: =(0.461*'ข้อมูลสิ่งแวดล้อม 2563'!$I2+0.623*I3+0.0414*I4)*(8760*0.2*0.7/1000000) -> 0.00039497549
A3: น้ำผิวดิน | B3: สถานีสูบน้ำ 1 | C3: องครักษ์ | D3: 14.12086 | E3: 101.02308 | F3: 43773 | G3: กรอสแอลฟา-บีตา | H3: บีตารวม | I3: 0.5123 | J3: Bq/L | K3: =(0.461*'ข้อมูลสิ่งแวดล้อม 2563'!$I3+0.623*I4+0.0414*I5)*(8760*0.2*0.7/1000000) -> 0.00036292401
A4: น้ำผิวดิน | B4: สถานีสูบน้ำ 1 | C4: องครักษ์ | D4: 14.12086 | E4: 101.02308 | F4: 43955 | G4: กรอสแอลฟา-บีตา | H4: แอลฟารวม | I4: 0.07 | J4: Bq/L | K4: =(0.461*'ข้อมูลสิ่งแวดล้อม 2563'!$I4+0.623*I5+0.0414*I6)*(8760*0.2*0.7/1000000) -> 0.0003781727
A5: น้ำผิวดิน | B5: สถานีสูบน้ำ 1 | C5: องครักษ์ | D5: 14.12086 | E5: 101.02308 | F5: 43955 | G5: กรอสแอลฟา-บีตา | H5: บีตารวม | I5: 0.39 | J5: Bq/L | K5: =(0.461*'ข้อมูลสิ่งแวดล้อม 2563'!$I5+0.623*I6+0.0414*I7)*(8760*0.2*0.7/1000000) -> 0.00089215204
A6: น้ำผิวดิน | B6: สถานีสูบน้ำ 1 | C6: องครักษ์ | D6: 14.12086 | E6: 101.02308 | F6: 43773 | G6: แกมมาสเปกโตรเมตรี | H6: U-238 | I6: 0.8 | J6: Bq/L | K6: =(0.461*'ข้อมูลสิ่งแวดล้อม 2563'!$I6+0.623*I7+0.0414*I8)*(8760*0.2*0.7/1000000) -> 0.0013716741
A7: น้ำผิวดิน | B7: สถานีสูบน้ำ 1 | C7: องครักษ์ | D7: 14.12086 | E7: 101.02308 | F7: 43955 | G7: แกมมาสเปกโตรเมตรี | H7: U-238 | I7: 1.19 | J7: Bq/L | K7: =(0.461*'ข้อมูลสิ่งแวดล้อม 2563'!$I7+0.623*I8+0.0414*I9)*(8760*0.2*0.7/1000000) -> 0.00084398453
A8: น้ำผิวดิน | B8: สถานีสูบน้ำ 1 | C8: องครักษ์ | D8: 14.12086 | E8: 101.02308 | F8: 43773 | G8: แกมมาสเปกโตรเมตรี | H8: Th-232 | I8: 0.20013879 | J8: Bq/L | K8: =(0.461*'ข้อมูลสิ่งแวดล้อม 2563'!$I8+0.623*I9+0.0414*I10)*(8760*0.2*0.7/1000000) -> 0.001298061
A9: น้ำผิวดิน | B9: สถานีสูบน้ำ 1 | C9: องครักษ์ | D9: 14.12086 | E9: 101.02308 | F9: 43955 | G9: แกมมาสเปกโตรเมตรี | H9: Th-232 | I9: 0.36 | J9: Bq/L | K9: =(0.461*'ข้อมูลสิ่งแวดล้อม 2563'!$I9+0.623*I10+0.0414*I11)*(8760*0.2*0.7/1000000) -> 0.014924935
A10: น้ำผิวดิน | B10: สถานีสูบน้ำ 1 | C10: องครักษ์ | D10: 14.12086 | E10: 101.02308 | F10: 43773 | G10: แกมมาสเปกโตรเมตรี | H10: K-40 | I10: 17.92 | J10: Bq/L | K10: =(0.461*'ข้อมูลสิ่งแวดล้อม 2563'!$I10+0.623*I11+0.0414*I12)*(8760*0.2*0.7/1000000) -> 0.025626315
A11: น้ำผิวดิน | B11: สถานีสูบน้ำ 1 | C11: องครักษ์ | D11: 14.12086 | E11: 101.02308 | F11: 43955 | G11: แกมมาสเปกโตรเมตรี | H11: K-40 | I11: 20.28 | J11: Bq/L | K11: =(0.461*'ข้อมูลสิ่งแวดล้อม 2563'!$I11+0.623*I12+0.0414*I13)*(8760*0.2*0.7/1000000) -> 0.011465712
A12: น้ำผิวดิน | B12: สถานีสูบน้ำ 1 | C12: องครักษ์ | D12: 14.12086 | E12: 101.02308 | F12: 43773 | G12: แกมมาสเปกโตรเมตรี | H12: Cs-137 | I12: 0 | J12: Bq/L | K12: =(0.461*'ข้อมูลสิ่งแวดล้อม 2563'!$I12+0.623*I13+0.0414*I14)*(8760*0.2*0.7/1000000) -> 0
A13: น้ำผิวดิน | B13: สถานีสูบน้ำ 1 | C13: องครักษ์ | D13: 14.12086 | E13: 101.02308 | F13: 43955 | G13: แกมมาสเปกโตรเมตรี | H13: Cs-137 | I13: 0 | J13: Bq/L | K13: =(0.461*'ข้อมูลสิ่งแวดล้อม 2563'!$I13+0.623*I14+0.0414*I15)*(8760*0.2*0.7/1000000) -> 0
... A391: ดินผิวหน้า | B391: สนามบ้านพัก ฝั่งศูนย์วิจัยและพัฒนาฯ | C391: คลองห้า | D391: 14.12086 | E391: 101.02308 | F391: 43963 | G391: แกมมาสเปกโตรเมตรี | H391: U-238 | I391: 60.86 | J391: Bq/kg | K391: =(0.461*'ข้อมูลสิ่งแวดล้อม 2563'!$I391+0.623*I392+0.0414*I393)*(8760*0.2*0.7/1000000) -> 0.1071161
A392: ดินผิวหน้า | B392: สนามบ้านพัก ฝั่งศูนย์วิจัยและพัฒนาฯ | C392: คลองห้า | D392: 14.12086 | E392: 101.02308 | F392: 43963 | G392: แกมมาสเปกโตรเมตรี | H392: Th-232 | I392: 49.17 | J392: Bq/kg | K392: 0.1071161
A393: ดินผิวหน้า | B393: สนามบ้านพัก ฝั่งศูนย์วิจัยและพัฒนาฯ | C393: คลองห้า | D393: 14.12086 | E393: 101.02308 | F393: 43963 | G393: แกมมาสเปกโตรเมตรี | H393: K-40 | I393: 692.09 | J393: Bq/kg | K393: 0.1071161
A394: ดินผิวหน้า | B394: สนามบ้านพัก ฝั่งศูนย์วิจัยและพัฒนาฯ | C394: คลองห้า | D394: 14.12086 | E394: 101.02308 | F394: 43963 | G394: แกมมาสเปกโตรเมตรี | H394: Cs-137 | I394: 0 | J394: Bq/kg | K394: 0
A395: ดินผิวหน้า | B395: ด้านหน้า (นอกรั้ว) ฝั่งศูนย์วิจัยและพัฒนาฯ | C395: คลองห้า | D395: 14.12086 | E395: 101.02308 | F395: 43963 | G395: แกมมาสเปกโตรเมตรี | H395: U-238 | I395: 63.66 | J395: Bq/kg | K395: =(0.461*'ข้อมูลสิ่งแวดล้อม 2563'!$I395+0.623*I396+0.0414*I397)*(8760*0.2*0.7/1000000) -> 0.076990476
A396: ดินผิวหน้า | B396: ด้านหน้า (นอกรั้ว) ฝั่งศูนย์วิจัยและพัฒนาฯ | C396: คลองห้า | D396: 14.12086 | E396: 101.02308 | F396: 43963 | G396: แกมมาสเปกโตรเมตรี | H396: Th-232 | I396: 26.22 | J396: Bq/kg | K396: 0.076990476
A397: ดินผิวหน้า | B397: ด้านหน้า (นอกรั้ว) ฝั่งศูนย์วิจัยและพัฒนาฯ | C397: คลองห้า | D397: 14.12086 | E397: 101.02308 | F397: 43963 | G397: แกมมาสเปกโตรเมตรี | H397: K-40 | I397: 412.93 | J397: Bq/kg | K397: 0.076990476
A398: ดินผิวหน้า | B398: ด้านหน้า (นอกรั้ว) ฝั่งศูนย์วิจัยและพัฒนาฯ | C398: คลองห้า | D398: 14.12086 | E398: 101.02308 | F398: 43963 | G398: แกมมาสเปกโตรเมตรี | H398: Cs-137 | I398: 0 | J398: Bq/kg | K398: 0
A399: ดินผิวหน้า | B399: ด้านหลัง (นอกรั้ว) ฝั่งศูนย์วิจัยและพัฒนาฯ | C399: คลองห้า | D399: 14.12086 | E399: 101.02308 | F399: 43963 | G399: แกมมาสเปกโตรเมตรี | H399: U-238 | I399: 18.27 | J399: Bq/kg | K399: =(0.461*'ข้อมูลสิ่งแวดล้อม 2563'!$I399+0.623*I400+0.0414*I401)*(8760*0.2*0.7/1000000) -> 0.032819116
A400: ดินผิวหน้า | B400: ด้านหลัง (นอกรั้ว) ฝั่งศูนย์วิจัยและพัฒนาฯ | C400: คลองห้า | D400: 14.12086 | E400: 101.02308 | F400: 43963 | G400: แกมมาสเปกโตรเมตรี | H400: Th-232 | I400: 10.73 | J400: Bq/kg | K400: 0.032819116
A401: ดินผิวหน้า | B401: ด้านหลัง (นอกรั้ว) ฝั่งศูนย์วิจัยและพัฒนาฯ | C401: คลองห้า | D401: 14.12086 | E401: 101.02308 | F401: 43963 | G401: แกมมาสเปกโตรเมตรี | H401: K-40 | I401: 281.48 | J401: Bq/kg | K401: 0.032819116
A402: ดินผิวหน้า | B402: ด้านหลัง (นอกรั้ว) ฝั่งศูนย์วิจัยและพัฒนาฯ | C402: คลองห้า | D402: 14.12086 | E402: 101.02308 | F402: 43963 | G402: แกมมาสเปกโตรเมตรี | H402: Cs-137 | I402: 0 | J402: Bq/kg | K402: 0
A403: ดินผิวหน้า | B403: ด้านหน้า (นอกรั้ว) ฝั่งอาคาร E-Beam | C403: คลองห้า | D403: 14.12086 | E403: 101.02308 | F403: 43963 | G403: แกมมาสเปกโตรเมตรี | H403: U-238 | I403: 54.58 | J403: Bq/kg | K403: =(0.461*'ข้อมูลสิ่งแวดล้อม 2563'!$I403+0.623*I404+0.0414*I405)*(8760*0.2*0.7/1000000) -> 0.071742062
A404: ดินผิวหน้า | B404: ด้านหน้า (นอกรั้ว) ฝั่งอาคาร E-Beam | C404: คลองห้า | D404: 14.12086 | E404: 101.02308 | F404: 43963 | G404: แกมมาสเปกโตรเมตรี | H404: Th-232 | I404: 25.35 | J404: Bq/kg | K404: 0.071742062
A405: ดินผิวหน้า | B405: ด้านหน้า (นอกรั้ว) ฝั่งอาคาร E-Beam | C405: คลองห้า | D405: 14.12086 | E405: 101.02308 | F405: 43963 | G405: แกมมาสเปกโตรเมตรี | H405: K-40 | I405: 423.76 | J405: Bq/kg | K405: 0.071742062
A406: ดินผิวหน้า | B406: ด้านหน้า (นอกรั้ว) ฝั่งอาคาร E-Beam | C406: คลองห้า | D406: 14.12086 | E406: 101.02308 | F406: 43963 | G406: แกมมาสเปกโตรเมตรี | H406: Cs-137 | I406: 0 | J406: Bq/kg | K406: 0
A407: ดินผิวหน้า | B407: ด้านหลัง (นอกรั้ว) ฝั่งอาคาร E-Beam | C407: คลองห้า | F407: 43963 | G407: แกมมาสเปกโตรเมตรี | H407: U-238 | I407: 21.18 | J407: Bq/kg | K407: =(0.461*'ข้อมูลสิ่งแวดล้อม 2563'!$I407+0.623*I408+0.0414*I409)*(8760*0.2*0.7/1000000) -> 0.04082043
A408: ดินผิวหน้า | B408: ด้านหลัง (นอกรั้ว) ฝั่งอาคาร E-Beam | C408: คลองห้า | F408: 43963 | G408: แกมมาสเปกโตรเมตรี | H408: Th-232 | I408: 13.14 | J408: Bq/kg | K408: 0.04082043
A409: ดินผิวหน้า | B409: ด้านหลัง (นอกรั้ว) ฝั่งอาคาร E-Beam | C409: คลองห้า | F409: 43963 | G409: แกมมาสเปกโตรเมตรี | H409: K-40 | I409: 370.4 | J409: Bq/kg | K409: 0.04082043
A410: ดินผิวหน้า | B410: ด้านหลัง (นอกรั้ว) ฝั่งอาคาร E-Beam | C410: คลองห้า | F410: 43963 | G410: แกมมาสเปกโตรเมตรี | H410: Cs-137 | I410: 0 | J410: Bq/kg | K410: 0
A411: ดินผิวหน้า | B411: ด้านข้าง (นอกรั้ว) ฝั่งอาคาร E-Beam | C411: คลองห้า | F411: 43963 | G411: แกมมาสเปกโตรเมตรี | H411: U-238 | I411: 45.04 | J411: Bq/kg | K411: =(0.461*'ข้อมูลสิ่งแวดล้อม 2563'!$I411+0.623*I412+0.0414*I413)*(8760*0.2*0.7/1000000) -> 0.065891575
A412: ดินผิวหน้า | B412: ด้านข้าง (นอกรั้ว) ฝั่งอาคาร E-Beam | C412: คลองห้า | F412: 43963 | G412: แกมมาสเปกโตรเมตรี | H412: Th-232 | I412: 22.08 | J412: Bq/kg | K412: 0.065891575
A413: ดินผิวหน้า | B413: ด้านข้าง (นอกรั้ว) ฝั่งอาคาร E-Beam | C413: คลองห้า | F413: 43963 | G413: แกมมาสเปกโตรเมตรี | H413: K-40 | I413: 463.97 | J413: Bq/kg | K413: 0.065891575
A414: ดินผิวหน้า | B414: ด้านข้าง (นอกรั้ว) ฝั่งอาคาร E-Beam | C414: คลองห้า | F414: 43963 | G414: แกมมาสเปกโตรเมตรี | H414: Cs-137 | I414: 0 | J414: Bq/kg | K414: 0
A415: ดินผิวหน้า | B415: สนามเทคโนธานี | C415: คลองห้า | F415: 43963 | G415: แกมมาสเปกโตรเมตรี | H415: U-238 | I415: 48.53 | J415: Bq/kg | K415: =(0.461*'ข้อมูลสิ่งแวดล้อม 2563'!$I415+0.623*I416+0.0414*I417)*(8760*0.2*0.7/1000000) -> 0.062765099
A416: ดินผิวหน้า | B416: สนามเทคโนธานี | C416: คลองห้า | F416: 43963 | G416: แกมมาสเปกโตรเมตรี | H416: Th-232 | I416: 21.88 | J416: Bq/kg | K416: 0.062765099
A417: ดินผิวหน้า | B417: สนามเทคโนธานี | C417: คลองห้า | F417: 43963 | G417: แกมมาสเปกโตรเมตรี | H417: K-40 | I417: 366.54 | J417: Bq/kg | K417: 0.062765099
...
