Workbook
Name หน่วย: #REF!

Sheet ข้อมูลสิ่งแวดล้อม 2563
A1: Sample | B1: Place_Sample | C1: sampling_location | D1: latitude | E1: longitude | F1: collection_date | G1: method | H1: analysis | I1: value | J1: unit | K1: aeer
A2: น้ำผิวดิน | B2: สถานีสูบน้ำ 1 | C2: องครักษ์ | D2: 14.12086 | E2: 101.02308 | F2: 43773 | G2: กรอสแอลฟา-บีตา | H2: แอลฟารวม | I2: 0 | J2: Bq/L | K2: =(0.461*'ข้อมูลสิ่งแวดล้อม 2563'!$I2+0.623*I3+0.0414*I4)*(8760*0.2*0.7/1000000) -> 0.00039497549
A3: น้ำผิวดิน | B3: สถานีสูบน้ำ 1 | C3: องครักษ์ | D3: 14.12086 | E3: 101.02308 | F3: 43773 | G3: กรอสแอลฟา-บีตา | H3: บีตารวม | I3: 0.5123 | J3: Bq/L | K3: =(0.461*'ข้อมูลสิ่งแวดล้อม 2563'!$I3+0.623*I4+0.0414*I5)*(8760*0.2*0.7/1000000) -> 0.00036292401
A4: น้ำผิวดิน | B4: สถานีสูบน้ำ 1 | C4: องครักษ์ | D4: 14.12086 | E4: 101.02308 | F4: 43955 | G4: กรอสแอลฟา-บีตา | H4: แอลฟารวม | I4: 0.07 | J4: Bq/L | K4: =(0.461*'ข้อมูลสิ่งแวดล้อม 2563'!$I4+0.623*I5+0.0414*I6)*(8760*0.2*0.7/1000000) -> 0.0003781727
A5: น้ำผิวดิน | B5: สถานีสูบน้ำ 1 | C5: องครักษ์ | D5: 14.12086 | E5: 101.02308 | F5: 43955 | G5: กรอสแอลฟา-บีตา | H5: บีตารวม | I5: 0.39 | J5: Bq/L | K5: =(0.461*'ข้อมูลสิ่งแวดล้อม 2563'!$I5+0.623*I6+0.0414*I7)*(8760*0.2*0.7/1000000) -> 0.00089215204
A6: น้ำผิวดิน | B6: สถานีสูบน้ำ 1 | C6: องครักษ์ | D6: 14.12086 | E6: 101.02308 | F6: 43773 | G6: แกมมาสเปกโตรเมตรี | H6: U-238 | I6: 0.8 | J6: Bq/L | K6: =(0.461*'ข้อมูลสิ่งแวดล้อม 2563'!$I6+0.623*I7+0.0414*I8)*(8760*0.2*0.7/1000000) -> 0.0013716741
A7: น้ำผิวดิน | B7: สถานีสูบน้ำ 1 | C7: องครักษ์ | D7: 14.12086 | E7: 101.02308 | F7: 43955 | G7: แกมมาสเปกโตรเมตรี | H7: U-238 | I7: 1.19 | J7: Bq/L | K7: =(0.461*'ข้อมูลสิ่งแวดล้อม 2563'!$I7+0.623*I8+0.0414*I9)*(8760*0.2*0.7/1000000) -> 0.00084398453
A8: น้ำผิวดิน | B8: สถานีสูบน้ำ 1 | C8: องครักษ์ | D8: 14.12086 | E8: 101.02308 | F8: 43773 | G8: แกมมาสเปกโตรเมตรี | H8: Th-232 | I8: 0.20013879 | J8: Bq/L | K8: =(0.461*'ข้อมูลสิ่งแวดล้อม 2563'!$I8+0.623*I9+0.0414*I10)*(8760*0.2*0.7/1000000) -> 0.001298061
A9: น้ำผิวดิน | B9: สถานีสูบน้ำ 1 | C9: องครักษ์ | D9: 14.12086 | E9: 101.02308 | F9: 43955 | G9: แกมมาสเปกโตรเมตรี | H9: Th-232 | I9: 0.36 | J9: Bq/L | K9: =(0.461*'ข้อมูลสิ่งแวดล้อม 2563'!$I9+0.623*I10+0.0414*I11)*(8760*0.2*0.7/1000000) -> 0.014924935
A10: น้ำผิวดิน | B10: สถานีสูบน้ำ 1 | C10: องครักษ์ | D10: 14.12086 | E10: 101.02308 | F10: 43773 | G10: แกมมาสเปกโตรเมตรี | H10: K-40 | I10: 17.92 | J10: Bq/L | K10: =(0.461*'ข้อมูลสิ่งแวดล้อม 2563'!$I10+0.623*I11+0.0414*I12)*(8760*0.2*0.7/1000000) -> 0.025626315
A11: น้ำผิวดิน | B11: สถานีสูบน้ำ 1 | C11: องครักษ์ | D11: 14.12086 | E11: 101.02308 | F11: 43955 | G11: แกมมาสเปกโตรเมตรี | H11: K-40 | I11: 20.28 | J11: Bq/L | K11: =(0.461*'ข้อมูลสิ่งแวดล้อม 2563'!$I11+0.623*I12+0.0414*I13)*(8760*0.2*0.7/1000000) -> 0.011465712
A12: น้ำผิวดิน | B12: สถานีสูบน้ำ 1 | C12: องครักษ์ | D12: 14.12086 | E12: 101.02308 | F12: 43773 | G12: แกมมาสเปกโตรเมตรี | H12: Cs-137 | I12: 0 | J12: Bq/L | K12: =(0.461*'ข้อมูลสิ่งแวดล้อม 2563'!$I12+0.623*I13+0.0414*I14)*(8760*0.2*0.7/1000000) -> 0
A13: น้ำผิวดิน | B13: สถานีสูบน้ำ 1 | C13: องครักษ์ | D13: 14.12086 | E13: 101.02308 | F13: 43955 | G13: แกมมาสเปกโตรเมตรี | H13: Cs-137 | I13: 0 | J13: Bq/L | K13: =(0.461*'ข้อมูลสิ่งแวดล้อม 2563'!$I13+0.623*I14+0.0414*I15)*(8760*0.2*0.7/1000000) -> 0
... A391: ดินผิวหน้า | B391: สนามบ้านพัก ฝั่งศูนย์วิจัยและพัฒนาฯ | C391: คลองห้า | D391: 14.12086 | E391: 101.02308 | F391: 43963 | G391: แกมมาสเปกโตรเมตรี | H391: U-238 | I391: 60.86 | J391: Bq/kg | K391: =(0.461*'ข้อมูลสิ่งแวดล้อม 2563'!$I391+0.623*I392+0.0414*I393)*(8760*0.2*0.7/1000000) -> 0.1071161
A392: ดินผิวหน้า | B392: สนามบ้านพัก ฝั่งศูนย์วิจัยและพัฒนาฯ | C392: คลองห้า | D392: 14.12086 | E392: 101.02308 | F392: 43963 | G392: แกมมาสเปกโตรเมตรี | H392: Th-232 | I392: 49.17 | J392: Bq/kg | K392: 0.1071161
A393: ดินผิวหน้า | B393: สนามบ้านพัก ฝั่งศูนย์วิจัยและพัฒนาฯ | C393: คลองห้า | D393: 14.12086 | E393: 101.02308 | F393: 43963 | G393: แกมมาสเปกโตรเมตรี | H393: K-40 | I393: 692.09 | J393: Bq/kg | K393: 0.1071161
A394: ดินผิวหน้า | B394: สนามบ้านพัก ฝั่งศูนย์วิจัยและพัฒนาฯ | C394: คลองห้า | D394: 14.12086 | E394: 101.02308 | F394: 43963 | G394: แกมมาสเปกโตรเมตรี | H394: Cs-137 | I394: 0 | J394: Bq/kg | K394: 0
A395: ดินผิวหน้า | B395: ด้านหน้า (นอกรั้ว) ฝั่งศูนย์วิจัยและพัฒนาฯ | C395: คลองห้า | D395: 14.12086 | E395: 101.02308 | F395: 43963 | G395: แกมมาสเปกโตรเมตรี | H395: U-238 | I395: 63.66 | J395: Bq/kg | K395: =(0.461*'ข้อมูลสิ่งแวดล้อม 2563'!$I395+0.623*I396+0.0414*I397)*(8760*0.2*0.7/1000000) -> 0.076990476
A396: ดินผิวหน้า | B396: ด้านหน้า (นอกรั้ว) ฝั่งศูนย์วิจัยและพัฒนาฯ | C396: คลองห้า | D396: 14.12086 | E396: 101.02308 | F396: 43963 | G396: แกมมาสเปกโตรเมตรี | H396: Th-232 | I396: 26.22 | J396: Bq/kg | K396: 0.076990476
A397: ดินผิวหน้า | B397: ด้านหน้า (นอกรั้ว) ฝั่งศูนย์วิจัยและพัฒนาฯ | C397: คลองห้า | D397: 14.12086 | E397: 101.02308 | F397: 43963 | G397: แกมมาสเปกโตรเมตรี | H397: K-40 | I397: 412.93 | J397: Bq/kg | K397: 0.076990476
A398: ดินผิวหน้า | B398: ด้านหน้า (นอกรั้ว) ฝั่งศูนย์วิจัยและพัฒนาฯ | C398: คลองห้า | D398: 14.12086 | E398: 101.02308 | F398: 43963 | G398: แกมมาสเปกโตรเมตรี | H398: Cs-137 | I398: 0 | J398: Bq/kg | K398: 0
A399: ดินผิวหน้า | B399: ด้านหลัง (นอกรั้ว) ฝั่งศูนย์วิจัยและพัฒนาฯ | C399: คลองห้า | D399: 14.12086 | E399: 101.02308 | F399: 43963 | G399: แกมมาสเปกโตรเมตรี | H399: U-238 | I399: 18.27 | J399: Bq/kg | K399: =(0.461*'ข้อมูลสิ่งแวดล้อม 2563'!$I399+0.623*I400+0.0414*I401)*(8760*0.2*0.7/1000000) -> 0.032819116
A400: ดินผิวหน้า | B400: ด้านหลัง (นอกรั้ว) ฝั่งศูนย์วิจัยและพัฒนาฯ | C400: คลองห้า | D400: 14.12086 | E400: 101.02308 | F400: 43963 | G400: แกมมาสเปกโตรเมตรี | H400: Th-232 | I400: 10.73 | J400: Bq/kg | K400: 0.032819116
A401: ดินผิวหน้า | B401: ด้านหลัง (นอกรั้ว) ฝั่งศูนย์วิจัยและพัฒนาฯ | C401: คลองห้า | D401: 14.12086 | E401: 101.02308 | F401: 43963 | G401: แกมมาสเปกโตรเมตรี | H401: K-40 | I401: 281.48 | J401: Bq/kg | K401: 0.032819116
A402: ดินผิวหน้า | B402: ด้านหลัง (นอกรั้ว) ฝั่งศูนย์วิจัยและพัฒนาฯ | C402: คลองห้า | D402: 14.12086 | E402: 101.02308 | F402: 43963 | G402: แกมมาสเปกโตรเมตรี | H402: Cs-137 | I402: 0 | J402: Bq/kg | K402: 0
A403: ดินผิวหน้า | B403: ด้านหน้า (นอกรั้ว) ฝั่งอาคาร E-Beam | C403: คลองห้า | D403: 14.12086 | E403: 101.02308 | F403: 43963 | G403: แกมมาสเปกโตรเมตรี | H403: U-238 | I403: 54.58 | J403: Bq/kg | K403: =(0.461*'ข้อมูลสิ่งแวดล้อม 2563'!$I403+0.623*I404+0.0414*I405)*(8760*0.2*0.7/1000000) -> 0.071742062
A404: ดินผิวหน้า | B404: ด้านหน้า (นอกรั้ว) ฝั่งอาคาร E-Beam | C404: คลองห้า | D404: 14.12086 | E404: 101.02308 | F404: 43963 | G404: แกมมาสเปกโตรเมตรี | H404: Th-232 | I404: 25.35 | J404: Bq/kg | K404: 0.071742062
A405: ดินผิวหน้า | B405: ด้านหน้า (นอกรั้ว) ฝั่งอาคาร E-Beam | C405: คลองห้า | D405: 14.12086 | E405: 101.02308 | F405: 43963 | G405: แกมมาสเปกโตรเมตรี | H405: K-40 | I405: 423.76 | J405: Bq/kg | K405: 0.071742062
A406: ดินผิวหน้า | B406: ด้านหน้า (นอกรั้ว) ฝั่งอาคาร E-Beam | C406: คลองห้า | D406: 14.12086 | E406: 101.02308 | F406: 43963 | G406: แกมมาสเปกโตรเมตรี | H406: Cs-137 | I406: 0 | J406: Bq/kg | K406: 0
A407: ดินผิวหน้า | B407: ด้านหลัง (นอกรั้ว) ฝั่งอาคาร E-Beam | C407: คลองห้า | F407: 43963 | G407: แกมมาสเปกโตรเมตรี | H407: U-238 | I407: 21.18 | J407: Bq/kg | K407: =(0.461*'ข้อมูลสิ่งแวดล้อม 2563'!$I407+0.623*I408+0.0414*I409)*(8760*0.2*0.7/1000000) -> 0.04082043
A408: ดินผิวหน้า | B408: ด้านหลัง (นอกรั้ว) ฝั่งอาคาร E-Beam | C408: คลองห้า | F408: 43963 | G408: แกมมาสเปกโตรเมตรี | H408: Th-232 | I408: 13.14 | J408: Bq/kg | K408: 0.04082043
A409: ดินผิวหน้า | B409: ด้านหลัง (นอกรั้ว) ฝั่งอาคาร E-Beam | C409: คลองห้า | F409: 43963 | G409: แกมมาสเปกโตรเมตรี | H409: K-40 | I409: 370.4 | J409: Bq/kg | K409: 0.04082043
A410: ดินผิวหน้า | B410: ด้านหลัง (นอกรั้ว) ฝั่งอาคาร E-Beam | C410: คลองห้า | F410: 43963 | G410: แกมมาสเปกโตรเมตรี | H410: Cs-137 | I410: 0 | J410: Bq/kg | K410: 0
A411: ดินผิวหน้า | B411: ด้านข้าง (นอกรั้ว) ฝั่งอาคาร E-Beam | C411: คลองห้า | F411: 43963 | G411: แกมมาสเปกโตรเมตรี | H411: U-238 | I411: 45.04 | J411: Bq/kg | K411: =(0.461*'ข้อมูลสิ่งแวดล้อม 2563'!$I411+0.623*I412+0.0414*I413)*(8760*0.2*0.7/1000000) -> 0.065891575
A412: ดินผิวหน้า | B412: ด้านข้าง (นอกรั้ว) ฝั่งอาคาร E-Beam | C412: คลองห้า | F412: 43963 | G412: แกมมาสเปกโตรเมตรี | H412: Th-232 | I412: 22.08 | J412: Bq/kg | K412: 0.065891575
A413: ดินผิวหน้า | B413: ด้านข้าง (นอกรั้ว) ฝั่งอาคาร E-Beam | C413: คลองห้า | F413: 43963 | G413: แกมมาสเปกโตรเมตรี | H413: K-40 | I413: 463.97 | J413: Bq/kg | K413: 0.065891575
A414: ดินผิวหน้า | B414: ด้านข้าง (นอกรั้ว) ฝั่งอาคาร E-Beam | C414: คลองห้า | F414: 43963 | G414: แกมมาสเปกโตรเมตรี | H414: Cs-137 | I414: 0 | J414: Bq/kg | K414: 0
A415: ดินผิวหน้า | B415: สนามเทคโนธานี | C415: คลองห้า | F415: 43963 | G415: แกมมาสเปกโตรเมตรี | H415: U-238 | I415: 48.53 | J415: Bq/kg | K415: =(0.461*'ข้อมูลสิ่งแวดล้อม 2563'!$I415+0.623*I416+0.0414*I417)*(8760*0.2*0.7/1000000) -> 0.062765099
A416: ดินผิวหน้า | B416: สนามเทคโนธานี | C416: คลองห้า | F416: 43963 | G416: แกมมาสเปกโตรเมตรี | H416: Th-232 | I416: 21.88 | J416: Bq/kg | K416: 0.062765099
A417: ดินผิวหน้า | B417: สนามเทคโนธานี | C417: คลองห้า | F417: 43963 | G417: แกมมาสเปกโตรเมตรี | H417: K-40 | I417: 366.54 | J417: Bq/kg | K417: 0.062765099
A418: ดินผิวหน้า | B418: สนามเทคโนธานี | C418: คลองห้า | F418: 43963 | G418: แกมมาสเปกโตรเมตรี | H418: Cs-137 | I418: 0 | J418: Bq/kg | K418: 0
A419: ดินผิวหน้า | B419: สถานีวิทยุกระจายเสียงแห่งประเทศไทย | C419: คลองห้า | D419: 14.072085 | E419: 100.71117 | F419: 43963 | G419: แกมมาสเปกโตรเมตรี | H419: U-238 | I419: 59.35 | J419: Bq/kg | K419: =(0.461*'ข้อมูลสิ่งแวดล้อม 2563'!$I419+0.623*I420+0.0414*I421)*(8760*0.2*0.7/1000000) -> 0.074820596
A420: ดินผิวหน้า | B420: สถานีวิทยุกระจายเสียงแห่งประเทศไทย | C420: คลองห้า | D420: 14.072085 | E420: 100.71117 | F420: 43963 | G420: แกมมาสเปกโตรเมตรี | H420: Th-232 | I420: 28.83 | J420: Bq/kg | K420: 0.074820596
A421: ดินผิวหน้า | B421: สถานีวิทยุกระจายเสียงแห่งประเทศไทย | C421: คลองห้า | D421: 14.072085 | E421: 100.71117 | F421: 43963 | G421: แกมมาสเปกโตรเมตรี | H421: K-40 | I421: 378.91 | J421: Bq/kg | K421: 0.074820596
A422: ดินผิวหน้า | B422: สถานีวิทยุกระจายเสียงแห่งประเทศไทย | C422: คลองห้า | D422: 14.072085 | E422: 100.71117 | F422: 43963 | G422: แกมมาสเปกโตรเมตรี | H422: Cs-137 | I422: 0 | J422: Bq/kg | K422: 0
A423: ดินผิวหน้า | B423: สนามหน้าเสาธง | C423: องครักษ์ | D423: 14.120529 | E423: 101.02555 | F423: 43775 | G423: แกมมาสเปกโตรเมตรี | H423: U-238 | I423: 44.69 | J423: Bq/kg | K423: =(0.461*'ข้อมูลสิ่งแวดล้อม 2563'!$I423+0.623*I424+0.0414*I425)*(8760*0.2*0.7/1000000) -> 0.056438864
A424: ดินผิวหน้า | B424: สนามหน้าเสาธง | C424: องครักษ์ | D424: 14.120529 | E424: 101.02555 | F424: 43964 | G424: แกมมาสเปกโตรเมตรี | H424: Th-232 | I424: 20.45 | J424: Bq/kg | K424: 0.056438864
A425: ดินผิวหน้า | B425: สนามหน้าเสาธง | C425: องครักษ์ | D425: 14.120529 | E425: 101.02555 | F425: 43775 | G425: แกมมาสเปกโตรเมตรี | H425: K-40 | I425: 306.22 | J425: Bq/kg | K425: 0.056438864
A426: ดินผิวหน้า | B426: สนามหน้าเสาธง | C426: องครักษ์ | D426: 14.120529 | E426: 101.02555 | F426: 43964 | G426: แกมมาสเปกโตรเมตรี | H426: Cs-137 | I426: 0 | J426: Bq/kg | K426: 0
A427: ดินผิวหน้า | B427: สนามหน้าหอพักหญิง | C427: องครักษ์ | D427: 14.143932 | E427: 100.9796 | F427: 43775 | G427: แกมมาสเปกโตรเมตรี | H427: U-238 | I427: 56.21 | J427: Bq/kg | K427: =(0.461*'ข้อมูลสิ่งแวดล้อม 2563'!$I427+0.623*I428+0.0414*I429)*(8760*0.2*0.7/1000000) -> 0.069805773
A428: ดินผิวหน้า | B428: สนามหน้าหอพักหญิง | C428: องครักษ์ | D428: 14.143932 | E428: 100.9796 | F428: 43964 | G428: แกมมาสเปกโตรเมตรี | H428: Th-232 | I428: 24.59 | J428: Bq/kg | K428: 0.069805773
A429: ดินผิวหน้า | B429: สนามหน้าหอพักหญิง | C429: องครักษ์ | D429: 14.143932 | E429: 100.9796 | F429: 43775 | G429: แกมมาสเปกโตรเมตรี | H429: K-40 | I429: 378.91 | J429: Bq/kg | K429: 0.069805773
A430: ดินผิวหน้า | B430: สนามหน้าหอพักหญิง | C430: องครักษ์ | D430: 14.143932 | E430: 100.9796 | F430: 43964 | G430: แกมมาสเปกโตรเมตรี | H430: Cs-137 | I430: 0 | J430: Bq/kg | K430: 0
A431: ผักบุ้ง | B431: สทน. | C431: องครักษ์ | F431: 44025 | G431: แกมมาสเปกโตรเมตรี | H431: U-238 | I431: 1.7940775 | J431: Bq/kg | K431: =(0.461*'ข้อมูลสิ่งแวดล้อม 2563'!$I431+0.623*I432+0.0414*I433)*(8760*0.2*0.7/1000000) -> 0.0020397415
A432: ผักบุ้ง | B432: สทน. | C432: องครักษ์ | F432: 44025 | G432: แกมมาสเปกโตรเมตรี | H432: U-238 | I432: 1.2893888 | J432: Bq/kg | K432: =(0.461*'ข้อมูลสิ่งแวดล้อม 2563'!$I432+0.623*I433+0.0414*I434)*(8760*0.2*0.7/1000000) -> 0.0013522042
A433: ผักบุ้ง | B433: สทน. | C433: องครักษ์ | F433: 44025 | G433: แกมมาสเปกโตรเมตรี | H433: Th-232 | I433: 0.79312555 | J433: Bq/kg | K433: =(0.461*'ข้อมูลสิ่งแวดล้อม 2563'!$I433+0.623*I434+0.0414*I435)*(8760*0.2*0.7/1000000) -> 0.0084619913
A434: ผักบุ้ง | B434: สทน. | C434: องครักษ์ | F434: 44025 | G434: แกมมาสเปกโตรเมตรี | H434: Th-232 | I434: 0.33948449 | J434: Bq/kg | K434: =(0.461*'ข้อมูลสิ่งแวดล้อม 2563'!$I434+0.623*I435+0.0414*I436)*(8760*0.2*0.7/1000000) -> 0.12426038
A435: ผักบุ้ง | B435: สทน. | C435: องครักษ์ | F435: 44025 | G435: แกมมาสเปกโตรเมตรี | H435: K-40 | I435: 152.72301 | J435: Bq/kg | K435: =(0.461*'ข้อมูลสิ่งแวดล้อม 2563'!$I435+0.623*I436+0.0414*I437)*(8760*0.2*0.7/1000000) -> 0.19741451
A436: ผักบุ้ง | B436: สทน. | C436: องครักษ์ | F436: 44025 | G436: แกมมาสเปกโตรเมตรี | H436: K-40 | I436: 145.36987 | J436: Bq/kg | K436: =(0.461*'ข้อมูลสิ่งแวดล้อม 2563'!$I436+0.623*I437+0.0414*I438)*(8760*0.2*0.7/1000000) -> 0.08218782
A437: ผักบุ้ง | B437: สทน. | C437: องครักษ์ | F437: 44025 | G437: แกมมาสเปกโตรเมตรี | H437: Cs-137 | I437: 0 | J437: Bq/kg | K437: =(0.461*'ข้อมูลสิ่งแวดล้อม 2563'!$I437+0.623*I438+0.0414*I439)*(8760*0.2*0.7/1000000) -> 5.9031729e-05
A438: ผักบุ้ง | B438: สทน. | C438: องครักษ์ | F438: 44025 | G438: แกมมาสเปกโตรเมตรี | H438: Cs-137 | I438: 0 | J438: Bq/kg | K438: =(0.461*'ข้อมูลสิ่งแวดล้อม 2563'!$I438+0.623*I439+0.0414*I440)*(8760*0.2*0.7/1000000) -> 0.00094335005
A439: ปลา | B439: สทน. | C439: องครักษ์ | F439: 44025 | G439: แกมมาสเปกโตรเมตรี | H439: U-238 | I439: 1.1626608 | J439: Bq/kg | K439: =(0.461*'ข้อมูลสิ่งแวดล้อม 2563'!$I439+0.623*I440+0.0414*I441)*(8760*0.2*0.7/1000000) -> 0.0014990899
A440: ปลา | B440: สทน. | C440: องครักษ์ | F440: 44025 | G440: แกมมาสเปกโตรเมตรี | H440: U-238 | I440: 1.0836938 | J440: Bq/kg | K440: =(0.461*'ข้อมูลสิ่งแวดล้อม 2563'!$I440+0.623*I441+0.0414*I442)*(8760*0.2*0.7/1000000) -> 0.00084836532
A441: ปลา | B441: สทน. | C441: องครักษ์ | F441: 44025 | G441: แกมมาสเปกโตรเมตรี | H441: Th-232 | I441: 0.2710638 | J441: Bq/kg | K441: =(0.461*'ข้อมูลสิ่งแวดล้อม 2563'!$I441+0.623*I442+0.0414*I443)*(8760*0.2*0.7/1000000) -> 0.0056872658
A442: ปลา | B442: สทน. | C442: องครักษ์ | F442: 44025 | G442: แกมมาสเปกโตรเมตรี | H442: Th-232 | I442: 0.56272798 | J442: Bq/kg | K442: =(0.461*'ข้อมูลสิ่งแวดล้อม 2563'!$I442+0.623*I443+0.0414*I444)*(8760*0.2*0.7/1000000) -> 0.082266853
... A454: ข้าวสาร | B454: สทน. | C454: องครักษ์ | F454: 44025 | G454: แกมมาสเปกโตรเมตรี | H454: Cs-137 | I454: 0 | J454: Bq/kg | K454: =(0.461*'ข้อมูลสิ่งแวดล้อม 2563'!$I454+0.623*I455+0.0414*I456)*(8760*0.2*0.7/1000000) -> 0.029479026
A455: ตะกอนดิน | B455: คลองบางบัว | C455: จตุจักร | D455: 13.856811 | E455: 100.57317 | F455: 43771 | G455: แกมมาสเปกโตรเมตรี | H455: U-238 | I455: 37.36 | J455: Bq/kg | K455: =(0.461*'ข้อมูลสิ่งแวดล้อม 2563'!$I455+0.623*I456+0.0414*I457)*(8760*0.2*0.7/1000000) -> 0.052534397
A456: ตะกอนดิน | B456: คลองบางบัว | C456: จตุจักร | D456: 13.856811 | E456: 100.57317 | F456: 43771 | G456: แกมมาสเปกโตรเมตรี | H456: Th-232 | I456: 18.4 | J456: Bq/kg | K456: 0.052534397
A457: ตะกอนดิน | B457: คลองบางบัว | C457: จตุจักร | D457: 13.856811 | E457: 100.57317 | F457: 43771 | G457: แกมมาสเปกโตรเมตรี | H457: K-40 | I457: 341.79 | J457: Bq/kg | K457: 0.052534397
A458: ตะกอนดิน | B458: คลองบางบัว | C458: จตุจักร | D458: 13.856811 | E458: 100.57317 | F458: 43771 | G458: แกมมาสเปกโตรเมตรี | H458: Cs-137 | I458: 0 | J458: Bq/kg | K458: 0
A459: ตะกอนดิน | B459: คลองบางบัว | C459: จตุจักร | D459: 13.856811 | E459: 100.57317 | F459: 43771 | G459: แกมมาสเปกโตรเมตรี | H459: I-131 | I459: 0 | J459: Bq/kg | K459: 0
A460: ตะกอนดิน | B460: วัดเทวสุนทร | C460: จตุจักร | D460: 13.854787 | E460: 100.56303 | F460: 43771 | G460: แกมมาสเปกโตรเมตรี | H460: U-238 | I460: 30.96 | J460: Bq/kg | K460: =(0.461*'ข้อมูลสิ่งแวดล้อม 2563'!$I460+0.623*I461+0.0414*I462)*(8760*0.2*0.7/1000000) -> 0.051776781
A461: ตะกอนดิน | B461: วัดเทวสุนทร | C461: จตุจักร | D461: 13.854787 | E461: 100.56303 | F461: 43771 | G461: แกมมาสเปกโตรเมตรี | H461: Th-232 | I461: 20.14 | J461: Bq/kg | K461: 0.051776781
A462: ตะกอนดิน | B462: วัดเทวสุนทร | C462: จตุจักร | D462: 13.854787 | E462: 100.56303 | F462: 43771 | G462: แกมมาสเปกโตรเมตรี | H462: K-40 | I462: 371.95 | J462: Bq/kg | K462: 0.051776781
A463: ตะกอนดิน | B463: วัดเทวสุนทร | C463: จตุจักร | D463: 13.854787 | E463: 100.56303 | F463: 43771 | G463: แกมมาสเปกโตรเมตรี | H463: Cs-137 | I463: 0 | J463: Bq/kg | K463: 0
A464: ตะกอนดิน | B464: วัดเทวสุนทร | C464: จตุจักร | D464: 13.854787 | E464: 100.56303 | F464: 43771 | G464: แกมมาสเปกโตรเมตรี | H464: I-131 | I464: 0 | J464: Bq/kg | K464: 0
A465: ตะกอนดิน | B465: โรงเรียนสาธิต ม.เกษตร | C465: จตุจักร | D465: 13.852816 | E465: 100.56737 | F465: 43771 | G465: แกมมาสเปกโตรเมตรี | H465: U-238 | I465: 29.21 | J465: Bq/kg | K465: =(0.461*'ข้อมูลสิ่งแวดล้อม 2563'!$I465+0.623*I466+0.0414*I467)*(8760*0.2*0.7/1000000) -> 0.056203231
A466: ตะกอนดิน | B466: โรงเรียนสาธิต ม.เกษตร | C466: จตุจักร | D466: 13.852816 | E466: 100.56737 | F466: 43771 | G466: แกมมาสเปกโตรเมตรี | H466: Th-232 | I466: 10.99 | J466: Bq/kg | K466: 0.056203231
A467: ตะกอนดิน | B467: โรงเรียนสาธิต ม.เกษตร | C467: จตุจักร | D467: 13.852816 | E467: 100.56737 | F467: 43771 | G467: แกมมาสเปกโตรเมตรี | H467: K-40 | I467: 616.31 | J467: Bq/kg | K467: 0.056203231
A468: ตะกอนดิน | B468: โรงเรียนสาธิต ม.เกษตร | C468: จตุจักร | D468: 13.852816 | E468: 100.56737 | F468: 43771 | G468: แกมมาสเปกโตรเมตรี | H468: Cs-137 | I468: 0 | J468: Bq/kg | K468: 0
A469: ตะกอนดิน | B469: โรงเรียนสาธิต ม.เกษตร | C469: จตุจักร | D469: 13.852816 | E469: 100.56737 | F469: 43771 | G469: แกมมาสเปกโตรเมตรี | H469: I-131 | I469: 0 | J469: Bq/kg | K469: 0
A470: ตะกอนดิน | B470: คลองด้านหน้า ฝั่งศูนย์วิจัยและพัฒนาฯ | C470: คลองห้า | D470: 14.04717 | E470: 100.7178 | F470: 43772 | G470: แกมมาสเปกโตรเมตรี | H470: U-238 | I470: 48.41 | J470: Bq/kg | K470: =(0.461*'ข้อมูลสิ่งแวดล้อม 2563'!$I470+0.623*I471+0.0414*I472)*(8760*0.2*0.7/1000000) -> 0.078001422
A471: ตะกอนดิน | B471: คลองด้านหน้า ฝั่งศูนย์วิจัยและพัฒนาฯ | C471: คลองห้า | D471: 14.04717 | E471: 100.7178 | F471: 43772 | G471: แกมมาสเปกโตรเมตรี | H471: Th-232 | I471: 31.89 | J471: Bq/kg | K471: 0.078001422
A472: ตะกอนดิน | B472: คลองด้านหน้า ฝั่งศูนย์วิจัยและพัฒนาฯ | C472: คลองห้า | D472: 14.04717 | E472: 100.7178 | F472: 43772 | G472: แกมมาสเปกโตรเมตรี | H472: K-40 | I472: 517.33 | J472: Bq/kg | K472: 0.078001422
A473: ตะกอนดิน | B473: คลองด้านหน้า ฝั่งศูนย์วิจัยและพัฒนาฯ | C473: คลองห้า | D473: 14.04717 | E473: 100.7178 | F473: 43772 | G473: แกมมาสเปกโตรเมตรี | H473: Cs-137 | I473: 0 | J473: Bq/kg | K473: 0
A474: ตะกอนดิน | B474: คลองด้านหน้า ฝั่งศูนย์วิจัยและพัฒนาฯ | C474: คลองห้า | D474: 14.04717 | E474: 100.7178 | F474: 43772 | G474: แกมมาสเปกโตรเมตรี | H474: I-131 | I474: 0 | J474: Bq/kg | K474: 0
A475: ตะกอนดิน | B475: คลองด้านหลัง ฝั่งศูนย์วิจัยและพัฒนาฯ | C475: คลองห้า | D475: 14.04717 | E475: 100.7178 | F475: 43772 | G475: แกมมาสเปกโตรเมตรี | H475: U-238 | I475: 155.13 | J475: Bq/kg | K475: =(0.461*'ข้อมูลสิ่งแวดล้อม 2563'!$I475+0.623*I476+0.0414*I477)*(8760*0.2*0.7/1000000) -> 0.57418838
A476: ตะกอนดิน | B476: คลองด้านหลัง ฝั่งศูนย์วิจัยและพัฒนาฯ | C476: คลองห้า | D476: 14.04717 | E476: 100.7178 | F476: 43772 | G476: แกมมาสเปกโตรเมตรี | H476: Th-232 | I476: 607.89 | J476: Bq/kg | K476: 0.57418838
A477: ตะกอนดิน | B477: คลองด้านหลัง ฝั่งศูนย์วิจัยและพัฒนาฯ | C477: คลองห้า | D477: 14.04717 | E477: 100.7178 | F477: 43772 | G477: แกมมาสเปกโตรเมตรี | H477: K-40 | I477: 433.81 | J477: Bq/kg | K477: 0.57418838
A478: ตะกอนดิน | B478: คลองด้านหลัง ฝั่งศูนย์วิจัยและพัฒนาฯ | C478: คลองห้า | D478: 14.04717 | E478: 100.7178 | F478: 43772 | G478: แกมมาสเปกโตรเมตรี | H478: Cs-137 | I478: 0 | J478: Bq/kg | K478: 0
A479: ตะกอนดิน | B479: คลองด้านหลัง ฝั่งศูนย์วิจัยและพัฒนาฯ | C479: คลองห้า | D479: 14.04717 | E479: 100.7178 | F479: 43772 | G479: แกมมาสเปกโตรเมตรี | H479: I-131 | I479: 0 | J479: Bq/kg | K479: 0
A480: ตะกอนดิน | B480: คลองด้านหน้า ฝั่งอาคาร E-Beam | C480: คลองห้า | D480: 14.04717 | E480: 100.7178 | F480: 43772 | G480: แกมมาสเปกโตรเมตรี | H480: U-238 | I480: 41.66 | J480: Bq/kg | K480: =(0.461*'ข้อมูลสิ่งแวดล้อม 2563'!$I480+0.623*I481+0.0414*I482)*(8760*0.2*0.7/1000000) -> 0.065231743
A481: ตะกอนดิน | B481: คลองด้านหน้า ฝั่งอาคาร E-Beam | C481: คลองห้า | D481: 14.04717 | E481: 100.7178 | F481: 43772 | G481: แกมมาสเปกโตรเมตรี | H481: Th-232 | I481: 24.18 | J481: Bq/kg | K481: 0.065231743
A482: ตะกอนดิน | B482: คลองด้านหน้า ฝั่งอาคาร E-Beam | C482: คลองห้า | D482: 14.04717 | E482: 100.7178 | F482: 43772 | G482: แกมมาสเปกโตรเมตรี | H482: K-40 | I482: 457.01 | J482: Bq/kg | K482: 0.065231743
A483: ตะกอนดิน | B483: คลองด้านหน้า ฝั่งอาคาร E-Beam | C483: คลองห้า | D483: 14.04717 | E483: 100.7178 | F483: 43772 | G483: แกมมาสเปกโตรเมตรี | H483: Cs-137 | I483: 0 | J483: Bq/kg | K483: 0
A484: ตะกอนดิน | B484: คลองด้านหน้า ฝั่งอาคาร E-Beam | C484: คลองห้า | D484: 14.04717 | E484: 100.7178 | F484: 43772 | G484: แกมมาสเปกโตรเมตรี | H484: I-131 | I484: 0 | J484: Bq/kg | K484: 0
A485: ตะกอนดิน | B485: วัดแสวงสามัคคีธรรม | C485: คลองห้า | D485: 14.043049 | E485: 100.70984 | F485: 43772 | G485: แกมมาสเปกโตรเมตรี | H485: U-238 | I485: 48.88 | J485: Bq/kg | K485: =(0.461*'ข้อมูลสิ่งแวดล้อม 2563'!$I485+0.623*I486+0.0414*I487)*(8760*0.2*0.7/1000000) -> 0.070748958
A486: ตะกอนดิน | B486: วัดแสวงสามัคคีธรรม | C486: คลองห้า | D486: 14.043049 | E486: 100.70984 | F486: 43772 | G486: แกมมาสเปกโตรเมตรี | H486: Th-232 | I486: 27.24 | J486: Bq/kg | K486: 0.070748958
A487: ตะกอนดิน | B487: วัดแสวงสามัคคีธรรม | C487: คลองห้า | D487: 14.043049 | E487: 100.70984 | F487: 43772 | G487: แกมมาสเปกโตรเมตรี | H487: K-40 | I487: 439.23 | J487: Bq/kg | K487: 0.070748958
A488: ตะกอนดิน | B488: วัดแสวงสามัคคีธรรม | C488: คลองห้า | D488: 14.043049 | E488: 100.70984 | F488: 43772 | G488: แกมมาสเปกโตรเมตรี | H488: Cs-137 | I488: 0 | J488: Bq/kg | K488: 0
...
