Workbook

Sheet กตป.1
A1: แบบ กตป.1
A2: กองตรวจการประมง
A3: แบบรายงานผลการปฏิบัติงาน ประจำปีงบประมาณ 2569
A4: ศูนย์ป้องกันและปราบปรามประมงน้ำจืดนครราชสีมา
A5: กิจกรรมการดำเนินงาน | B5: หน่วยนับ | C5: รายการ | D5: รวม | E5: แผน/ผลการปฏิบัติงาน
E6: ต.ค. | F6: พ.ย. | G6: ธ.ค. | H6: ม.ค. | I6: ก.พ. | J6: มี.ค. | K6: เม.ย. | L6: พ.ค. | M6: มิ.ย. | N6: ก.ค. | O6: ส.ค. | P6: ก.ย.
A7: แผนงาน : ยุทธศาสตร์ป้องกันและแก้ไขปัญหาที่มีผลกระทบต่อความมั่นคง
A8: โครงการ : ป้องกันและแก้ไขปัญหาการทำประมงผิดกฎหมาย
A9: กิจกรรม : ป้องกันและแก้ไขปัญหาการทำประมงผิดกฎหมาย
A10: กิจกรรมที่ดำเนินงาน : ควบคุมเฝ้าระวังการปฏิบัติการพื้นที่เสี่ยงและการปฏิบัติการเร่งด่วน | B10: ครั้ง | C10: แผน | D10: =SUM(E10:P10) -> 0 | E10: =ศปจ.นครราชสีมา!E10+นปจ.เขื่อนลำนางรอง!E10+นปจ.เขื่อนปากมูล!E10+นปจ.เขื่อนสิรินธร!E10 -> 0 | F10: =ศปจ.นครราชสีมา!F10+นปจ.เขื่อนลำนางรอง!F10+นปจ.เขื่อนปากมูล!F10+นปจ.เขื่อนสิรินธร!F10 -> 0 | G10: =ศปจ.นครราชสีมา!G10+นปจ.เขื่อนลำนางรอง!G10+นปจ.เขื่อนปากมูล!G10+นปจ.เขื่อนสิรินธร!G10 -> 0 | H10: =ศปจ.นครราชสีมา!H10+นปจ.เขื่อนลำนางรอง!H10+นปจ.เขื่อนปากมูล!H10+นปจ.เขื่อนสิรินธร!H10 -> 0 | I10: =ศปจ.นครราชสีมา!I10+นปจ.เขื่อนลำนางรอง!I10+นปจ.เขื่อนปากมูล!I10+นปจ.เขื่อนสิรินธร!I10 -> 0 | J10: =ศปจ.นครราชสีมา!J10+นปจ.เขื่อนลำนางรอง!J10+นปจ.เขื่อนปากมูล!J10+นปจ.เขื่อนสิรินธร!J10 -> 0 | K10: =ศปจ.นครราชสีมา!K10+นปจ.เขื่อนลำนางรอง!K10+นปจ.เขื่อนปากมูล!K10+นปจ.เขื่อนสิรินธร!K10 -> 0 | L10: =ศปจ.นครราชสีมา!L10+นปจ.เขื่อนลำนางรอง!L10+นปจ.เขื่อนปากมูล!L10+นปจ.เขื่อนสิรินธร!L10 -> 0 | ... P10: =ศปจ.นครราชสีมา!P10+นปจ.เขื่อนลำนางรอง!P10+นปจ.เขื่อนปากมูล!P10+นปจ.เขื่อนสิรินธร!P10 -> 0
C11: ผล | D11: =SUM(E11:P11) -> 2 | E11: =ศปจ.นครราชสีมา!E11+นปจ.เขื่อนลำนางรอง!E11+นปจ.เขื่อนปากมูล!E11+นปจ.เขื่อนสิรินธร!E11 -> 0 | F11: =ศปจ.นครราชสีมา!F11+นปจ.เขื่อนลำนางรอง!F11+นปจ.เขื่อนปากมูล!F11+นปจ.เขื่อนสิรินธร!F11 -> 0 | G11: =ศปจ.นครราชสีมา!G11+นปจ.เขื่อนลำนางรอง!G11+นปจ.เขื่อนปากมูล!G11+นปจ.เขื่อนสิรินธร!G11 -> 0 | H11: =ศปจ.นครราชสีมา!H11+นปจ.เขื่อนลำนางรอง!H11+นปจ.เขื่อนปากมูล!H11+นปจ.เขื่อนสิรินธร!H11 -> 0 | I11: =ศปจ.นครราชสีมา!I11+นปจ.เขื่อนลำนางรอง!I11+นปจ.เขื่อนปากมูล!I11+นปจ.เขื่อนสิรินธร!I11 -> 1 | J11: =ศปจ.นครราชสีมา!J11+นปจ.เขื่อนลำนางรอง!J11+นปจ.เขื่อนปากมูล!J11+นปจ.เขื่อนสิรินธร!J11 -> 1 | K11: =ศปจ.นครราชสีมา!K11+นปจ.เขื่อนลำนางรอง!K11+นปจ.เขื่อนปากมูล!K11+นปจ.เขื่อนสิรินธร!K11 -> 0 | L11: =ศปจ.นครราชสีมา!L11+นปจ.เขื่อนลำนางรอง!L11+นปจ.เขื่อนปากมูล!L11+นปจ.เขื่อนสิรินธร!L11 -> 0 | ... P11: =ศปจ.นครราชสีมา!P11+นปจ.เขื่อนลำนางรอง!P11+นปจ.เขื่อนปากมูล!P11+นปจ.เขื่อนสิรินธร!P11 -> 0
B12: คดี | C12: คดีจับกุม | D12: =SUM(E12:P12) -> 0 | E12: =ศปจ.นครราชสีมา!E12+นปจ.เขื่อนลำนางรอง!E12+นปจ.เขื่อนปากมูล!E12+นปจ.เขื่อนสิรินธร!E12 -> 0 | F12: =ศปจ.นครราชสีมา!F12+นปจ.เขื่อนลำนางรอง!F12+นปจ.เขื่อนปากมูล!F12+นปจ.เขื่อนสิรินธร!F12 -> 0 | G12: =ศปจ.นครราชสีมา!G12+นปจ.เขื่อนลำนางรอง!G12+นปจ.เขื่อนปากมูล!G12+นปจ.เขื่อนสิรินธร!G12 -> 0 | H12: =ศปจ.นครราชสีมา!H12+นปจ.เขื่อนลำนางรอง!H12+นปจ.เขื่อนปากมูล!H12+นปจ.เขื่อนสิรินธร!H12 -> 0 | I12: =ศปจ.นครราชสีมา!I12+นปจ.เขื่อนลำนางรอง!I12+นปจ.เขื่อนปากมูล!I12+นปจ.เขื่อนสิรินธร!I12 -> 0 | J12: =ศปจ.นครราชสีมา!J12+นปจ.เขื่อนลำนางรอง!J12+นปจ.เขื่อนปากมูล!J12+นปจ.เขื่อนสิรินธร!J12 -> 0 | K12: =ศปจ.นครราชสีมา!K12+นปจ.เขื่อนลำนางรอง!K12+นปจ.เขื่อนปากมูล!K12+นปจ.เขื่อนสิรินธร!K12 -> 0 | L12: =ศปจ.นครราชสีมา!L12+นปจ.เขื่อนลำนางรอง!L12+นปจ.เขื่อนปากมูล!L12+นปจ.เขื่อนสิรินธร!L12 -> 0 | ... P12: =ศปจ.นครราชสีมา!P12+นปจ.เขื่อนลำนางรอง!P12+นปจ.เขื่อนปากมูล!P12+นปจ.เขื่อนสิรินธร!P12 -> 0
C13: ผู้ถูกกล่าวหา(ราย) | D13: =SUM(E13:P13) -> 0 | E13: =ศปจ.นครราชสีมา!E13+นปจ.เขื่อนลำนางรอง!E13+นปจ.เขื่อนปากมูล!E13+นปจ.เขื่อนสิรินธร!E13 -> 0 | F13: =ศปจ.นครราชสีมา!F13+นปจ.เขื่อนลำนางรอง!F13+นปจ.เขื่อนปากมูล!F13+นปจ.เขื่อนสิรินธร!F13 -> 0 | G13: =ศปจ.นครราชสีมา!G13+นปจ.เขื่อนลำนางรอง!G13+นปจ.เขื่อนปากมูล!G13+นปจ.เขื่อนสิรินธร!G13 -> 0 | H13: =ศปจ.นครราชสีมา!H13+นปจ.เขื่อนลำนางรอง!H13+นปจ.เขื่อนปากมูล!H13+นปจ.เขื่อนสิรินธร!H13 -> 0 | I13: =ศปจ.นครราชสีมา!I13+นปจ.เขื่อนลำนางรอง!I13+นปจ.เขื่อนปากมูล!I13+นปจ.เขื่อนสิรินธร!I13 -> 0 | J13: =ศปจ.นครราชสีมา!J13+นปจ.เขื่อนลำนางรอง!J13+นปจ.เขื่อนปากมูล!J13+นปจ.เขื่อนสิรินธร!J13 -> 0 | K13: =ศปจ.นครราชสีมา!K13+นปจ.เขื่อนลำนางรอง!K13+นปจ.เขื่อนปากมูล!K13+นปจ.เขื่อนสิรินธร!K13 -> 0 | L13: =ศปจ.นครราชสีมา!L13+นปจ.เขื่อนลำนางรอง!L13+นปจ.เขื่อนปากมูล!L13+นปจ.เขื่อนสิรินธร!L13 -> 0 | ... P13: =ศปจ.นครราชสีมา!P13+นปจ.เขื่อนลำนางรอง!P13+นปจ.เขื่อนปากมูล!P13+นปจ.เขื่อนสิรินธร!P13 -> 0
C14: คดีตรวจยึด | D14: =SUM(E14:P14) -> 4 | E14: =ศปจ.นครราชสีมา!E14+นปจ.เขื่อนลำนางรอง!E14+นปจ.เขื่อนปากมูล!E14+นปจ.เขื่อนสิรินธร!E14 -> 0 | F14: =ศปจ.นครราชสีมา!F14+นปจ.เขื่อนลำนางรอง!F14+นปจ.เขื่อนปากมูล!F14+นปจ.เขื่อนสิรินธร!F14 -> 0 | G14: =ศปจ.นครราชสีมา!G14+นปจ.เขื่อนลำนางรอง!G14+นปจ.เขื่อนปากมูล!G14+นปจ.เขื่อนสิรินธร!G14 -> 0 | H14: =ศปจ.นครราชสีมา!H14+นปจ.เขื่อนลำนางรอง!H14+นปจ.เขื่อนปากมูล!H14+นปจ.เขื่อนสิรินธร!H14 -> 0 | I14: =ศปจ.นครราชสีมา!I14+นปจ.เขื่อนลำนางรอง!I14+นปจ.เขื่อนปากมูล!I14+นปจ.เขื่อนสิรินธร!I14 -> 2 | J14: =ศปจ.นครราชสีมา!J14+นปจ.เขื่อนลำนางรอง!J14+นปจ.เขื่อนปากมูล!J14+นปจ.เขื่อนสิรินธร!J14 -> 2 | K14: =ศปจ.นครราชสีมา!K14+นปจ.เขื่อนลำนางรอง!K14+นปจ.เขื่อนปากมูล!K14+นปจ.เขื่อนสิรินธร!K14 -> 0 | L14: =ศปจ.นครราชสีมา!L14+นปจ.เขื่อนลำนางรอง!L14+นปจ.เขื่อนปากมูล!L14+นปจ.เขื่อนสิรินธร!L14 -> 0 | ... P14: =ศปจ.นครราชสีมา!P14+นปจ.เขื่อนลำนางรอง!P14+นปจ.เขื่อนปากมูล!P14+นปจ.เขื่อนสิรินธร!P14 -> 0
B15: เรือที่ตรวจ (ลำ) | C15: < 10 ตันกรอส | D15: =SUM(E15:P15) -> 0 | E15: =ศปจ.นครราชสีมา!E15+นปจ.เขื่อนลำนางรอง!E15+นปจ.เขื่อนปากมูล!E15+นปจ.เขื่อนสิรินธร!E15 -> 0 | F15: =ศปจ.นครราชสีมา!F15+นปจ.เขื่อนลำนางรอง!F15+นปจ.เขื่อนปากมูล!F15+นปจ.เขื่อนสิรินธร!F15 -> 0 | G15: =ศปจ.นครราชสีมา!G15+นปจ.เขื่อนลำนางรอง!G15+นปจ.เขื่อนปากมูล!G15+นปจ.เขื่อนสิรินธร!G15 -> 0 | H15: =ศปจ.นครราชสีมา!H15+นปจ.เขื่อนลำนางรอง!H15+นปจ.เขื่อนปากมูล!H15+นปจ.เขื่อนสิรินธร!H15 -> 0 | I15: =ศปจ.นครราชสีมา!I15+นปจ.เขื่อนลำนางรอง!I15+นปจ.เขื่อนปากมูล!I15+นปจ.เขื่อนสิรินธร!I15 -> 0 | J15: =ศปจ.นครราชสีมา!J15+นปจ.เขื่อนลำนางรอง!J15+นปจ.เขื่อนปากมูล!J15+นปจ.เขื่อนสิรินธร!J15 -> 0 | K15: =ศปจ.นครราชสีมา!K15+นปจ.เขื่อนลำนางรอง!K15+นปจ.เขื่อนปากมูล!K15+นปจ.เขื่อนสิรินธร!K15 -> 0 | L15: =ศปจ.นครราชสีมา!L15+นปจ.เขื่อนลำนางรอง!L15+นปจ.เขื่อนปากมูล!L15+นปจ.เขื่อนสิรินธร!L15 -> 0 | ... P15: =ศปจ.นครราชสีมา!P15+นปจ.เขื่อนลำนางรอง!P15+นปจ.เขื่อนปากมูล!P15+นปจ.เขื่อนสิรินธร!P15 -> 0
C16: 10.01 - 30 ตันกรอส | D16: =SUM(E16:P16) -> 0 | E16: =ศปจ.นครราชสีมา!E16+นปจ.เขื่อนลำนางรอง!E16+นปจ.เขื่อนปากมูล!E16+นปจ.เขื่อนสิรินธร!E16 -> 0 | F16: =ศปจ.นครราชสีมา!F16+นปจ.เขื่อนลำนางรอง!F16+นปจ.เขื่อนปากมูล!F16+นปจ.เขื่อนสิรินธร!F16 -> 0 | G16: =ศปจ.นครราชสีมา!G16+นปจ.เขื่อนลำนางรอง!G16+นปจ.เขื่อนปากมูล!G16+นปจ.เขื่อนสิรินธร!G16 -> 0 | H16: =ศปจ.นครราชสีมา!H16+นปจ.เขื่อนลำนางรอง!H16+นปจ.เขื่อนปากมูล!H16+นปจ.เขื่อนสิรินธร!H16 -> 0 | I16: =ศปจ.นครราชสีมา!I16+นปจ.เขื่อนลำนางรอง!I16+นปจ.เขื่อนปากมูล!I16+นปจ.เขื่อนสิรินธร!I16 -> 0 | J16: =ศปจ.นครราชสีมา!J16+นปจ.เขื่อนลำนางรอง!J16+นปจ.เขื่อนปากมูล!J16+นปจ.เขื่อนสิรินธร!J16 -> 0 | K16: =ศปจ.นครราชสีมา!K16+นปจ.เขื่อนลำนางรอง!K16+นปจ.เขื่อนปากมูล!K16+นปจ.เขื่อนสิรินธร!K16 -> 0 | L16: =ศปจ.นครราชสีมา!L16+นปจ.เขื่อนลำนางรอง!L16+นปจ.เขื่อนปากมูล!L16+นปจ.เขื่อนสิรินธร!L16 -> 0 | ... P16: =ศปจ.นครราชสีมา!P16+นปจ.เขื่อนลำนางรอง!P16+นปจ.เขื่อนปากมูล!P16+นปจ.เขื่อนสิรินธร!P16 -> 0
C17: 30.01 - 60 ตันกรอส | D17: =SUM(E17:P17) -> 0 | E17: =ศปจ.นครราชสีมา!E17+นปจ.เขื่อนลำนางรอง!E17+นปจ.เขื่อนปากมูล!E17+นปจ.เขื่อนสิรินธร!E17 -> 0 | F17: =ศปจ.นครราชสีมา!F17+นปจ.เขื่อนลำนางรอง!F17+นปจ.เขื่อนปากมูล!F17+นปจ.เขื่อนสิรินธร!F17 -> 0 | G17: =ศปจ.นครราชสีมา!G17+นปจ.เขื่อนลำนางรอง!G17+นปจ.เขื่อนปากมูล!G17+นปจ.เขื่อนสิรินธร!G17 -> 0 | H17: =ศปจ.นครราชสีมา!H17+นปจ.เขื่อนลำนางรอง!H17+นปจ.เขื่อนปากมูล!H17+นปจ.เขื่อนสิรินธร!H17 -> 0 | I17: =ศปจ.นครราชสีมา!I17+นปจ.เขื่อนลำนางรอง!I17+นปจ.เขื่อนปากมูล!I17+นปจ.เขื่อนสิรินธร!I17 -> 0 | J17: =ศปจ.นครราชสีมา!J17+นปจ.เขื่อนลำนางรอง!J17+นปจ.เขื่อนปากมูล!J17+นปจ.เขื่อนสิรินธร!J17 -> 0 | K17: =ศปจ.นครราชสีมา!K17+นปจ.เขื่อนลำนางรอง!K17+นปจ.เขื่อนปากมูล!K17+นปจ.เขื่อนสิรินธร!K17 -> 0 | L17: =ศปจ.นครราชสีมา!L17+นปจ.เขื่อนลำนางรอง!L17+นปจ.เขื่อนปากมูล!L17+นปจ.เขื่อนสิรินธร!L17 -> 0 | ... P17: =ศปจ.นครราชสีมา!P17+นปจ.เขื่อนลำนางรอง!P17+นปจ.เขื่อนปากมูล!P17+นปจ.เขื่อนสิรินธร!P17 -> 0
C18: 60.01 - 150 ตันกรอส | D18: =SUM(E18:P18) -> 0 | E18: =ศปจ.นครราชสีมา!E18+นปจ.เขื่อนลำนางรอง!E18+นปจ.เขื่อนปากมูล!E18+นปจ.เขื่อนสิรินธร!E18 -> 0 | F18: =ศปจ.นครราชสีมา!F18+นปจ.เขื่อนลำนางรอง!F18+นปจ.เขื่อนปากมูล!F18+นปจ.เขื่อนสิรินธร!F18 -> 0 | G18: =ศปจ.นครราชสีมา!G18+นปจ.เขื่อนลำนางรอง!G18+นปจ.เขื่อนปากมูล!G18+นปจ.เขื่อนสิรินธร!G18 -> 0 | H18: =ศปจ.นครราชสีมา!H18+นปจ.เขื่อนลำนางรอง!H18+นปจ.เขื่อนปากมูล!H18+นปจ.เขื่อนสิรินธร!H18 -> 0 | I18: =ศปจ.นครราชสีมา!I18+นปจ.เขื่อนลำนางรอง!I18+นปจ.เขื่อนปากมูล!I18+นปจ.เขื่อนสิรินธร!I18 -> 0 | J18: =ศปจ.นครราชสีมา!J18+นปจ.เขื่อนลำนางรอง!J18+นปจ.เขื่อนปากมูล!J18+นปจ.เขื่อนสิรินธร!J18 -> 0 | K18: =ศปจ.นครราชสีมา!K18+นปจ.เขื่อนลำนางรอง!K18+นปจ.เขื่อนปากมูล!K18+นปจ.เขื่อนสิรินธร!K18 -> 0 | L18: =ศปจ.นครราชสีมา!L18+นปจ.เขื่อนลำนางรอง!L18+นปจ.เขื่อนปากมูล!L18+นปจ.เขื่อนสิรินธร!L18 -> 0 | ... P18: =ศปจ.นครราชสีมา!P18+นปจ.เขื่อนลำนางรอง!P18+นปจ.เขื่อนปากมูล!P18+นปจ.เขื่อนสิรินธร!P18 -> 0
C19: > 150 ตันกรอส | D19: =SUM(E19:P19) -> 0 | E19: =ศปจ.นครราชสีมา!E19+นปจ.เขื่อนลำนางรอง!E19+นปจ.เขื่อนปากมูล!E19+นปจ.เขื่อนสิรินธร!E19 -> 0 | F19: =ศปจ.นครราชสีมา!F19+นปจ.เขื่อนลำนางรอง!F19+นปจ.เขื่อนปากมูล!F19+นปจ.เขื่อนสิรินธร!F19 -> 0 | G19: =ศปจ.นครราชสีมา!G19+นปจ.เขื่อนลำนางรอง!G19+นปจ.เขื่อนปากมูล!G19+นปจ.เขื่อนสิรินธร!G19 -> 0 | H19: =ศปจ.นครราชสีมา!H19+นปจ.เขื่อนลำนางรอง!H19+นปจ.เขื่อนปากมูล!H19+นปจ.เขื่อนสิรินธร!H19 -> 0 | I19: =ศปจ.นครราชสีมา!I19+นปจ.เขื่อนลำนางรอง!I19+นปจ.เขื่อนปากมูล!I19+นปจ.เขื่อนสิรินธร!I19 -> 0 | J19: =ศปจ.นครราชสีมา!J19+นปจ.เขื่อนลำนางรอง!J19+นปจ.เขื่อนปากมูล!J19+นปจ.เขื่อนสิรินธร!J19 -> 0 | K19: =ศปจ.นครราชสีมา!K19+นปจ.เขื่อนลำนางรอง!K19+นปจ.เขื่อนปากมูล!K19+นปจ.เขื่อนสิรินธร!K19 -> 0 | L19: =ศปจ.นครราชสีมา!L19+นปจ.เขื่อนลำนางรอง!L19+นปจ.เขื่อนปากมูล!L19+นปจ.เขื่อนสิรินธร!L19 -> 0 | ... P19: =ศปจ.นครราชสีมา!P19+นปจ.เขื่อนลำนางรอง!P19+นปจ.เขื่อนปากมูล!P19+นปจ.เขื่อนสิรินธร!P19 -> 0
B20: แรงงาน (ราย) | C20: สัญชาติไทย | D20: =SUM(E20:P20) -> 0 | E20: =ศปจ.นครราชสีมา!E20+นปจ.เขื่อนลำนางรอง!E20+นปจ.เขื่อนปากมูล!E20+นปจ.เขื่อนสิรินธร!E20 -> 0 | F20: =ศปจ.นครราชสีมา!F20+นปจ.เขื่อนลำนางรอง!F20+นปจ.เขื่อนปากมูล!F20+นปจ.เขื่อนสิรินธร!F20 -> 0 | G20: =ศปจ.นครราชสีมา!G20+นปจ.เขื่อนลำนางรอง!G20+นปจ.เขื่อนปากมูล!G20+นปจ.เขื่อนสิรินธร!G20 -> 0 | H20: =ศปจ.นครราชสีมา!H20+นปจ.เขื่อนลำนางรอง!H20+นปจ.เขื่อนปากมูล!H20+นปจ.เขื่อนสิรินธร!H20 -> 0 | I20: =ศปจ.นครราชสีมา!I20+นปจ.เขื่อนลำนางรอง!I20+นปจ.เขื่อนปากมูล!I20+นปจ.เขื่อนสิรินธร!I20 -> 0 | J20: =ศปจ.นครราชสีมา!J20+นปจ.เขื่อนลำนางรอง!J20+นปจ.เขื่อนปากมูล!J20+นปจ.เขื่อนสิรินธร!J20 -> 0 | K20: =ศปจ.นครราชสีมา!K20+นปจ.เขื่อนลำนางรอง!K20+นปจ.เขื่อนปากมูล!K20+นปจ.เขื่อนสิรินธร!K20 -> 0 | L20: =ศปจ.นครราชสีมา!L20+นปจ.เขื่อนลำนางรอง!L20+นปจ.เขื่อนปากมูล!L20+นปจ.เขื่อนสิรินธร!L20 -> 0 | ... P20: =ศปจ.นครราชสีมา!P20+นปจ.เขื่อนลำนางรอง!P20+นปจ.เขื่อนปากมูล!P20+นปจ.เขื่อนสิรินธร!P20 -> 0
C21: สัญชาติเมียนมาร์ | D21: =SUM(E21:P21) -> 0 | E21: =ศปจ.นครราชสีมา!E21+นปจ.เขื่อนลำนางรอง!E21+นปจ.เขื่อนปากมูล!E21+นปจ.เขื่อนสิรินธร!E21 -> 0 | F21: =ศปจ.นครราชสีมา!F21+นปจ.เขื่อนลำนางรอง!F21+นปจ.เขื่อนปากมูล!F21+นปจ.เขื่อนสิรินธร!F21 -> 0 | G21: =ศปจ.นครราชสีมา!G21+นปจ.เขื่อนลำนางรอง!G21+นปจ.เขื่อนปากมูล!G21+นปจ.เขื่อนสิรินธร!G21 -> 0 | H21: =ศปจ.นครราชสีมา!H21+นปจ.เขื่อนลำนางรอง!H21+นปจ.เขื่อนปากมูล!H21+นปจ.เขื่อนสิรินธร!H21 -> 0 | I21: =ศปจ.นครราชสีมา!I21+นปจ.เขื่อนลำนางรอง!I21+นปจ.เขื่อนปากมูล!I21+นปจ.เขื่อนสิรินธร!I21 -> 0 | J21: =ศปจ.นครราชสีมา!J21+นปจ.เขื่อนลำนางรอง!J21+นปจ.เขื่อนปากมูล!J21+นปจ.เขื่อนสิรินธร!J21 -> 0 | K21: =ศปจ.นครราชสีมา!K21+นปจ.เขื่อนลำนางรอง!K21+นปจ.เขื่อนปากมูล!K21+นปจ.เขื่อนสิรินธร!K21 -> 0 | L21: =ศปจ.นครราชสีมา!L21+นปจ.เขื่อนลำนางรอง!L21+นปจ.เขื่อนปากมูล!L21+นปจ.เขื่อนสิรินธร!L21 -> 0 | ... P21: =ศปจ.นครราชสีมา!P21+นปจ.เขื่อนลำนางรอง!P21+นปจ.เขื่อนปากมูล!P21+นปจ.เขื่อนสิรินธร!P21 -> 0
C22: สัญชาติกัมพูชา | D22: =SUM(E22:P22) -> 0 | E22: =ศปจ.นครราชสีมา!E22+นปจ.เขื่อนลำนางรอง!E22+นปจ.เขื่อนปากมูล!E22+นปจ.เขื่อนสิรินธร!E22 -> 0 | F22: =ศปจ.นครราชสีมา!F22+นปจ.เขื่อนลำนางรอง!F22+นปจ.เขื่อนปากมูล!F22+นปจ.เขื่อนสิรินธร!F22 -> 0 | G22: =ศปจ.นครราชสีมา!G22+นปจ.เขื่อนลำนางรอง!G22+นปจ.เขื่อนปากมูล!G22+นปจ.เขื่อนสิรินธร!G22 -> 0 | H22: =ศปจ.นครราชสีมา!H22+นปจ.เขื่อนลำนางรอง!H22+นปจ.เขื่อนปากมูล!H22+นปจ.เขื่อนสิรินธร!H22 -> 0 | I22: =ศปจ.นครราชสีมา!I22+นปจ.เขื่อนลำนางรอง!I22+นปจ.เขื่อนปากมูล!I22+นปจ.เขื่อนสิรินธร!I22 -> 0 | J22: =ศปจ.นครราชสีมา!J22+นปจ.เขื่อนลำนางรอง!J22+นปจ.เขื่อนปากมูล!J22+นปจ.เขื่อนสิรินธร!J22 -> 0 | K22: =ศปจ.นครราชสีมา!K22+นปจ.เขื่อนลำนางรอง!K22+นปจ.เขื่อนปากมูล!K22+นปจ.เขื่อนสิรินธร!K22 -> 0 | L22: =ศปจ.นครราชสีมา!L22+นปจ.เขื่อนลำนางรอง!L22+นปจ.เขื่อนปากมูล!L22+นปจ.เขื่อนสิรินธร!L22 -> 0 | ... P22: =ศปจ.นครราชสีมา!P22+นปจ.เขื่อนลำนางรอง!P22+นปจ.เขื่อนปากมูล!P22+นปจ.เขื่อนสิรินธร!P22 -> 0
C23: สัญชาติลาว | D23: =SUM(E23:P23) -> 0 | E23: =ศปจ.นครราชสีมา!E23+นปจ.เขื่อนลำนางรอง!E23+นปจ.เขื่อนปากมูล!E23+นปจ.เขื่อนสิรินธร!E23 -> 0 | F23: =ศปจ.นครราชสีมา!F23+นปจ.เขื่อนลำนางรอง!F23+นปจ.เขื่อนปากมูล!F23+นปจ.เขื่อนสิรินธร!F23 -> 0 | G23: =ศปจ.นครราชสีมา!G23+นปจ.เขื่อนลำนางรอง!G23+นปจ.เขื่อนปากมูล!G23+นปจ.เขื่อนสิรินธร!G23 -> 0 | H23: =ศปจ.นครราชสีมา!H23+นปจ.เขื่อนลำนางรอง!H23+นปจ.เขื่อนปากมูล!H23+นปจ.เขื่อนสิรินธร!H23 -> 0 | I23: =ศปจ.นครราชสีมา!I23+นปจ.เขื่อนลำนางรอง!I23+นปจ.เขื่อนปากมูล!I23+นปจ.เขื่อนสิรินธร!I23 -> 0 | J23: =ศปจ.นครราชสีมา!J23+นปจ.เขื่อนลำนางรอง!J23+นปจ.เขื่อนปากมูล!J23+นปจ.เขื่อนสิรินธร!J23 -> 0 | K23: =ศปจ.นครราชสีมา!K23+นปจ.เขื่อนลำนางรอง!K23+นปจ.เขื่อนปากมูล!K23+นปจ.เขื่อนสิรินธร!K23 -> 0 | L23: =ศปจ.นครราชสีมา!L23+นปจ.เขื่อนลำนางรอง!L23+นปจ.เขื่อนปากมูล!L23+นปจ.เขื่อนสิรินธร!L23 -> 0 | ... P23: =ศปจ.นครราชสีมา!P23+นปจ.เขื่อนลำนางรอง!P23+นปจ.เขื่อนปากมูล!P23+นปจ.เขื่อนสิรินธร!P23 -> 0
C24: อื่นๆ | D24: =SUM(E24:P24) -> 0 | E24: =ศปจ.นครราชสีมา!E24+นปจ.เขื่อนลำนางรอง!E24+นปจ.เขื่อนปากมูล!E24+นปจ.เขื่อนสิรินธร!E24 -> 0 | F24: =ศปจ.นครราชสีมา!F24+นปจ.เขื่อนลำนางรอง!F24+นปจ.เขื่อนปากมูล!F24+นปจ.เขื่อนสิรินธร!F24 -> 0 | G24: =ศปจ.นครราชสีมา!G24+นปจ.เขื่อนลำนางรอง!G24+นปจ.เขื่อนปากมูล!G24+นปจ.เขื่อนสิรินธร!G24 -> 0 | H24: =ศปจ.นครราชสีมา!H24+นปจ.เขื่อนลำนางรอง!H24+นปจ.เขื่อนปากมูล!H24+นปจ.เขื่อนสิรินธร!H24 -> 0 | I24: =ศปจ.นครราชสีมา!I24+นปจ.เขื่อนลำนางรอง!I24+นปจ.เขื่อนปากมูล!I24+นปจ.เขื่อนสิรินธร!I24 -> 0 | J24: =ศปจ.นครราชสีมา!J24+นปจ.เขื่อนลำนางรอง!J24+นปจ.เขื่อนปากมูล!J24+นปจ.เขื่อนสิรินธร!J24 -> 0 | K24: =ศปจ.นครราชสีมา!K24+นปจ.เขื่อนลำนางรอง!K24+นปจ.เขื่อนปากมูล!K24+นปจ.เขื่อนสิรินธร!K24 -> 0 | L24: =ศปจ.นครราชสีมา!L24+นปจ.เขื่อนลำนางรอง!L24+นปจ.เขื่อนปากมูล!L24+นปจ.เขื่อนสิรินธร!L24 -> 0 | ... P24: =ศปจ.นครราชสีมา!P24+นปจ.เขื่อนลำนางรอง!P24+นปจ.เขื่อนปากมูล!P24+นปจ.เขื่อนสิรินธร!P24 -> 0
B25: บาท | C25: งบประมาณที่จัดสรร | D25: =SUM(E25:P25) -> 30000 | E25: =ศปจ.นครราชสีมา!E25+นปจ.เขื่อนลำนางรอง!E25+นปจ.เขื่อนปากมูล!E25+นปจ.เขื่อนสิรินธร!E25 -> 0 | F25: =ศปจ.นครราชสีมา!F25+นปจ.เขื่อนลำนางรอง!F25+นปจ.เขื่อนปากมูล!F25+นปจ.เขื่อนสิรินธร!F25 -> 0 | G25: =ศปจ.นครราชสีมา!G25+นปจ.เขื่อนลำนางรอง!G25+นปจ.เขื่อนปากมูล!G25+นปจ.เขื่อนสิรินธร!G25 -> 0 | H25: =ศปจ.นครราชสีมา!H25+นปจ.เขื่อนลำนางรอง!H25+นปจ.เขื่อนปากมูล!H25+นปจ.เขื่อนสิรินธร!H25 -> 0 | I25: =ศปจ.นครราชสีมา!I25+นปจ.เขื่อนลำนางรอง!I25+นปจ.เขื่อนปากมูล!I25+นปจ.เขื่อนสิรินธร!I25 -> 15000 | J25: =ศปจ.นครราชสีมา!J25+นปจ.เขื่อนลำนางรอง!J25+นปจ.เขื่อนปากมูล!J25+นปจ.เขื่อนสิรินธร!J25 -> 15000 | K25: =ศปจ.นครราชสีมา!K25+นปจ.เขื่อนลำนางรอง!K25+นปจ.เขื่อนปากมูล!K25+นปจ.เขื่อนสิรินธร!K25 -> 0 | L25: =ศปจ.นครราชสีมา!L25+นปจ.เขื่อนลำนางรอง!L25+นปจ.เขื่อนปากมูล!L25+นปจ.เขื่อนสิรินธร!L25 -> 0 | ... P25: =ศปจ.นครราชสีมา!P25+นปจ.เขื่อนลำนางรอง!P25+นปจ.เขื่อนปากมูล!P25+นปจ.เขื่อนสิรินธร!P25 -> 0
C26: งบประมาณที่ใช้ | D26: =SUM(E26:P26) -> 30000 | E26: =ศปจ.นครราชสีมา!E26+นปจ.เขื่อนลำนางรอง!E26+นปจ.เขื่อนปากมูล!E26+นปจ.เขื่อนสิรินธร!E26 -> 0 | F26: =ศปจ.นครราชสีมา!F26+นปจ.เขื่อนลำนางรอง!F26+นปจ.เขื่อนปากมูล!F26+นปจ.เขื่อนสิรินธร!F26 -> 0 | G26: =ศปจ.นครราชสีมา!G26+นปจ.เขื่อนลำนางรอง!G26+นปจ.เขื่อนปากมูล!G26+นปจ.เขื่อนสิรินธร!G26 -> 0 | H26: =ศปจ.นครราชสีมา!H26+นปจ.เขื่อนลำนางรอง!H26+นปจ.เขื่อนปากมูล!H26+นปจ.เขื่อนสิรินธร!H26 -> 0 | I26: =ศปจ.นครราชสีมา!I26+นปจ.เขื่อนลำนางรอง!I26+นปจ.เขื่อนปากมูล!I26+นปจ.เขื่อนสิรินธร!I26 -> 15000 | J26: =ศปจ.นครราชสีมา!J26+นปจ.เขื่อนลำนางรอง!J26+นปจ.เขื่อนปากมูล!J26+นปจ.เขื่อนสิรินธร!J26 -> 15000 | K26: =ศปจ.นครราชสีมา!K26+นปจ.เขื่อนลำนางรอง!K26+นปจ.เขื่อนปากมูล!K26+นปจ.เขื่อนสิรินธร!K26 -> 0 | L26: =ศปจ.นครราชสีมา!L26+นปจ.เขื่อนลำนางรอง!L26+นปจ.เขื่อนปากมูล!L26+นปจ.เขื่อนสิรินธร!L26 -> 0 | ... P26: =ศปจ.นครราชสีมา!P26+นปจ.เขื่อนลำนางรอง!P26+นปจ.เขื่อนปากมูล!P26+นปจ.เขื่อนสิรินธร!P26 -> 0
C27: งบประมาณคงเหลือ | D27: =SUM(D25-D26) -> 0
A28: กิจกรรมที่ดำเนินงาน : ควบคุมเฝ้าระวังการทำการประมงพื้นที่ทะเลชายฝั่ง | B28: ครั้ง | C28: แผน | D28: =SUM(E28:P28) -> 0 | E28: =ศปจ.นครราชสีมา!E28+นปจ.เขื่อนลำนางรอง!E28+นปจ.เขื่อนปากมูล!E28+นปจ.เขื่อนสิรินธร!E28 -> 0 | F28: =ศปจ.นครราชสีมา!F28+นปจ.เขื่อนลำนางรอง!F28+นปจ.เขื่อนปากมูล!F28+นปจ.เขื่อนสิรินธร!F28 -> 0 | G28: =ศปจ.นครราชสีมา!G28+นปจ.เขื่อนลำนางรอง!G28+นปจ.เขื่อนปากมูล!G28+นปจ.เขื่อนสิรินธร!G28 -> 0 | H28: =ศปจ.นครราชสีมา!H28+นปจ.เขื่อนลำนางรอง!H28+นปจ.เขื่อนปากมูล!H28+นปจ.เขื่อนสิรินธร!H28 -> 0 | I28: =ศปจ.นครราชสีมา!I28+นปจ.เขื่อนลำนางรอง!I28+นปจ.เขื่อนปากมูล!I28+นปจ.เขื่อนสิรินธร!I28 -> 0 | J28: =ศปจ.นครราชสีมา!J28+นปจ.เขื่อนลำนางรอง!J28+นปจ.เขื่อนปากมูล!J28+นปจ.เขื่อนสิรินธร!J28 -> 0 | K28: =ศปจ.นครราชสีมา!K28+นปจ.เขื่อนลำนางรอง!K28+นปจ.เขื่อนปากมูล!K28+นปจ.เขื่อนสิรินธร!K28 -> 0 | L28: =ศปจ.นครราชสีมา!L28+นปจ.เขื่อนลำนางรอง!L28+นปจ.เขื่อนปากมูล!L28+นปจ.เขื่อนสิรินธร!L28 -> 0 | ... P28: =ศปจ.นครราชสีมา!P28+นปจ.เขื่อนลำนางรอง!P28+นปจ.เขื่อนปากมูล!P28+นปจ.เขื่อนสิรินธร!P28 -> 0
C29: ผล | D29: =SUM(E29:P29) -> 0 | E29: =ศปจ.นครราชสีมา!E29+นปจ.เขื่อนลำนางรอง!E29+นปจ.เขื่อนปากมูล!E29+นปจ.เขื่อนสิรินธร!E29 -> 0 | F29: =ศปจ.นครราชสีมา!F29+นปจ.เขื่อนลำนางรอง!F29+นปจ.เขื่อนปากมูล!F29+นปจ.เขื่อนสิรินธร!F29 -> 0 | G29: =ศปจ.นครราชสีมา!G29+นปจ.เขื่อนลำนางรอง!G29+นปจ.เขื่อนปากมูล!G29+นปจ.เขื่อนสิรินธร!G29 -> 0 | H29: =ศปจ.นครราชสีมา!H29+นปจ.เขื่อนลำนางรอง!H29+นปจ.เขื่อนปากมูล!H29+นปจ.เขื่อนสิรินธร!H29 -> 0 | I29: =ศปจ.นครราชสีมา!I29+นปจ.เขื่อนลำนางรอง!I29+นปจ.เขื่อนปากมูล!I29+นปจ.เขื่อนสิรินธร!I29 -> 0 | J29: =ศปจ.นครราชสีมา!J29+นปจ.เขื่อนลำนางรอง!J29+นปจ.เขื่อนปากมูล!J29+นปจ.เขื่อนสิรินธร!J29 -> 0 | K29: =ศปจ.นครราชสีมา!K29+นปจ.เขื่อนลำนางรอง!K29+นปจ.เขื่อนปากมูล!K29+นปจ.เขื่อนสิรินธร!K29 -> 0 | L29: =ศปจ.นครราชสีมา!L29+นปจ.เขื่อนลำนางรอง!L29+นปจ.เขื่อนปากมูล!L29+นปจ.เขื่อนสิรินธร!L29 -> 0 | ... P29: =ศปจ.นครราชสีมา!P29+นปจ.เขื่อนลำนางรอง!P29+นปจ.เขื่อนปากมูล!P29+นปจ.เขื่อนสิรินธร!P29 -> 0
B30: คดี | C30: คดีจับกุม | D30: =SUM(E30:P30) -> 0 | E30: =ศปจ.นครราชสีมา!E30+นปจ.เขื่อนลำนางรอง!E30+นปจ.เขื่อนปากมูล!E30+นปจ.เขื่อนสิรินธร!E30 -> 0 | F30: =ศปจ.นครราชสีมา!F30+นปจ.เขื่อนลำนางรอง!F30+นปจ.เขื่อนปากมูล!F30+นปจ.เขื่อนสิรินธร!F30 -> 0 | G30: =ศปจ.นครราชสีมา!G30+นปจ.เขื่อนลำนางรอง!G30+นปจ.เขื่อนปากมูล!G30+นปจ.เขื่อนสิรินธร!G30 -> 0 | H30: =ศปจ.นครราชสีมา!H30+นปจ.เขื่อนลำนางรอง!H30+นปจ.เขื่อนปากมูล!H30+นปจ.เขื่อนสิรินธร!H30 -> 0 | I30: =ศปจ.นครราชสีมา!I30+นปจ.เขื่อนลำนางรอง!I30+นปจ.เขื่อนปากมูล!I30+นปจ.เขื่อนสิรินธร!I30 -> 0 | J30: =ศปจ.นครราชสีมา!J30+นปจ.เขื่อนลำนางรอง!J30+นปจ.เขื่อนปากมูล!J30+นปจ.เขื่อนสิรินธร!J30 -> 0 | K30: =ศปจ.นครราชสีมา!K30+นปจ.เขื่อนลำนางรอง!K30+นปจ.เขื่อนปากมูล!K30+นปจ.เขื่อนสิรินธร!K30 -> 0 | L30: =ศปจ.นครราชสีมา!L30+นปจ.เขื่อนลำนางรอง!L30+นปจ.เขื่อนปากมูล!L30+นปจ.เขื่อนสิรินธร!L30 -> 0 | ... P30: =ศปจ.นครราชสีมา!P30+นปจ.เขื่อนลำนางรอง!P30+นปจ.เขื่อนปากมูล!P30+นปจ.เขื่อนสิรินธร!P30 -> 0
C31: ผู้ถูกกล่าวหา(ราย) | D31: =SUM(E31:P31) -> 0 | E31: =ศปจ.นครราชสีมา!E31+นปจ.เขื่อนลำนางรอง!E31+นปจ.เขื่อนปากมูล!E31+นปจ.เขื่อนสิรินธร!E31 -> 0 | F31: =ศปจ.นครราชสีมา!F31+นปจ.เขื่อนลำนางรอง!F31+นปจ.เขื่อนปากมูล!F31+นปจ.เขื่อนสิรินธร!F31 -> 0 | G31: =ศปจ.นครราชสีมา!G31+นปจ.เขื่อนลำนางรอง!G31+นปจ.เขื่อนปากมูล!G31+นปจ.เขื่อนสิรินธร!G31 -> 0 | H31: =ศปจ.นครราชสีมา!H31+นปจ.เขื่อนลำนางรอง!H31+นปจ.เขื่อนปากมูล!H31+นปจ.เขื่อนสิรินธร!H31 -> 0 | I31: =ศปจ.นครราชสีมา!I31+นปจ.เขื่อนลำนางรอง!I31+นปจ.เขื่อนปากมูล!I31+นปจ.เขื่อนสิรินธร!I31 -> 0 | J31: =ศปจ.นครราชสีมา!J31+นปจ.เขื่อนลำนางรอง!J31+นปจ.เขื่อนปากมูล!J31+นปจ.เขื่อนสิรินธร!J31 -> 0 | K31: =ศปจ.นครราชสีมา!K31+นปจ.เขื่อนลำนางรอง!K31+นปจ.เขื่อนปากมูล!K31+นปจ.เขื่อนสิรินธร!K31 -> 0 | L31: =ศปจ.นครราชสีมา!L31+นปจ.เขื่อนลำนางรอง!L31+นปจ.เขื่อนปากมูล!L31+นปจ.เขื่อนสิรินธร!L31 -> 0 | ... P31: =ศปจ.นครราชสีมา!P31+นปจ.เขื่อนลำนางรอง!P31+นปจ.เขื่อนปากมูล!P31+นปจ.เขื่อนสิรินธร!P31 -> 0
C32: คดีตรวจยึด | D32: =SUM(E32:P32) -> 0 | E32: =ศปจ.นครราชสีมา!E32+นปจ.เขื่อนลำนางรอง!E32+นปจ.เขื่อนปากมูล!E32+นปจ.เขื่อนสิรินธร!E32 -> 0 | F32: =ศปจ.นครราชสีมา!F32+นปจ.เขื่อนลำนางรอง!F32+นปจ.เขื่อนปากมูล!F32+นปจ.เขื่อนสิรินธร!F32 -> 0 | G32: =ศปจ.นครราชสีมา!G32+นปจ.เขื่อนลำนางรอง!G32+นปจ.เขื่อนปากมูล!G32+นปจ.เขื่อนสิรินธร!G32 -> 0 | H32: =ศปจ.นครราชสีมา!H32+นปจ.เขื่อนลำนางรอง!H32+นปจ.เขื่อนปากมูล!H32+นปจ.เขื่อนสิรินธร!H32 -> 0 | I32: =ศปจ.นครราชสีมา!I32+นปจ.เขื่อนลำนางรอง!I32+นปจ.เขื่อนปากมูล!I32+นปจ.เขื่อนสิรินธร!I32 -> 0 | J32: =ศปจ.นครราชสีมา!J32+นปจ.เขื่อนลำนางรอง!J32+นปจ.เขื่อนปากมูล!J32+นปจ.เขื่อนสิรินธร!J32 -> 0 | K32: =ศปจ.นครราชสีมา!K32+นปจ.เขื่อนลำนางรอง!K32+นปจ.เขื่อนปากมูล!K32+นปจ.เขื่อนสิรินธร!K32 -> 0 | L32: =ศปจ.นครราชสีมา!L32+นปจ.เขื่อนลำนางรอง!L32+นปจ.เขื่อนปากมูล!L32+นปจ.เขื่อนสิรินธร!L32 -> 0 | ... P32: =ศปจ.นครราชสีมา!P32+นปจ.เขื่อนลำนางรอง!P32+นปจ.เขื่อนปากมูล!P32+นปจ.เขื่อนสิรินธร!P32 -> 0
B33: เรือที่ตรวจ (ลำ) | C33: < 10 ตันกรอส | D33: =SUM(E33:P33) -> 0 | E33: =ศปจ.นครราชสีมา!E33+นปจ.เขื่อนลำนางรอง!E33+นปจ.เขื่อนปากมูล!E33+นปจ.เขื่อนสิรินธร!E33 -> 0 | F33: =ศปจ.นครราชสีมา!F33+นปจ.เขื่อนลำนางรอง!F33+นปจ.เขื่อนปากมูล!F33+นปจ.เขื่อนสิรินธร!F33 -> 0 | G33: =ศปจ.นครราชสีมา!G33+นปจ.เขื่อนลำนางรอง!G33+นปจ.เขื่อนปากมูล!G33+นปจ.เขื่อนสิรินธร!G33 -> 0 | H33: =ศปจ.นครราชสีมา!H33+นปจ.เขื่อนลำนางรอง!H33+นปจ.เขื่อนปากมูล!H33+นปจ.เขื่อนสิรินธร!H33 -> 0 | I33: =ศปจ.นครราชสีมา!I33+นปจ.เขื่อนลำนางรอง!I33+นปจ.เขื่อนปากมูล!I33+นปจ.เขื่อนสิรินธร!I33 -> 0 | J33: =ศปจ.นครราชสีมา!J33+นปจ.เขื่อนลำนางรอง!J33+นปจ.เขื่อนปากมูล!J33+นปจ.เขื่อนสิรินธร!J33 -> 0 | K33: =ศปจ.นครราชสีมา!K33+นปจ.เขื่อนลำนางรอง!K33+นปจ.เขื่อนปากมูล!K33+นปจ.เขื่อนสิรินธร!K33 -> 0 | L33: =ศปจ.นครราชสีมา!L33+นปจ.เขื่อนลำนางรอง!L33+นปจ.เขื่อนปากมูล!L33+นปจ.เขื่อนสิรินธร!L33 -> 0 | ... P33: =ศปจ.นครราชสีมา!P33+นปจ.เขื่อนลำนางรอง!P33+นปจ.เขื่อนปากมูล!P33+นปจ.เขื่อนสิรินธร!P33 -> 0
C34: 10.01 - 30 ตันกรอส | D34: =SUM(E34:P34) -> 0 | E34: =ศปจ.นครราชสีมา!E34+นปจ.เขื่อนลำนางรอง!E34+นปจ.เขื่อนปากมูล!E34+นปจ.เขื่อนสิรินธร!E34 -> 0 | F34: =ศปจ.นครราชสีมา!F34+นปจ.เขื่อนลำนางรอง!F34+นปจ.เขื่อนปากมูล!F34+นปจ.เขื่อนสิรินธร!F34 -> 0 | G34: =ศปจ.นครราชสีมา!G34+นปจ.เขื่อนลำนางรอง!G34+นปจ.เขื่อนปากมูล!G34+นปจ.เขื่อนสิรินธร!G34 -> 0 | H34: =ศปจ.นครราชสีมา!H34+นปจ.เขื่อนลำนางรอง!H34+นปจ.เขื่อนปากมูล!H34+นปจ.เขื่อนสิรินธร!H34 -> 0 | I34: =ศปจ.นครราชสีมา!I34+นปจ.เขื่อนลำนางรอง!I34+นปจ.เขื่อนปากมูล!I34+นปจ.เขื่อนสิรินธร!I34 -> 0 | J34: =ศปจ.นครราชสีมา!J34+นปจ.เขื่อนลำนางรอง!J34+นปจ.เขื่อนปากมูล!J34+นปจ.เขื่อนสิรินธร!J34 -> 0 | K34: =ศปจ.นครราชสีมา!K34+นปจ.เขื่อนลำนางรอง!K34+นปจ.เขื่อนปากมูล!K34+นปจ.เขื่อนสิรินธร!K34 -> 0 | L34: =ศปจ.นครราชสีมา!L34+นปจ.เขื่อนลำนางรอง!L34+นปจ.เขื่อนปากมูล!L34+นปจ.เขื่อนสิรินธร!L34 -> 0 | ... P34: =ศปจ.นครราชสีมา!P34+นปจ.เขื่อนลำนางรอง!P34+นปจ.เขื่อนปากมูล!P34+นปจ.เขื่อนสิรินธร!P34 -> 0
C35: 30.01 - 60 ตันกรอส | D35: =SUM(E35:P35) -> 0 | E35: =ศปจ.นครราชสีมา!E35+นปจ.เขื่อนลำนางรอง!E35+นปจ.เขื่อนปากมูล!E35+นปจ.เขื่อนสิรินธร!E35 -> 0 | F35: =ศปจ.นครราชสีมา!F35+นปจ.เขื่อนลำนางรอง!F35+นปจ.เขื่อนปากมูล!F35+นปจ.เขื่อนสิรินธร!F35 -> 0 | G35: =ศปจ.นครราชสีมา!G35+นปจ.เขื่อนลำนางรอง!G35+นปจ.เขื่อนปากมูล!G35+นปจ.เขื่อนสิรินธร!G35 -> 0 | H35: =ศปจ.นครราชสีมา!H35+นปจ.เขื่อนลำนางรอง!H35+นปจ.เขื่อนปากมูล!H35+นปจ.เขื่อนสิรินธร!H35 -> 0 | I35: =ศปจ.นครราชสีมา!I35+นปจ.เขื่อนลำนางรอง!I35+นปจ.เขื่อนปากมูล!I35+นปจ.เขื่อนสิรินธร!I35 -> 0 | J35: =ศปจ.นครราชสีมา!J35+นปจ.เขื่อนลำนางรอง!J35+นปจ.เขื่อนปากมูล!J35+นปจ.เขื่อนสิรินธร!J35 -> 0 | K35: =ศปจ.นครราชสีมา!K35+นปจ.เขื่อนลำนางรอง!K35+นปจ.เขื่อนปากมูล!K35+นปจ.เขื่อนสิรินธร!K35 -> 0 | L35: =ศปจ.นครราชสีมา!L35+นปจ.เขื่อนลำนางรอง!L35+นปจ.เขื่อนปากมูล!L35+นปจ.เขื่อนสิรินธร!L35 -> 0 | ... P35: =ศปจ.นครราชสีมา!P35+นปจ.เขื่อนลำนางรอง!P35+นปจ.เขื่อนปากมูล!P35+นปจ.เขื่อนสิรินธร!P35 -> 0
C36: 60.01 - 150 ตันกรอส | D36: =SUM(E36:P36) -> 0 | E36: =ศปจ.นครราชสีมา!E36+นปจ.เขื่อนลำนางรอง!E36+นปจ.เขื่อนปากมูล!E36+นปจ.เขื่อนสิรินธร!E36 -> 0 | F36: =ศปจ.นครราชสีมา!F36+นปจ.เขื่อนลำนางรอง!F36+นปจ.เขื่อนปากมูล!F36+นปจ.เขื่อนสิรินธร!F36 -> 0 | G36: =ศปจ.นครราชสีมา!G36+นปจ.เขื่อนลำนางรอง!G36+นปจ.เขื่อนปากมูล!G36+นปจ.เขื่อนสิรินธร!G36 -> 0 | H36: =ศปจ.นครราชสีมา!H36+นปจ.เขื่อนลำนางรอง!H36+นปจ.เขื่อนปากมูล!H36+นปจ.เขื่อนสิรินธร!H36 -> 0 | I36: =ศปจ.นครราชสีมา!I36+นปจ.เขื่อนลำนางรอง!I36+นปจ.เขื่อนปากมูล!I36+นปจ.เขื่อนสิรินธร!I36 -> 0 | J36: =ศปจ.นครราชสีมา!J36+นปจ.เขื่อนลำนางรอง!J36+นปจ.เขื่อนปากมูล!J36+นปจ.เขื่อนสิรินธร!J36 -> 0 | K36: =ศปจ.นครราชสีมา!K36+นปจ.เขื่อนลำนางรอง!K36+นปจ.เขื่อนปากมูล!K36+นปจ.เขื่อนสิรินธร!K36 -> 0 | L36: =ศปจ.นครราชสีมา!L36+นปจ.เขื่อนลำนางรอง!L36+นปจ.เขื่อนปากมูล!L36+นปจ.เขื่อนสิรินธร!L36 -> 0 | ... P36: =ศปจ.นครราชสีมา!P36+นปจ.เขื่อนลำนางรอง!P36+นปจ.เขื่อนปากมูล!P36+นปจ.เขื่อนสิรินธร!P36 -> 0
C37: > 150 ตันกรอส | D37: =SUM(E37:P37) -> 0 | E37: =ศปจ.นครราชสีมา!E37+นปจ.เขื่อนลำนางรอง!E37+นปจ.เขื่อนปากมูล!E37+นปจ.เขื่อนสิรินธร!E37 -> 0 | F37: =ศปจ.นครราชสีมา!F37+นปจ.เขื่อนลำนางรอง!F37+นปจ.เขื่อนปากมูล!F37+นปจ.เขื่อนสิรินธร!F37 -> 0 | G37: =ศปจ.นครราชสีมา!G37+นปจ.เขื่อนลำนางรอง!G37+นปจ.เขื่อนปากมูล!G37+นปจ.เขื่อนสิรินธร!G37 -> 0 | H37: =ศปจ.นครราชสีมา!H37+นปจ.เขื่อนลำนางรอง!H37+นปจ.เขื่อนปากมูล!H37+นปจ.เขื่อนสิรินธร!H37 -> 0 | I37: =ศปจ.นครราชสีมา!I37+นปจ.เขื่อนลำนางรอง!I37+นปจ.เขื่อนปากมูล!I37+นปจ.เขื่อนสิรินธร!I37 -> 0 | J37: =ศปจ.นครราชสีมา!J37+นปจ.เขื่อนลำนางรอง!J37+นปจ.เขื่อนปากมูล!J37+นปจ.เขื่อนสิรินธร!J37 -> 0 | K37: =ศปจ.นครราชสีมา!K37+นปจ.เขื่อนลำนางรอง!K37+นปจ.เขื่อนปากมูล!K37+นปจ.เขื่อนสิรินธร!K37 -> 0 | L37: =ศปจ.นครราชสีมา!L37+นปจ.เขื่อนลำนางรอง!L37+นปจ.เขื่อนปากมูล!L37+นปจ.เขื่อนสิรินธร!L37 -> 0 | ... P37: =ศปจ.นครราชสีมา!P37+นปจ.เขื่อนลำนางรอง!P37+นปจ.เขื่อนปากมูล!P37+นปจ.เขื่อนสิรินธร!P37 -> 0
B38: แรงงาน (ราย) | C38: สัญชาติไทย | D38: =SUM(E38:P38) -> 0 | E38: =ศปจ.นครราชสีมา!E38+นปจ.เขื่อนลำนางรอง!E38+นปจ.เขื่อนปากมูล!E38+นปจ.เขื่อนสิรินธร!E38 -> 0 | F38: =ศปจ.นครราชสีมา!F38+นปจ.เขื่อนลำนางรอง!F38+นปจ.เขื่อนปากมูล!F38+นปจ.เขื่อนสิรินธร!F38 -> 0 | G38: =ศปจ.นครราชสีมา!G38+นปจ.เขื่อนลำนางรอง!G38+นปจ.เขื่อนปากมูล!G38+นปจ.เขื่อนสิรินธร!G38 -> 0 | H38: =ศปจ.นครราชสีมา!H38+นปจ.เขื่อนลำนางรอง!H38+นปจ.เขื่อนปากมูล!H38+นปจ.เขื่อนสิรินธร!H38 -> 0 | I38: =ศปจ.นครราชสีมา!I38+นปจ.เขื่อนลำนางรอง!I38+นปจ.เขื่อนปากมูล!I38+นปจ.เขื่อนสิรินธร!I38 -> 0 | J38: =ศปจ.นครราชสีมา!J38+นปจ.เขื่อนลำนางรอง!J38+นปจ.เขื่อนปากมูล!J38+นปจ.เขื่อนสิรินธร!J38 -> 0 | K38: =ศปจ.นครราชสีมา!K38+นปจ.เขื่อนลำนางรอง!K38+นปจ.เขื่อนปากมูล!K38+นปจ.เขื่อนสิรินธร!K38 -> 0 | L38: =ศปจ.นครราชสีมา!L38+นปจ.เขื่อนลำนางรอง!L38+นปจ.เขื่อนปากมูล!L38+นปจ.เขื่อนสิรินธร!L38 -> 0 | ... P38: =ศปจ.นครราชสีมา!P38+นปจ.เขื่อนลำนางรอง!P38+นปจ.เขื่อนปากมูล!P38+นปจ.เขื่อนสิรินธร!P38 -> 0
C39: สัญชาติเมียนมาร์ | D39: =SUM(E39:P39) -> 0 | E39: =ศปจ.นครราชสีมา!E39+นปจ.เขื่อนลำนางรอง!E39+นปจ.เขื่อนปากมูล!E39+นปจ.เขื่อนสิรินธร!E39 -> 0 | F39: =ศปจ.นครราชสีมา!F39+นปจ.เขื่อนลำนางรอง!F39+นปจ.เขื่อนปากมูล!F39+นปจ.เขื่อนสิรินธร!F39 -> 0 | G39: =ศปจ.นครราชสีมา!G39+นปจ.เขื่อนลำนางรอง!G39+นปจ.เขื่อนปากมูล!G39+นปจ.เขื่อนสิรินธร!G39 -> 0 | H39: =ศปจ.นครราชสีมา!H39+นปจ.เขื่อนลำนางรอง!H39+นปจ.เขื่อนปากมูล!H39+นปจ.เขื่อนสิรินธร!H39 -> 0 | I39: =ศปจ.นครราชสีมา!I39+นปจ.เขื่อนลำนางรอง!I39+นปจ.เขื่อนปากมูล!I39+นปจ.เขื่อนสิรินธร!I39 -> 0 | J39: =ศปจ.นครราชสีมา!J39+นปจ.เขื่อนลำนางรอง!J39+นปจ.เขื่อนปากมูล!J39+นปจ.เขื่อนสิรินธร!J39 -> 0 | K39: =ศปจ.นครราชสีมา!K39+นปจ.เขื่อนลำนางรอง!K39+นปจ.เขื่อนปากมูล!K39+นปจ.เขื่อนสิรินธร!K39 -> 0 | L39: =ศปจ.นครราชสีมา!L39+นปจ.เขื่อนลำนางรอง!L39+นปจ.เขื่อนปากมูล!L39+นปจ.เขื่อนสิรินธร!L39 -> 0 | ... P39: =ศปจ.นครราชสีมา!P39+นปจ.เขื่อนลำนางรอง!P39+นปจ.เขื่อนปากมูล!P39+นปจ.เขื่อนสิรินธร!P39 -> 0
C40: สัญชาติกัมพูชา | D40: =SUM(E40:P40) -> 0 | E40: =ศปจ.นครราชสีมา!E40+นปจ.เขื่อนลำนางรอง!E40+นปจ.เขื่อนปากมูล!E40+นปจ.เขื่อนสิรินธร!E40 -> 0 | F40: =ศปจ.นครราชสีมา!F40+นปจ.เขื่อนลำนางรอง!F40+นปจ.เขื่อนปากมูล!F40+นปจ.เขื่อนสิรินธร!F40 -> 0 | G40: =ศปจ.นครราชสีมา!G40+นปจ.เขื่อนลำนางรอง!G40+นปจ.เขื่อนปากมูล!G40+นปจ.เขื่อนสิรินธร!G40 -> 0 | H40: =ศปจ.นครราชสีมา!H40+นปจ.เขื่อนลำนางรอง!H40+นปจ.เขื่อนปากมูล!H40+นปจ.เขื่อนสิรินธร!H40 -> 0 | I40: =ศปจ.นครราชสีมา!I40+นปจ.เขื่อนลำนางรอง!I40+นปจ.เขื่อนปากมูล!I40+นปจ.เขื่อนสิรินธร!I40 -> 0 | J40: =ศปจ.นครราชสีมา!J40+นปจ.เขื่อนลำนางรอง!J40+นปจ.เขื่อนปากมูล!J40+นปจ.เขื่อนสิรินธร!J40 -> 0 | K40: =ศปจ.นครราชสีมา!K40+นปจ.เขื่อนลำนางรอง!K40+นปจ.เขื่อนปากมูล!K40+นปจ.เขื่อนสิรินธร!K40 -> 0 | L40: =ศปจ.นครราชสีมา!L40+นปจ.เขื่อนลำนางรอง!L40+นปจ.เขื่อนปากมูล!L40+นปจ.เขื่อนสิรินธร!L40 -> 0 | ... P40: =ศปจ.นครราชสีมา!P40+นปจ.เขื่อนลำนางรอง!P40+นปจ.เขื่อนปากมูล!P40+นปจ.เขื่อนสิรินธร!P40 -> 0
...

Sheet ศปจ.นครราชสีมา
A1: แบบ กตป.2
A2: กองตรวจการประมง
A3: แบบรายงานผลการปฏิบัติงาน ประจำปีงบประมาณ 2569
A4: ศูนย์ป้องกันและปราบปรามประมงน้ำจืดนครราชสีมา
A5: กิจกรรมการดำเนินงาน | B5: หน่วยนับ | C5: รายการ | D5: รวม | E5: แผน/ผลการปฏิบัติงาน
E6: ต.ค. | F6: พ.ย. | G6: ธ.ค. | H6: ม.ค. | I6: ก.พ. | J6: มี.ค. | K6: เม.ย. | L6: พ.ค. | M6: มิ.ย. | N6: ก.ค. | O6: ส.ค. | P6: ก.ย.
A7: แผนงาน : ยุทธศาสตร์ป้องกันและแก้ไขปัญหาที่มีผลกระทบต่อความมั่นคง
A8: โครงการ : ป้องกันและแก้ไขปัญหาการทำประมงผิดกฎหมาย
A9: กิจกรรม : ป้องกันและแก้ไขปัญหาการทำประมงผิดกฎหมาย
A10: กิจกรรมที่ดำเนินงาน : ควบคุมเฝ้าระวังการปฏิบัติการพื้นที่เสี่ยงและการปฏิบัติการเร่งด่วน | B10: ครั้ง | C10: แผน | D10: =SUM(E10:P10) -> 0
C11: ผล | D11: =SUM(E11:P11) -> 1 | I11: 1
B12: คดี | C12: คดีจับกุม | D12: =SUM(E12:P12) -> 0
C13: ผู้ถูกกล่าวหา(ราย) | D13: =SUM(E13:P13) -> 0
C14: คดีตรวจยึด | D14: =SUM(E14:P14) -> 2 | I14: 2
B15: เรือที่ตรวจ (ลำ) | C15: < 10 ตันกรอส | D15: =SUM(E15:P15) -> 0
C16: 10.01 - 30 ตันกรอส | D16: =SUM(E16:P16) -> 0
C17: 30.01 - 60 ตันกรอส | D17: =SUM(E17:P17) -> 0
C18: 60.01 - 150 ตันกรอส | D18: =SUM(E18:P18) -> 0
C19: > 150 ตันกรอส | D19: =SUM(E19:P19) -> 0
B20: แรงงาน (ราย) | C20: สัญชาติไทย | D20: =SUM(E20:P20) -> 0
C21: สัญชาติเมียนมาร์ | D21: =SUM(E21:P21) -> 0
C22: สัญชาติกัมพูชา | D22: =SUM(E22:P22) -> 0
C23: สัญชาติลาว | D23: =SUM(E23:P23) -> 0
C24: อื่นๆ | D24: =SUM(E24:P24) -> 0
B25: บาท | C25: งบประมาณที่จัดสรร | D25: =SUM(E25:P25) -> 15000 | I25: 15000
C26: งบประมาณที่ใช้ | D26: =SUM(E26:P26) -> 15000 | I26: 15000
C27: งบประมาณคงเหลือ | D27: =SUM(D25-D26) -> 0
A28: กิจกรรมที่ดำเนินงาน : ควบคุมเฝ้าระวังการทำการประมงพื้นที่ทะเลชายฝั่ง | B28: ครั้ง | C28: แผน | D28: =SUM(E28:P28) -> 0
C29: ผล | D29: =SUM(E29:P29) -> 0
B30: คดี | C30: คดีจับกุม | D30: =SUM(E30:P30) -> 0
C31: ผู้ถูกกล่าวหา(ราย) | D31: =SUM(E31:P31) -> 0
C32: คดีตรวจยึด | D32: =SUM(E32:P32) -> 0
B33: เรือที่ตรวจ (ลำ) | C33: < 10 ตันกรอส | D33: =SUM(E33:P33) -> 0
C34: 10.01 - 30 ตันกรอส | D34: =SUM(E34:P34) -> 0
C35: 30.01 - 60 ตันกรอส | D35: =SUM(E35:P35) -> 0
C36: 60.01 - 150 ตันกรอส | D36: =SUM(E36:P36) -> 0
C37: > 150 ตันกรอส | D37: =SUM(E37:P37) -> 0
B38: แรงงาน (ราย) | C38: สัญชาติไทย | D38: =SUM(E38:P38) -> 0
C39: สัญชาติเมียนมาร์ | D39: =SUM(E39:P39) -> 0
C40: สัญชาติกัมพูชา | D40: =SUM(E40:P40) -> 0
...

Sheet นปจ.เขื่อนลำนางรอง
A1: แบบ กตป.2
A2: กองตรวจการประมง
A3: แบบรายงานผลการปฏิบัติงาน ประจำปีงบประมาณ 2569
A4: หน่วยป้องกันและปราบปรามประมงน้ำจืดเขื่อนลำนางรอง (บุรีรัมย์)
A5: กิจกรรมการดำเนินงาน | B5: หน่วยนับ | C5: รายการ | D5: รวม | E5: แผน/ผลการปฏิบัติงาน
E6: ต.ค. | F6: พ.ย. | G6: ธ.ค. | H6: ม.ค. | I6: ก.พ. | J6: มี.ค. | K6: เม.ย. | L6: พ.ค. | M6: มิ.ย. | N6: ก.ค. | O6: ส.ค. | P6: ก.ย.
A7: แผนงาน : ยุทธศาสตร์ป้องกันและแก้ไขปัญหาที่มีผลกระทบต่อความมั่นคง
A8: โครงการ : ป้องกันและแก้ไขปัญหาการทำประมงผิดกฎหมาย
A9: กิจกรรม : ป้องกันและแก้ไขปัญหาการทำประมงผิดกฎหมาย
A10: กิจกรรมที่ดำเนินงาน : ควบคุมเฝ้าระวังการปฏิบัติการพื้นที่เสี่ยงและการปฏิบัติการเร่งด่วน | B10: ครั้ง | C10: แผน | D10: =SUM(E10:P10) -> 0
C11: ผล | D11: =SUM(E11:P11) -> 1 | J11: 1
B12: คดี | C12: คดีจับกุม | D12: =SUM(E12:P12) -> 0
C13: ผู้ถูกกล่าวหา(ราย) | D13: =SUM(E13:P13) -> 0
C14: คดีตรวจยึด | D14: =SUM(E14:P14) -> 2 | J14: 2
B15: เรือที่ตรวจ (ลำ) | C15: < 10 ตันกรอส | D15: =SUM(E15:P15) -> 0
C16: 10.01 - 30 ตันกรอส | D16: =SUM(E16:P16) -> 0
C17: 30.01 - 60 ตันกรอส | D17: =SUM(E17:P17) -> 0
C18: 60.01 - 150 ตันกรอส | D18: =SUM(E18:P18) -> 0
C19: > 150 ตันกรอส | D19: =SUM(E19:P19) -> 0
B20: แรงงาน (ราย) | C20: สัญชาติไทย | D20: =SUM(E20:P20) -> 0
C21: สัญชาติเมียนมาร์ | D21: =SUM(E21:P21) -> 0
C22: สัญชาติกัมพูชา | D22: =SUM(E22:P22) -> 0
C23: สัญชาติลาว | D23: =SUM(E23:P23) -> 0
C24: อื่นๆ | D24: =SUM(E24:P24) -> 0
B25: บาท | C25: งบประมาณที่จัดสรร | D25: =SUM(E25:P25) -> 15000 | J25: 15000
C26: งบประมาณที่ใช้ | D26: =SUM(E26:P26) -> 15000 | J26: 15000
C27: งบประมาณคงเหลือ | D27: =SUM(D25-D26) -> 0
A28: กิจกรรมที่ดำเนินงาน : ควบคุมเฝ้าระวังการทำการประมงพื้นที่ทะเลชายฝั่ง | B28: ครั้ง | C28: แผน | D28: =SUM(E28:P28) -> 0
C29: ผล | D29: =SUM(E29:P29) -> 0
B30: คดี | C30: คดีจับกุม | D30: =SUM(E30:P30) -> 0
C31: ผู้ถูกกล่าวหา(ราย) | D31: =SUM(E31:P31) -> 0
C32: คดีตรวจยึด | D32: =SUM(E32:P32) -> 0
B33: เรือที่ตรวจ (ลำ) | C33: < 10 ตันกรอส | D33: =SUM(E33:P33) -> 0
C34: 10.01 - 30 ตันกรอส | D34: =SUM(E34:P34) -> 0
C35: 30.01 - 60 ตันกรอส | D35: =SUM(E35:P35) -> 0
C36: 60.01 - 150 ตันกรอส | D36: =SUM(E36:P36) -> 0
C37: > 150 ตันกรอส | D37: =SUM(E37:P37) -> 0
B38: แรงงาน (ราย) | C38: สัญชาติไทย | D38: =SUM(E38:P38) -> 0
C39: สัญชาติเมียนมาร์ | D39: =SUM(E39:P39) -> 0
C40: สัญชาติกัมพูชา | D40: =SUM(E40:P40) -> 0
...

Sheet นปจ.เขื่อนปากมูล
A1: แบบ กตป.2
A2: กองตรวจการประมง
A3: แบบรายงานผลการปฏิบัติงาน ประจำปีงบประมาณ 2569
A4: หน่วยป้องกันและปราบปรามประมงน้ำจืดเขื่อนปากมูล (อุบลราชธานี)
A5: กิจกรรมการดำเนินงาน | B5: หน่วยนับ | C5: รายการ | D5: รวม | E5: แผน/ผลการปฏิบัติงาน
E6: ต.ค. | F6: พ.ย. | G6: ธ.ค. | H6: ม.ค. | I6: ก.พ. | J6: มี.ค. | K6: เม.ย. | L6: พ.ค. | M6: มิ.ย. | N6: ก.ค. | O6: ส.ค. | P6: ก.ย.
A7: แผนงาน : ยุทธศาสตร์ป้องกันและแก้ไขปัญหาที่มีผลกระทบต่อความมั่นคง
A8: โครงการ : ป้องกันและแก้ไขปัญหาการทำประมงผิดกฎหมาย
A9: กิจกรรม : ป้องกันและแก้ไขปัญหาการทำประมงผิดกฎหมาย
A10: กิจกรรมที่ดำเนินงาน : ควบคุมเฝ้าระวังการปฏิบัติการพื้นที่เสี่ยงและการปฏิบัติการเร่งด่วน | B10: ครั้ง | C10: แผน | D10: =SUM(E10:P10) -> 0
C11: ผล | D11: =SUM(E11:P11) -> 0
B12: คดี | C12: คดีจับกุม | D12: =SUM(E12:P12) -> 0
C13: ผู้ถูกกล่าวหา(ราย) | D13: =SUM(E13:P13) -> 0
C14: คดีตรวจยึด | D14: =SUM(E14:P14) -> 0
B15: เรือที่ตรวจ (ลำ) | C15: < 10 ตันกรอส | D15: =SUM(E15:P15) -> 0
C16: 10.01 - 30 ตันกรอส | D16: =SUM(E16:P16) -> 0
C17: 30.01 - 60 ตันกรอส | D17: =SUM(E17:P17) -> 0
C18: 60.01 - 150 ตันกรอส | D18: =SUM(E18:P18) -> 0
C19: > 150 ตันกรอส | D19: =SUM(E19:P19) -> 0
B20: แรงงาน (ราย) | C20: สัญชาติไทย
C21: สัญชาติเมียนมาร์
C22: สัญชาติกัมพูชา
C23: สัญชาติลาว
C24: อื่นๆ
B25: บาท | C25: งบประมาณที่จัดสรร | D25: =SUM(E25:P25) -> 0
C26: งบประมาณที่ใช้ | D26: =SUM(E26:P26) -> 0
C27: งบประมาณคงเหลือ | D27: =SUM(D25-D26) -> 0
A28: กิจกรรมที่ดำเนินงาน : ควบคุมเฝ้าระวังการทำการประมงพื้นที่ทะเลชายฝั่ง | B28: ครั้ง | C28: แผน | D28: =SUM(E28:P28) -> 0
C29: ผล | D29: =SUM(E29:P29) -> 0
B30: คดี | C30: คดีจับกุม | D30: =SUM(E30:P30) -> 0
C31: ผู้ถูกกล่าวหา(ราย) | D31: =SUM(E31:P31) -> 0
C32: คดีตรวจยึด | D32: =SUM(E32:P32) -> 0
B33: เรือที่ตรวจ (ลำ) | C33: < 10 ตันกรอส | D33: =SUM(E33:P33) -> 0
C34: 10.01 - 30 ตันกรอส | D34: =SUM(E34:P34) -> 0
C35: 30.01 - 60 ตันกรอส | D35: =SUM(E35:P35) -> 0
C36: 60.01 - 150 ตันกรอส | D36: =SUM(E36:P36) -> 0
C37: > 150 ตันกรอส | D37: =SUM(E37:P37) -> 0
B38: แรงงาน (ราย) | C38: สัญชาติไทย
C39: สัญชาติเมียนมาร์
C40: สัญชาติกัมพูชา
...

Sheet นปจ.เขื่อนสิรินธร
A1: แบบ กตป.2
A2: กองตรวจการประมง
A3: แบบรายงานผลการปฏิบัติงาน ประจำปีงบประมาณ 2569
A4: หน่วยป้องกันและปราบปรามประมงน้ำจืดเขื่อนสิรินธร (อุบลราชธานี)
A5: กิจกรรมการดำเนินงาน | B5: หน่วยนับ | C5: รายการ | D5: รวม | E5: แผน/ผลการปฏิบัติงาน
E6: ต.ค. | F6: พ.ย. | G6: ธ.ค. | H6: ม.ค. | I6: ก.พ. | J6: มี.ค. | K6: เม.ย. | L6: พ.ค. | M6: มิ.ย. | N6: ก.ค. | O6: ส.ค. | P6: ก.ย.
A7: แผนงาน : ยุทธศาสตร์ป้องกันและแก้ไขปัญหาที่มีผลกระทบต่อความมั่นคง
A8: โครงการ : ป้องกันและแก้ไขปัญหาการทำประมงผิดกฎหมาย
A9: กิจกรรม : ป้องกันและแก้ไขปัญหาการทำประมงผิดกฎหมาย
A10: กิจกรรมที่ดำเนินงาน : ควบคุมเฝ้าระวังการปฏิบัติการพื้นที่เสี่ยงและการปฏิบัติการเร่งด่วน | B10: ครั้ง | C10: แผน | D10: =SUM(E10:P10) -> 0
C11: ผล | D11: =SUM(E11:P11) -> 0
B12: คดี | C12: คดีจับกุม | D12: =SUM(E12:P12) -> 0
C13: ผู้ถูกกล่าวหา(ราย) | D13: =SUM(E13:P13) -> 0
C14: คดีตรวจยึด | D14: =SUM(E14:P14) -> 0
B15: เรือที่ตรวจ (ลำ) | C15: < 10 ตันกรอส | D15: =SUM(E15:P15) -> 0
C16: 10.01 - 30 ตันกรอส | D16: =SUM(E16:P16) -> 0
C17: 30.01 - 60 ตันกรอส | D17: =SUM(E17:P17) -> 0
C18: 60.01 - 150 ตันกรอส | D18: =SUM(E18:P18) -> 0
C19: > 150 ตันกรอส | D19: =SUM(E19:P19) -> 0
B20: แรงงาน (ราย) | C20: สัญชาติไทย
C21: สัญชาติเมียนมาร์
C22: สัญชาติกัมพูชา
C23: สัญชาติลาว
C24: อื่นๆ
B25: บาท | C25: งบประมาณที่จัดสรร | D25: =SUM(E25:P25) -> 0
C26: งบประมาณที่ใช้ | D26: =SUM(E26:P26) -> 0
C27: งบประมาณคงเหลือ | D27: =SUM(D25-D26) -> 0
A28: กิจกรรมที่ดำเนินงาน : ควบคุมเฝ้าระวังการทำการประมงพื้นที่ทะเลชายฝั่ง | B28: ครั้ง | C28: แผน | D28: =SUM(E28:P28) -> 0
C29: ผล | D29: =SUM(E29:P29) -> 0
B30: คดี | C30: คดีจับกุม | D30: =SUM(E30:P30) -> 0
C31: ผู้ถูกกล่าวหา(ราย) | D31: =SUM(E31:P31) -> 0
C32: คดีตรวจยึด | D32: =SUM(E32:P32) -> 0
B33: เรือที่ตรวจ (ลำ) | C33: < 10 ตันกรอส | D33: =SUM(E33:P33) -> 0
C34: 10.01 - 30 ตันกรอส | D34: =SUM(E34:P34) -> 0
C35: 30.01 - 60 ตันกรอส | D35: =SUM(E35:P35) -> 0
C36: 60.01 - 150 ตันกรอส | D36: =SUM(E36:P36) -> 0
C37: > 150 ตันกรอส | D37: =SUM(E37:P37) -> 0
B38: แรงงาน (ราย) | C38: สัญชาติไทย
C39: สัญชาติเมียนมาร์
C40: สัญชาติกัมพูชา
...
