Workbook

Sheet กตป.1
A1: แบบ กตป.1
A2: กองตรวจการประมง
A3: แบบรายงานผลการปฏิบัติงาน ประจำปีงบประมาณ 2569
A4: ศูนย์ป้องกันและปราบปรามประมงน้ำจืดนครราชสีมา
A5: กิจกรรมการดำเนินงาน | B5: หน่วยนับ | C5: รายการ | D5: รวม | E5: แผน/ผลการปฏิบัติงาน
E6: ต.ค. | F6: พ.ย. | G6: ธ.ค. | H6: ม.ค. | I6: ก.พ. | J6: มี.ค. | K6: เม.ย. | L6: พ.ค. | M6: มิ.ย. | N6: ก.ค. | O6: ส.ค. | P6: ก.ย.
A7: แผนงาน : ยุทธศาสตร์ป้องกันและแก้ไขปัญหาที่มีผลกระทบต่อความมั่นคง
A8: โครงการ : ป้องกันและแก้ไขปัญหาการทำประมงผิดกฎหมาย
A9: กิจกรรม : ป้องกันและแก้ไขปัญหาการทำประมงผิดกฎหมาย
A10: กิจกรรมที่ดำเนินงาน : ควบคุมเฝ้าระวังการปฏิบัติการพื้นที่เสี่ยงและการปฏิบัติการเร่งด่วน | B10: ครั้ง | C10: แผน | D10: =SUM(E10:P10) -> 0 | E10: =ศปจ.นครราชสีมา!E10+นปจ.เขื่อนลำนางรอง!E10+นปจ.เขื่อนปากมูล!E10+นปจ.เขื่อนสิรินธร!E10 -> 0 | F10: =ศปจ.นครราชสีมา!F10+นปจ.เขื่อนลำนางรอง!F10+นปจ.เขื่อนปากมูล!F10+นปจ.เขื่อนสิรินธร!F10 -> 0 | G10: =ศปจ.นครราชสีมา!G10+นปจ.เขื่อนลำนางรอง!G10+นปจ.เขื่อนปากมูล!G10+นปจ.เขื่อนสิรินธร!G10 -> 0 | H10: =ศปจ.นครราชสีมา!H10+นปจ.เขื่อนลำนางรอง!H10+นปจ.เขื่อนปากมูล!H10+นปจ.เขื่อนสิรินธร!H10 -> 0 | I10: =ศปจ.นครราชสีมา!I10+นปจ.เขื่อนลำนางรอง!I10+นปจ.เขื่อนปากมูล!I10+นปจ.เขื่อนสิรินธร!I10 -> 0 | J10: =ศปจ.นครราชสีมา!J10+นปจ.เขื่อนลำนางรอง!J10+นปจ.เขื่อนปากมูล!J10+นปจ.เขื่อนสิรินธร!J10 -> 0 | K10: =ศปจ.นครราชสีมา!K10+นปจ.เขื่อนลำนางรอง!K10+นปจ.เขื่อนปากมูล!K10+นปจ.เขื่อนสิรินธร!K10 -> 0 | L10: =ศปจ.นครราชสีมา!L10+นปจ.เขื่อนลำนางรอง!L10+นปจ.เขื่อนปากมูล!L10+นปจ.เขื่อนสิรินธร!L10 -> 0 | ... P10: =ศปจ.นครราชสีมา!P10+นปจ.เขื่อนลำนางรอง!P10+นปจ.เขื่อนปากมูล!P10+นปจ.เขื่อนสิรินธร!P10 -> 0
C11: ผล | D11: =SUM(E11:P11) -> 2 | E11: =ศปจ.นครราชสีมา!E11+นปจ.เขื่อนลำนางรอง!E11+นปจ.เขื่อนปากมูล!E11+นปจ.เขื่อนสิรินธร!E11 -> 0 | F11: =ศปจ.นครราชสีมา!F11+นปจ.เขื่อนลำนางรอง!F11+นปจ.เขื่อนปากมูล!F11+นปจ.เขื่อนสิรินธร!F11 -> 0 | G11: =ศปจ.นครราชสีมา!G11+นปจ.เขื่อนลำนางรอง!G11+นปจ.เขื่อนปากมูล!G11+นปจ.เขื่อนสิรินธร!G11 -> 0 | H11: =ศปจ.นครราชสีมา!H11+นปจ.เขื่อนลำนางรอง!H11+นปจ.เขื่อนปากมูล!H11+นปจ.เขื่อนสิรินธร!H11 -> 0 | I11: =ศปจ.นครราชสีมา!I11+นปจ.เขื่อนลำนางรอง!I11+นปจ.เขื่อนปากมูล!I11+นปจ.เขื่อนสิรินธร!I11 -> 1 | J11: =ศปจ.นครราชสีมา!J11+นปจ.เขื่อนลำนางรอง!J11+นปจ.เขื่อนปากมูล!J11+นปจ.เขื่อนสิรินธร!J11 -> 1 | K11: =ศปจ.นครราชสีมา!K11+นปจ.เขื่อนลำนางรอง!K11+นปจ.เขื่อนปากมูล!K11+นปจ.เขื่อนสิรินธร!K11 -> 0 | L11: =ศปจ.นครราชสีมา!L11+นปจ.เขื่อนลำนางรอง!L11+นปจ.เขื่อนปากมูล!L11+นปจ.เขื่อนสิรินธร!L11 -> 0 | ... P11: =ศปจ.นครราชสีมา!P11+นปจ.เขื่อนลำนางรอง!P11+นปจ.เขื่อนปากมูล!P11+นปจ.เขื่อนสิรินธร!P11 -> 0
B12: คดี | C12: คดีจับกุม | D12: =SUM(E12:P12) -> 0 | E12: =ศปจ.นครราชสีมา!E12+นปจ.เขื่อนลำนางรอง!E12+นปจ.เขื่อนปากมูล!E12+นปจ.เขื่อนสิรินธร!E12 -> 0 | F12: =ศปจ.นครราชสีมา!F12+นปจ.เขื่อนลำนางรอง!F12+นปจ.เขื่อนปากมูล!F12+นปจ.เขื่อนสิรินธร!F12 -> 0 | G12: =ศปจ.นครราชสีมา!G12+นปจ.เขื่อนลำนางรอง!G12+นปจ.เขื่อนปากมูล!G12+นปจ.เขื่อนสิรินธร!G12 -> 0 | H12: =ศปจ.นครราชสีมา!H12+นปจ.เขื่อนลำนางรอง!H12+นปจ.เขื่อนปากมูล!H12+นปจ.เขื่อนสิรินธร!H12 -> 0 | I12: =ศปจ.นครราชสีมา!I12+นปจ.เขื่อนลำนางรอง!I12+นปจ.เขื่อนปากมูล!I12+นปจ.เขื่อนสิรินธร!I12 -> 0 | J12: =ศปจ.นครราชสีมา!J12+นปจ.เขื่อนลำนางรอง!J12+นปจ.เขื่อนปากมูล!J12+นปจ.เขื่อนสิรินธร!J12 -> 0 | K12: =ศปจ.นครราชสีมา!K12+นปจ.เขื่อนลำนางรอง!K12+นปจ.เขื่อนปากมูล!K12+นปจ.เขื่อนสิรินธร!K12 -> 0 | L12: =ศปจ.นครราชสีมา!L12+นปจ.เขื่อนลำนางรอง!L12+นปจ.เขื่อนปากมูล!L12+นปจ.เขื่อนสิรินธร!L12 -> 0 | ... P12: =ศปจ.นครราชสีมา!P12+นปจ.เขื่อนลำนางรอง!P12+นปจ.เขื่อนปากมูล!P12+นปจ.เขื่อนสิรินธร!P12 -> 0
C13: ผู้ถูกกล่าวหา(ราย) | D13: =SUM(E13:P13) -> 0 | E13: =ศปจ.นครราชสีมา!E13+นปจ.เขื่อนลำนางรอง!E13+นปจ.เขื่อนปากมูล!E13+นปจ.เขื่อนสิรินธร!E13 -> 0 | F13: =ศปจ.นครราชสีมา!F13+นปจ.เขื่อนลำนางรอง!F13+นปจ.เขื่อนปากมูล!F13+นปจ.เขื่อนสิรินธร!F13 -> 0 | G13: =ศปจ.นครราชสีมา!G13+นปจ.เขื่อนลำนางรอง!G13+นปจ.เขื่อนปากมูล!G13+นปจ.เขื่อนสิรินธร!G13 -> 0 | H13: =ศปจ.นครราชสีมา!H13+นปจ.เขื่อนลำนางรอง!H13+นปจ.เขื่อนปากมูล!H13+นปจ.เขื่อนสิรินธร!H13 -> 0 | I13: =ศปจ.นครราชสีมา!I13+นปจ.เขื่อนลำนางรอง!I13+นปจ.เขื่อนปากมูล!I13+นปจ.เขื่อนสิรินธร!I13 -> 0 | J13: =ศปจ.นครราชสีมา!J13+นปจ.เขื่อนลำนางรอง!J13+นปจ.เขื่อนปากมูล!J13+นปจ.เขื่อนสิรินธร!J13 -> 0 | K13: =ศปจ.นครราชสีมา!K13+นปจ.เขื่อนลำนางรอง!K13+นปจ.เขื่อนปากมูล!K13+นปจ.เขื่อนสิรินธร!K13 -> 0 | L13: =ศปจ.นครราชสีมา!L13+นปจ.เขื่อนลำนางรอง!L13+นปจ.เขื่อนปากมูล!L13+นปจ.เขื่อนสิรินธร!L13 -> 0 | ... P13: =ศปจ.นครราชสีมา!P13+นปจ.เขื่อนลำนางรอง!P13+นปจ.เขื่อนปากมูล!P13+นปจ.เขื่อนสิรินธร!P13 -> 0
C14: คดีตรวจยึด | D14: =SUM(E14:P14) -> 4 | E14: =ศปจ.นครราชสีมา!E14+นปจ.เขื่อนลำนางรอง!E14+นปจ.เขื่อนปากมูล!E14+นปจ.เขื่อนสิรินธร!E14 -> 0 | F14: =ศปจ.นครราชสีมา!F14+นปจ.เขื่อนลำนางรอง!F14+นปจ.เขื่อนปากมูล!F14+นปจ.เขื่อนสิรินธร!F14 -> 0 | G14: =ศปจ.นครราชสีมา!G14+นปจ.เขื่อนลำนางรอง!G14+นปจ.เขื่อนปากมูล!G14+นปจ.เขื่อนสิรินธร!G14 -> 0 | H14: =ศปจ.นครราชสีมา!H14+นปจ.เขื่อนลำนางรอง!H14+นปจ.เขื่อนปากมูล!H14+นปจ.เขื่อนสิรินธร!H14 -> 0 | I14: =ศปจ.นครราชสีมา!I14+นปจ.เขื่อนลำนางรอง!I14+นปจ.เขื่อนปากมูล!I14+นปจ.เขื่อนสิรินธร!I14 -> 2 | J14: =ศปจ.นครราชสีมา!J14+นปจ.เขื่อนลำนางรอง!J14+นปจ.เขื่อนปากมูล!J14+นปจ.เขื่อนสิรินธร!J14 -> 2 | K14: =ศปจ.นครราชสีมา!K14+นปจ.เขื่อนลำนางรอง!K14+นปจ.เขื่อนปากมูล!K14+นปจ.เขื่อนสิรินธร!K14 -> 0 | L14: =ศปจ.นครราชสีมา!L14+นปจ.เขื่อนลำนางรอง!L14+นปจ.เขื่อนปากมูล!L14+นปจ.เขื่อนสิรินธร!L14 -> 0 | ... P14: =ศปจ.นครราชสีมา!P14+นปจ.เขื่อนลำนางรอง!P14+นปจ.เขื่อนปากมูล!P14+นปจ.เขื่อนสิรินธร!P14 -> 0
B15: เรือที่ตรวจ (ลำ) | C15: < 10 ตันกรอส | D15: =SUM(E15:P15) -> 0 | E15: =ศปจ.นครราชสีมา!E15+นปจ.เขื่อนลำนางรอง!E15+นปจ.เขื่อนปากมูล!E15+นปจ.เขื่อนสิรินธร!E15 -> 0 | F15: =ศปจ.นครราชสีมา!F15+นปจ.เขื่อนลำนางรอง!F15+นปจ.เขื่อนปากมูล!F15+นปจ.เขื่อนสิรินธร!F15 -> 0 | G15: =ศปจ.นครราชสีมา!G15+นปจ.เขื่อนลำนางรอง!G15+นปจ.เขื่อนปากมูล!G15+นปจ.เขื่อนสิรินธร!G15 -> 0 | H15: =ศปจ.นครราชสีมา!H15+นปจ.เขื่อนลำนางรอง!H15+นปจ.เขื่อนปากมูล!H15+นปจ.เขื่อนสิรินธร!H15 -> 0 | I15: =ศปจ.นครราชสีมา!I15+นปจ.เขื่อนลำนางรอง!I15+นปจ.เขื่อนปากมูล!I15+นปจ.เขื่อนสิรินธร!I15 -> 0 | J15: =ศปจ.นครราชสีมา!J15+นปจ.เขื่อนลำนางรอง!J15+นปจ.เขื่อนปากมูล!J15+นปจ.เขื่อนสิรินธร!J15 -> 0 | K15: =ศปจ.นครราชสีมา!K15+นปจ.เขื่อนลำนางรอง!K15+นปจ.เขื่อนปากมูล!K15+นปจ.เขื่อนสิรินธร!K15 -> 0 | L15: =ศปจ.นครราชสีมา!L15+นปจ.เขื่อนลำนางรอง!L15+นปจ.เขื่อนปากมูล!L15+นปจ.เขื่อนสิรินธร!L15 -> 0 | ... P15: =ศปจ.นครราชสีมา!P15+นปจ.เขื่อนลำนางรอง!P15+นปจ.เขื่อนปากมูล!P15+นปจ.เขื่อนสิรินธร!P15 -> 0
C16: 10.01 - 30 ตันกรอส | D16: =SUM(E16:P16) -> 0 | E16: =ศปจ.นครราชสีมา!E16+นปจ.เขื่อนลำนางรอง!E16+นปจ.เขื่อนปากมูล!E16+นปจ.เขื่อนสิรินธร!E16 -> 0 | F16: =ศปจ.นครราชสีมา!F16+นปจ.เขื่อนลำนางรอง!F16+นปจ.เขื่อนปากมูล!F16+นปจ.เขื่อนสิรินธร!F16 -> 0 | G16: =ศปจ.นครราชสีมา!G16+นปจ.เขื่อนลำนางรอง!G16+นปจ.เขื่อนปากมูล!G16+นปจ.เขื่อนสิรินธร!G16 -> 0 | H16: =ศปจ.นครราชสีมา!H16+นปจ.เขื่อนลำนางรอง!H16+นปจ.เขื่อนปากมูล!H16+นปจ.เขื่อนสิรินธร!H16 -> 0 | I16: =ศปจ.นครราชสีมา!I16+นปจ.เขื่อนลำนางรอง!I16+นปจ.เขื่อนปากมูล!I16+นปจ.เขื่อนสิรินธร!I16 -> 0 | J16: =ศปจ.นครราชสีมา!J16+นปจ.เขื่อนลำนางรอง!J16+นปจ.เขื่อนปากมูล!J16+นปจ.เขื่อนสิรินธร!J16 -> 0 | K16: =ศปจ.นครราชสีมา!K16+นปจ.เขื่อนลำนางรอง!K16+นปจ.เขื่อนปากมูล!K16+นปจ.เขื่อนสิรินธร!K16 -> 0 | L16: =ศปจ.นครราชสีมา!L16+นปจ.เขื่อนลำนางรอง!L16+นปจ.เขื่อนปากมูล!L16+นปจ.เขื่อนสิรินธร!L16 -> 0 | ... P16: =ศปจ.นครราชสีมา!P16+นปจ.เขื่อนลำนางรอง!P16+นปจ.เขื่อนปากมูล!P16+นปจ.เขื่อนสิรินธร!P16 -> 0
C17: 30.01 - 60 ตันกรอส | D17: =SUM(E17:P17) -> 0 | E17: =ศปจ.นครราชสีมา!E17+นปจ.เขื่อนลำนางรอง!E17+นปจ.เขื่อนปากมูล!E17+นปจ.เขื่อนสิรินธร!E17 -> 0 | F17: =ศปจ.นครราชสีมา!F17+นปจ.เขื่อนลำนางรอง!F17+นปจ.เขื่อนปากมูล!F17+นปจ.เขื่อนสิรินธร!F17 -> 0 | G17: =ศปจ.นครราชสีมา!G17+นปจ.เขื่อนลำนางรอง!G17+นปจ.เขื่อนปากมูล!G17+นปจ.เขื่อนสิรินธร!G17 -> 0 | H17: =ศปจ.นครราชสีมา!H17+นปจ.เขื่อนลำนางรอง!H17+นปจ.เขื่อนปากมูล!H17+นปจ.เขื่อนสิรินธร!H17 -> 0 | I17: =ศปจ.นครราชสีมา!I17+นปจ.เขื่อนลำนางรอง!I17+นปจ.เขื่อนปากมูล!I17+นปจ.เขื่อนสิรินธร!I17 -> 0 | J17: =ศปจ.นครราชสีมา!J17+นปจ.เขื่อนลำนางรอง!J17+นปจ.เขื่อนปากมูล!J17+นปจ.เขื่อนสิรินธร!J17 -> 0 | K17: =ศปจ.นครราชสีมา!K17+นปจ.เขื่อนลำนางรอง!K17+นปจ.เขื่อนปากมูล!K17+นปจ.เขื่อนสิรินธร!K17 -> 0 | L17: =ศปจ.นครราชสีมา!L17+นปจ.เขื่อนลำนางรอง!L17+นปจ.เขื่อนปากมูล!L17+นปจ.เขื่อนสิรินธร!L17 -> 0 | ... P17: =ศปจ.นครราชสีมา!P17+นปจ.เขื่อนลำนางรอง!P17+นปจ.เขื่อนปากมูล!P17+นปจ.เขื่อนสิรินธร!P17 -> 0
C18: 60.01 - 150 ตันกรอส | D18: =SUM(E18:P18) -> 0 | E18: =ศปจ.นครราชสีมา!E18+นปจ.เขื่อนลำนางรอง!E18+นปจ.เขื่อนปากมูล!E18+นปจ.เขื่อนสิรินธร!E18 -> 0 | F18: =ศปจ.นครราชสีมา!F18+นปจ.เขื่อนลำนางรอง!F18+นปจ.เขื่อนปากมูล!F18+นปจ.เขื่อนสิรินธร!F18 -> 0 | G18: =ศปจ.นครราชสีมา!G18+นปจ.เขื่อนลำนางรอง!G18+นปจ.เขื่อนปากมูล!G18+นปจ.เขื่อนสิรินธร!G18 -> 0 | H18: =ศปจ.นครราชสีมา!H18+นปจ.เขื่อนลำนางรอง!H18+นปจ.เขื่อนปากมูล!H18+นปจ.เขื่อนสิรินธร!H18 -> 0 | I18: =ศปจ.นครราชสีมา!I18+นปจ.เขื่อนลำนางรอง!I18+นปจ.เขื่อนปากมูล!I18+นปจ.เขื่อนสิรินธร!I18 -> 0 | J18: =ศปจ.นครราชสีมา!J18+นปจ.เขื่อนลำนางรอง!J18+นปจ.เขื่อนปากมูล!J18+นปจ.เขื่อนสิรินธร!J18 -> 0 | K18: =ศปจ.นครราชสีมา!K18+นปจ.เขื่อนลำนางรอง!K18+นปจ.เขื่อนปากมูล!K18+นปจ.เขื่อนสิรินธร!K18 -> 0 | L18: =ศปจ.นครราชสีมา!L18+นปจ.เขื่อนลำนางรอง!L18+นปจ.เขื่อนปากมูล!L18+นปจ.เขื่อนสิรินธร!L18 -> 0 | ... P18: =ศปจ.นครราชสีมา!P18+นปจ.เขื่อนลำนางรอง!P18+นปจ.เขื่อนปากมูล!P18+นปจ.เขื่อนสิรินธร!P18 -> 0
C19: > 150 ตันกรอส | D19: =SUM(E19:P19) -> 0 | E19: =ศปจ.นครราชสีมา!E19+นปจ.เขื่อนลำนางรอง!E19+นปจ.เขื่อนปากมูล!E19+นปจ.เขื่อนสิรินธร!E19 -> 0 | F19: =ศปจ.นครราชสีมา!F19+นปจ.เขื่อนลำนางรอง!F19+นปจ.เขื่อนปากมูล!F19+นปจ.เขื่อนสิรินธร!F19 -> 0 | G19: =ศปจ.นครราชสีมา!G19+นปจ.เขื่อนลำนางรอง!G19+นปจ.เขื่อนปากมูล!G19+นปจ.เขื่อนสิรินธร!G19 -> 0 | H19: =ศปจ.นครราชสีมา!H19+นปจ.เขื่อนลำนางรอง!H19+นปจ.เขื่อนปากมูล!H19+นปจ.เขื่อนสิรินธร!H19 -> 0 | I19: =ศปจ.นครราชสีมา!I19+นปจ.เขื่อนลำนางรอง!I19+นปจ.เขื่อนปากมูล!I19+นปจ.เขื่อนสิรินธร!I19 -> 0 | J19: =ศปจ.นครราชสีมา!J19+นปจ.เขื่อนลำนางรอง!J19+นปจ.เขื่อนปากมูล!J19+นปจ.เขื่อนสิรินธร!J19 -> 0 | K19: =ศปจ.นครราชสีมา!K19+นปจ.เขื่อนลำนางรอง!K19+นปจ.เขื่อนปากมูล!K19+นปจ.เขื่อนสิรินธร!K19 -> 0 | L19: =ศปจ.นครราชสีมา!L19+นปจ.เขื่อนลำนางรอง!L19+นปจ.เขื่อนปากมูล!L19+นปจ.เขื่อนสิรินธร!L19 -> 0 | ... P19: =ศปจ.นครราชสีมา!P19+นปจ.เขื่อนลำนางรอง!P19+นปจ.เขื่อนปากมูล!P19+นปจ.เขื่อนสิรินธร!P19 -> 0
B20: แรงงาน (ราย) | C20: สัญชาติไทย | D20: =SUM(E20:P20) -> 0 | E20: =ศปจ.นครราชสีมา!E20+นปจ.เขื่อนลำนางรอง!E20+นปจ.เขื่อนปากมูล!E20+นปจ.เขื่อนสิรินธร!E20 -> 0 | F20: =ศปจ.นครราชสีมา!F20+นปจ.เขื่อนลำนางรอง!F20+นปจ.เขื่อนปากมูล!F20+นปจ.เขื่อนสิรินธร!F20 -> 0 | G20: =ศปจ.นครราชสีมา!G20+นปจ.เขื่อนลำนางรอง!G20+นปจ.เขื่อนปากมูล!G20+นปจ.เขื่อนสิรินธร!G20 -> 0 | H20: =ศปจ.นครราชสีมา!H20+นปจ.เขื่อนลำนางรอง!H20+นปจ.เขื่อนปากมูล!H20+นปจ.เขื่อนสิรินธร!H20 -> 0 | I20: =ศปจ.นครราชสีมา!I20+นปจ.เขื่อนลำนางรอง!I20+นปจ.เขื่อนปากมูล!I20+นปจ.เขื่อนสิรินธร!I20 -> 0 | J20: =ศปจ.นครราชสีมา!J20+นปจ.เขื่อนลำนางรอง!J20+นปจ.เขื่อนปากมูล!J20+นปจ.เขื่อนสิรินธร!J20 -> 0 | K20: =ศปจ.นครราชสีมา!K20+นปจ.เขื่อนลำนางรอง!K20+นปจ.เขื่อนปากมูล!K20+นปจ.เขื่อนสิรินธร!K20 -> 0 | L20: =ศปจ.นครราชสีมา!L20+นปจ.เขื่อนลำนางรอง!L20+นปจ.เขื่อนปากมูล!L20+นปจ.เขื่อนสิรินธร!L20 -> 0 | ... P20: =ศปจ.นครราชสีมา!P20+นปจ.เขื่อนลำนางรอง!P20+นปจ.เขื่อนปากมูล!P20+นปจ.เขื่อนสิรินธร!P20 -> 0
C21: สัญชาติเมียนมาร์ | D21: =SUM(E21:P21) -> 0 | E21: =ศปจ.นครราชสีมา!E21+นปจ.เขื่อนลำนางรอง!E21+นปจ.เขื่อนปากมูล!E21+นปจ.เขื่อนสิรินธร!E21 -> 0 | F21: =ศปจ.นครราชสีมา!F21+นปจ.เขื่อนลำนางรอง!F21+นปจ.เขื่อนปากมูล!F21+นปจ.เขื่อนสิรินธร!F21 -> 0 | G21: =ศปจ.นครราชสีมา!G21+นปจ.เขื่อนลำนางรอง!G21+นปจ.เขื่อนปากมูล!G21+นปจ.เขื่อนสิรินธร!G21 -> 0 | H21: =ศปจ.นครราชสีมา!H21+นปจ.เขื่อนลำนางรอง!H21+นปจ.เขื่อนปากมูล!H21+นปจ.เขื่อนสิรินธร!H21 -> 0 | I21: =ศปจ.นครราชสีมา!I21+นปจ.เขื่อนลำนางรอง!I21+นปจ.เขื่อนปากมูล!I21+นปจ.เขื่อนสิรินธร!I21 -> 0 | J21: =ศปจ.นครราชสีมา!J21+นปจ.เขื่อนลำนางรอง!J21+นปจ.เขื่อนปากมูล!J21+นปจ.เขื่อนสิรินธร!J21 -> 0 | K21: =ศปจ.นครราชสีมา!K21+นปจ.เขื่อนลำนางรอง!K21+นปจ.เขื่อนปากมูล!K21+นปจ.เขื่อนสิรินธร!K21 -> 0 | L21: =ศปจ.นครราชสีมา!L21+นปจ.เขื่อนลำนางรอง!L21+นปจ.เขื่อนปากมูล!L21+นปจ.เขื่อนสิรินธร!L21 -> 0 | ... P21: =ศปจ.นครราชสีมา!P21+นปจ.เขื่อนลำนางรอง!P21+นปจ.เขื่อนปากมูล!P21+นปจ.เขื่อนสิรินธร!P21 -> 0
C22: สัญชาติกัมพูชา | D22: =SUM(E22:P22) -> 0 | E22: =ศปจ.นครราชสีมา!E22+นปจ.เขื่อนลำนางรอง!E22+นปจ.เขื่อนปากมูล!E22+นปจ.เขื่อนสิรินธร!E22 -> 0 | F22: =ศปจ.นครราชสีมา!F22+นปจ.เขื่อนลำนางรอง!F22+นปจ.เขื่อนปากมูล!F22+นปจ.เขื่อนสิรินธร!F22 -> 0 | G22: =ศปจ.นครราชสีมา!G22+นปจ.เขื่อนลำนางรอง!G22+นปจ.เขื่อนปากมูล!G22+นปจ.เขื่อนสิรินธร!G22 -> 0 | H22: =ศปจ.นครราชสีมา!H22+นปจ.เขื่อนลำนางรอง!H22+นปจ.เขื่อนปากมูล!H22+นปจ.เขื่อนสิรินธร!H22 -> 0 | I22: =ศปจ.นครราชสีมา!I22+นปจ.เขื่อนลำนางรอง!I22+นปจ.เขื่อนปากมูล!I22+นปจ.เขื่อนสิรินธร!I22 -> 0 | J22: =ศปจ.นครราชสีมา!J22+นปจ.เขื่อนลำนางรอง!J22+นปจ.เขื่อนปากมูล!J22+นปจ.เขื่อนสิรินธร!J22 -> 0 | K22: =ศปจ.นครราชสีมา!K22+นปจ.เขื่อนลำนางรอง!K22+นปจ.เขื่อนปากมูล!K22+นปจ.เขื่อนสิรินธร!K22 -> 0 | L22: =ศปจ.นครราชสีมา!L22+นปจ.เขื่อนลำนางรอง!L22+นปจ.เขื่อนปากมูล!L22+นปจ.เขื่อนสิรินธร!L22 -> 0 | ... P22: =ศปจ.นครราชสีมา!P22+นปจ.เขื่อนลำนางรอง!P22+นปจ.เขื่อนปากมูล!P22+นปจ.เขื่อนสิรินธร!P22 -> 0
C23: สัญชาติลาว | D23: =SUM(E23:P23) -> 0 | E23: =ศปจ.นครราชสีมา!E23+นปจ.เขื่อนลำนางรอง!E23+นปจ.เขื่อนปากมูล!E23+นปจ.เขื่อนสิรินธร!E23 -> 0 | F23: =ศปจ.นครราชสีมา!F23+นปจ.เขื่อนลำนางรอง!F23+นปจ.เขื่อนปากมูล!F23+นปจ.เขื่อนสิรินธร!F23 -> 0 | G23: =ศปจ.นครราชสีมา!G23+นปจ.เขื่อนลำนางรอง!G23+นปจ.เขื่อนปากมูล!G23+นปจ.เขื่อนสิรินธร!G23 -> 0 | H23: =ศปจ.นครราชสีมา!H23+นปจ.เขื่อนลำนางรอง!H23+นปจ.เขื่อนปากมูล!H23+นปจ.เขื่อนสิรินธร!H23 -> 0 | I23: =ศปจ.นครราชสีมา!I23+นปจ.เขื่อนลำนางรอง!I23+นปจ.เขื่อนปากมูล!I23+นปจ.เขื่อนสิรินธร!I23 -> 0 | J23: =ศปจ.นครราชสีมา!J23+นปจ.เขื่อนลำนางรอง!J23+นปจ.เขื่อนปากมูล!J23+นปจ.เขื่อนสิรินธร!J23 -> 0 | K23: =ศปจ.นครราชสีมา!K23+นปจ.เขื่อนลำนางรอง!K23+นปจ.เขื่อนปากมูล!K23+นปจ.เขื่อนสิรินธร!K23 -> 0 | L23: =ศปจ.นครราชสีมา!L23+นปจ.เขื่อนลำนางรอง!L23+นปจ.เขื่อนปากมูล!L23+นปจ.เขื่อนสิรินธร!L23 -> 0 | ... P23: =ศปจ.นครราชสีมา!P23+นปจ.เขื่อนลำนางรอง!P23+นปจ.เขื่อนปากมูล!P23+นปจ.เขื่อนสิรินธร!P23 -> 0
C24: อื่นๆ | D24: =SUM(E24:P24) -> 0 | E24: =ศปจ.นครราชสีมา!E24+นปจ.เขื่อนลำนางรอง!E24+นปจ.เขื่อนปากมูล!E24+นปจ.เขื่อนสิรินธร!E24 -> 0 | F24: =ศปจ.นครราชสีมา!F24+นปจ.เขื่อนลำนางรอง!F24+นปจ.เขื่อนปากมูล!F24+นปจ.เขื่อนสิรินธร!F24 -> 0 | G24: =ศปจ.นครราชสีมา!G24+นปจ.เขื่อนลำนางรอง!G24+นปจ.เขื่อนปากมูล!G24+นปจ.เขื่อนสิรินธร!G24 -> 0 | H24: =ศปจ.นครราชสีมา!H24+นปจ.เขื่อนลำนางรอง!H24+นปจ.เขื่อนปากมูล!H24+นปจ.เขื่อนสิรินธร!H24 -> 0 | I24: =ศปจ.นครราชสีมา!I24+นปจ.เขื่อนลำนางรอง!I24+นปจ.เขื่อนปากมูล!I24+นปจ.เขื่อนสิรินธร!I24 -> 0 | J24: =ศปจ.นครราชสีมา!J24+นปจ.เขื่อนลำนางรอง!J24+นปจ.เขื่อนปากมูล!J24+นปจ.เขื่อนสิรินธร!J24 -> 0 | K24: =ศปจ.นครราชสีมา!K24+นปจ.เขื่อนลำนางรอง!K24+นปจ.เขื่อนปากมูล!K24+นปจ.เขื่อนสิรินธร!K24 -> 0 | L24: =ศปจ.นครราชสีมา!L24+นปจ.เขื่อนลำนางรอง!L24+นปจ.เขื่อนปากมูล!L24+นปจ.เขื่อนสิรินธร!L24 -> 0 | ... P24: =ศปจ.นครราชสีมา!P24+นปจ.เขื่อนลำนางรอง!P24+นปจ.เขื่อนปากมูล!P24+นปจ.เขื่อนสิรินธร!P24 -> 0
B25: บาท | C25: งบประมาณที่จัดสรร | D25: =SUM(E25:P25) -> 30000 | E25: =ศปจ.นครราชสีมา!E25+นปจ.เขื่อนลำนางรอง!E25+นปจ.เขื่อนปากมูล!E25+นปจ.เขื่อนสิรินธร!E25 -> 0 | F25: =ศปจ.นครราชสีมา!F25+นปจ.เขื่อนลำนางรอง!F25+นปจ.เขื่อนปากมูล!F25+นปจ.เขื่อนสิรินธร!F25 -> 0 | G25: =ศปจ.นครราชสีมา!G25+นปจ.เขื่อนลำนางรอง!G25+นปจ.เขื่อนปากมูล!G25+นปจ.เขื่อนสิรินธร!G25 -> 0 | H25: =ศปจ.นครราชสีมา!H25+นปจ.เขื่อนลำนางรอง!H25+นปจ.เขื่อนปากมูล!H25+นปจ.เขื่อนสิรินธร!H25 -> 0 | I25: =ศปจ.นครราชสีมา!I25+นปจ.เขื่อนลำนางรอง!I25+นปจ.เขื่อนปากมูล!I25+นปจ.เขื่อนสิรินธร!I25 -> 15000 | J25: =ศปจ.นครราชสีมา!J25+นปจ.เขื่อนลำนางรอง!J25+นปจ.เขื่อนปากมูล!J25+นปจ.เขื่อนสิรินธร!J25 -> 15000 | K25: =ศปจ.นครราชสีมา!K25+นปจ.เขื่อนลำนางรอง!K25+นปจ.เขื่อนปากมูล!K25+นปจ.เขื่อนสิรินธร!K25 -> 0 | L25: =ศปจ.นครราชสีมา!L25+นปจ.เขื่อนลำนางรอง!L25+นปจ.เขื่อนปากมูล!L25+นปจ.เขื่อนสิรินธร!L25 -> 0 | ... P25: =ศปจ.นครราชสีมา!P25+นปจ.เขื่อนลำนางรอง!P25+นปจ.เขื่อนปากมูล!P25+นปจ.เขื่อนสิรินธร!P25 -> 0
C26: งบประมาณที่ใช้ | D26: =SUM(E26:P26) -> 30000 | E26: =ศปจ.นครราชสีมา!E26+นปจ.เขื่อนลำนางรอง!E26+นปจ.เขื่อนปากมูล!E26+นปจ.เขื่อนสิรินธร!E26 -> 0 | F26: =ศปจ.นครราชสีมา!F26+นปจ.เขื่อนลำนางรอง!F26+นปจ.เขื่อนปากมูล!F26+นปจ.เขื่อนสิรินธร!F26 -> 0 | G26: =ศปจ.นครราชสีมา!G26+นปจ.เขื่อนลำนางรอง!G26+นปจ.เขื่อนปากมูล!G26+นปจ.เขื่อนสิรินธร!G26 -> 0 | H26: =ศปจ.นครราชสีมา!H26+นปจ.เขื่อนลำนางรอง!H26+นปจ.เขื่อนปากมูล!H26+นปจ.เขื่อนสิรินธร!H26 -> 0 | I26: =ศปจ.นครราชสีมา!I26+นปจ.เขื่อนลำนางรอง!I26+นปจ.เขื่อนปากมูล!I26+นปจ.เขื่อนสิรินธร!I26 -> 15000 | J26: =ศปจ.นครราชสีมา!J26+นปจ.เขื่อนลำนางรอง!J26+นปจ.เขื่อนปากมูล!J26+นปจ.เขื่อนสิรินธร!J26 -> 15000 | K26: =ศปจ.นครราชสีมา!K26+นปจ.เขื่อนลำนางรอง!K26+นปจ.เขื่อนปากมูล!K26+นปจ.เขื่อนสิรินธร!K26 -> 0 | L26: =ศปจ.นครราชสีมา!L26+นปจ.เขื่อนลำนางรอง!L26+นปจ.เขื่อนปากมูล!L26+นปจ.เขื่อนสิรินธร!L26 -> 0 | ... P26: =ศปจ.นครราชสีมา!P26+นปจ.เขื่อนลำนางรอง!P26+นปจ.เขื่อนปากมูล!P26+นปจ.เขื่อนสิรินธร!P26 -> 0
C27: งบประมาณคงเหลือ | D27: =SUM(D25-D26) -> 0
A28: กิจกรรมที่ดำเนินงาน : ควบคุมเฝ้าระวังการทำการประมงพื้นที่ทะเลชายฝั่ง | B28: ครั้ง | C28: แผน | D28: =SUM(E28:P28) -> 0 | E28: =ศปจ.นครราชสีมา!E28+นปจ.เขื่อนลำนางรอง!E28+นปจ.เขื่อนปากมูล!E28+นปจ.เขื่อนสิรินธร!E28 -> 0 | F28: =ศปจ.นครราชสีมา!F28+นปจ.เขื่อนลำนางรอง!F28+นปจ.เขื่อนปากมูล!F28+นปจ.เขื่อนสิรินธร!F28 -> 0 | G28: =ศปจ.นครราชสีมา!G28+นปจ.เขื่อนลำนางรอง!G28+นปจ.เขื่อนปากมูล!G28+นปจ.เขื่อนสิรินธร!G28 -> 0 | H28: =ศปจ.นครราชสีมา!H28+นปจ.เขื่อนลำนางรอง!H28+นปจ.เขื่อนปากมูล!H28+นปจ.เขื่อนสิรินธร!H28 -> 0 | I28: =ศปจ.นครราชสีมา!I28+นปจ.เขื่อนลำนางรอง!I28+นปจ.เขื่อนปากมูล!I28+นปจ.เขื่อนสิรินธร!I28 -> 0 | J28: =ศปจ.นครราชสีมา!J28+นปจ.เขื่อนลำนางรอง!J28+นปจ.เขื่อนปากมูล!J28+นปจ.เขื่อนสิรินธร!J28 -> 0 | K28: =ศปจ.นครราชสีมา!K28+นปจ.เขื่อนลำนางรอง!K28+นปจ.เขื่อนปากมูล!K28+นปจ.เขื่อนสิรินธร!K28 -> 0 | L28: =ศปจ.นครราชสีมา!L28+นปจ.เขื่อนลำนางรอง!L28+นปจ.เขื่อนปากมูล!L28+นปจ.เขื่อนสิรินธร!L28 -> 0 | ... P28: =ศปจ.นครราชสีมา!P28+นปจ.เขื่อนลำนางรอง!P28+นปจ.เขื่อนปากมูล!P28+นปจ.เขื่อนสิรินธร!P28 -> 0
C29: ผล | D29: =SUM(E29:P29) -> 0 | E29: =ศปจ.นครราชสีมา!E29+นปจ.เขื่อนลำนางรอง!E29+นปจ.เขื่อนปากมูล!E29+นปจ.เขื่อนสิรินธร!E29 -> 0 | F29: =ศปจ.นครราชสีมา!F29+นปจ.เขื่อนลำนางรอง!F29+นปจ.เขื่อนปากมูล!F29+นปจ.เขื่อนสิรินธร!F29 -> 0 | G29: =ศปจ.นครราชสีมา!G29+นปจ.เขื่อนลำนางรอง!G29+นปจ.เขื่อนปากมูล!G29+นปจ.เขื่อนสิรินธร!G29 -> 0 | H29: =ศปจ.นครราชสีมา!H29+นปจ.เขื่อนลำนางรอง!H29+นปจ.เขื่อนปากมูล!H29+นปจ.เขื่อนสิรินธร!H29 -> 0 | I29: =ศปจ.นครราชสีมา!I29+นปจ.เขื่อนลำนางรอง!I29+นปจ.เขื่อนปากมูล!I29+นปจ.เขื่อนสิรินธร!I29 -> 0 | J29: =ศปจ.นครราชสีมา!J29+นปจ.เขื่อนลำนางรอง!J29+นปจ.เขื่อนปากมูล!J29+นปจ.เขื่อนสิรินธร!J29 -> 0 | K29: =ศปจ.นครราชสีมา!K29+นปจ.เขื่อนลำนางรอง!K29+นปจ.เขื่อนปากมูล!K29+นปจ.เขื่อนสิรินธร!K29 -> 0 | L29: =ศปจ.นครราชสีมา!L29+นปจ.เขื่อนลำนางรอง!L29+นปจ.เขื่อนปากมูล!L29+นปจ.เขื่อนสิรินธร!L29 -> 0 | ... P29: =ศปจ.นครราชสีมา!P29+นปจ.เขื่อนลำนางรอง!P29+นปจ.เขื่อนปากมูล!P29+นปจ.เขื่อนสิรินธร!P29 -> 0
B30: คดี | C30: คดีจับกุม | D30: =SUM(E30:P30) -> 0 | E30: =ศปจ.นครราชสีมา!E30+นปจ.เขื่อนลำนางรอง!E30+นปจ.เขื่อนปากมูล!E30+นปจ.เขื่อนสิรินธร!E30 -> 0 | F30: =ศปจ.นครราชสีมา!F30+นปจ.เขื่อนลำนางรอง!F30+นปจ.เขื่อนปากมูล!F30+นปจ.เขื่อนสิรินธร!F30 -> 0 | G30: =ศปจ.นครราชสีมา!G30+นปจ.เขื่อนลำนางรอง!G30+นปจ.เขื่อนปากมูล!G30+นปจ.เขื่อนสิรินธร!G30 -> 0 | H30: =ศปจ.นครราชสีมา!H30+นปจ.เขื่อนลำนางรอง!H30+นปจ.เขื่อนปากมูล!H30+นปจ.เขื่อนสิรินธร!H30 -> 0 | I30: =ศปจ.นครราชสีมา!I30+นปจ.เขื่อนลำนางรอง!I30+นปจ.เขื่อนปากมูล!I30+นปจ.เขื่อนสิรินธร!I30 -> 0 | J30: =ศปจ.นครราชสีมา!J30+นปจ.เขื่อนลำนางรอง!J30+นปจ.เขื่อนปากมูล!J30+นปจ.เขื่อนสิรินธร!J30 -> 0 | K30: =ศปจ.นครราชสีมา!K30+นปจ.เขื่อนลำนางรอง!K30+นปจ.เขื่อนปากมูล!K30+นปจ.เขื่อนสิรินธร!K30 -> 0 | L30: =ศปจ.นครราชสีมา!L30+นปจ.เขื่อนลำนางรอง!L30+นปจ.เขื่อนปากมูล!L30+นปจ.เขื่อนสิรินธร!L30 -> 0 | ... P30: =ศปจ.นครราชสีมา!P30+นปจ.เขื่อนลำนางรอง!P30+นปจ.เขื่อนปากมูล!P30+นปจ.เขื่อนสิรินธร!P30 -> 0
C31: ผู้ถูกกล่าวหา(ราย) | D31: =SUM(E31:P31) -> 0 | E31: =ศปจ.นครราชสีมา!E31+นปจ.เขื่อนลำนางรอง!E31+นปจ.เขื่อนปากมูล!E31+นปจ.เขื่อนสิรินธร!E31 -> 0 | F31: =ศปจ.นครราชสีมา!F31+นปจ.เขื่อนลำนางรอง!F31+นปจ.เขื่อนปากมูล!F31+นปจ.เขื่อนสิรินธร!F31 -> 0 | G31: =ศปจ.นครราชสีมา!G31+นปจ.เขื่อนลำนางรอง!G31+นปจ.เขื่อนปากมูล!G31+นปจ.เขื่อนสิรินธร!G31 -> 0 | H31: =ศปจ.นครราชสีมา!H31+นปจ.เขื่อนลำนางรอง!H31+นปจ.เขื่อนปากมูล!H31+นปจ.เขื่อนสิรินธร!H31 -> 0 | I31: =ศปจ.นครราชสีมา!I31+นปจ.เขื่อนลำนางรอง!I31+นปจ.เขื่อนปากมูล!I31+นปจ.เขื่อนสิรินธร!I31 -> 0 | J31: =ศปจ.นครราชสีมา!J31+นปจ.เขื่อนลำนางรอง!J31+นปจ.เขื่อนปากมูล!J31+นปจ.เขื่อนสิรินธร!J31 -> 0 | K31: =ศปจ.นครราชสีมา!K31+นปจ.เขื่อนลำนางรอง!K31+นปจ.เขื่อนปากมูล!K31+นปจ.เขื่อนสิรินธร!K31 -> 0 | L31: =ศปจ.นครราชสีมา!L31+นปจ.เขื่อนลำนางรอง!L31+นปจ.เขื่อนปากมูล!L31+นปจ.เขื่อนสิรินธร!L31 -> 0 | ... P31: =ศปจ.นครราชสีมา!P31+นปจ.เขื่อนลำนางรอง!P31+นปจ.เขื่อนปากมูล!P31+นปจ.เขื่อนสิรินธร!P31 -> 0
C32: คดีตรวจยึด | D32: =SUM(E32:P32) -> 0 | E32: =ศปจ.นครราชสีมา!E32+นปจ.เขื่อนลำนางรอง!E32+นปจ.เขื่อนปากมูล!E32+นปจ.เขื่อนสิรินธร!E32 -> 0 | F32: =ศปจ.นครราชสีมา!F32+นปจ.เขื่อนลำนางรอง!F32+นปจ.เขื่อนปากมูล!F32+นปจ.เขื่อนสิรินธร!F32 -> 0 | G32: =ศปจ.นครราชสีมา!G32+นปจ.เขื่อนลำนางรอง!G32+นปจ.เขื่อนปากมูล!G32+นปจ.เขื่อนสิรินธร!G32 -> 0 | H32: =ศปจ.นครราชสีมา!H32+นปจ.เขื่อนลำนางรอง!H32+นปจ.เขื่อนปากมูล!H32+นปจ.เขื่อนสิรินธร!H32 -> 0 | I32: =ศปจ.นครราชสีมา!I32+นปจ.เขื่อนลำนางรอง!I32+นปจ.เขื่อนปากมูล!I32+นปจ.เขื่อนสิรินธร!I32 -> 0 | J32: =ศปจ.นครราชสีมา!J32+นปจ.เขื่อนลำนางรอง!J32+นปจ.เขื่อนปากมูล!J32+นปจ.เขื่อนสิรินธร!J32 -> 0 | K32: =ศปจ.นครราชสีมา!K32+นปจ.เขื่อนลำนางรอง!K32+นปจ.เขื่อนปากมูล!K32+นปจ.เขื่อนสิรินธร!K32 -> 0 | L32: =ศปจ.นครราชสีมา!L32+นปจ.เขื่อนลำนางรอง!L32+นปจ.เขื่อนปากมูล!L32+นปจ.เขื่อนสิรินธร!L32 -> 0 | ... P32: =ศปจ.นครราชสีมา!P32+นปจ.เขื่อนลำนางรอง!P32+นปจ.เขื่อนปากมูล!P32+นปจ.เขื่อนสิรินธร!P32 -> 0
B33: เรือที่ตรวจ (ลำ) | C33: < 10 ตันกรอส | D33: =SUM(E33:P33) -> 0 | E33: =ศปจ.นครราชสีมา!E33+นปจ.เขื่อนลำนางรอง!E33+นปจ.เขื่อนปากมูล!E33+นปจ.เขื่อนสิรินธร!E33 -> 0 | F33: =ศปจ.นครราชสีมา!F33+นปจ.เขื่อนลำนางรอง!F33+นปจ.เขื่อนปากมูล!F33+นปจ.เขื่อนสิรินธร!F33 -> 0 | G33: =ศปจ.นครราชสีมา!G33+นปจ.เขื่อนลำนางรอง!G33+นปจ.เขื่อนปากมูล!G33+นปจ.เขื่อนสิรินธร!G33 -> 0 | H33: =ศปจ.นครราชสีมา!H33+นปจ.เขื่อนลำนางรอง!H33+นปจ.เขื่อนปากมูล!H33+นปจ.เขื่อนสิรินธร!H33 -> 0 | I33: =ศปจ.นครราชสีมา!I33+นปจ.เขื่อนลำนางรอง!I33+นปจ.เขื่อนปากมูล!I33+นปจ.เขื่อนสิรินธร!I33 -> 0 | J33: =ศปจ.นครราชสีมา!J33+นปจ.เขื่อนลำนางรอง!J33+นปจ.เขื่อนปากมูล!J33+นปจ.เขื่อนสิรินธร!J33 -> 0 | K33: =ศปจ.นครราชสีมา!K33+นปจ.เขื่อนลำนางรอง!K33+นปจ.เขื่อนปากมูล!K33+นปจ.เขื่อนสิรินธร!K33 -> 0 | L33: =ศปจ.นครราชสีมา!L33+นปจ.เขื่อนลำนางรอง!L33+นปจ.เขื่อนปากมูล!L33+นปจ.เขื่อนสิรินธร!L33 -> 0 | ... P33: =ศปจ.นครราชสีมา!P33+นปจ.เขื่อนลำนางรอง!P33+นปจ.เขื่อนปากมูล!P33+นปจ.เขื่อนสิรินธร!P33 -> 0
C34: 10.01 - 30 ตันกรอส | D34: =SUM(E34:P34) -> 0 | E34: =ศปจ.นครราชสีมา!E34+นปจ.เขื่อนลำนางรอง!E34+นปจ.เขื่อนปากมูล!E34+นปจ.เขื่อนสิรินธร!E34 -> 0 | F34: =ศปจ.นครราชสีมา!F34+นปจ.เขื่อนลำนางรอง!F34+นปจ.เขื่อนปากมูล!F34+นปจ.เขื่อนสิรินธร!F34 -> 0 | G34: =ศปจ.นครราชสีมา!G34+นปจ.เขื่อนลำนางรอง!G34+นปจ.เขื่อนปากมูล!G34+นปจ.เขื่อนสิรินธร!G34 -> 0 | H34: =ศปจ.นครราชสีมา!H34+นปจ.เขื่อนลำนางรอง!H34+นปจ.เขื่อนปากมูล!H34+นปจ.เขื่อนสิรินธร!H34 -> 0 | I34: =ศปจ.นครราชสีมา!I34+นปจ.เขื่อนลำนางรอง!I34+นปจ.เขื่อนปากมูล!I34+นปจ.เขื่อนสิรินธร!I34 -> 0 | J34: =ศปจ.นครราชสีมา!J34+นปจ.เขื่อนลำนางรอง!J34+นปจ.เขื่อนปากมูล!J34+นปจ.เขื่อนสิรินธร!J34 -> 0 | K34: =ศปจ.นครราชสีมา!K34+นปจ.เขื่อนลำนางรอง!K34+นปจ.เขื่อนปากมูล!K34+นปจ.เขื่อนสิรินธร!K34 -> 0 | L34: =ศปจ.นครราชสีมา!L34+นปจ.เขื่อนลำนางรอง!L34+นปจ.เขื่อนปากมูล!L34+นปจ.เขื่อนสิรินธร!L34 -> 0 | ... P34: =ศปจ.นครราชสีมา!P34+นปจ.เขื่อนลำนางรอง!P34+นปจ.เขื่อนปากมูล!P34+นปจ.เขื่อนสิรินธร!P34 -> 0
C35: 30.01 - 60 ตันกรอส | D35: =SUM(E35:P35) -> 0 | E35: =ศปจ.นครราชสีมา!E35+นปจ.เขื่อนลำนางรอง!E35+นปจ.เขื่อนปากมูล!E35+นปจ.เขื่อนสิรินธร!E35 -> 0 | F35: =ศปจ.นครราชสีมา!F35+นปจ.เขื่อนลำนางรอง!F35+นปจ.เขื่อนปากมูล!F35+นปจ.เขื่อนสิรินธร!F35 -> 0 | G35: =ศปจ.นครราชสีมา!G35+นปจ.เขื่อนลำนางรอง!G35+นปจ.เขื่อนปากมูล!G35+นปจ.เขื่อนสิรินธร!G35 -> 0 | H35: =ศปจ.นครราชสีมา!H35+นปจ.เขื่อนลำนางรอง!H35+นปจ.เขื่อนปากมูล!H35+นปจ.เขื่อนสิรินธร!H35 -> 0 | I35: =ศปจ.นครราชสีมา!I35+นปจ.เขื่อนลำนางรอง!I35+นปจ.เขื่อนปากมูล!I35+นปจ.เขื่อนสิรินธร!I35 -> 0 | J35: =ศปจ.นครราชสีมา!J35+นปจ.เขื่อนลำนางรอง!J35+นปจ.เขื่อนปากมูล!J35+นปจ.เขื่อนสิรินธร!J35 -> 0 | K35: =ศปจ.นครราชสีมา!K35+นปจ.เขื่อนลำนางรอง!K35+นปจ.เขื่อนปากมูล!K35+นปจ.เขื่อนสิรินธร!K35 -> 0 | L35: =ศปจ.นครราชสีมา!L35+นปจ.เขื่อนลำนางรอง!L35+นปจ.เขื่อนปากมูล!L35+นปจ.เขื่อนสิรินธร!L35 -> 0 | ... P35: =ศปจ.นครราชสีมา!P35+นปจ.เขื่อนลำนางรอง!P35+นปจ.เขื่อนปากมูล!P35+นปจ.เขื่อนสิรินธร!P35 -> 0
C36: 60.01 - 150 ตันกรอส | D36: =SUM(E36:P36) -> 0 | E36: =ศปจ.นครราชสีมา!E36+นปจ.เขื่อนลำนางรอง!E36+นปจ.เขื่อนปากมูล!E36+นปจ.เขื่อนสิรินธร!E36 -> 0 | F36: =ศปจ.นครราชสีมา!F36+นปจ.เขื่อนลำนางรอง!F36+นปจ.เขื่อนปากมูล!F36+นปจ.เขื่อนสิรินธร!F36 -> 0 | G36: =ศปจ.นครราชสีมา!G36+นปจ.เขื่อนลำนางรอง!G36+นปจ.เขื่อนปากมูล!G36+นปจ.เขื่อนสิรินธร!G36 -> 0 | H36: =ศปจ.นครราชสีมา!H36+นปจ.เขื่อนลำนางรอง!H36+นปจ.เขื่อนปากมูล!H36+นปจ.เขื่อนสิรินธร!H36 -> 0 | I36: =ศปจ.นครราชสีมา!I36+นปจ.เขื่อนลำนางรอง!I36+นปจ.เขื่อนปากมูล!I36+นปจ.เขื่อนสิรินธร!I36 -> 0 | J36: =ศปจ.นครราชสีมา!J36+นปจ.เขื่อนลำนางรอง!J36+นปจ.เขื่อนปากมูล!J36+นปจ.เขื่อนสิรินธร!J36 -> 0 | K36: =ศปจ.นครราชสีมา!K36+นปจ.เขื่อนลำนางรอง!K36+นปจ.เขื่อนปากมูล!K36+นปจ.เขื่อนสิรินธร!K36 -> 0 | L36: =ศปจ.นครราชสีมา!L36+นปจ.เขื่อนลำนางรอง!L36+นปจ.เขื่อนปากมูล!L36+นปจ.เขื่อนสิรินธร!L36 -> 0 | ... P36: =ศปจ.นครราชสีมา!P36+นปจ.เขื่อนลำนางรอง!P36+นปจ.เขื่อนปากมูล!P36+นปจ.เขื่อนสิรินธร!P36 -> 0
C37: > 150 ตันกรอส | D37: =SUM(E37:P37) -> 0 | E37: =ศปจ.นครราชสีมา!E37+นปจ.เขื่อนลำนางรอง!E37+นปจ.เขื่อนปากมูล!E37+นปจ.เขื่อนสิรินธร!E37 -> 0 | F37: =ศปจ.นครราชสีมา!F37+นปจ.เขื่อนลำนางรอง!F37+นปจ.เขื่อนปากมูล!F37+นปจ.เขื่อนสิรินธร!F37 -> 0 | G37: =ศปจ.นครราชสีมา!G37+นปจ.เขื่อนลำนางรอง!G37+นปจ.เขื่อนปากมูล!G37+นปจ.เขื่อนสิรินธร!G37 -> 0 | H37: =ศปจ.นครราชสีมา!H37+นปจ.เขื่อนลำนางรอง!H37+นปจ.เขื่อนปากมูล!H37+นปจ.เขื่อนสิรินธร!H37 -> 0 | I37: =ศปจ.นครราชสีมา!I37+นปจ.เขื่อนลำนางรอง!I37+นปจ.เขื่อนปากมูล!I37+นปจ.เขื่อนสิรินธร!I37 -> 0 | J37: =ศปจ.นครราชสีมา!J37+นปจ.เขื่อนลำนางรอง!J37+นปจ.เขื่อนปากมูล!J37+นปจ.เขื่อนสิรินธร!J37 -> 0 | K37: =ศปจ.นครราชสีมา!K37+นปจ.เขื่อนลำนางรอง!K37+นปจ.เขื่อนปากมูล!K37+นปจ.เขื่อนสิรินธร!K37 -> 0 | L37: =ศปจ.นครราชสีมา!L37+นปจ.เขื่อนลำนางรอง!L37+นปจ.เขื่อนปากมูล!L37+นปจ.เขื่อนสิรินธร!L37 -> 0 | ... P37: =ศปจ.นครราชสีมา!P37+นปจ.เขื่อนลำนางรอง!P37+นปจ.เขื่อนปากมูล!P37+นปจ.เขื่อนสิรินธร!P37 -> 0
B38: แรงงาน (ราย) | C38: สัญชาติไทย | D38: =SUM(E38:P38) -> 0 | E38: =ศปจ.นครราชสีมา!E38+นปจ.เขื่อนลำนางรอง!E38+นปจ.เขื่อนปากมูล!E38+นปจ.เขื่อนสิรินธร!E38 -> 0 | F38: =ศปจ.นครราชสีมา!F38+นปจ.เขื่อนลำนางรอง!F38+นปจ.เขื่อนปากมูล!F38+นปจ.เขื่อนสิรินธร!F38 -> 0 | G38: =ศปจ.นครราชสีมา!G38+นปจ.เขื่อนลำนางรอง!G38+นปจ.เขื่อนปากมูล!G38+นปจ.เขื่อนสิรินธร!G38 -> 0 | H38: =ศปจ.นครราชสีมา!H38+นปจ.เขื่อนลำนางรอง!H38+นปจ.เขื่อนปากมูล!H38+นปจ.เขื่อนสิรินธร!H38 -> 0 | I38: =ศปจ.นครราชสีมา!I38+นปจ.เขื่อนลำนางรอง!I38+นปจ.เขื่อนปากมูล!I38+นปจ.เขื่อนสิรินธร!I38 -> 0 | J38: =ศปจ.นครราชสีมา!J38+นปจ.เขื่อนลำนางรอง!J38+นปจ.เขื่อนปากมูล!J38+นปจ.เขื่อนสิรินธร!J38 -> 0 | K38: =ศปจ.นครราชสีมา!K38+นปจ.เขื่อนลำนางรอง!K38+นปจ.เขื่อนปากมูล!K38+นปจ.เขื่อนสิรินธร!K38 -> 0 | L38: =ศปจ.นครราชสีมา!L38+นปจ.เขื่อนลำนางรอง!L38+นปจ.เขื่อนปากมูล!L38+นปจ.เขื่อนสิรินธร!L38 -> 0 | ... P38: =ศปจ.นครราชสีมา!P38+นปจ.เขื่อนลำนางรอง!P38+นปจ.เขื่อนปากมูล!P38+นปจ.เขื่อนสิรินธร!P38 -> 0
C39: สัญชาติเมียนมาร์ | D39: =SUM(E39:P39) -> 0 | E39: =ศปจ.นครราชสีมา!E39+นปจ.เขื่อนลำนางรอง!E39+นปจ.เขื่อนปากมูล!E39+นปจ.เขื่อนสิรินธร!E39 -> 0 | F39: =ศปจ.นครราชสีมา!F39+นปจ.เขื่อนลำนางรอง!F39+นปจ.เขื่อนปากมูล!F39+นปจ.เขื่อนสิรินธร!F39 -> 0 | G39: =ศปจ.นครราชสีมา!G39+นปจ.เขื่อนลำนางรอง!G39+นปจ.เขื่อนปากมูล!G39+นปจ.เขื่อนสิรินธร!G39 -> 0 | H39: =ศปจ.นครราชสีมา!H39+นปจ.เขื่อนลำนางรอง!H39+นปจ.เขื่อนปากมูล!H39+นปจ.เขื่อนสิรินธร!H39 -> 0 | I39: =ศปจ.นครราชสีมา!I39+นปจ.เขื่อนลำนางรอง!I39+นปจ.เขื่อนปากมูล!I39+นปจ.เขื่อนสิรินธร!I39 -> 0 | J39: =ศปจ.นครราชสีมา!J39+นปจ.เขื่อนลำนางรอง!J39+นปจ.เขื่อนปากมูล!J39+นปจ.เขื่อนสิรินธร!J39 -> 0 | K39: =ศปจ.นครราชสีมา!K39+นปจ.เขื่อนลำนางรอง!K39+นปจ.เขื่อนปากมูล!K39+นปจ.เขื่อนสิรินธร!K39 -> 0 | L39: =ศปจ.นครราชสีมา!L39+นปจ.เขื่อนลำนางรอง!L39+นปจ.เขื่อนปากมูล!L39+นปจ.เขื่อนสิรินธร!L39 -> 0 | ... P39: =ศปจ.นครราชสีมา!P39+นปจ.เขื่อนลำนางรอง!P39+นปจ.เขื่อนปากมูล!P39+นปจ.เขื่อนสิรินธร!P39 -> 0
C40: สัญชาติกัมพูชา | D40: =SUM(E40:P40) -> 0 | E40: =ศปจ.นครราชสีมา!E40+นปจ.เขื่อนลำนางรอง!E40+นปจ.เขื่อนปากมูล!E40+นปจ.เขื่อนสิรินธร!E40 -> 0 | F40: =ศปจ.นครราชสีมา!F40+นปจ.เขื่อนลำนางรอง!F40+นปจ.เขื่อนปากมูล!F40+นปจ.เขื่อนสิรินธร!F40 -> 0 | G40: =ศปจ.นครราชสีมา!G40+นปจ.เขื่อนลำนางรอง!G40+นปจ.เขื่อนปากมูล!G40+นปจ.เขื่อนสิรินธร!G40 -> 0 | H40: =ศปจ.นครราชสีมา!H40+นปจ.เขื่อนลำนางรอง!H40+นปจ.เขื่อนปากมูล!H40+นปจ.เขื่อนสิรินธร!H40 -> 0 | I40: =ศปจ.นครราชสีมา!I40+นปจ.เขื่อนลำนางรอง!I40+นปจ.เขื่อนปากมูล!I40+นปจ.เขื่อนสิรินธร!I40 -> 0 | J40: =ศปจ.นครราชสีมา!J40+นปจ.เขื่อนลำนางรอง!J40+นปจ.เขื่อนปากมูล!J40+นปจ.เขื่อนสิรินธร!J40 -> 0 | K40: =ศปจ.นครราชสีมา!K40+นปจ.เขื่อนลำนางรอง!K40+นปจ.เขื่อนปากมูล!K40+นปจ.เขื่อนสิรินธร!K40 -> 0 | L40: =ศปจ.นครราชสีมา!L40+นปจ.เขื่อนลำนางรอง!L40+นปจ.เขื่อนปากมูล!L40+นปจ.เขื่อนสิรินธร!L40 -> 0 | ... P40: =ศปจ.นครราชสีมา!P40+นปจ.เขื่อนลำนางรอง!P40+นปจ.เขื่อนปากมูล!P40+นปจ.เขื่อนสิรินธร!P40 -> 0
C41: สัญชาติลาว | D41: =SUM(E41:P41) -> 0 | E41: =ศปจ.นครราชสีมา!E41+นปจ.เขื่อนลำนางรอง!E41+นปจ.เขื่อนปากมูล!E41+นปจ.เขื่อนสิรินธร!E41 -> 0 | F41: =ศปจ.นครราชสีมา!F41+นปจ.เขื่อนลำนางรอง!F41+นปจ.เขื่อนปากมูล!F41+นปจ.เขื่อนสิรินธร!F41 -> 0 | G41: =ศปจ.นครราชสีมา!G41+นปจ.เขื่อนลำนางรอง!G41+นปจ.เขื่อนปากมูล!G41+นปจ.เขื่อนสิรินธร!G41 -> 0 | H41: =ศปจ.นครราชสีมา!H41+นปจ.เขื่อนลำนางรอง!H41+นปจ.เขื่อนปากมูล!H41+นปจ.เขื่อนสิรินธร!H41 -> 0 | I41: =ศปจ.นครราชสีมา!I41+นปจ.เขื่อนลำนางรอง!I41+นปจ.เขื่อนปากมูล!I41+นปจ.เขื่อนสิรินธร!I41 -> 0 | J41: =ศปจ.นครราชสีมา!J41+นปจ.เขื่อนลำนางรอง!J41+นปจ.เขื่อนปากมูล!J41+นปจ.เขื่อนสิรินธร!J41 -> 0 | K41: =ศปจ.นครราชสีมา!K41+นปจ.เขื่อนลำนางรอง!K41+นปจ.เขื่อนปากมูล!K41+นปจ.เขื่อนสิรินธร!K41 -> 0 | L41: =ศปจ.นครราชสีมา!L41+นปจ.เขื่อนลำนางรอง!L41+นปจ.เขื่อนปากมูล!L41+นปจ.เขื่อนสิรินธร!L41 -> 0 | ... P41: =ศปจ.นครราชสีมา!P41+นปจ.เขื่อนลำนางรอง!P41+นปจ.เขื่อนปากมูล!P41+นปจ.เขื่อนสิรินธร!P41 -> 0
C42: อื่นๆ | D42: =SUM(E42:P42) -> 0 | E42: =ศปจ.นครราชสีมา!E42+นปจ.เขื่อนลำนางรอง!E42+นปจ.เขื่อนปากมูล!E42+นปจ.เขื่อนสิรินธร!E42 -> 0 | F42: =ศปจ.นครราชสีมา!F42+นปจ.เขื่อนลำนางรอง!F42+นปจ.เขื่อนปากมูล!F42+นปจ.เขื่อนสิรินธร!F42 -> 0 | G42: =ศปจ.นครราชสีมา!G42+นปจ.เขื่อนลำนางรอง!G42+นปจ.เขื่อนปากมูล!G42+นปจ.เขื่อนสิรินธร!G42 -> 0 | H42: =ศปจ.นครราชสีมา!H42+นปจ.เขื่อนลำนางรอง!H42+นปจ.เขื่อนปากมูล!H42+นปจ.เขื่อนสิรินธร!H42 -> 0 | I42: =ศปจ.นครราชสีมา!I42+นปจ.เขื่อนลำนางรอง!I42+นปจ.เขื่อนปากมูล!I42+นปจ.เขื่อนสิรินธร!I42 -> 0 | J42: =ศปจ.นครราชสีมา!J42+นปจ.เขื่อนลำนางรอง!J42+นปจ.เขื่อนปากมูล!J42+นปจ.เขื่อนสิรินธร!J42 -> 0 | K42: =ศปจ.นครราชสีมา!K42+นปจ.เขื่อนลำนางรอง!K42+นปจ.เขื่อนปากมูล!K42+นปจ.เขื่อนสิรินธร!K42 -> 0 | L42: =ศปจ.นครราชสีมา!L42+นปจ.เขื่อนลำนางรอง!L42+นปจ.เขื่อนปากมูล!L42+นปจ.เขื่อนสิรินธร!L42 -> 0 | ... P42: =ศปจ.นครราชสีมา!P42+นปจ.เขื่อนลำนางรอง!P42+นปจ.เขื่อนปากมูล!P42+นปจ.เขื่อนสิรินธร!P42 -> 0
B43: บาท | C43: งบประมาณที่จัดสรร | D43: =SUM(E43:P43) -> 0 | E43: =ศปจ.นครราชสีมา!E43+นปจ.เขื่อนลำนางรอง!E43+นปจ.เขื่อนปากมูล!E43+นปจ.เขื่อนสิรินธร!E43 -> 0 | F43: =ศปจ.นครราชสีมา!F43+นปจ.เขื่อนลำนางรอง!F43+นปจ.เขื่อนปากมูล!F43+นปจ.เขื่อนสิรินธร!F43 -> 0 | G43: =ศปจ.นครราชสีมา!G43+นปจ.เขื่อนลำนางรอง!G43+นปจ.เขื่อนปากมูล!G43+นปจ.เขื่อนสิรินธร!G43 -> 0 | H43: =ศปจ.นครราชสีมา!H43+นปจ.เขื่อนลำนางรอง!H43+นปจ.เขื่อนปากมูล!H43+นปจ.เขื่อนสิรินธร!H43 -> 0 | I43: =ศปจ.นครราชสีมา!I43+นปจ.เขื่อนลำนางรอง!I43+นปจ.เขื่อนปากมูล!I43+นปจ.เขื่อนสิรินธร!I43 -> 0 | J43: =ศปจ.นครราชสีมา!J43+นปจ.เขื่อนลำนางรอง!J43+นปจ.เขื่อนปากมูล!J43+นปจ.เขื่อนสิรินธร!J43 -> 0 | K43: =ศปจ.นครราชสีมา!K43+นปจ.เขื่อนลำนางรอง!K43+นปจ.เขื่อนปากมูล!K43+นปจ.เขื่อนสิรินธร!K43 -> 0 | L43: =ศปจ.นครราชสีมา!L43+นปจ.เขื่อนลำนางรอง!L43+นปจ.เขื่อนปากมูล!L43+นปจ.เขื่อนสิรินธร!L43 -> 0 | ... P43: =ศปจ.นครราชสีมา!P43+นปจ.เขื่อนลำนางรอง!P43+นปจ.เขื่อนปากมูล!P43+นปจ.เขื่อนสิรินธร!P43 -> 0
C44: งบประมาณที่ใช้ | D44: =SUM(E44:P44) -> 0 | E44: =ศปจ.นครราชสีมา!E44+นปจ.เขื่อนลำนางรอง!E44+นปจ.เขื่อนปากมูล!E44+นปจ.เขื่อนสิรินธร!E44 -> 0 | F44: =ศปจ.นครราชสีมา!F44+นปจ.เขื่อนลำนางรอง!F44+นปจ.เขื่อนปากมูล!F44+นปจ.เขื่อนสิรินธร!F44 -> 0 | G44: =ศปจ.นครราชสีมา!G44+นปจ.เขื่อนลำนางรอง!G44+นปจ.เขื่อนปากมูล!G44+นปจ.เขื่อนสิรินธร!G44 -> 0 | H44: =ศปจ.นครราชสีมา!H44+นปจ.เขื่อนลำนางรอง!H44+นปจ.เขื่อนปากมูล!H44+นปจ.เขื่อนสิรินธร!H44 -> 0 | I44: =ศปจ.นครราชสีมา!I44+นปจ.เขื่อนลำนางรอง!I44+นปจ.เขื่อนปากมูล!I44+นปจ.เขื่อนสิรินธร!I44 -> 0 | J44: =ศปจ.นครราชสีมา!J44+นปจ.เขื่อนลำนางรอง!J44+นปจ.เขื่อนปากมูล!J44+นปจ.เขื่อนสิรินธร!J44 -> 0 | K44: =ศปจ.นครราชสีมา!K44+นปจ.เขื่อนลำนางรอง!K44+นปจ.เขื่อนปากมูล!K44+นปจ.เขื่อนสิรินธร!K44 -> 0 | L44: =ศปจ.นครราชสีมา!L44+นปจ.เขื่อนลำนางรอง!L44+นปจ.เขื่อนปากมูล!L44+นปจ.เขื่อนสิรินธร!L44 -> 0 | ... P44: =ศปจ.นครราชสีมา!P44+นปจ.เขื่อนลำนางรอง!P44+นปจ.เขื่อนปากมูล!P44+นปจ.เขื่อนสิรินธร!P44 -> 0
C45: งบประมาณคงเหลือ | D45: =SUM(D43-D44) -> 0
A46: กิจกรรมที่ดำเนินงาน : ควบคุมเฝ้าระวังการทำการประมงพื้นที่ทะเลนอกชายฝั่ง | B46: ครั้ง | C46: แผน | D46: =SUM(E46:P46) -> 0 | E46: =ศปจ.นครราชสีมา!E46+นปจ.เขื่อนลำนางรอง!E46+นปจ.เขื่อนปากมูล!E46+นปจ.เขื่อนสิรินธร!E46 -> 0 | F46: =ศปจ.นครราชสีมา!F46+นปจ.เขื่อนลำนางรอง!F46+นปจ.เขื่อนปากมูล!F46+นปจ.เขื่อนสิรินธร!F46 -> 0 | G46: =ศปจ.นครราชสีมา!G46+นปจ.เขื่อนลำนางรอง!G46+นปจ.เขื่อนปากมูล!G46+นปจ.เขื่อนสิรินธร!G46 -> 0 | H46: =ศปจ.นครราชสีมา!H46+นปจ.เขื่อนลำนางรอง!H46+นปจ.เขื่อนปากมูล!H46+นปจ.เขื่อนสิรินธร!H46 -> 0 | I46: =ศปจ.นครราชสีมา!I46+นปจ.เขื่อนลำนางรอง!I46+นปจ.เขื่อนปากมูล!I46+นปจ.เขื่อนสิรินธร!I46 -> 0 | J46: =ศปจ.นครราชสีมา!J46+นปจ.เขื่อนลำนางรอง!J46+นปจ.เขื่อนปากมูล!J46+นปจ.เขื่อนสิรินธร!J46 -> 0 | K46: =ศปจ.นครราชสีมา!K46+นปจ.เขื่อนลำนางรอง!K46+นปจ.เขื่อนปากมูล!K46+นปจ.เขื่อนสิรินธร!K46 -> 0 | L46: =ศปจ.นครราชสีมา!L46+นปจ.เขื่อนลำนางรอง!L46+นปจ.เขื่อนปากมูล!L46+นปจ.เขื่อนสิรินธร!L46 -> 0 | ... P46: =ศปจ.นครราชสีมา!P46+นปจ.เขื่อนลำนางรอง!P46+นปจ.เขื่อนปากมูล!P46+นปจ.เขื่อนสิรินธร!P46 -> 0
C47: ผล | D47: =SUM(E47:P47) -> 0 | E47: =ศปจ.นครราชสีมา!E47+นปจ.เขื่อนลำนางรอง!E47+นปจ.เขื่อนปากมูล!E47+นปจ.เขื่อนสิรินธร!E47 -> 0 | F47: =ศปจ.นครราชสีมา!F47+นปจ.เขื่อนลำนางรอง!F47+นปจ.เขื่อนปากมูล!F47+นปจ.เขื่อนสิรินธร!F47 -> 0 | G47: =ศปจ.นครราชสีมา!G47+นปจ.เขื่อนลำนางรอง!G47+นปจ.เขื่อนปากมูล!G47+นปจ.เขื่อนสิรินธร!G47 -> 0 | H47: =ศปจ.นครราชสีมา!H47+นปจ.เขื่อนลำนางรอง!H47+นปจ.เขื่อนปากมูล!H47+นปจ.เขื่อนสิรินธร!H47 -> 0 | I47: =ศปจ.นครราชสีมา!I47+นปจ.เขื่อนลำนางรอง!I47+นปจ.เขื่อนปากมูล!I47+นปจ.เขื่อนสิรินธร!I47 -> 0 | J47: =ศปจ.นครราชสีมา!J47+นปจ.เขื่อนลำนางรอง!J47+นปจ.เขื่อนปากมูล!J47+นปจ.เขื่อนสิรินธร!J47 -> 0 | K47: =ศปจ.นครราชสีมา!K47+นปจ.เขื่อนลำนางรอง!K47+นปจ.เขื่อนปากมูล!K47+นปจ.เขื่อนสิรินธร!K47 -> 0 | L47: =ศปจ.นครราชสีมา!L47+นปจ.เขื่อนลำนางรอง!L47+นปจ.เขื่อนปากมูล!L47+นปจ.เขื่อนสิรินธร!L47 -> 0 | ... P47: =ศปจ.นครราชสีมา!P47+นปจ.เขื่อนลำนางรอง!P47+นปจ.เขื่อนปากมูล!P47+นปจ.เขื่อนสิรินธร!P47 -> 0
B48: คดี | C48: คดีจับกุม | D48: =SUM(E48:P48) -> 0 | E48: =ศปจ.นครราชสีมา!E48+นปจ.เขื่อนลำนางรอง!E48+นปจ.เขื่อนปากมูล!E48+นปจ.เขื่อนสิรินธร!E48 -> 0 | F48: =ศปจ.นครราชสีมา!F48+นปจ.เขื่อนลำนางรอง!F48+นปจ.เขื่อนปากมูล!F48+นปจ.เขื่อนสิรินธร!F48 -> 0 | G48: =ศปจ.นครราชสีมา!G48+นปจ.เขื่อนลำนางรอง!G48+นปจ.เขื่อนปากมูล!G48+นปจ.เขื่อนสิรินธร!G48 -> 0 | H48: =ศปจ.นครราชสีมา!H48+นปจ.เขื่อนลำนางรอง!H48+นปจ.เขื่อนปากมูล!H48+นปจ.เขื่อนสิรินธร!H48 -> 0 | I48: =ศปจ.นครราชสีมา!I48+นปจ.เขื่อนลำนางรอง!I48+นปจ.เขื่อนปากมูล!I48+นปจ.เขื่อนสิรินธร!I48 -> 0 | J48: =ศปจ.นครราชสีมา!J48+นปจ.เขื่อนลำนางรอง!J48+นปจ.เขื่อนปากมูล!J48+นปจ.เขื่อนสิรินธร!J48 -> 0 | K48: =ศปจ.นครราชสีมา!K48+นปจ.เขื่อนลำนางรอง!K48+นปจ.เขื่อนปากมูล!K48+นปจ.เขื่อนสิรินธร!K48 -> 0 | L48: =ศปจ.นครราชสีมา!L48+นปจ.เขื่อนลำนางรอง!L48+นปจ.เขื่อนปากมูล!L48+นปจ.เขื่อนสิรินธร!L48 -> 0 | ... P48: =ศปจ.นครราชสีมา!P48+นปจ.เขื่อนลำนางรอง!P48+นปจ.เขื่อนปากมูล!P48+นปจ.เขื่อนสิรินธร!P48 -> 0
C49: ผู้ถูกกล่าวหา(ราย) | D49: =SUM(E49:P49) -> 0 | E49: =ศปจ.นครราชสีมา!E49+นปจ.เขื่อนลำนางรอง!E49+นปจ.เขื่อนปากมูล!E49+นปจ.เขื่อนสิรินธร!E49 -> 0 | F49: =ศปจ.นครราชสีมา!F49+นปจ.เขื่อนลำนางรอง!F49+นปจ.เขื่อนปากมูล!F49+นปจ.เขื่อนสิรินธร!F49 -> 0 | G49: =ศปจ.นครราชสีมา!G49+นปจ.เขื่อนลำนางรอง!G49+นปจ.เขื่อนปากมูล!G49+นปจ.เขื่อนสิรินธร!G49 -> 0 | H49: =ศปจ.นครราชสีมา!H49+นปจ.เขื่อนลำนางรอง!H49+นปจ.เขื่อนปากมูล!H49+นปจ.เขื่อนสิรินธร!H49 -> 0 | I49: =ศปจ.นครราชสีมา!I49+นปจ.เขื่อนลำนางรอง!I49+นปจ.เขื่อนปากมูล!I49+นปจ.เขื่อนสิรินธร!I49 -> 0 | J49: =ศปจ.นครราชสีมา!J49+นปจ.เขื่อนลำนางรอง!J49+นปจ.เขื่อนปากมูล!J49+นปจ.เขื่อนสิรินธร!J49 -> 0 | K49: =ศปจ.นครราชสีมา!K49+นปจ.เขื่อนลำนางรอง!K49+นปจ.เขื่อนปากมูล!K49+นปจ.เขื่อนสิรินธร!K49 -> 0 | L49: =ศปจ.นครราชสีมา!L49+นปจ.เขื่อนลำนางรอง!L49+นปจ.เขื่อนปากมูล!L49+นปจ.เขื่อนสิรินธร!L49 -> 0 | ... P49: =ศปจ.นครราชสีมา!P49+นปจ.เขื่อนลำนางรอง!P49+นปจ.เขื่อนปากมูล!P49+นปจ.เขื่อนสิรินธร!P49 -> 0
C50: คดีตรวจยึด | D50: =SUM(E50:P50) -> 0 | E50: =ศปจ.นครราชสีมา!E50+นปจ.เขื่อนลำนางรอง!E50+นปจ.เขื่อนปากมูล!E50+นปจ.เขื่อนสิรินธร!E50 -> 0 | F50: =ศปจ.นครราชสีมา!F50+นปจ.เขื่อนลำนางรอง!F50+นปจ.เขื่อนปากมูล!F50+นปจ.เขื่อนสิรินธร!F50 -> 0 | G50: =ศปจ.นครราชสีมา!G50+นปจ.เขื่อนลำนางรอง!G50+นปจ.เขื่อนปากมูล!G50+นปจ.เขื่อนสิรินธร!G50 -> 0 | H50: =ศปจ.นครราชสีมา!H50+นปจ.เขื่อนลำนางรอง!H50+นปจ.เขื่อนปากมูล!H50+นปจ.เขื่อนสิรินธร!H50 -> 0 | I50: =ศปจ.นครราชสีมา!I50+นปจ.เขื่อนลำนางรอง!I50+นปจ.เขื่อนปากมูล!I50+นปจ.เขื่อนสิรินธร!I50 -> 0 | J50: =ศปจ.นครราชสีมา!J50+นปจ.เขื่อนลำนางรอง!J50+นปจ.เขื่อนปากมูล!J50+นปจ.เขื่อนสิรินธร!J50 -> 0 | K50: =ศปจ.นครราชสีมา!K50+นปจ.เขื่อนลำนางรอง!K50+นปจ.เขื่อนปากมูล!K50+นปจ.เขื่อนสิรินธร!K50 -> 0 | L50: =ศปจ.นครราชสีมา!L50+นปจ.เขื่อนลำนางรอง!L50+นปจ.เขื่อนปากมูล!L50+นปจ.เขื่อนสิรินธร!L50 -> 0 | ... P50: =ศปจ.นครราชสีมา!P50+นปจ.เขื่อนลำนางรอง!P50+นปจ.เขื่อนปากมูล!P50+นปจ.เขื่อนสิรินธร!P50 -> 0
B51: เรือที่ตรวจ (ลำ) | C51: < 10 ตันกรอส | D51: =SUM(E51:P51) -> 0 | E51: =ศปจ.นครราชสีมา!E51+นปจ.เขื่อนลำนางรอง!E51+นปจ.เขื่อนปากมูล!E51+นปจ.เขื่อนสิรินธร!E51 -> 0 | F51: =ศปจ.นครราชสีมา!F51+นปจ.เขื่อนลำนางรอง!F51+นปจ.เขื่อนปากมูล!F51+นปจ.เขื่อนสิรินธร!F51 -> 0 | G51: =ศปจ.นครราชสีมา!G51+นปจ.เขื่อนลำนางรอง!G51+นปจ.เขื่อนปากมูล!G51+นปจ.เขื่อนสิรินธร!G51 -> 0 | H51: =ศปจ.นครราชสีมา!H51+นปจ.เขื่อนลำนางรอง!H51+นปจ.เขื่อนปากมูล!H51+นปจ.เขื่อนสิรินธร!H51 -> 0 | I51: =ศปจ.นครราชสีมา!I51+นปจ.เขื่อนลำนางรอง!I51+นปจ.เขื่อนปากมูล!I51+นปจ.เขื่อนสิรินธร!I51 -> 0 | J51: =ศปจ.นครราชสีมา!J51+นปจ.เขื่อนลำนางรอง!J51+นปจ.เขื่อนปากมูล!J51+นปจ.เขื่อนสิรินธร!J51 -> 0 | K51: =ศปจ.นครราชสีมา!K51+นปจ.เขื่อนลำนางรอง!K51+นปจ.เขื่อนปากมูล!K51+นปจ.เขื่อนสิรินธร!K51 -> 0 | L51: =ศปจ.นครราชสีมา!L51+นปจ.เขื่อนลำนางรอง!L51+นปจ.เขื่อนปากมูล!L51+นปจ.เขื่อนสิรินธร!L51 -> 0 | ... P51: =ศปจ.นครราชสีมา!P51+นปจ.เขื่อนลำนางรอง!P51+นปจ.เขื่อนปากมูล!P51+นปจ.เขื่อนสิรินธร!P51 -> 0
C52: 10.01 - 30 ตันกรอส | D52: =SUM(E52:P52) -> 0 | E52: =ศปจ.นครราชสีมา!E52+นปจ.เขื่อนลำนางรอง!E52+นปจ.เขื่อนปากมูล!E52+นปจ.เขื่อนสิรินธร!E52 -> 0 | F52: =ศปจ.นครราชสีมา!F52+นปจ.เขื่อนลำนางรอง!F52+นปจ.เขื่อนปากมูล!F52+นปจ.เขื่อนสิรินธร!F52 -> 0 | G52: =ศปจ.นครราชสีมา!G52+นปจ.เขื่อนลำนางรอง!G52+นปจ.เขื่อนปากมูล!G52+นปจ.เขื่อนสิรินธร!G52 -> 0 | H52: =ศปจ.นครราชสีมา!H52+นปจ.เขื่อนลำนางรอง!H52+นปจ.เขื่อนปากมูล!H52+นปจ.เขื่อนสิรินธร!H52 -> 0 | I52: =ศปจ.นครราชสีมา!I52+นปจ.เขื่อนลำนางรอง!I52+นปจ.เขื่อนปากมูล!I52+นปจ.เขื่อนสิรินธร!I52 -> 0 | J52: =ศปจ.นครราชสีมา!J52+นปจ.เขื่อนลำนางรอง!J52+นปจ.เขื่อนปากมูล!J52+นปจ.เขื่อนสิรินธร!J52 -> 0 | K52: =ศปจ.นครราชสีมา!K52+นปจ.เขื่อนลำนางรอง!K52+นปจ.เขื่อนปากมูล!K52+นปจ.เขื่อนสิรินธร!K52 -> 0 | L52: =ศปจ.นครราชสีมา!L52+นปจ.เขื่อนลำนางรอง!L52+นปจ.เขื่อนปากมูล!L52+นปจ.เขื่อนสิรินธร!L52 -> 0 | ... P52: =ศปจ.นครราชสีมา!P52+นปจ.เขื่อนลำนางรอง!P52+นปจ.เขื่อนปากมูล!P52+นปจ.เขื่อนสิรินธร!P52 -> 0
C53: 30.01 - 60 ตันกรอส | D53: =SUM(E53:P53) -> 0 | E53: =ศปจ.นครราชสีมา!E53+นปจ.เขื่อนลำนางรอง!E53+นปจ.เขื่อนปากมูล!E53+นปจ.เขื่อนสิรินธร!E53 -> 0 | F53: =ศปจ.นครราชสีมา!F53+นปจ.เขื่อนลำนางรอง!F53+นปจ.เขื่อนปากมูล!F53+นปจ.เขื่อนสิรินธร!F53 -> 0 | G53: =ศปจ.นครราชสีมา!G53+นปจ.เขื่อนลำนางรอง!G53+นปจ.เขื่อนปากมูล!G53+นปจ.เขื่อนสิรินธร!G53 -> 0 | H53: =ศปจ.นครราชสีมา!H53+นปจ.เขื่อนลำนางรอง!H53+นปจ.เขื่อนปากมูล!H53+นปจ.เขื่อนสิรินธร!H53 -> 0 | I53: =ศปจ.นครราชสีมา!I53+นปจ.เขื่อนลำนางรอง!I53+นปจ.เขื่อนปากมูล!I53+นปจ.เขื่อนสิรินธร!I53 -> 0 | J53: =ศปจ.นครราชสีมา!J53+นปจ.เขื่อนลำนางรอง!J53+นปจ.เขื่อนปากมูล!J53+นปจ.เขื่อนสิรินธร!J53 -> 0 | K53: =ศปจ.นครราชสีมา!K53+นปจ.เขื่อนลำนางรอง!K53+นปจ.เขื่อนปากมูล!K53+นปจ.เขื่อนสิรินธร!K53 -> 0 | L53: =ศปจ.นครราชสีมา!L53+นปจ.เขื่อนลำนางรอง!L53+นปจ.เขื่อนปากมูล!L53+นปจ.เขื่อนสิรินธร!L53 -> 0 | ... P53: =ศปจ.นครราชสีมา!P53+นปจ.เขื่อนลำนางรอง!P53+นปจ.เขื่อนปากมูล!P53+นปจ.เขื่อนสิรินธร!P53 -> 0
C54: 60.01 - 150 ตันกรอส | D54: =SUM(E54:P54) -> 0 | E54: =ศปจ.นครราชสีมา!E54+นปจ.เขื่อนลำนางรอง!E54+นปจ.เขื่อนปากมูล!E54+นปจ.เขื่อนสิรินธร!E54 -> 0 | F54: =ศปจ.นครราชสีมา!F54+นปจ.เขื่อนลำนางรอง!F54+นปจ.เขื่อนปากมูล!F54+นปจ.เขื่อนสิรินธร!F54 -> 0 | G54: =ศปจ.นครราชสีมา!G54+นปจ.เขื่อนลำนางรอง!G54+นปจ.เขื่อนปากมูล!G54+นปจ.เขื่อนสิรินธร!G54 -> 0 | H54: =ศปจ.นครราชสีมา!H54+นปจ.เขื่อนลำนางรอง!H54+นปจ.เขื่อนปากมูล!H54+นปจ.เขื่อนสิรินธร!H54 -> 0 | I54: =ศปจ.นครราชสีมา!I54+นปจ.เขื่อนลำนางรอง!I54+นปจ.เขื่อนปากมูล!I54+นปจ.เขื่อนสิรินธร!I54 -> 0 | J54: =ศปจ.นครราชสีมา!J54+นปจ.เขื่อนลำนางรอง!J54+นปจ.เขื่อนปากมูล!J54+นปจ.เขื่อนสิรินธร!J54 -> 0 | K54: =ศปจ.นครราชสีมา!K54+นปจ.เขื่อนลำนางรอง!K54+นปจ.เขื่อนปากมูล!K54+นปจ.เขื่อนสิรินธร!K54 -> 0 | L54: =ศปจ.นครราชสีมา!L54+นปจ.เขื่อนลำนางรอง!L54+นปจ.เขื่อนปากมูล!L54+นปจ.เขื่อนสิรินธร!L54 -> 0 | ... P54: =ศปจ.นครราชสีมา!P54+นปจ.เขื่อนลำนางรอง!P54+นปจ.เขื่อนปากมูล!P54+นปจ.เขื่อนสิรินธร!P54 -> 0
C55: > 150 ตันกรอส | D55: =SUM(E55:P55) -> 0 | E55: =ศปจ.นครราชสีมา!E55+นปจ.เขื่อนลำนางรอง!E55+นปจ.เขื่อนปากมูล!E55+นปจ.เขื่อนสิรินธร!E55 -> 0 | F55: =ศปจ.นครราชสีมา!F55+นปจ.เขื่อนลำนางรอง!F55+นปจ.เขื่อนปากมูล!F55+นปจ.เขื่อนสิรินธร!F55 -> 0 | G55: =ศปจ.นครราชสีมา!G55+นปจ.เขื่อนลำนางรอง!G55+นปจ.เขื่อนปากมูล!G55+นปจ.เขื่อนสิรินธร!G55 -> 0 | H55: =ศปจ.นครราชสีมา!H55+นปจ.เขื่อนลำนางรอง!H55+นปจ.เขื่อนปากมูล!H55+นปจ.เขื่อนสิรินธร!H55 -> 0 | I55: =ศปจ.นครราชสีมา!I55+นปจ.เขื่อนลำนางรอง!I55+นปจ.เขื่อนปากมูล!I55+นปจ.เขื่อนสิรินธร!I55 -> 0 | J55: =ศปจ.นครราชสีมา!J55+นปจ.เขื่อนลำนางรอง!J55+นปจ.เขื่อนปากมูล!J55+นปจ.เขื่อนสิรินธร!J55 -> 0 | K55: =ศปจ.นครราชสีมา!K55+นปจ.เขื่อนลำนางรอง!K55+นปจ.เขื่อนปากมูล!K55+นปจ.เขื่อนสิรินธร!K55 -> 0 | L55: =ศปจ.นครราชสีมา!L55+นปจ.เขื่อนลำนางรอง!L55+นปจ.เขื่อนปากมูล!L55+นปจ.เขื่อนสิรินธร!L55 -> 0 | ... P55: =ศปจ.นครราชสีมา!P55+นปจ.เขื่อนลำนางรอง!P55+นปจ.เขื่อนปากมูล!P55+นปจ.เขื่อนสิรินธร!P55 -> 0
B56: แรงงาน (ราย) | C56: สัญชาติไทย | D56: =SUM(E56:P56) -> 0 | E56: =ศปจ.นครราชสีมา!E56+นปจ.เขื่อนลำนางรอง!E56+นปจ.เขื่อนปากมูล!E56+นปจ.เขื่อนสิรินธร!E56 -> 0 | F56: =ศปจ.นครราชสีมา!F56+นปจ.เขื่อนลำนางรอง!F56+นปจ.เขื่อนปากมูล!F56+นปจ.เขื่อนสิรินธร!F56 -> 0 | G56: =ศปจ.นครราชสีมา!G56+นปจ.เขื่อนลำนางรอง!G56+นปจ.เขื่อนปากมูล!G56+นปจ.เขื่อนสิรินธร!G56 -> 0 | H56: =ศปจ.นครราชสีมา!H56+นปจ.เขื่อนลำนางรอง!H56+นปจ.เขื่อนปากมูล!H56+นปจ.เขื่อนสิรินธร!H56 -> 0 | I56: =ศปจ.นครราชสีมา!I56+นปจ.เขื่อนลำนางรอง!I56+นปจ.เขื่อนปากมูล!I56+นปจ.เขื่อนสิรินธร!I56 -> 0 | J56: =ศปจ.นครราชสีมา!J56+นปจ.เขื่อนลำนางรอง!J56+นปจ.เขื่อนปากมูล!J56+นปจ.เขื่อนสิรินธร!J56 -> 0 | K56: =ศปจ.นครราชสีมา!K56+นปจ.เขื่อนลำนางรอง!K56+นปจ.เขื่อนปากมูล!K56+นปจ.เขื่อนสิรินธร!K56 -> 0 | L56: =ศปจ.นครราชสีมา!L56+นปจ.เขื่อนลำนางรอง!L56+นปจ.เขื่อนปากมูล!L56+นปจ.เขื่อนสิรินธร!L56 -> 0 | ... P56: =ศปจ.นครราชสีมา!P56+นปจ.เขื่อนลำนางรอง!P56+นปจ.เขื่อนปากมูล!P56+นปจ.เขื่อนสิรินธร!P56 -> 0
C57: สัญชาติเมียนมาร์ | D57: =SUM(E57:P57) -> 0 | E57: =ศปจ.นครราชสีมา!E57+นปจ.เขื่อนลำนางรอง!E57+นปจ.เขื่อนปากมูล!E57+นปจ.เขื่อนสิรินธร!E57 -> 0 | F57: =ศปจ.นครราชสีมา!F57+นปจ.เขื่อนลำนางรอง!F57+นปจ.เขื่อนปากมูล!F57+นปจ.เขื่อนสิรินธร!F57 -> 0 | G57: =ศปจ.นครราชสีมา!G57+นปจ.เขื่อนลำนางรอง!G57+นปจ.เขื่อนปากมูล!G57+นปจ.เขื่อนสิรินธร!G57 -> 0 | H57: =ศปจ.นครราชสีมา!H57+นปจ.เขื่อนลำนางรอง!H57+นปจ.เขื่อนปากมูล!H57+นปจ.เขื่อนสิรินธร!H57 -> 0 | I57: =ศปจ.นครราชสีมา!I57+นปจ.เขื่อนลำนางรอง!I57+นปจ.เขื่อนปากมูล!I57+นปจ.เขื่อนสิรินธร!I57 -> 0 | J57: =ศปจ.นครราชสีมา!J57+นปจ.เขื่อนลำนางรอง!J57+นปจ.เขื่อนปากมูล!J57+นปจ.เขื่อนสิรินธร!J57 -> 0 | K57: =ศปจ.นครราชสีมา!K57+นปจ.เขื่อนลำนางรอง!K57+นปจ.เขื่อนปากมูล!K57+นปจ.เขื่อนสิรินธร!K57 -> 0 | L57: =ศปจ.นครราชสีมา!L57+นปจ.เขื่อนลำนางรอง!L57+นปจ.เขื่อนปากมูล!L57+นปจ.เขื่อนสิรินธร!L57 -> 0 | ... P57: =ศปจ.นครราชสีมา!P57+นปจ.เขื่อนลำนางรอง!P57+นปจ.เขื่อนปากมูล!P57+นปจ.เขื่อนสิรินธร!P57 -> 0
C58: สัญชาติกัมพูชา | D58: =SUM(E58:P58) -> 0 | E58: =ศปจ.นครราชสีมา!E58+นปจ.เขื่อนลำนางรอง!E58+นปจ.เขื่อนปากมูล!E58+นปจ.เขื่อนสิรินธร!E58 -> 0 | F58: =ศปจ.นครราชสีมา!F58+นปจ.เขื่อนลำนางรอง!F58+นปจ.เขื่อนปากมูล!F58+นปจ.เขื่อนสิรินธร!F58 -> 0 | G58: =ศปจ.นครราชสีมา!G58+นปจ.เขื่อนลำนางรอง!G58+นปจ.เขื่อนปากมูล!G58+นปจ.เขื่อนสิรินธร!G58 -> 0 | H58: =ศปจ.นครราชสีมา!H58+นปจ.เขื่อนลำนางรอง!H58+นปจ.เขื่อนปากมูล!H58+นปจ.เขื่อนสิรินธร!H58 -> 0 | I58: =ศปจ.นครราชสีมา!I58+นปจ.เขื่อนลำนางรอง!I58+นปจ.เขื่อนปากมูล!I58+นปจ.เขื่อนสิรินธร!I58 -> 0 | J58: =ศปจ.นครราชสีมา!J58+นปจ.เขื่อนลำนางรอง!J58+นปจ.เขื่อนปากมูล!J58+นปจ.เขื่อนสิรินธร!J58 -> 0 | K58: =ศปจ.นครราชสีมา!K58+นปจ.เขื่อนลำนางรอง!K58+นปจ.เขื่อนปากมูล!K58+นปจ.เขื่อนสิรินธร!K58 -> 0 | L58: =ศปจ.นครราชสีมา!L58+นปจ.เขื่อนลำนางรอง!L58+นปจ.เขื่อนปากมูล!L58+นปจ.เขื่อนสิรินธร!L58 -> 0 | ... P58: =ศปจ.นครราชสีมา!P58+นปจ.เขื่อนลำนางรอง!P58+นปจ.เขื่อนปากมูล!P58+นปจ.เขื่อนสิรินธร!P58 -> 0
C59: สัญชาติลาว | D59: =SUM(E59:P59) -> 0 | E59: =ศปจ.นครราชสีมา!E59+นปจ.เขื่อนลำนางรอง!E59+นปจ.เขื่อนปากมูล!E59+นปจ.เขื่อนสิรินธร!E59 -> 0 | F59: =ศปจ.นครราชสีมา!F59+นปจ.เขื่อนลำนางรอง!F59+นปจ.เขื่อนปากมูล!F59+นปจ.เขื่อนสิรินธร!F59 -> 0 | G59: =ศปจ.นครราชสีมา!G59+นปจ.เขื่อนลำนางรอง!G59+นปจ.เขื่อนปากมูล!G59+นปจ.เขื่อนสิรินธร!G59 -> 0 | H59: =ศปจ.นครราชสีมา!H59+นปจ.เขื่อนลำนางรอง!H59+นปจ.เขื่อนปากมูล!H59+นปจ.เขื่อนสิรินธร!H59 -> 0 | I59: =ศปจ.นครราชสีมา!I59+นปจ.เขื่อนลำนางรอง!I59+นปจ.เขื่อนปากมูล!I59+นปจ.เขื่อนสิรินธร!I59 -> 0 | J59: =ศปจ.นครราชสีมา!J59+นปจ.เขื่อนลำนางรอง!J59+นปจ.เขื่อนปากมูล!J59+นปจ.เขื่อนสิรินธร!J59 -> 0 | K59: =ศปจ.นครราชสีมา!K59+นปจ.เขื่อนลำนางรอง!K59+นปจ.เขื่อนปากมูล!K59+นปจ.เขื่อนสิรินธร!K59 -> 0 | L59: =ศปจ.นครราชสีมา!L59+นปจ.เขื่อนลำนางรอง!L59+นปจ.เขื่อนปากมูล!L59+นปจ.เขื่อนสิรินธร!L59 -> 0 | ... P59: =ศปจ.นครราชสีมา!P59+นปจ.เขื่อนลำนางรอง!P59+นปจ.เขื่อนปากมูล!P59+นปจ.เขื่อนสิรินธร!P59 -> 0
C60: อื่นๆ | D60: =SUM(E60:P60) -> 0 | E60: =ศปจ.นครราชสีมา!E60+นปจ.เขื่อนลำนางรอง!E60+นปจ.เขื่อนปากมูล!E60+นปจ.เขื่อนสิรินธร!E60 -> 0 | F60: =ศปจ.นครราชสีมา!F60+นปจ.เขื่อนลำนางรอง!F60+นปจ.เขื่อนปากมูล!F60+นปจ.เขื่อนสิรินธร!F60 -> 0 | G60: =ศปจ.นครราชสีมา!G60+นปจ.เขื่อนลำนางรอง!G60+นปจ.เขื่อนปากมูล!G60+นปจ.เขื่อนสิรินธร!G60 -> 0 | H60: =ศปจ.นครราชสีมา!H60+นปจ.เขื่อนลำนางรอง!H60+นปจ.เขื่อนปากมูล!H60+นปจ.เขื่อนสิรินธร!H60 -> 0 | I60: =ศปจ.นครราชสีมา!I60+นปจ.เขื่อนลำนางรอง!I60+นปจ.เขื่อนปากมูล!I60+นปจ.เขื่อนสิรินธร!I60 -> 0 | J60: =ศปจ.นครราชสีมา!J60+นปจ.เขื่อนลำนางรอง!J60+นปจ.เขื่อนปากมูล!J60+นปจ.เขื่อนสิรินธร!J60 -> 0 | K60: =ศปจ.นครราชสีมา!K60+นปจ.เขื่อนลำนางรอง!K60+นปจ.เขื่อนปากมูล!K60+นปจ.เขื่อนสิรินธร!K60 -> 0 | L60: =ศปจ.นครราชสีมา!L60+นปจ.เขื่อนลำนางรอง!L60+นปจ.เขื่อนปากมูล!L60+นปจ.เขื่อนสิรินธร!L60 -> 0 | ... P60: =ศปจ.นครราชสีมา!P60+นปจ.เขื่อนลำนางรอง!P60+นปจ.เขื่อนปากมูล!P60+นปจ.เขื่อนสิรินธร!P60 -> 0
B61: บาท | C61: งบประมาณที่จัดสรร | D61: =SUM(E61:P61) -> 0 | E61: =ศปจ.นครราชสีมา!E61+นปจ.เขื่อนลำนางรอง!E61+นปจ.เขื่อนปากมูล!E61+นปจ.เขื่อนสิรินธร!E61 -> 0 | F61: =ศปจ.นครราชสีมา!F61+นปจ.เขื่อนลำนางรอง!F61+นปจ.เขื่อนปากมูล!F61+นปจ.เขื่อนสิรินธร!F61 -> 0 | G61: =ศปจ.นครราชสีมา!G61+นปจ.เขื่อนลำนางรอง!G61+นปจ.เขื่อนปากมูล!G61+นปจ.เขื่อนสิรินธร!G61 -> 0 | H61: =ศปจ.นครราชสีมา!H61+นปจ.เขื่อนลำนางรอง!H61+นปจ.เขื่อนปากมูล!H61+นปจ.เขื่อนสิรินธร!H61 -> 0 | I61: =ศปจ.นครราชสีมา!I61+นปจ.เขื่อนลำนางรอง!I61+นปจ.เขื่อนปากมูล!I61+นปจ.เขื่อนสิรินธร!I61 -> 0 | J61: =ศปจ.นครราชสีมา!J61+นปจ.เขื่อนลำนางรอง!J61+นปจ.เขื่อนปากมูล!J61+นปจ.เขื่อนสิรินธร!J61 -> 0 | K61: =ศปจ.นครราชสีมา!K61+นปจ.เขื่อนลำนางรอง!K61+นปจ.เขื่อนปากมูล!K61+นปจ.เขื่อนสิรินธร!K61 -> 0 | L61: =ศปจ.นครราชสีมา!L61+นปจ.เขื่อนลำนางรอง!L61+นปจ.เขื่อนปากมูล!L61+นปจ.เขื่อนสิรินธร!L61 -> 0 | ... P61: =ศปจ.นครราชสีมา!P61+นปจ.เขื่อนลำนางรอง!P61+นปจ.เขื่อนปากมูล!P61+นปจ.เขื่อนสิรินธร!P61 -> 0
C62: งบประมาณที่ใช้ | D62: =SUM(E62:P62) -> 0 | E62: =ศปจ.นครราชสีมา!E62+นปจ.เขื่อนลำนางรอง!E62+นปจ.เขื่อนปากมูล!E62+นปจ.เขื่อนสิรินธร!E62 -> 0 | F62: =ศปจ.นครราชสีมา!F62+นปจ.เขื่อนลำนางรอง!F62+นปจ.เขื่อนปากมูล!F62+นปจ.เขื่อนสิรินธร!F62 -> 0 | G62: =ศปจ.นครราชสีมา!G62+นปจ.เขื่อนลำนางรอง!G62+นปจ.เขื่อนปากมูล!G62+นปจ.เขื่อนสิรินธร!G62 -> 0 | H62: =ศปจ.นครราชสีมา!H62+นปจ.เขื่อนลำนางรอง!H62+นปจ.เขื่อนปากมูล!H62+นปจ.เขื่อนสิรินธร!H62 -> 0 | I62: =ศปจ.นครราชสีมา!I62+นปจ.เขื่อนลำนางรอง!I62+นปจ.เขื่อนปากมูล!I62+นปจ.เขื่อนสิรินธร!I62 -> 0 | J62: =ศปจ.นครราชสีมา!J62+นปจ.เขื่อนลำนางรอง!J62+นปจ.เขื่อนปากมูล!J62+นปจ.เขื่อนสิรินธร!J62 -> 0 | K62: =ศปจ.นครราชสีมา!K62+นปจ.เขื่อนลำนางรอง!K62+นปจ.เขื่อนปากมูล!K62+นปจ.เขื่อนสิรินธร!K62 -> 0 | L62: =ศปจ.นครราชสีมา!L62+นปจ.เขื่อนลำนางรอง!L62+นปจ.เขื่อนปากมูล!L62+นปจ.เขื่อนสิรินธร!L62 -> 0 | ... P62: =ศปจ.นครราชสีมา!P62+นปจ.เขื่อนลำนางรอง!P62+นปจ.เขื่อนปากมูล!P62+นปจ.เขื่อนสิรินธร!P62 -> 0
C63: งบประมาณคงเหลือ | D63: =SUM(D61-D62) -> 0
A64: กิจกรรมที่ดำเนินงาน : ปฏิบัติงานตามข้อร้องเรียน / เฉพาะกิจ | B64: ครั้ง | C64: แผน | D64: =SUM(E64:P64) -> 0 | E64: =ศปจ.นครราชสีมา!E64+นปจ.เขื่อนลำนางรอง!E64+นปจ.เขื่อนปากมูล!E64+นปจ.เขื่อนสิรินธร!E64 -> 0 | F64: =ศปจ.นครราชสีมา!F64+นปจ.เขื่อนลำนางรอง!F64+นปจ.เขื่อนปากมูล!F64+นปจ.เขื่อนสิรินธร!F64 -> 0 | G64: =ศปจ.นครราชสีมา!G64+นปจ.เขื่อนลำนางรอง!G64+นปจ.เขื่อนปากมูล!G64+นปจ.เขื่อนสิรินธร!G64 -> 0 | H64: =ศปจ.นครราชสีมา!H64+นปจ.เขื่อนลำนางรอง!H64+นปจ.เขื่อนปากมูล!H64+นปจ.เขื่อนสิรินธร!H64 -> 0 | I64: =ศปจ.นครราชสีมา!I64+นปจ.เขื่อนลำนางรอง!I64+นปจ.เขื่อนปากมูล!I64+นปจ.เขื่อนสิรินธร!I64 -> 0 | J64: =ศปจ.นครราชสีมา!J64+นปจ.เขื่อนลำนางรอง!J64+นปจ.เขื่อนปากมูล!J64+นปจ.เขื่อนสิรินธร!J64 -> 0 | K64: =ศปจ.นครราชสีมา!K64+นปจ.เขื่อนลำนางรอง!K64+นปจ.เขื่อนปากมูล!K64+นปจ.เขื่อนสิรินธร!K64 -> 0 | L64: =ศปจ.นครราชสีมา!L64+นปจ.เขื่อนลำนางรอง!L64+นปจ.เขื่อนปากมูล!L64+นปจ.เขื่อนสิรินธร!L64 -> 0 | ... P64: =ศปจ.นครราชสีมา!P64+นปจ.เขื่อนลำนางรอง!P64+นปจ.เขื่อนปากมูล!P64+นปจ.เขื่อนสิรินธร!P64 -> 0
C65: ผล | D65: =SUM(E65:P65) -> 0 | E65: =ศปจ.นครราชสีมา!E65+นปจ.เขื่อนลำนางรอง!E65+นปจ.เขื่อนปากมูล!E65+นปจ.เขื่อนสิรินธร!E65 -> 0 | F65: =ศปจ.นครราชสีมา!F65+นปจ.เขื่อนลำนางรอง!F65+นปจ.เขื่อนปากมูล!F65+นปจ.เขื่อนสิรินธร!F65 -> 0 | G65: =ศปจ.นครราชสีมา!G65+นปจ.เขื่อนลำนางรอง!G65+นปจ.เขื่อนปากมูล!G65+นปจ.เขื่อนสิรินธร!G65 -> 0 | H65: =ศปจ.นครราชสีมา!H65+นปจ.เขื่อนลำนางรอง!H65+นปจ.เขื่อนปากมูล!H65+นปจ.เขื่อนสิรินธร!H65 -> 0 | I65: =ศปจ.นครราชสีมา!I65+นปจ.เขื่อนลำนางรอง!I65+นปจ.เขื่อนปากมูล!I65+นปจ.เขื่อนสิรินธร!I65 -> 0 | J65: =ศปจ.นครราชสีมา!J65+นปจ.เขื่อนลำนางรอง!J65+นปจ.เขื่อนปากมูล!J65+นปจ.เขื่อนสิรินธร!J65 -> 0 | K65: =ศปจ.นครราชสีมา!K65+นปจ.เขื่อนลำนางรอง!K65+นปจ.เขื่อนปากมูล!K65+นปจ.เขื่อนสิรินธร!K65 -> 0 | L65: =ศปจ.นครราชสีมา!L65+นปจ.เขื่อนลำนางรอง!L65+นปจ.เขื่อนปากมูล!L65+นปจ.เขื่อนสิรินธร!L65 -> 0 | ... P65: =ศปจ.นครราชสีมา!P65+นปจ.เขื่อนลำนางรอง!P65+นปจ.เขื่อนปากมูล!P65+นปจ.เขื่อนสิรินธร!P65 -> 0
B66: คดี | C66: คดีจับกุม | D66: =SUM(E66:P66) -> 0 | E66: =ศปจ.นครราชสีมา!E66+นปจ.เขื่อนลำนางรอง!E66+นปจ.เขื่อนปากมูล!E66+นปจ.เขื่อนสิรินธร!E66 -> 0 | F66: =ศปจ.นครราชสีมา!F66+นปจ.เขื่อนลำนางรอง!F66+นปจ.เขื่อนปากมูล!F66+นปจ.เขื่อนสิรินธร!F66 -> 0 | G66: =ศปจ.นครราชสีมา!G66+นปจ.เขื่อนลำนางรอง!G66+นปจ.เขื่อนปากมูล!G66+นปจ.เขื่อนสิรินธร!G66 -> 0 | H66: =ศปจ.นครราชสีมา!H66+นปจ.เขื่อนลำนางรอง!H66+นปจ.เขื่อนปากมูล!H66+นปจ.เขื่อนสิรินธร!H66 -> 0 | I66: =ศปจ.นครราชสีมา!I66+นปจ.เขื่อนลำนางรอง!I66+นปจ.เขื่อนปากมูล!I66+นปจ.เขื่อนสิรินธร!I66 -> 0 | J66: =ศปจ.นครราชสีมา!J66+นปจ.เขื่อนลำนางรอง!J66+นปจ.เขื่อนปากมูล!J66+นปจ.เขื่อนสิรินธร!J66 -> 0 | K66: =ศปจ.นครราชสีมา!K66+นปจ.เขื่อนลำนางรอง!K66+นปจ.เขื่อนปากมูล!K66+นปจ.เขื่อนสิรินธร!K66 -> 0 | L66: =ศปจ.นครราชสีมา!L66+นปจ.เขื่อนลำนางรอง!L66+นปจ.เขื่อนปากมูล!L66+นปจ.เขื่อนสิรินธร!L66 -> 0 | ... P66: =ศปจ.นครราชสีมา!P66+นปจ.เขื่อนลำนางรอง!P66+นปจ.เขื่อนปากมูล!P66+นปจ.เขื่อนสิรินธร!P66 -> 0
C67: ผู้ถูกกล่าวหา(ราย) | D67: =SUM(E67:P67) -> 0 | E67: =ศปจ.นครราชสีมา!E67+นปจ.เขื่อนลำนางรอง!E67+นปจ.เขื่อนปากมูล!E67+นปจ.เขื่อนสิรินธร!E67 -> 0 | F67: =ศปจ.นครราชสีมา!F67+นปจ.เขื่อนลำนางรอง!F67+นปจ.เขื่อนปากมูล!F67+นปจ.เขื่อนสิรินธร!F67 -> 0 | G67: =ศปจ.นครราชสีมา!G67+นปจ.เขื่อนลำนางรอง!G67+นปจ.เขื่อนปากมูล!G67+นปจ.เขื่อนสิรินธร!G67 -> 0 | H67: =ศปจ.นครราชสีมา!H67+นปจ.เขื่อนลำนางรอง!H67+นปจ.เขื่อนปากมูล!H67+นปจ.เขื่อนสิรินธร!H67 -> 0 | I67: =ศปจ.นครราชสีมา!I67+นปจ.เขื่อนลำนางรอง!I67+นปจ.เขื่อนปากมูล!I67+นปจ.เขื่อนสิรินธร!I67 -> 0 | J67: =ศปจ.นครราชสีมา!J67+นปจ.เขื่อนลำนางรอง!J67+นปจ.เขื่อนปากมูล!J67+นปจ.เขื่อนสิรินธร!J67 -> 0 | K67: =ศปจ.นครราชสีมา!K67+นปจ.เขื่อนลำนางรอง!K67+นปจ.เขื่อนปากมูล!K67+นปจ.เขื่อนสิรินธร!K67 -> 0 | L67: =ศปจ.นครราชสีมา!L67+นปจ.เขื่อนลำนางรอง!L67+นปจ.เขื่อนปากมูล!L67+นปจ.เขื่อนสิรินธร!L67 -> 0 | ... P67: =ศปจ.นครราชสีมา!P67+นปจ.เขื่อนลำนางรอง!P67+นปจ.เขื่อนปากมูล!P67+นปจ.เขื่อนสิรินธร!P67 -> 0
C68: คดีตรวจยึด | D68: =SUM(E68:P68) -> 0 | E68: =ศปจ.นครราชสีมา!E68+นปจ.เขื่อนลำนางรอง!E68+นปจ.เขื่อนปากมูล!E68+นปจ.เขื่อนสิรินธร!E68 -> 0 | F68: =ศปจ.นครราชสีมา!F68+นปจ.เขื่อนลำนางรอง!F68+นปจ.เขื่อนปากมูล!F68+นปจ.เขื่อนสิรินธร!F68 -> 0 | G68: =ศปจ.นครราชสีมา!G68+นปจ.เขื่อนลำนางรอง!G68+นปจ.เขื่อนปากมูล!G68+นปจ.เขื่อนสิรินธร!G68 -> 0 | H68: =ศปจ.นครราชสีมา!H68+นปจ.เขื่อนลำนางรอง!H68+นปจ.เขื่อนปากมูล!H68+นปจ.เขื่อนสิรินธร!H68 -> 0 | I68: =ศปจ.นครราชสีมา!I68+นปจ.เขื่อนลำนางรอง!I68+นปจ.เขื่อนปากมูล!I68+นปจ.เขื่อนสิรินธร!I68 -> 0 | J68: =ศปจ.นครราชสีมา!J68+นปจ.เขื่อนลำนางรอง!J68+นปจ.เขื่อนปากมูล!J68+นปจ.เขื่อนสิรินธร!J68 -> 0 | K68: =ศปจ.นครราชสีมา!K68+นปจ.เขื่อนลำนางรอง!K68+นปจ.เขื่อนปากมูล!K68+นปจ.เขื่อนสิรินธร!K68 -> 0 | L68: =ศปจ.นครราชสีมา!L68+นปจ.เขื่อนลำนางรอง!L68+นปจ.เขื่อนปากมูล!L68+นปจ.เขื่อนสิรินธร!L68 -> 0 | ... P68: =ศปจ.นครราชสีมา!P68+นปจ.เขื่อนลำนางรอง!P68+นปจ.เขื่อนปากมูล!P68+นปจ.เขื่อนสิรินธร!P68 -> 0
B69: เรือที่ตรวจ (ลำ) | C69: < 10 ตันกรอส | D69: =SUM(E69:P69) -> 0 | E69: =ศปจ.นครราชสีมา!E69+นปจ.เขื่อนลำนางรอง!E69+นปจ.เขื่อนปากมูล!E69+นปจ.เขื่อนสิรินธร!E69 -> 0 | F69: =ศปจ.นครราชสีมา!F69+นปจ.เขื่อนลำนางรอง!F69+นปจ.เขื่อนปากมูล!F69+นปจ.เขื่อนสิรินธร!F69 -> 0 | G69: =ศปจ.นครราชสีมา!G69+นปจ.เขื่อนลำนางรอง!G69+นปจ.เขื่อนปากมูล!G69+นปจ.เขื่อนสิรินธร!G69 -> 0 | H69: =ศปจ.นครราชสีมา!H69+นปจ.เขื่อนลำนางรอง!H69+นปจ.เขื่อนปากมูล!H69+นปจ.เขื่อนสิรินธร!H69 -> 0 | I69: =ศปจ.นครราชสีมา!I69+นปจ.เขื่อนลำนางรอง!I69+นปจ.เขื่อนปากมูล!I69+นปจ.เขื่อนสิรินธร!I69 -> 0 | J69: =ศปจ.นครราชสีมา!J69+นปจ.เขื่อนลำนางรอง!J69+นปจ.เขื่อนปากมูล!J69+นปจ.เขื่อนสิรินธร!J69 -> 0 | K69: =ศปจ.นครราชสีมา!K69+นปจ.เขื่อนลำนางรอง!K69+นปจ.เขื่อนปากมูล!K69+นปจ.เขื่อนสิรินธร!K69 -> 0 | L69: =ศปจ.นครราชสีมา!L69+นปจ.เขื่อนลำนางรอง!L69+นปจ.เขื่อนปากมูล!L69+นปจ.เขื่อนสิรินธร!L69 -> 0 | ... P69: =ศปจ.นครราชสีมา!P69+นปจ.เขื่อนลำนางรอง!P69+นปจ.เขื่อนปากมูล!P69+นปจ.เขื่อนสิรินธร!P69 -> 0
C70: 10.01 - 30 ตันกรอส | D70: =SUM(E70:P70) -> 0 | E70: =ศปจ.นครราชสีมา!E70+นปจ.เขื่อนลำนางรอง!E70+นปจ.เขื่อนปากมูล!E70+นปจ.เขื่อนสิรินธร!E70 -> 0 | F70: =ศปจ.นครราชสีมา!F70+นปจ.เขื่อนลำนางรอง!F70+นปจ.เขื่อนปากมูล!F70+นปจ.เขื่อนสิรินธร!F70 -> 0 | G70: =ศปจ.นครราชสีมา!G70+นปจ.เขื่อนลำนางรอง!G70+นปจ.เขื่อนปากมูล!G70+นปจ.เขื่อนสิรินธร!G70 -> 0 | H70: =ศปจ.นครราชสีมา!H70+นปจ.เขื่อนลำนางรอง!H70+นปจ.เขื่อนปากมูล!H70+นปจ.เขื่อนสิรินธร!H70 -> 0 | I70: =ศปจ.นครราชสีมา!I70+นปจ.เขื่อนลำนางรอง!I70+นปจ.เขื่อนปากมูล!I70+นปจ.เขื่อนสิรินธร!I70 -> 0 | J70: =ศปจ.นครราชสีมา!J70+นปจ.เขื่อนลำนางรอง!J70+นปจ.เขื่อนปากมูล!J70+นปจ.เขื่อนสิรินธร!J70 -> 0 | K70: =ศปจ.นครราชสีมา!K70+นปจ.เขื่อนลำนางรอง!K70+นปจ.เขื่อนปากมูล!K70+นปจ.เขื่อนสิรินธร!K70 -> 0 | L70: =ศปจ.นครราชสีมา!L70+นปจ.เขื่อนลำนางรอง!L70+นปจ.เขื่อนปากมูล!L70+นปจ.เขื่อนสิรินธร!L70 -> 0 | ... P70: =ศปจ.นครราชสีมา!P70+นปจ.เขื่อนลำนางรอง!P70+นปจ.เขื่อนปากมูล!P70+นปจ.เขื่อนสิรินธร!P70 -> 0
C71: 30.01 - 60 ตันกรอส | D71: =SUM(E71:P71) -> 0 | E71: =ศปจ.นครราชสีมา!E71+นปจ.เขื่อนลำนางรอง!E71+นปจ.เขื่อนปากมูล!E71+นปจ.เขื่อนสิรินธร!E71 -> 0 | F71: =ศปจ.นครราชสีมา!F71+นปจ.เขื่อนลำนางรอง!F71+นปจ.เขื่อนปากมูล!F71+นปจ.เขื่อนสิรินธร!F71 -> 0 | G71: =ศปจ.นครราชสีมา!G71+นปจ.เขื่อนลำนางรอง!G71+นปจ.เขื่อนปากมูล!G71+นปจ.เขื่อนสิรินธร!G71 -> 0 | H71: =ศปจ.นครราชสีมา!H71+นปจ.เขื่อนลำนางรอง!H71+นปจ.เขื่อนปากมูล!H71+นปจ.เขื่อนสิรินธร!H71 -> 0 | I71: =ศปจ.นครราชสีมา!I71+นปจ.เขื่อนลำนางรอง!I71+นปจ.เขื่อนปากมูล!I71+นปจ.เขื่อนสิรินธร!I71 -> 0 | J71: =ศปจ.นครราชสีมา!J71+นปจ.เขื่อนลำนางรอง!J71+นปจ.เขื่อนปากมูล!J71+นปจ.เขื่อนสิรินธร!J71 -> 0 | K71: =ศปจ.นครราชสีมา!K71+นปจ.เขื่อนลำนางรอง!K71+นปจ.เขื่อนปากมูล!K71+นปจ.เขื่อนสิรินธร!K71 -> 0 | L71: =ศปจ.นครราชสีมา!L71+นปจ.เขื่อนลำนางรอง!L71+นปจ.เขื่อนปากมูล!L71+นปจ.เขื่อนสิรินธร!L71 -> 0 | ... P71: =ศปจ.นครราชสีมา!P71+นปจ.เขื่อนลำนางรอง!P71+นปจ.เขื่อนปากมูล!P71+นปจ.เขื่อนสิรินธร!P71 -> 0
C72: 60.01 - 150 ตันกรอส | D72: =SUM(E72:P72) -> 0 | E72: =ศปจ.นครราชสีมา!E72+นปจ.เขื่อนลำนางรอง!E72+นปจ.เขื่อนปากมูล!E72+นปจ.เขื่อนสิรินธร!E72 -> 0 | F72: =ศปจ.นครราชสีมา!F72+นปจ.เขื่อนลำนางรอง!F72+นปจ.เขื่อนปากมูล!F72+นปจ.เขื่อนสิรินธร!F72 -> 0 | G72: =ศปจ.นครราชสีมา!G72+นปจ.เขื่อนลำนางรอง!G72+นปจ.เขื่อนปากมูล!G72+นปจ.เขื่อนสิรินธร!G72 -> 0 | H72: =ศปจ.นครราชสีมา!H72+นปจ.เขื่อนลำนางรอง!H72+นปจ.เขื่อนปากมูล!H72+นปจ.เขื่อนสิรินธร!H72 -> 0 | I72: =ศปจ.นครราชสีมา!I72+นปจ.เขื่อนลำนางรอง!I72+นปจ.เขื่อนปากมูล!I72+นปจ.เขื่อนสิรินธร!I72 -> 0 | J72: =ศปจ.นครราชสีมา!J72+นปจ.เขื่อนลำนางรอง!J72+นปจ.เขื่อนปากมูล!J72+นปจ.เขื่อนสิรินธร!J72 -> 0 | K72: =ศปจ.นครราชสีมา!K72+นปจ.เขื่อนลำนางรอง!K72+นปจ.เขื่อนปากมูล!K72+นปจ.เขื่อนสิรินธร!K72 -> 0 | L72: =ศปจ.นครราชสีมา!L72+นปจ.เขื่อนลำนางรอง!L72+นปจ.เขื่อนปากมูล!L72+นปจ.เขื่อนสิรินธร!L72 -> 0 | ... P72: =ศปจ.นครราชสีมา!P72+นปจ.เขื่อนลำนางรอง!P72+นปจ.เขื่อนปากมูล!P72+นปจ.เขื่อนสิรินธร!P72 -> 0
C73: > 150 ตันกรอส | D73: =SUM(E73:P73) -> 0 | E73: =ศปจ.นครราชสีมา!E73+นปจ.เขื่อนลำนางรอง!E73+นปจ.เขื่อนปากมูล!E73+นปจ.เขื่อนสิรินธร!E73 -> 0 | F73: =ศปจ.นครราชสีมา!F73+นปจ.เขื่อนลำนางรอง!F73+นปจ.เขื่อนปากมูล!F73+นปจ.เขื่อนสิรินธร!F73 -> 0 | G73: =ศปจ.นครราชสีมา!G73+นปจ.เขื่อนลำนางรอง!G73+นปจ.เขื่อนปากมูล!G73+นปจ.เขื่อนสิรินธร!G73 -> 0 | H73: =ศปจ.นครราชสีมา!H73+นปจ.เขื่อนลำนางรอง!H73+นปจ.เขื่อนปากมูล!H73+นปจ.เขื่อนสิรินธร!H73 -> 0 | I73: =ศปจ.นครราชสีมา!I73+นปจ.เขื่อนลำนางรอง!I73+นปจ.เขื่อนปากมูล!I73+นปจ.เขื่อนสิรินธร!I73 -> 0 | J73: =ศปจ.นครราชสีมา!J73+นปจ.เขื่อนลำนางรอง!J73+นปจ.เขื่อนปากมูล!J73+นปจ.เขื่อนสิรินธร!J73 -> 0 | K73: =ศปจ.นครราชสีมา!K73+นปจ.เขื่อนลำนางรอง!K73+นปจ.เขื่อนปากมูล!K73+นปจ.เขื่อนสิรินธร!K73 -> 0 | L73: =ศปจ.นครราชสีมา!L73+นปจ.เขื่อนลำนางรอง!L73+นปจ.เขื่อนปากมูล!L73+นปจ.เขื่อนสิรินธร!L73 -> 0 | ... P73: =ศปจ.นครราชสีมา!P73+นปจ.เขื่อนลำนางรอง!P73+นปจ.เขื่อนปากมูล!P73+นปจ.เขื่อนสิรินธร!P73 -> 0
B74: แรงงาน (ราย) | C74: สัญชาติไทย | D74: =SUM(E74:P74) -> 0 | E74: =ศปจ.นครราชสีมา!E74+นปจ.เขื่อนลำนางรอง!E74+นปจ.เขื่อนปากมูล!E74+นปจ.เขื่อนสิรินธร!E74 -> 0 | F74: =ศปจ.นครราชสีมา!F74+นปจ.เขื่อนลำนางรอง!F74+นปจ.เขื่อนปากมูล!F74+นปจ.เขื่อนสิรินธร!F74 -> 0 | G74: =ศปจ.นครราชสีมา!G74+นปจ.เขื่อนลำนางรอง!G74+นปจ.เขื่อนปากมูล!G74+นปจ.เขื่อนสิรินธร!G74 -> 0 | H74: =ศปจ.นครราชสีมา!H74+นปจ.เขื่อนลำนางรอง!H74+นปจ.เขื่อนปากมูล!H74+นปจ.เขื่อนสิรินธร!H74 -> 0 | I74: =ศปจ.นครราชสีมา!I74+นปจ.เขื่อนลำนางรอง!I74+นปจ.เขื่อนปากมูล!I74+นปจ.เขื่อนสิรินธร!I74 -> 0 | J74: =ศปจ.นครราชสีมา!J74+นปจ.เขื่อนลำนางรอง!J74+นปจ.เขื่อนปากมูล!J74+นปจ.เขื่อนสิรินธร!J74 -> 0 | K74: =ศปจ.นครราชสีมา!K74+นปจ.เขื่อนลำนางรอง!K74+นปจ.เขื่อนปากมูล!K74+นปจ.เขื่อนสิรินธร!K74 -> 0 | L74: =ศปจ.นครราชสีมา!L74+นปจ.เขื่อนลำนางรอง!L74+นปจ.เขื่อนปากมูล!L74+นปจ.เขื่อนสิรินธร!L74 -> 0 | ... P74: =ศปจ.นครราชสีมา!P74+นปจ.เขื่อนลำนางรอง!P74+นปจ.เขื่อนปากมูล!P74+นปจ.เขื่อนสิรินธร!P74 -> 0
C75: สัญชาติเมียนมาร์ | D75: =SUM(E75:P75) -> 0 | E75: =ศปจ.นครราชสีมา!E75+นปจ.เขื่อนลำนางรอง!E75+นปจ.เขื่อนปากมูล!E75+นปจ.เขื่อนสิรินธร!E75 -> 0 | F75: =ศปจ.นครราชสีมา!F75+นปจ.เขื่อนลำนางรอง!F75+นปจ.เขื่อนปากมูล!F75+นปจ.เขื่อนสิรินธร!F75 -> 0 | G75: =ศปจ.นครราชสีมา!G75+นปจ.เขื่อนลำนางรอง!G75+นปจ.เขื่อนปากมูล!G75+นปจ.เขื่อนสิรินธร!G75 -> 0 | H75: =ศปจ.นครราชสีมา!H75+นปจ.เขื่อนลำนางรอง!H75+นปจ.เขื่อนปากมูล!H75+นปจ.เขื่อนสิรินธร!H75 -> 0 | I75: =ศปจ.นครราชสีมา!I75+นปจ.เขื่อนลำนางรอง!I75+นปจ.เขื่อนปากมูล!I75+นปจ.เขื่อนสิรินธร!I75 -> 0 | J75: =ศปจ.นครราชสีมา!J75+นปจ.เขื่อนลำนางรอง!J75+นปจ.เขื่อนปากมูล!J75+นปจ.เขื่อนสิรินธร!J75 -> 0 | K75: =ศปจ.นครราชสีมา!K75+นปจ.เขื่อนลำนางรอง!K75+นปจ.เขื่อนปากมูล!K75+นปจ.เขื่อนสิรินธร!K75 -> 0 | L75: =ศปจ.นครราชสีมา!L75+นปจ.เขื่อนลำนางรอง!L75+นปจ.เขื่อนปากมูล!L75+นปจ.เขื่อนสิรินธร!L75 -> 0 | ... P75: =ศปจ.นครราชสีมา!P75+นปจ.เขื่อนลำนางรอง!P75+นปจ.เขื่อนปากมูล!P75+นปจ.เขื่อนสิรินธร!P75 -> 0
C76: สัญชาติกัมพูชา | D76: =SUM(E76:P76) -> 0 | E76: =ศปจ.นครราชสีมา!E76+นปจ.เขื่อนลำนางรอง!E76+นปจ.เขื่อนปากมูล!E76+นปจ.เขื่อนสิรินธร!E76 -> 0 | F76: =ศปจ.นครราชสีมา!F76+นปจ.เขื่อนลำนางรอง!F76+นปจ.เขื่อนปากมูล!F76+นปจ.เขื่อนสิรินธร!F76 -> 0 | G76: =ศปจ.นครราชสีมา!G76+นปจ.เขื่อนลำนางรอง!G76+นปจ.เขื่อนปากมูล!G76+นปจ.เขื่อนสิรินธร!G76 -> 0 | H76: =ศปจ.นครราชสีมา!H76+นปจ.เขื่อนลำนางรอง!H76+นปจ.เขื่อนปากมูล!H76+นปจ.เขื่อนสิรินธร!H76 -> 0 | I76: =ศปจ.นครราชสีมา!I76+นปจ.เขื่อนลำนางรอง!I76+นปจ.เขื่อนปากมูล!I76+นปจ.เขื่อนสิรินธร!I76 -> 0 | J76: =ศปจ.นครราชสีมา!J76+นปจ.เขื่อนลำนางรอง!J76+นปจ.เขื่อนปากมูล!J76+นปจ.เขื่อนสิรินธร!J76 -> 0 | K76: =ศปจ.นครราชสีมา!K76+นปจ.เขื่อนลำนางรอง!K76+นปจ.เขื่อนปากมูล!K76+นปจ.เขื่อนสิรินธร!K76 -> 0 | L76: =ศปจ.นครราชสีมา!L76+นปจ.เขื่อนลำนางรอง!L76+นปจ.เขื่อนปากมูล!L76+นปจ.เขื่อนสิรินธร!L76 -> 0 | ... P76: =ศปจ.นครราชสีมา!P76+นปจ.เขื่อนลำนางรอง!P76+นปจ.เขื่อนปากมูล!P76+นปจ.เขื่อนสิรินธร!P76 -> 0
C77: สัญชาติลาว | D77: =SUM(E77:P77) -> 0 | E77: =ศปจ.นครราชสีมา!E77+นปจ.เขื่อนลำนางรอง!E77+นปจ.เขื่อนปากมูล!E77+นปจ.เขื่อนสิรินธร!E77 -> 0 | F77: =ศปจ.นครราชสีมา!F77+นปจ.เขื่อนลำนางรอง!F77+นปจ.เขื่อนปากมูล!F77+นปจ.เขื่อนสิรินธร!F77 -> 0 | G77: =ศปจ.นครราชสีมา!G77+นปจ.เขื่อนลำนางรอง!G77+นปจ.เขื่อนปากมูล!G77+นปจ.เขื่อนสิรินธร!G77 -> 0 | H77: =ศปจ.นครราชสีมา!H77+นปจ.เขื่อนลำนางรอง!H77+นปจ.เขื่อนปากมูล!H77+นปจ.เขื่อนสิรินธร!H77 -> 0 | I77: =ศปจ.นครราชสีมา!I77+นปจ.เขื่อนลำนางรอง!I77+นปจ.เขื่อนปากมูล!I77+นปจ.เขื่อนสิรินธร!I77 -> 0 | J77: =ศปจ.นครราชสีมา!J77+นปจ.เขื่อนลำนางรอง!J77+นปจ.เขื่อนปากมูล!J77+นปจ.เขื่อนสิรินธร!J77 -> 0 | K77: =ศปจ.นครราชสีมา!K77+นปจ.เขื่อนลำนางรอง!K77+นปจ.เขื่อนปากมูล!K77+นปจ.เขื่อนสิรินธร!K77 -> 0 | L77: =ศปจ.นครราชสีมา!L77+นปจ.เขื่อนลำนางรอง!L77+นปจ.เขื่อนปากมูล!L77+นปจ.เขื่อนสิรินธร!L77 -> 0 | ... P77: =ศปจ.นครราชสีมา!P77+นปจ.เขื่อนลำนางรอง!P77+นปจ.เขื่อนปากมูล!P77+นปจ.เขื่อนสิรินธร!P77 -> 0
C78: อื่นๆ | D78: =SUM(E78:P78) -> 0 | E78: =ศปจ.นครราชสีมา!E78+นปจ.เขื่อนลำนางรอง!E78+นปจ.เขื่อนปากมูล!E78+นปจ.เขื่อนสิรินธร!E78 -> 0 | F78: =ศปจ.นครราชสีมา!F78+นปจ.เขื่อนลำนางรอง!F78+นปจ.เขื่อนปากมูล!F78+นปจ.เขื่อนสิรินธร!F78 -> 0 | G78: =ศปจ.นครราชสีมา!G78+นปจ.เขื่อนลำนางรอง!G78+นปจ.เขื่อนปากมูล!G78+นปจ.เขื่อนสิรินธร!G78 -> 0 | H78: =ศปจ.นครราชสีมา!H78+นปจ.เขื่อนลำนางรอง!H78+นปจ.เขื่อนปากมูล!H78+นปจ.เขื่อนสิรินธร!H78 -> 0 | I78: =ศปจ.นครราชสีมา!I78+นปจ.เขื่อนลำนางรอง!I78+นปจ.เขื่อนปากมูล!I78+นปจ.เขื่อนสิรินธร!I78 -> 0 | J78: =ศปจ.นครราชสีมา!J78+นปจ.เขื่อนลำนางรอง!J78+นปจ.เขื่อนปากมูล!J78+นปจ.เขื่อนสิรินธร!J78 -> 0 | K78: =ศปจ.นครราชสีมา!K78+นปจ.เขื่อนลำนางรอง!K78+นปจ.เขื่อนปากมูล!K78+นปจ.เขื่อนสิรินธร!K78 -> 0 | L78: =ศปจ.นครราชสีมา!L78+นปจ.เขื่อนลำนางรอง!L78+นปจ.เขื่อนปากมูล!L78+นปจ.เขื่อนสิรินธร!L78 -> 0 | ... P78: =ศปจ.นครราชสีมา!P78+นปจ.เขื่อนลำนางรอง!P78+นปจ.เขื่อนปากมูล!P78+นปจ.เขื่อนสิรินธร!P78 -> 0
B79: บาท | C79: งบประมาณที่จัดสรร | D79: =SUM(E79:P79) -> 0 | E79: =ศปจ.นครราชสีมา!E79+นปจ.เขื่อนลำนางรอง!E79+นปจ.เขื่อนปากมูล!E79+นปจ.เขื่อนสิรินธร!E79 -> 0 | F79: =ศปจ.นครราชสีมา!F79+นปจ.เขื่อนลำนางรอง!F79+นปจ.เขื่อนปากมูล!F79+นปจ.เขื่อนสิรินธร!F79 -> 0 | G79: =ศปจ.นครราชสีมา!G79+นปจ.เขื่อนลำนางรอง!G79+นปจ.เขื่อนปากมูล!G79+นปจ.เขื่อนสิรินธร!G79 -> 0 | H79: =ศปจ.นครราชสีมา!H79+นปจ.เขื่อนลำนางรอง!H79+นปจ.เขื่อนปากมูล!H79+นปจ.เขื่อนสิรินธร!H79 -> 0 | I79: =ศปจ.นครราชสีมา!I79+นปจ.เขื่อนลำนางรอง!I79+นปจ.เขื่อนปากมูล!I79+นปจ.เขื่อนสิรินธร!I79 -> 0 | J79: =ศปจ.นครราชสีมา!J79+นปจ.เขื่อนลำนางรอง!J79+นปจ.เขื่อนปากมูล!J79+นปจ.เขื่อนสิรินธร!J79 -> 0 | K79: =ศปจ.นครราชสีมา!K79+นปจ.เขื่อนลำนางรอง!K79+นปจ.เขื่อนปากมูล!K79+นปจ.เขื่อนสิรินธร!K79 -> 0 | L79: =ศปจ.นครราชสีมา!L79+นปจ.เขื่อนลำนางรอง!L79+นปจ.เขื่อนปากมูล!L79+นปจ.เขื่อนสิรินธร!L79 -> 0 | ... P79: =ศปจ.นครราชสีมา!P79+นปจ.เขื่อนลำนางรอง!P79+นปจ.เขื่อนปากมูล!P79+นปจ.เขื่อนสิรินธร!P79 -> 0
C80: งบประมาณที่ใช้ | D80: =SUM(E80:P80) -> 0 | E80: =ศปจ.นครราชสีมา!E80+นปจ.เขื่อนลำนางรอง!E80+นปจ.เขื่อนปากมูล!E80+นปจ.เขื่อนสิรินธร!E80 -> 0 | F80: =ศปจ.นครราชสีมา!F80+นปจ.เขื่อนลำนางรอง!F80+นปจ.เขื่อนปากมูล!F80+นปจ.เขื่อนสิรินธร!F80 -> 0 | G80: =ศปจ.นครราชสีมา!G80+นปจ.เขื่อนลำนางรอง!G80+นปจ.เขื่อนปากมูล!G80+นปจ.เขื่อนสิรินธร!G80 -> 0 | H80: =ศปจ.นครราชสีมา!H80+นปจ.เขื่อนลำนางรอง!H80+นปจ.เขื่อนปากมูล!H80+นปจ.เขื่อนสิรินธร!H80 -> 0 | I80: =ศปจ.นครราชสีมา!I80+นปจ.เขื่อนลำนางรอง!I80+นปจ.เขื่อนปากมูล!I80+นปจ.เขื่อนสิรินธร!I80 -> 0 | J80: =ศปจ.นครราชสีมา!J80+นปจ.เขื่อนลำนางรอง!J80+นปจ.เขื่อนปากมูล!J80+นปจ.เขื่อนสิรินธร!J80 -> 0 | K80: =ศปจ.นครราชสีมา!K80+นปจ.เขื่อนลำนางรอง!K80+นปจ.เขื่อนปากมูล!K80+นปจ.เขื่อนสิรินธร!K80 -> 0 | L80: =ศปจ.นครราชสีมา!L80+นปจ.เขื่อนลำนางรอง!L80+นปจ.เขื่อนปากมูล!L80+นปจ.เขื่อนสิรินธร!L80 -> 0 | ... P80: =ศปจ.นครราชสีมา!P80+นปจ.เขื่อนลำนางรอง!P80+นปจ.เขื่อนปากมูล!P80+นปจ.เขื่อนสิรินธร!P80 -> 0
C81: งบประมาณคงเหลือ | D81: =SUM(D79-D80) -> 0
A82: กิจกรรมที่ดำเนินงาน : งบเพิ่มเติม | B82: ครั้ง | C82: แผน | D82: =SUM(E82:P82) -> 0 | E82: =ศปจ.นครราชสีมา!E82+นปจ.เขื่อนลำนางรอง!E82+นปจ.เขื่อนปากมูล!E82+นปจ.เขื่อนสิรินธร!E82 -> 0 | F82: =ศปจ.นครราชสีมา!F82+นปจ.เขื่อนลำนางรอง!F82+นปจ.เขื่อนปากมูล!F82+นปจ.เขื่อนสิรินธร!F82 -> 0 | G82: =ศปจ.นครราชสีมา!G82+นปจ.เขื่อนลำนางรอง!G82+นปจ.เขื่อนปากมูล!G82+นปจ.เขื่อนสิรินธร!G82 -> 0 | H82: =ศปจ.นครราชสีมา!H82+นปจ.เขื่อนลำนางรอง!H82+นปจ.เขื่อนปากมูล!H82+นปจ.เขื่อนสิรินธร!H82 -> 0 | I82: =ศปจ.นครราชสีมา!I82+นปจ.เขื่อนลำนางรอง!I82+นปจ.เขื่อนปากมูล!I82+นปจ.เขื่อนสิรินธร!I82 -> 0 | J82: =ศปจ.นครราชสีมา!J82+นปจ.เขื่อนลำนางรอง!J82+นปจ.เขื่อนปากมูล!J82+นปจ.เขื่อนสิรินธร!J82 -> 0 | K82: =ศปจ.นครราชสีมา!K82+นปจ.เขื่อนลำนางรอง!K82+นปจ.เขื่อนปากมูล!K82+นปจ.เขื่อนสิรินธร!K82 -> 0 | L82: =ศปจ.นครราชสีมา!L82+นปจ.เขื่อนลำนางรอง!L82+นปจ.เขื่อนปากมูล!L82+นปจ.เขื่อนสิรินธร!L82 -> 0 | ... P82: =ศปจ.นครราชสีมา!P82+นปจ.เขื่อนลำนางรอง!P82+นปจ.เขื่อนปากมูล!P82+นปจ.เขื่อนสิรินธร!P82 -> 0
C83: ผล | D83: =SUM(E83:P83) -> 0 | E83: =ศปจ.นครราชสีมา!E83+นปจ.เขื่อนลำนางรอง!E83+นปจ.เขื่อนปากมูล!E83+นปจ.เขื่อนสิรินธร!E83 -> 0 | F83: =ศปจ.นครราชสีมา!F83+นปจ.เขื่อนลำนางรอง!F83+นปจ.เขื่อนปากมูล!F83+นปจ.เขื่อนสิรินธร!F83 -> 0 | G83: =ศปจ.นครราชสีมา!G83+นปจ.เขื่อนลำนางรอง!G83+นปจ.เขื่อนปากมูล!G83+นปจ.เขื่อนสิรินธร!G83 -> 0 | H83: =ศปจ.นครราชสีมา!H83+นปจ.เขื่อนลำนางรอง!H83+นปจ.เขื่อนปากมูล!H83+นปจ.เขื่อนสิรินธร!H83 -> 0 | I83: =ศปจ.นครราชสีมา!I83+นปจ.เขื่อนลำนางรอง!I83+นปจ.เขื่อนปากมูล!I83+นปจ.เขื่อนสิรินธร!I83 -> 0 | J83: =ศปจ.นครราชสีมา!J83+นปจ.เขื่อนลำนางรอง!J83+นปจ.เขื่อนปากมูล!J83+นปจ.เขื่อนสิรินธร!J83 -> 0 | K83: =ศปจ.นครราชสีมา!K83+นปจ.เขื่อนลำนางรอง!K83+นปจ.เขื่อนปากมูล!K83+นปจ.เขื่อนสิรินธร!K83 -> 0 | L83: =ศปจ.นครราชสีมา!L83+นปจ.เขื่อนลำนางรอง!L83+นปจ.เขื่อนปากมูล!L83+นปจ.เขื่อนสิรินธร!L83 -> 0 | ... P83: =ศปจ.นครราชสีมา!P83+นปจ.เขื่อนลำนางรอง!P83+นปจ.เขื่อนปากมูล!P83+นปจ.เขื่อนสิรินธร!P83 -> 0
B84: คดี | C84: คดีจับกุม | D84: =SUM(E84:P84) -> 0 | E84: =ศปจ.นครราชสีมา!E84+นปจ.เขื่อนลำนางรอง!E84+นปจ.เขื่อนปากมูล!E84+นปจ.เขื่อนสิรินธร!E84 -> 0 | F84: =ศปจ.นครราชสีมา!F84+นปจ.เขื่อนลำนางรอง!F84+นปจ.เขื่อนปากมูล!F84+นปจ.เขื่อนสิรินธร!F84 -> 0 | G84: =ศปจ.นครราชสีมา!G84+นปจ.เขื่อนลำนางรอง!G84+นปจ.เขื่อนปากมูล!G84+นปจ.เขื่อนสิรินธร!G84 -> 0 | H84: =ศปจ.นครราชสีมา!H84+นปจ.เขื่อนลำนางรอง!H84+นปจ.เขื่อนปากมูล!H84+นปจ.เขื่อนสิรินธร!H84 -> 0 | I84: =ศปจ.นครราชสีมา!I84+นปจ.เขื่อนลำนางรอง!I84+นปจ.เขื่อนปากมูล!I84+นปจ.เขื่อนสิรินธร!I84 -> 0 | J84: =ศปจ.นครราชสีมา!J84+นปจ.เขื่อนลำนางรอง!J84+นปจ.เขื่อนปากมูล!J84+นปจ.เขื่อนสิรินธร!J84 -> 0 | K84: =ศปจ.นครราชสีมา!K84+นปจ.เขื่อนลำนางรอง!K84+นปจ.เขื่อนปากมูล!K84+นปจ.เขื่อนสิรินธร!K84 -> 0 | L84: =ศปจ.นครราชสีมา!L84+นปจ.เขื่อนลำนางรอง!L84+นปจ.เขื่อนปากมูล!L84+นปจ.เขื่อนสิรินธร!L84 -> 0 | ... P84: =ศปจ.นครราชสีมา!P84+นปจ.เขื่อนลำนางรอง!P84+นปจ.เขื่อนปากมูล!P84+นปจ.เขื่อนสิรินธร!P84 -> 0
C85: ผู้ถูกกล่าวหา(ราย) | D85: =SUM(E85:P85) -> 0 | E85: =ศปจ.นครราชสีมา!E85+นปจ.เขื่อนลำนางรอง!E85+นปจ.เขื่อนปากมูล!E85+นปจ.เขื่อนสิรินธร!E85 -> 0 | F85: =ศปจ.นครราชสีมา!F85+นปจ.เขื่อนลำนางรอง!F85+นปจ.เขื่อนปากมูล!F85+นปจ.เขื่อนสิรินธร!F85 -> 0 | G85: =ศปจ.นครราชสีมา!G85+นปจ.เขื่อนลำนางรอง!G85+นปจ.เขื่อนปากมูล!G85+นปจ.เขื่อนสิรินธร!G85 -> 0 | H85: =ศปจ.นครราชสีมา!H85+นปจ.เขื่อนลำนางรอง!H85+นปจ.เขื่อนปากมูล!H85+นปจ.เขื่อนสิรินธร!H85 -> 0 | I85: =ศปจ.นครราชสีมา!I85+นปจ.เขื่อนลำนางรอง!I85+นปจ.เขื่อนปากมูล!I85+นปจ.เขื่อนสิรินธร!I85 -> 0 | J85: =ศปจ.นครราชสีมา!J85+นปจ.เขื่อนลำนางรอง!J85+นปจ.เขื่อนปากมูล!J85+นปจ.เขื่อนสิรินธร!J85 -> 0 | K85: =ศปจ.นครราชสีมา!K85+นปจ.เขื่อนลำนางรอง!K85+นปจ.เขื่อนปากมูล!K85+นปจ.เขื่อนสิรินธร!K85 -> 0 | L85: =ศปจ.นครราชสีมา!L85+นปจ.เขื่อนลำนางรอง!L85+นปจ.เขื่อนปากมูล!L85+นปจ.เขื่อนสิรินธร!L85 -> 0 | ... P85: =ศปจ.นครราชสีมา!P85+นปจ.เขื่อนลำนางรอง!P85+นปจ.เขื่อนปากมูล!P85+นปจ.เขื่อนสิรินธร!P85 -> 0
C86: คดีตรวจยึด | D86: =SUM(E86:P86) -> 0 | E86: =ศปจ.นครราชสีมา!E86+นปจ.เขื่อนลำนางรอง!E86+นปจ.เขื่อนปากมูล!E86+นปจ.เขื่อนสิรินธร!E86 -> 0 | F86: =ศปจ.นครราชสีมา!F86+นปจ.เขื่อนลำนางรอง!F86+นปจ.เขื่อนปากมูล!F86+นปจ.เขื่อนสิรินธร!F86 -> 0 | G86: =ศปจ.นครราชสีมา!G86+นปจ.เขื่อนลำนางรอง!G86+นปจ.เขื่อนปากมูล!G86+นปจ.เขื่อนสิรินธร!G86 -> 0 | H86: =ศปจ.นครราชสีมา!H86+นปจ.เขื่อนลำนางรอง!H86+นปจ.เขื่อนปากมูล!H86+นปจ.เขื่อนสิรินธร!H86 -> 0 | I86: =ศปจ.นครราชสีมา!I86+นปจ.เขื่อนลำนางรอง!I86+นปจ.เขื่อนปากมูล!I86+นปจ.เขื่อนสิรินธร!I86 -> 0 | J86: =ศปจ.นครราชสีมา!J86+นปจ.เขื่อนลำนางรอง!J86+นปจ.เขื่อนปากมูล!J86+นปจ.เขื่อนสิรินธร!J86 -> 0 | K86: =ศปจ.นครราชสีมา!K86+นปจ.เขื่อนลำนางรอง!K86+นปจ.เขื่อนปากมูล!K86+นปจ.เขื่อนสิรินธร!K86 -> 0 | L86: =ศปจ.นครราชสีมา!L86+นปจ.เขื่อนลำนางรอง!L86+นปจ.เขื่อนปากมูล!L86+นปจ.เขื่อนสิรินธร!L86 -> 0 | ... P86: =ศปจ.นครราชสีมา!P86+นปจ.เขื่อนลำนางรอง!P86+นปจ.เขื่อนปากมูล!P86+นปจ.เขื่อนสิรินธร!P86 -> 0
B87: เรือที่ตรวจ (ลำ) | C87: < 10 ตันกรอส | D87: =SUM(E87:P87) -> 0 | E87: =ศปจ.นครราชสีมา!E87+นปจ.เขื่อนลำนางรอง!E87+นปจ.เขื่อนปากมูล!E87+นปจ.เขื่อนสิรินธร!E87 -> 0 | F87: =ศปจ.นครราชสีมา!F87+นปจ.เขื่อนลำนางรอง!F87+นปจ.เขื่อนปากมูล!F87+นปจ.เขื่อนสิรินธร!F87 -> 0 | G87: =ศปจ.นครราชสีมา!G87+นปจ.เขื่อนลำนางรอง!G87+นปจ.เขื่อนปากมูล!G87+นปจ.เขื่อนสิรินธร!G87 -> 0 | H87: =ศปจ.นครราชสีมา!H87+นปจ.เขื่อนลำนางรอง!H87+นปจ.เขื่อนปากมูล!H87+นปจ.เขื่อนสิรินธร!H87 -> 0 | I87: =ศปจ.นครราชสีมา!I87+นปจ.เขื่อนลำนางรอง!I87+นปจ.เขื่อนปากมูล!I87+นปจ.เขื่อนสิรินธร!I87 -> 0 | J87: =ศปจ.นครราชสีมา!J87+นปจ.เขื่อนลำนางรอง!J87+นปจ.เขื่อนปากมูล!J87+นปจ.เขื่อนสิรินธร!J87 -> 0 | K87: =ศปจ.นครราชสีมา!K87+นปจ.เขื่อนลำนางรอง!K87+นปจ.เขื่อนปากมูล!K87+นปจ.เขื่อนสิรินธร!K87 -> 0 | L87: =ศปจ.นครราชสีมา!L87+นปจ.เขื่อนลำนางรอง!L87+นปจ.เขื่อนปากมูล!L87+นปจ.เขื่อนสิรินธร!L87 -> 0 | ... P87: =ศปจ.นครราชสีมา!P87+นปจ.เขื่อนลำนางรอง!P87+นปจ.เขื่อนปากมูล!P87+นปจ.เขื่อนสิรินธร!P87 -> 0
C88: 10.01 - 30 ตันกรอส | D88: =SUM(E88:P88) -> 0 | E88: =ศปจ.นครราชสีมา!E88+นปจ.เขื่อนลำนางรอง!E88+นปจ.เขื่อนปากมูล!E88+นปจ.เขื่อนสิรินธร!E88 -> 0 | F88: =ศปจ.นครราชสีมา!F88+นปจ.เขื่อนลำนางรอง!F88+นปจ.เขื่อนปากมูล!F88+นปจ.เขื่อนสิรินธร!F88 -> 0 | G88: =ศปจ.นครราชสีมา!G88+นปจ.เขื่อนลำนางรอง!G88+นปจ.เขื่อนปากมูล!G88+นปจ.เขื่อนสิรินธร!G88 -> 0 | H88: =ศปจ.นครราชสีมา!H88+นปจ.เขื่อนลำนางรอง!H88+นปจ.เขื่อนปากมูล!H88+นปจ.เขื่อนสิรินธร!H88 -> 0 | I88: =ศปจ.นครราชสีมา!I88+นปจ.เขื่อนลำนางรอง!I88+นปจ.เขื่อนปากมูล!I88+นปจ.เขื่อนสิรินธร!I88 -> 0 | J88: =ศปจ.นครราชสีมา!J88+นปจ.เขื่อนลำนางรอง!J88+นปจ.เขื่อนปากมูล!J88+นปจ.เขื่อนสิรินธร!J88 -> 0 | K88: =ศปจ.นครราชสีมา!K88+นปจ.เขื่อนลำนางรอง!K88+นปจ.เขื่อนปากมูล!K88+นปจ.เขื่อนสิรินธร!K88 -> 0 | L88: =ศปจ.นครราชสีมา!L88+นปจ.เขื่อนลำนางรอง!L88+นปจ.เขื่อนปากมูล!L88+นปจ.เขื่อนสิรินธร!L88 -> 0 | ... P88: =ศปจ.นครราชสีมา!P88+นปจ.เขื่อนลำนางรอง!P88+นปจ.เขื่อนปากมูล!P88+นปจ.เขื่อนสิรินธร!P88 -> 0
C89: 30.01 - 60 ตันกรอส | D89: =SUM(E89:P89) -> 0 | E89: =ศปจ.นครราชสีมา!E89+นปจ.เขื่อนลำนางรอง!E89+นปจ.เขื่อนปากมูล!E89+นปจ.เขื่อนสิรินธร!E89 -> 0 | F89: =ศปจ.นครราชสีมา!F89+นปจ.เขื่อนลำนางรอง!F89+นปจ.เขื่อนปากมูล!F89+นปจ.เขื่อนสิรินธร!F89 -> 0 | G89: =ศปจ.นครราชสีมา!G89+นปจ.เขื่อนลำนางรอง!G89+นปจ.เขื่อนปากมูล!G89+นปจ.เขื่อนสิรินธร!G89 -> 0 | H89: =ศปจ.นครราชสีมา!H89+นปจ.เขื่อนลำนางรอง!H89+นปจ.เขื่อนปากมูล!H89+นปจ.เขื่อนสิรินธร!H89 -> 0 | I89: =ศปจ.นครราชสีมา!I89+นปจ.เขื่อนลำนางรอง!I89+นปจ.เขื่อนปากมูล!I89+นปจ.เขื่อนสิรินธร!I89 -> 0 | J89: =ศปจ.นครราชสีมา!J89+นปจ.เขื่อนลำนางรอง!J89+นปจ.เขื่อนปากมูล!J89+นปจ.เขื่อนสิรินธร!J89 -> 0 | K89: =ศปจ.นครราชสีมา!K89+นปจ.เขื่อนลำนางรอง!K89+นปจ.เขื่อนปากมูล!K89+นปจ.เขื่อนสิรินธร!K89 -> 0 | L89: =ศปจ.นครราชสีมา!L89+นปจ.เขื่อนลำนางรอง!L89+นปจ.เขื่อนปากมูล!L89+นปจ.เขื่อนสิรินธร!L89 -> 0 | ... P89: =ศปจ.นครราชสีมา!P89+นปจ.เขื่อนลำนางรอง!P89+นปจ.เขื่อนปากมูล!P89+นปจ.เขื่อนสิรินธร!P89 -> 0
C90: 60.01 - 150 ตันกรอส | D90: =SUM(E90:P90) -> 0 | E90: =ศปจ.นครราชสีมา!E90+นปจ.เขื่อนลำนางรอง!E90+นปจ.เขื่อนปากมูล!E90+นปจ.เขื่อนสิรินธร!E90 -> 0 | F90: =ศปจ.นครราชสีมา!F90+นปจ.เขื่อนลำนางรอง!F90+นปจ.เขื่อนปากมูล!F90+นปจ.เขื่อนสิรินธร!F90 -> 0 | G90: =ศปจ.นครราชสีมา!G90+นปจ.เขื่อนลำนางรอง!G90+นปจ.เขื่อนปากมูล!G90+นปจ.เขื่อนสิรินธร!G90 -> 0 | H90: =ศปจ.นครราชสีมา!H90+นปจ.เขื่อนลำนางรอง!H90+นปจ.เขื่อนปากมูล!H90+นปจ.เขื่อนสิรินธร!H90 -> 0 | I90: =ศปจ.นครราชสีมา!I90+นปจ.เขื่อนลำนางรอง!I90+นปจ.เขื่อนปากมูล!I90+นปจ.เขื่อนสิรินธร!I90 -> 0 | J90: =ศปจ.นครราชสีมา!J90+นปจ.เขื่อนลำนางรอง!J90+นปจ.เขื่อนปากมูล!J90+นปจ.เขื่อนสิรินธร!J90 -> 0 | K90: =ศปจ.นครราชสีมา!K90+นปจ.เขื่อนลำนางรอง!K90+นปจ.เขื่อนปากมูล!K90+นปจ.เขื่อนสิรินธร!K90 -> 0 | L90: =ศปจ.นครราชสีมา!L90+นปจ.เขื่อนลำนางรอง!L90+นปจ.เขื่อนปากมูล!L90+นปจ.เขื่อนสิรินธร!L90 -> 0 | ... P90: =ศปจ.นครราชสีมา!P90+นปจ.เขื่อนลำนางรอง!P90+นปจ.เขื่อนปากมูล!P90+นปจ.เขื่อนสิรินธร!P90 -> 0
C91: > 150 ตันกรอส | D91: =SUM(E91:P91) -> 0 | E91: =ศปจ.นครราชสีมา!E91+นปจ.เขื่อนลำนางรอง!E91+นปจ.เขื่อนปากมูล!E91+นปจ.เขื่อนสิรินธร!E91 -> 0 | F91: =ศปจ.นครราชสีมา!F91+นปจ.เขื่อนลำนางรอง!F91+นปจ.เขื่อนปากมูล!F91+นปจ.เขื่อนสิรินธร!F91 -> 0 | G91: =ศปจ.นครราชสีมา!G91+นปจ.เขื่อนลำนางรอง!G91+นปจ.เขื่อนปากมูล!G91+นปจ.เขื่อนสิรินธร!G91 -> 0 | H91: =ศปจ.นครราชสีมา!H91+นปจ.เขื่อนลำนางรอง!H91+นปจ.เขื่อนปากมูล!H91+นปจ.เขื่อนสิรินธร!H91 -> 0 | I91: =ศปจ.นครราชสีมา!I91+นปจ.เขื่อนลำนางรอง!I91+นปจ.เขื่อนปากมูล!I91+นปจ.เขื่อนสิรินธร!I91 -> 0 | J91: =ศปจ.นครราชสีมา!J91+นปจ.เขื่อนลำนางรอง!J91+นปจ.เขื่อนปากมูล!J91+นปจ.เขื่อนสิรินธร!J91 -> 0 | K91: =ศปจ.นครราชสีมา!K91+นปจ.เขื่อนลำนางรอง!K91+นปจ.เขื่อนปากมูล!K91+นปจ.เขื่อนสิรินธร!K91 -> 0 | L91: =ศปจ.นครราชสีมา!L91+นปจ.เขื่อนลำนางรอง!L91+นปจ.เขื่อนปากมูล!L91+นปจ.เขื่อนสิรินธร!L91 -> 0 | ... P91: =ศปจ.นครราชสีมา!P91+นปจ.เขื่อนลำนางรอง!P91+นปจ.เขื่อนปากมูล!P91+นปจ.เขื่อนสิรินธร!P91 -> 0
B92: แรงงาน (ราย) | C92: สัญชาติไทย | D92: =SUM(E92:P92) -> 0 | E92: =ศปจ.นครราชสีมา!E92+นปจ.เขื่อนลำนางรอง!E92+นปจ.เขื่อนปากมูล!E92+นปจ.เขื่อนสิรินธร!E92 -> 0 | F92: =ศปจ.นครราชสีมา!F92+นปจ.เขื่อนลำนางรอง!F92+นปจ.เขื่อนปากมูล!F92+นปจ.เขื่อนสิรินธร!F92 -> 0 | G92: =ศปจ.นครราชสีมา!G92+นปจ.เขื่อนลำนางรอง!G92+นปจ.เขื่อนปากมูล!G92+นปจ.เขื่อนสิรินธร!G92 -> 0 | H92: =ศปจ.นครราชสีมา!H92+นปจ.เขื่อนลำนางรอง!H92+นปจ.เขื่อนปากมูล!H92+นปจ.เขื่อนสิรินธร!H92 -> 0 | I92: =ศปจ.นครราชสีมา!I92+นปจ.เขื่อนลำนางรอง!I92+นปจ.เขื่อนปากมูล!I92+นปจ.เขื่อนสิรินธร!I92 -> 0 | J92: =ศปจ.นครราชสีมา!J92+นปจ.เขื่อนลำนางรอง!J92+นปจ.เขื่อนปากมูล!J92+นปจ.เขื่อนสิรินธร!J92 -> 0 | K92: =ศปจ.นครราชสีมา!K92+นปจ.เขื่อนลำนางรอง!K92+นปจ.เขื่อนปากมูล!K92+นปจ.เขื่อนสิรินธร!K92 -> 0 | L92: =ศปจ.นครราชสีมา!L92+นปจ.เขื่อนลำนางรอง!L92+นปจ.เขื่อนปากมูล!L92+นปจ.เขื่อนสิรินธร!L92 -> 0 | ... P92: =ศปจ.นครราชสีมา!P92+นปจ.เขื่อนลำนางรอง!P92+นปจ.เขื่อนปากมูล!P92+นปจ.เขื่อนสิรินธร!P92 -> 0
C93: สัญชาติเมียนมาร์ | D93: =SUM(E93:P93) -> 0 | E93: =ศปจ.นครราชสีมา!E93+นปจ.เขื่อนลำนางรอง!E93+นปจ.เขื่อนปากมูล!E93+นปจ.เขื่อนสิรินธร!E93 -> 0 | F93: =ศปจ.นครราชสีมา!F93+นปจ.เขื่อนลำนางรอง!F93+นปจ.เขื่อนปากมูล!F93+นปจ.เขื่อนสิรินธร!F93 -> 0 | G93: =ศปจ.นครราชสีมา!G93+นปจ.เขื่อนลำนางรอง!G93+นปจ.เขื่อนปากมูล!G93+นปจ.เขื่อนสิรินธร!G93 -> 0 | H93: =ศปจ.นครราชสีมา!H93+นปจ.เขื่อนลำนางรอง!H93+นปจ.เขื่อนปากมูล!H93+นปจ.เขื่อนสิรินธร!H93 -> 0 | I93: =ศปจ.นครราชสีมา!I93+นปจ.เขื่อนลำนางรอง!I93+นปจ.เขื่อนปากมูล!I93+นปจ.เขื่อนสิรินธร!I93 -> 0 | J93: =ศปจ.นครราชสีมา!J93+นปจ.เขื่อนลำนางรอง!J93+นปจ.เขื่อนปากมูล!J93+นปจ.เขื่อนสิรินธร!J93 -> 0 | K93: =ศปจ.นครราชสีมา!K93+นปจ.เขื่อนลำนางรอง!K93+นปจ.เขื่อนปากมูล!K93+นปจ.เขื่อนสิรินธร!K93 -> 0 | L93: =ศปจ.นครราชสีมา!L93+นปจ.เขื่อนลำนางรอง!L93+นปจ.เขื่อนปากมูล!L93+นปจ.เขื่อนสิรินธร!L93 -> 0 | ... P93: =ศปจ.นครราชสีมา!P93+นปจ.เขื่อนลำนางรอง!P93+นปจ.เขื่อนปากมูล!P93+นปจ.เขื่อนสิรินธร!P93 -> 0
C94: สัญชาติกัมพูชา | D94: =SUM(E94:P94) -> 0 | E94: =ศปจ.นครราชสีมา!E94+นปจ.เขื่อนลำนางรอง!E94+นปจ.เขื่อนปากมูล!E94+นปจ.เขื่อนสิรินธร!E94 -> 0 | F94: =ศปจ.นครราชสีมา!F94+นปจ.เขื่อนลำนางรอง!F94+นปจ.เขื่อนปากมูล!F94+นปจ.เขื่อนสิรินธร!F94 -> 0 | G94: =ศปจ.นครราชสีมา!G94+นปจ.เขื่อนลำนางรอง!G94+นปจ.เขื่อนปากมูล!G94+นปจ.เขื่อนสิรินธร!G94 -> 0 | H94: =ศปจ.นครราชสีมา!H94+นปจ.เขื่อนลำนางรอง!H94+นปจ.เขื่อนปากมูล!H94+นปจ.เขื่อนสิรินธร!H94 -> 0 | I94: =ศปจ.นครราชสีมา!I94+นปจ.เขื่อนลำนางรอง!I94+นปจ.เขื่อนปากมูล!I94+นปจ.เขื่อนสิรินธร!I94 -> 0 | J94: =ศปจ.นครราชสีมา!J94+นปจ.เขื่อนลำนางรอง!J94+นปจ.เขื่อนปากมูล!J94+นปจ.เขื่อนสิรินธร!J94 -> 0 | K94: =ศปจ.นครราชสีมา!K94+นปจ.เขื่อนลำนางรอง!K94+นปจ.เขื่อนปากมูล!K94+นปจ.เขื่อนสิรินธร!K94 -> 0 | L94: =ศปจ.นครราชสีมา!L94+นปจ.เขื่อนลำนางรอง!L94+นปจ.เขื่อนปากมูล!L94+นปจ.เขื่อนสิรินธร!L94 -> 0 | ... P94: =ศปจ.นครราชสีมา!P94+นปจ.เขื่อนลำนางรอง!P94+นปจ.เขื่อนปากมูล!P94+นปจ.เขื่อนสิรินธร!P94 -> 0
C95: สัญชาติลาว | D95: =SUM(E95:P95) -> 0 | E95: =ศปจ.นครราชสีมา!E95+นปจ.เขื่อนลำนางรอง!E95+นปจ.เขื่อนปากมูล!E95+นปจ.เขื่อนสิรินธร!E95 -> 0 | F95: =ศปจ.นครราชสีมา!F95+นปจ.เขื่อนลำนางรอง!F95+นปจ.เขื่อนปากมูล!F95+นปจ.เขื่อนสิรินธร!F95 -> 0 | G95: =ศปจ.นครราชสีมา!G95+นปจ.เขื่อนลำนางรอง!G95+นปจ.เขื่อนปากมูล!G95+นปจ.เขื่อนสิรินธร!G95 -> 0 | H95: =ศปจ.นครราชสีมา!H95+นปจ.เขื่อนลำนางรอง!H95+นปจ.เขื่อนปากมูล!H95+นปจ.เขื่อนสิรินธร!H95 -> 0 | I95: =ศปจ.นครราชสีมา!I95+นปจ.เขื่อนลำนางรอง!I95+นปจ.เขื่อนปากมูล!I95+นปจ.เขื่อนสิรินธร!I95 -> 0 | J95: =ศปจ.นครราชสีมา!J95+นปจ.เขื่อนลำนางรอง!J95+นปจ.เขื่อนปากมูล!J95+นปจ.เขื่อนสิรินธร!J95 -> 0 | K95: =ศปจ.นครราชสีมา!K95+นปจ.เขื่อนลำนางรอง!K95+นปจ.เขื่อนปากมูล!K95+นปจ.เขื่อนสิรินธร!K95 -> 0 | L95: =ศปจ.นครราชสีมา!L95+นปจ.เขื่อนลำนางรอง!L95+นปจ.เขื่อนปากมูล!L95+นปจ.เขื่อนสิรินธร!L95 -> 0 | ... P95: =ศปจ.นครราชสีมา!P95+นปจ.เขื่อนลำนางรอง!P95+นปจ.เขื่อนปากมูล!P95+นปจ.เขื่อนสิรินธร!P95 -> 0
C96: อื่นๆ | D96: =SUM(E96:P96) -> 0 | E96: =ศปจ.นครราชสีมา!E96+นปจ.เขื่อนลำนางรอง!E96+นปจ.เขื่อนปากมูล!E96+นปจ.เขื่อนสิรินธร!E96 -> 0 | F96: =ศปจ.นครราชสีมา!F96+นปจ.เขื่อนลำนางรอง!F96+นปจ.เขื่อนปากมูล!F96+นปจ.เขื่อนสิรินธร!F96 -> 0 | G96: =ศปจ.นครราชสีมา!G96+นปจ.เขื่อนลำนางรอง!G96+นปจ.เขื่อนปากมูล!G96+นปจ.เขื่อนสิรินธร!G96 -> 0 | H96: =ศปจ.นครราชสีมา!H96+นปจ.เขื่อนลำนางรอง!H96+นปจ.เขื่อนปากมูล!H96+นปจ.เขื่อนสิรินธร!H96 -> 0 | I96: =ศปจ.นครราชสีมา!I96+นปจ.เขื่อนลำนางรอง!I96+นปจ.เขื่อนปากมูล!I96+นปจ.เขื่อนสิรินธร!I96 -> 0 | J96: =ศปจ.นครราชสีมา!J96+นปจ.เขื่อนลำนางรอง!J96+นปจ.เขื่อนปากมูล!J96+นปจ.เขื่อนสิรินธร!J96 -> 0 | K96: =ศปจ.นครราชสีมา!K96+นปจ.เขื่อนลำนางรอง!K96+นปจ.เขื่อนปากมูล!K96+นปจ.เขื่อนสิรินธร!K96 -> 0 | L96: =ศปจ.นครราชสีมา!L96+นปจ.เขื่อนลำนางรอง!L96+นปจ.เขื่อนปากมูล!L96+นปจ.เขื่อนสิรินธร!L96 -> 0 | ... P96: =ศปจ.นครราชสีมา!P96+นปจ.เขื่อนลำนางรอง!P96+นปจ.เขื่อนปากมูล!P96+นปจ.เขื่อนสิรินธร!P96 -> 0
B97: บาท | C97: งบประมาณที่จัดสรร | D97: =SUM(E97:P97) -> 0 | E97: =ศปจ.นครราชสีมา!E97+นปจ.เขื่อนลำนางรอง!E97+นปจ.เขื่อนปากมูล!E97+นปจ.เขื่อนสิรินธร!E97 -> 0 | F97: =ศปจ.นครราชสีมา!F97+นปจ.เขื่อนลำนางรอง!F97+นปจ.เขื่อนปากมูล!F97+นปจ.เขื่อนสิรินธร!F97 -> 0 | G97: =ศปจ.นครราชสีมา!G97+นปจ.เขื่อนลำนางรอง!G97+นปจ.เขื่อนปากมูล!G97+นปจ.เขื่อนสิรินธร!G97 -> 0 | H97: =ศปจ.นครราชสีมา!H97+นปจ.เขื่อนลำนางรอง!H97+นปจ.เขื่อนปากมูล!H97+นปจ.เขื่อนสิรินธร!H97 -> 0 | I97: =ศปจ.นครราชสีมา!I97+นปจ.เขื่อนลำนางรอง!I97+นปจ.เขื่อนปากมูล!I97+นปจ.เขื่อนสิรินธร!I97 -> 0 | J97: =ศปจ.นครราชสีมา!J97+นปจ.เขื่อนลำนางรอง!J97+นปจ.เขื่อนปากมูล!J97+นปจ.เขื่อนสิรินธร!J97 -> 0 | K97: =ศปจ.นครราชสีมา!K97+นปจ.เขื่อนลำนางรอง!K97+นปจ.เขื่อนปากมูล!K97+นปจ.เขื่อนสิรินธร!K97 -> 0 | L97: =ศปจ.นครราชสีมา!L97+นปจ.เขื่อนลำนางรอง!L97+นปจ.เขื่อนปากมูล!L97+นปจ.เขื่อนสิรินธร!L97 -> 0 | ... P97: =ศปจ.นครราชสีมา!P97+นปจ.เขื่อนลำนางรอง!P97+นปจ.เขื่อนปากมูล!P97+นปจ.เขื่อนสิรินธร!P97 -> 0
C98: งบประมาณที่ใช้ | D98: =SUM(E98:P98) -> 0 | E98: =ศปจ.นครราชสีมา!E98+นปจ.เขื่อนลำนางรอง!E98+นปจ.เขื่อนปากมูล!E98+นปจ.เขื่อนสิรินธร!E98 -> 0 | F98: =ศปจ.นครราชสีมา!F98+นปจ.เขื่อนลำนางรอง!F98+นปจ.เขื่อนปากมูล!F98+นปจ.เขื่อนสิรินธร!F98 -> 0 | G98: =ศปจ.นครราชสีมา!G98+นปจ.เขื่อนลำนางรอง!G98+นปจ.เขื่อนปากมูล!G98+นปจ.เขื่อนสิรินธร!G98 -> 0 | H98: =ศปจ.นครราชสีมา!H98+นปจ.เขื่อนลำนางรอง!H98+นปจ.เขื่อนปากมูล!H98+นปจ.เขื่อนสิรินธร!H98 -> 0 | I98: =ศปจ.นครราชสีมา!I98+นปจ.เขื่อนลำนางรอง!I98+นปจ.เขื่อนปากมูล!I98+นปจ.เขื่อนสิรินธร!I98 -> 0 | J98: =ศปจ.นครราชสีมา!J98+นปจ.เขื่อนลำนางรอง!J98+นปจ.เขื่อนปากมูล!J98+นปจ.เขื่อนสิรินธร!J98 -> 0 | K98: =ศปจ.นครราชสีมา!K98+นปจ.เขื่อนลำนางรอง!K98+นปจ.เขื่อนปากมูล!K98+นปจ.เขื่อนสิรินธร!K98 -> 0 | L98: =ศปจ.นครราชสีมา!L98+นปจ.เขื่อนลำนางรอง!L98+นปจ.เขื่อนปากมูล!L98+นปจ.เขื่อนสิรินธร!L98 -> 0 | ... P98: =ศปจ.นครราชสีมา!P98+นปจ.เขื่อนลำนางรอง!P98+นปจ.เขื่อนปากมูล!P98+นปจ.เขื่อนสิรินธร!P98 -> 0
C99: งบประมาณคงเหลือ | D99: =SUM(D97-D98) -> 0
A100: กิจกรรม : จัดการปัญหาแรงงานต่างด้าวและการค้ามนุษย์ด้านการประมง
...

Sheet ศปจ.นครราชสีมา
A1: แบบ กตป.2
A2: กองตรวจการประมง
A3: แบบรายงานผลการปฏิบัติงาน ประจำปีงบประมาณ 2569
A4: ศูนย์ป้องกันและปราบปรามประมงน้ำจืดนครราชสีมา
A5: กิจกรรมการดำเนินงาน | B5: หน่วยนับ | C5: รายการ | D5: รวม | E5: แผน/ผลการปฏิบัติงาน
E6: ต.ค. | F6: พ.ย. | G6: ธ.ค. | H6: ม.ค. | I6: ก.พ. | J6: มี.ค. | K6: เม.ย. | L6: พ.ค. | M6: มิ.ย. | N6: ก.ค. | O6: ส.ค. | P6: ก.ย.
A7: แผนงาน : ยุทธศาสตร์ป้องกันและแก้ไขปัญหาที่มีผลกระทบต่อความมั่นคง
A8: โครงการ : ป้องกันและแก้ไขปัญหาการทำประมงผิดกฎหมาย
A9: กิจกรรม : ป้องกันและแก้ไขปัญหาการทำประมงผิดกฎหมาย
A10: กิจกรรมที่ดำเนินงาน : ควบคุมเฝ้าระวังการปฏิบัติการพื้นที่เสี่ยงและการปฏิบัติการเร่งด่วน | B10: ครั้ง | C10: แผน | D10: =SUM(E10:P10) -> 0
C11: ผล | D11: =SUM(E11:P11) -> 1 | I11: 1
B12: คดี | C12: คดีจับกุม | D12: =SUM(E12:P12) -> 0
C13: ผู้ถูกกล่าวหา(ราย) | D13: =SUM(E13:P13) -> 0
C14: คดีตรวจยึด | D14: =SUM(E14:P14) -> 2 | I14: 2
B15: เรือที่ตรวจ (ลำ) | C15: < 10 ตันกรอส | D15: =SUM(E15:P15) -> 0
C16: 10.01 - 30 ตันกรอส | D16: =SUM(E16:P16) -> 0
C17: 30.01 - 60 ตันกรอส | D17: =SUM(E17:P17) -> 0
C18: 60.01 - 150 ตันกรอส | D18: =SUM(E18:P18) -> 0
C19: > 150 ตันกรอส | D19: =SUM(E19:P19) -> 0
B20: แรงงาน (ราย) | C20: สัญชาติไทย | D20: =SUM(E20:P20) -> 0
C21: สัญชาติเมียนมาร์ | D21: =SUM(E21:P21) -> 0
C22: สัญชาติกัมพูชา | D22: =SUM(E22:P22) -> 0
C23: สัญชาติลาว | D23: =SUM(E23:P23) -> 0
C24: อื่นๆ | D24: =SUM(E24:P24) -> 0
B25: บาท | C25: งบประมาณที่จัดสรร | D25: =SUM(E25:P25) -> 15000 | I25: 15000
C26: งบประมาณที่ใช้ | D26: =SUM(E26:P26) -> 15000 | I26: 15000
C27: งบประมาณคงเหลือ | D27: =SUM(D25-D26) -> 0
A28: กิจกรรมที่ดำเนินงาน : ควบคุมเฝ้าระวังการทำการประมงพื้นที่ทะเลชายฝั่ง | B28: ครั้ง | C28: แผน | D28: =SUM(E28:P28) -> 0
C29: ผล | D29: =SUM(E29:P29) -> 0
B30: คดี | C30: คดีจับกุม | D30: =SUM(E30:P30) -> 0
C31: ผู้ถูกกล่าวหา(ราย) | D31: =SUM(E31:P31) -> 0
C32: คดีตรวจยึด | D32: =SUM(E32:P32) -> 0
B33: เรือที่ตรวจ (ลำ) | C33: < 10 ตันกรอส | D33: =SUM(E33:P33) -> 0
C34: 10.01 - 30 ตันกรอส | D34: =SUM(E34:P34) -> 0
C35: 30.01 - 60 ตันกรอส | D35: =SUM(E35:P35) -> 0
C36: 60.01 - 150 ตันกรอส | D36: =SUM(E36:P36) -> 0
C37: > 150 ตันกรอส | D37: =SUM(E37:P37) -> 0
B38: แรงงาน (ราย) | C38: สัญชาติไทย | D38: =SUM(E38:P38) -> 0
C39: สัญชาติเมียนมาร์ | D39: =SUM(E39:P39) -> 0
C40: สัญชาติกัมพูชา | D40: =SUM(E40:P40) -> 0
C41: สัญชาติลาว | D41: =SUM(E41:P41) -> 0
C42: อื่นๆ | D42: =SUM(E42:P42) -> 0
B43: บาท | C43: งบประมาณที่จัดสรร | D43: =SUM(E43:P43) -> 0
C44: งบประมาณที่ใช้ | D44: =SUM(E44:P44) -> 0
C45: งบประมาณคงเหลือ | D45: =SUM(D43-D44) -> 0
A46: กิจกรรมที่ดำเนินงาน : ควบคุมเฝ้าระวังการทำการประมงพื้นที่ทะเลนอกชายฝั่ง | B46: ครั้ง | C46: แผน | D46: =SUM(E46:P46) -> 0
C47: ผล | D47: =SUM(E47:P47) -> 0
B48: คดี | C48: คดีจับกุม | D48: =SUM(E48:P48) -> 0
C49: ผู้ถูกกล่าวหา(ราย) | D49: =SUM(E49:P49) -> 0
C50: คดีตรวจยึด | D50: =SUM(E50:P50) -> 0
B51: เรือที่ตรวจ (ลำ) | C51: < 10 ตันกรอส | D51: =SUM(E51:P51) -> 0
C52: 10.01 - 30 ตันกรอส | D52: =SUM(E52:P52) -> 0
C53: 30.01 - 60 ตันกรอส | D53: =SUM(E53:P53) -> 0
C54: 60.01 - 150 ตันกรอส | D54: =SUM(E54:P54) -> 0
C55: > 150 ตันกรอส | D55: =SUM(E55:P55) -> 0
B56: แรงงาน (ราย) | C56: สัญชาติไทย | D56: =SUM(E56:P56) -> 0
C57: สัญชาติเมียนมาร์ | D57: =SUM(E57:P57) -> 0
C58: สัญชาติกัมพูชา | D58: =SUM(E58:P58) -> 0
C59: สัญชาติลาว | D59: =SUM(E59:P59) -> 0
C60: อื่นๆ | D60: =SUM(E60:P60) -> 0
B61: บาท | C61: งบประมาณที่จัดสรร | D61: =SUM(E61:P61) -> 0
C62: งบประมาณที่ใช้ | D62: =SUM(E62:P62) -> 0
C63: งบประมาณคงเหลือ | D63: =SUM(D61-D62) -> 0
A64: กิจกรรมที่ดำเนินงาน : ปฏิบัติงานตามข้อร้องเรียน / เฉพาะกิจ | B64: ครั้ง | C64: แผน | D64: =SUM(E64:P64) -> 0
C65: ผล | D65: =SUM(E65:P65) -> 0
B66: คดี | C66: คดีจับกุม | D66: =SUM(E66:P66) -> 0
C67: ผู้ถูกกล่าวหา(ราย) | D67: =SUM(E67:P67) -> 0
C68: คดีตรวจยึด | D68: =SUM(E68:P68) -> 0
B69: เรือที่ตรวจ (ลำ) | C69: < 10 ตันกรอส | D69: =SUM(E69:P69) -> 0
C70: 10.01 - 30 ตันกรอส | D70: =SUM(E70:P70) -> 0
C71: 30.01 - 60 ตันกรอส | D71: =SUM(E71:P71) -> 0
C72: 60.01 - 150 ตันกรอส | D72: =SUM(E72:P72) -> 0
C73: > 150 ตันกรอส | D73: =SUM(E73:P73) -> 0
B74: แรงงาน (ราย) | C74: สัญชาติไทย | D74: =SUM(E74:P74) -> 0
C75: สัญชาติเมียนมาร์ | D75: =SUM(E75:P75) -> 0
C76: สัญชาติกัมพูชา | D76: =SUM(E76:P76) -> 0
C77: สัญชาติลาว | D77: =SUM(E77:P77) -> 0
C78: อื่นๆ | D78: =SUM(E78:P78) -> 0
B79: บาท | C79: งบประมาณที่จัดสรร | D79: =SUM(E79:P79) -> 0
C80: งบประมาณที่ใช้ | D80: =SUM(E80:P80) -> 0
C81: งบประมาณคงเหลือ | D81: =SUM(D79-D80) -> 0
A82: กิจกรรมที่ดำเนินงาน : งบเพิ่มเติม | B82: ครั้ง | C82: แผน | D82: =SUM(E82:P82) -> 0
C83: ผล | D83: =SUM(E83:P83) -> 0
B84: คดี | C84: คดีจับกุม | D84: =SUM(E84:P84) -> 0
C85: ผู้ถูกกล่าวหา(ราย) | D85: =SUM(E85:P85) -> 0
C86: คดีตรวจยึด | D86: =SUM(E86:P86) -> 0
B87: เรือที่ตรวจ (ลำ) | C87: < 10 ตันกรอส | D87: =SUM(E87:P87) -> 0
C88: 10.01 - 30 ตันกรอส | D88: =SUM(E88:P88) -> 0
C89: 30.01 - 60 ตันกรอส | D89: =SUM(E89:P89) -> 0
C90: 60.01 - 150 ตันกรอส | D90: =SUM(E90:P90) -> 0
C91: > 150 ตันกรอส | D91: =SUM(E91:P91) -> 0
B92: แรงงาน (ราย) | C92: สัญชาติไทย | D92: =SUM(E92:P92) -> 0
C93: สัญชาติเมียนมาร์ | D93: =SUM(E93:P93) -> 0
C94: สัญชาติกัมพูชา | D94: =SUM(E94:P94) -> 0
C95: สัญชาติลาว | D95: =SUM(E95:P95) -> 0
C96: อื่นๆ | D96: =SUM(E96:P96) -> 0
B97: บาท | C97: งบประมาณที่จัดสรร | D97: =SUM(E97:P97) -> 0
C98: งบประมาณที่ใช้ | D98: =SUM(E98:P98) -> 0
C99: งบประมาณคงเหลือ | D99: =SUM(D97-D98) -> 0
A100: กิจกรรม : จัดการปัญหาแรงงานต่างด้าวและการค้ามนุษย์ด้านการประมง
...

Sheet นปจ.เขื่อนลำนางรอง
A1: แบบ กตป.2
A2: กองตรวจการประมง
A3: แบบรายงานผลการปฏิบัติงาน ประจำปีงบประมาณ 2569
A4: หน่วยป้องกันและปราบปรามประมงน้ำจืดเขื่อนลำนางรอง (บุรีรัมย์)
A5: กิจกรรมการดำเนินงาน | B5: หน่วยนับ | C5: รายการ | D5: รวม | E5: แผน/ผลการปฏิบัติงาน
E6: ต.ค. | F6: พ.ย. | G6: ธ.ค. | H6: ม.ค. | I6: ก.พ. | J6: มี.ค. | K6: เม.ย. | L6: พ.ค. | M6: มิ.ย. | N6: ก.ค. | O6: ส.ค. | P6: ก.ย.
A7: แผนงาน : ยุทธศาสตร์ป้องกันและแก้ไขปัญหาที่มีผลกระทบต่อความมั่นคง
A8: โครงการ : ป้องกันและแก้ไขปัญหาการทำประมงผิดกฎหมาย
A9: กิจกรรม : ป้องกันและแก้ไขปัญหาการทำประมงผิดกฎหมาย
A10: กิจกรรมที่ดำเนินงาน : ควบคุมเฝ้าระวังการปฏิบัติการพื้นที่เสี่ยงและการปฏิบัติการเร่งด่วน | B10: ครั้ง | C10: แผน | D10: =SUM(E10:P10) -> 0
C11: ผล | D11: =SUM(E11:P11) -> 1 | J11: 1
B12: คดี | C12: คดีจับกุม | D12: =SUM(E12:P12) -> 0
C13: ผู้ถูกกล่าวหา(ราย) | D13: =SUM(E13:P13) -> 0
C14: คดีตรวจยึด | D14: =SUM(E14:P14) -> 2 | J14: 2
B15: เรือที่ตรวจ (ลำ) | C15: < 10 ตันกรอส | D15: =SUM(E15:P15) -> 0
C16: 10.01 - 30 ตันกรอส | D16: =SUM(E16:P16) -> 0
C17: 30.01 - 60 ตันกรอส | D17: =SUM(E17:P17) -> 0
C18: 60.01 - 150 ตันกรอส | D18: =SUM(E18:P18) -> 0
C19: > 150 ตันกรอส | D19: =SUM(E19:P19) -> 0
B20: แรงงาน (ราย) | C20: สัญชาติไทย | D20: =SUM(E20:P20) -> 0
C21: สัญชาติเมียนมาร์ | D21: =SUM(E21:P21) -> 0
C22: สัญชาติกัมพูชา | D22: =SUM(E22:P22) -> 0
C23: สัญชาติลาว | D23: =SUM(E23:P23) -> 0
C24: อื่นๆ | D24: =SUM(E24:P24) -> 0
B25: บาท | C25: งบประมาณที่จัดสรร | D25: =SUM(E25:P25) -> 15000 | J25: 15000
C26: งบประมาณที่ใช้ | D26: =SUM(E26:P26) -> 15000 | J26: 15000
C27: งบประมาณคงเหลือ | D27: =SUM(D25-D26) -> 0
A28: กิจกรรมที่ดำเนินงาน : ควบคุมเฝ้าระวังการทำการประมงพื้นที่ทะเลชายฝั่ง | B28: ครั้ง | C28: แผน | D28: =SUM(E28:P28) -> 0
C29: ผล | D29: =SUM(E29:P29) -> 0
B30: คดี | C30: คดีจับกุม | D30: =SUM(E30:P30) -> 0
C31: ผู้ถูกกล่าวหา(ราย) | D31: =SUM(E31:P31) -> 0
C32: คดีตรวจยึด | D32: =SUM(E32:P32) -> 0
B33: เรือที่ตรวจ (ลำ) | C33: < 10 ตันกรอส | D33: =SUM(E33:P33) -> 0
C34: 10.01 - 30 ตันกรอส | D34: =SUM(E34:P34) -> 0
C35: 30.01 - 60 ตันกรอส | D35: =SUM(E35:P35) -> 0
C36: 60.01 - 150 ตันกรอส | D36: =SUM(E36:P36) -> 0
C37: > 150 ตันกรอส | D37: =SUM(E37:P37) -> 0
B38: แรงงาน (ราย) | C38: สัญชาติไทย | D38: =SUM(E38:P38) -> 0
C39: สัญชาติเมียนมาร์ | D39: =SUM(E39:P39) -> 0
C40: สัญชาติกัมพูชา | D40: =SUM(E40:P40) -> 0
C41: สัญชาติลาว | D41: =SUM(E41:P41) -> 0
C42: อื่นๆ | D42: =SUM(E42:P42) -> 0
B43: บาท | C43: งบประมาณที่จัดสรร | D43: =SUM(E43:P43) -> 0
C44: งบประมาณที่ใช้ | D44: =SUM(E44:P44) -> 0
C45: งบประมาณคงเหลือ | D45: =SUM(D43-D44) -> 0
A46: กิจกรรมที่ดำเนินงาน : ควบคุมเฝ้าระวังการทำการประมงพื้นที่ทะเลนอกชายฝั่ง | B46: ครั้ง | C46: แผน | D46: =SUM(E46:P46) -> 0
C47: ผล | D47: =SUM(E47:P47) -> 0
B48: คดี | C48: คดีจับกุม | D48: =SUM(E48:P48) -> 0
C49: ผู้ถูกกล่าวหา(ราย) | D49: =SUM(E49:P49) -> 0
C50: คดีตรวจยึด | D50: =SUM(E50:P50) -> 0
B51: เรือที่ตรวจ (ลำ) | C51: < 10 ตันกรอส | D51: =SUM(E51:P51) -> 0
C52: 10.01 - 30 ตันกรอส | D52: =SUM(E52:P52) -> 0
C53: 30.01 - 60 ตันกรอส | D53: =SUM(E53:P53) -> 0
C54: 60.01 - 150 ตันกรอส | D54: =SUM(E54:P54) -> 0
C55: > 150 ตันกรอส | D55: =SUM(E55:P55) -> 0
B56: แรงงาน (ราย) | C56: สัญชาติไทย | D56: =SUM(E56:P56) -> 0
C57: สัญชาติเมียนมาร์ | D57: =SUM(E57:P57) -> 0
C58: สัญชาติกัมพูชา | D58: =SUM(E58:P58) -> 0
C59: สัญชาติลาว | D59: =SUM(E59:P59) -> 0
C60: อื่นๆ | D60: =SUM(E60:P60) -> 0
B61: บาท | C61: งบประมาณที่จัดสรร | D61: =SUM(E61:P61) -> 0
C62: งบประมาณที่ใช้ | D62: =SUM(E62:P62) -> 0
C63: งบประมาณคงเหลือ | D63: =SUM(D61-D62) -> 0
A64: กิจกรรมที่ดำเนินงาน : ปฏิบัติงานตามข้อร้องเรียน / เฉพาะกิจ | B64: ครั้ง | C64: แผน | D64: =SUM(E64:P64) -> 0
C65: ผล | D65: =SUM(E65:P65) -> 0
B66: คดี | C66: คดีจับกุม | D66: =SUM(E66:P66) -> 0
C67: ผู้ถูกกล่าวหา(ราย) | D67: =SUM(E67:P67) -> 0
C68: คดีตรวจยึด | D68: =SUM(E68:P68) -> 0
B69: เรือที่ตรวจ (ลำ) | C69: < 10 ตันกรอส | D69: =SUM(E69:P69) -> 0
C70: 10.01 - 30 ตันกรอส | D70: =SUM(E70:P70) -> 0
C71: 30.01 - 60 ตันกรอส | D71: =SUM(E71:P71) -> 0
C72: 60.01 - 150 ตันกรอส | D72: =SUM(E72:P72) -> 0
C73: > 150 ตันกรอส | D73: =SUM(E73:P73) -> 0
B74: แรงงาน (ราย) | C74: สัญชาติไทย | D74: =SUM(E74:P74) -> 0
C75: สัญชาติเมียนมาร์ | D75: =SUM(E75:P75) -> 0
C76: สัญชาติกัมพูชา | D76: =SUM(E76:P76) -> 0
C77: สัญชาติลาว | D77: =SUM(E77:P77) -> 0
C78: อื่นๆ | D78: =SUM(E78:P78) -> 0
B79: บาท | C79: งบประมาณที่จัดสรร | D79: =SUM(E79:P79) -> 0
C80: งบประมาณที่ใช้ | D80: =SUM(E80:P80) -> 0
C81: งบประมาณคงเหลือ | D81: =SUM(D79-D80) -> 0
A82: กิจกรรมที่ดำเนินงาน : งบเพิ่มเติม | B82: ครั้ง | C82: แผน | D82: =SUM(E82:P82) -> 0
C83: ผล | D83: =SUM(E83:P83) -> 0
B84: คดี | C84: คดีจับกุม | D84: =SUM(E84:P84) -> 0
C85: ผู้ถูกกล่าวหา(ราย) | D85: =SUM(E85:P85) -> 0
C86: คดีตรวจยึด | D86: =SUM(E86:P86) -> 0
B87: เรือที่ตรวจ (ลำ) | C87: < 10 ตันกรอส | D87: =SUM(E87:P87) -> 0
C88: 10.01 - 30 ตันกรอส | D88: =SUM(E88:P88) -> 0
C89: 30.01 - 60 ตันกรอส | D89: =SUM(E89:P89) -> 0
C90: 60.01 - 150 ตันกรอส | D90: =SUM(E90:P90) -> 0
C91: > 150 ตันกรอส | D91: =SUM(E91:P91) -> 0
B92: แรงงาน (ราย) | C92: สัญชาติไทย | D92: =SUM(E92:P92) -> 0
C93: สัญชาติเมียนมาร์ | D93: =SUM(E93:P93) -> 0
C94: สัญชาติกัมพูชา | D94: =SUM(E94:P94) -> 0
C95: สัญชาติลาว | D95: =SUM(E95:P95) -> 0
C96: อื่นๆ | D96: =SUM(E96:P96) -> 0
B97: บาท | C97: งบประมาณที่จัดสรร | D97: =SUM(E97:P97) -> 0
C98: งบประมาณที่ใช้ | D98: =SUM(E98:P98) -> 0
C99: งบประมาณคงเหลือ | D99: =SUM(D97-D98) -> 0
A100: กิจกรรม : จัดการปัญหาแรงงานต่างด้าวและการค้ามนุษย์ด้านการประมง
...

Sheet นปจ.เขื่อนปากมูล
A1: แบบ กตป.2
A2: กองตรวจการประมง
A3: แบบรายงานผลการปฏิบัติงาน ประจำปีงบประมาณ 2569
A4: หน่วยป้องกันและปราบปรามประมงน้ำจืดเขื่อนปากมูล (อุบลราชธานี)
A5: กิจกรรมการดำเนินงาน | B5: หน่วยนับ | C5: รายการ | D5: รวม | E5: แผน/ผลการปฏิบัติงาน
E6: ต.ค. | F6: พ.ย. | G6: ธ.ค. | H6: ม.ค. | I6: ก.พ. | J6: มี.ค. | K6: เม.ย. | L6: พ.ค. | M6: มิ.ย. | N6: ก.ค. | O6: ส.ค. | P6: ก.ย.
A7: แผนงาน : ยุทธศาสตร์ป้องกันและแก้ไขปัญหาที่มีผลกระทบต่อความมั่นคง
A8: โครงการ : ป้องกันและแก้ไขปัญหาการทำประมงผิดกฎหมาย
A9: กิจกรรม : ป้องกันและแก้ไขปัญหาการทำประมงผิดกฎหมาย
A10: กิจกรรมที่ดำเนินงาน : ควบคุมเฝ้าระวังการปฏิบัติการพื้นที่เสี่ยงและการปฏิบัติการเร่งด่วน | B10: ครั้ง | C10: แผน | D10: =SUM(E10:P10) -> 0
C11: ผล | D11: =SUM(E11:P11) -> 0
B12: คดี | C12: คดีจับกุม | D12: =SUM(E12:P12) -> 0
C13: ผู้ถูกกล่าวหา(ราย) | D13: =SUM(E13:P13) -> 0
C14: คดีตรวจยึด | D14: =SUM(E14:P14) -> 0
B15: เรือที่ตรวจ (ลำ) | C15: < 10 ตันกรอส | D15: =SUM(E15:P15) -> 0
C16: 10.01 - 30 ตันกรอส | D16: =SUM(E16:P16) -> 0
C17: 30.01 - 60 ตันกรอส | D17: =SUM(E17:P17) -> 0
C18: 60.01 - 150 ตันกรอส | D18: =SUM(E18:P18) -> 0
C19: > 150 ตันกรอส | D19: =SUM(E19:P19) -> 0
B20: แรงงาน (ราย) | C20: สัญชาติไทย
C21: สัญชาติเมียนมาร์
C22: สัญชาติกัมพูชา
C23: สัญชาติลาว
C24: อื่นๆ
B25: บาท | C25: งบประมาณที่จัดสรร | D25: =SUM(E25:P25) -> 0
C26: งบประมาณที่ใช้ | D26: =SUM(E26:P26) -> 0
C27: งบประมาณคงเหลือ | D27: =SUM(D25-D26) -> 0
A28: กิจกรรมที่ดำเนินงาน : ควบคุมเฝ้าระวังการทำการประมงพื้นที่ทะเลชายฝั่ง | B28: ครั้ง | C28: แผน | D28: =SUM(E28:P28) -> 0
C29: ผล | D29: =SUM(E29:P29) -> 0
B30: คดี | C30: คดีจับกุม | D30: =SUM(E30:P30) -> 0
C31: ผู้ถูกกล่าวหา(ราย) | D31: =SUM(E31:P31) -> 0
C32: คดีตรวจยึด | D32: =SUM(E32:P32) -> 0
B33: เรือที่ตรวจ (ลำ) | C33: < 10 ตันกรอส | D33: =SUM(E33:P33) -> 0
C34: 10.01 - 30 ตันกรอส | D34: =SUM(E34:P34) -> 0
C35: 30.01 - 60 ตันกรอส | D35: =SUM(E35:P35) -> 0
C36: 60.01 - 150 ตันกรอส | D36: =SUM(E36:P36) -> 0
C37: > 150 ตันกรอส | D37: =SUM(E37:P37) -> 0
B38: แรงงาน (ราย) | C38: สัญชาติไทย
C39: สัญชาติเมียนมาร์
C40: สัญชาติกัมพูชา
C41: สัญชาติลาว
C42: อื่นๆ
B43: บาท | C43: งบประมาณที่จัดสรร | D43: =SUM(E43:P43) -> 0
C44: งบประมาณที่ใช้ | D44: =SUM(E44:P44) -> 0
C45: งบประมาณคงเหลือ | D45: =SUM(D43-D44) -> 0
A46: กิจกรรมที่ดำเนินงาน : ควบคุมเฝ้าระวังการทำการประมงพื้นที่ทะเลนอกชายฝั่ง | B46: ครั้ง | C46: แผน | D46: =SUM(E46:P46) -> 0
C47: ผล | D47: =SUM(E47:P47) -> 0
B48: คดี | C48: คดีจับกุม | D48: =SUM(E48:P48) -> 0
C49: ผู้ถูกกล่าวหา(ราย) | D49: =SUM(E49:P49) -> 0
C50: คดีตรวจยึด | D50: =SUM(E50:P50) -> 0
B51: เรือที่ตรวจ (ลำ) | C51: < 10 ตันกรอส | D51: =SUM(E51:P51) -> 0
C52: 10.01 - 30 ตันกรอส | D52: =SUM(E52:P52) -> 0
C53: 30.01 - 60 ตันกรอส | D53: =SUM(E53:P53) -> 0
C54: 60.01 - 150 ตันกรอส | D54: =SUM(E54:P54) -> 0
C55: > 150 ตันกรอส | D55: =SUM(E55:P55) -> 0
B56: แรงงาน (ราย) | C56: สัญชาติไทย
C57: สัญชาติเมียนมาร์
C58: สัญชาติกัมพูชา
C59: สัญชาติลาว
C60: อื่นๆ
B61: บาท | C61: งบประมาณที่จัดสรร | D61: =SUM(E61:P61) -> 0
C62: งบประมาณที่ใช้ | D62: =SUM(E62:P62) -> 0
C63: งบประมาณคงเหลือ | D63: =SUM(D61-D62) -> 0
A64: กิจกรรมที่ดำเนินงาน : ปฏิบัติงานตามข้อร้องเรียน / เฉพาะกิจ | B64: ครั้ง | C64: แผน | D64: =SUM(E64:P64) -> 0
C65: ผล | D65: =SUM(E65:P65) -> 0
B66: คดี | C66: คดีจับกุม | D66: =SUM(E66:P66) -> 0
C67: ผู้ถูกกล่าวหา(ราย) | D67: =SUM(E67:P67) -> 0
C68: คดีตรวจยึด | D68: =SUM(E68:P68) -> 0
B69: เรือที่ตรวจ (ลำ) | C69: < 10 ตันกรอส | D69: =SUM(E69:P69) -> 0
C70: 10.01 - 30 ตันกรอส | D70: =SUM(E70:P70) -> 0
C71: 30.01 - 60 ตันกรอส | D71: =SUM(E71:P71) -> 0
C72: 60.01 - 150 ตันกรอส | D72: =SUM(E72:P72) -> 0
C73: > 150 ตันกรอส | D73: =SUM(E73:P73) -> 0
B74: แรงงาน (ราย) | C74: สัญชาติไทย
C75: สัญชาติเมียนมาร์
C76: สัญชาติกัมพูชา
C77: สัญชาติลาว
C78: อื่นๆ
B79: บาท | C79: งบประมาณที่จัดสรร | D79: =SUM(E79:P79) -> 0
C80: งบประมาณที่ใช้ | D80: =SUM(E80:P80) -> 0
C81: งบประมาณคงเหลือ | D81: =SUM(D79-D80) -> 0
A82: กิจกรรมที่ดำเนินงาน : งบเพิ่มเติม | B82: ครั้ง | C82: แผน | D82: =SUM(E82:P82) -> 0
C83: ผล | D83: =SUM(E83:P83) -> 0
B84: คดี | C84: คดีจับกุม | D84: =SUM(E84:P84) -> 0
C85: ผู้ถูกกล่าวหา(ราย) | D85: =SUM(E85:P85) -> 0
C86: คดีตรวจยึด | D86: =SUM(E86:P86) -> 0
B87: เรือที่ตรวจ (ลำ) | C87: < 10 ตันกรอส | D87: =SUM(E87:P87) -> 0
C88: 10.01 - 30 ตันกรอส | D88: =SUM(E88:P88) -> 0
C89: 30.01 - 60 ตันกรอส | D89: =SUM(E89:P89) -> 0
C90: 60.01 - 150 ตันกรอส | D90: =SUM(E90:P90) -> 0
C91: > 150 ตันกรอส | D91: =SUM(E91:P91) -> 0
B92: แรงงาน (ราย) | C92: สัญชาติไทย
C93: สัญชาติเมียนมาร์
C94: สัญชาติกัมพูชา
C95: สัญชาติลาว
C96: อื่นๆ
B97: บาท | C97: งบประมาณที่จัดสรร | D97: =SUM(E97:P97) -> 0
C98: งบประมาณที่ใช้ | D98: =SUM(E98:P98) -> 0
C99: งบประมาณคงเหลือ | D99: =SUM(D97-D98) -> 0
A100: กิจกรรม : จัดการปัญหาแรงงานต่างด้าวและการค้ามนุษย์ด้านการประมง
...

Sheet นปจ.เขื่อนสิรินธร
A1: แบบ กตป.2
A2: กองตรวจการประมง
A3: แบบรายงานผลการปฏิบัติงาน ประจำปีงบประมาณ 2569
A4: หน่วยป้องกันและปราบปรามประมงน้ำจืดเขื่อนสิรินธร (อุบลราชธานี)
A5: กิจกรรมการดำเนินงาน | B5: หน่วยนับ | C5: รายการ | D5: รวม | E5: แผน/ผลการปฏิบัติงาน
E6: ต.ค. | F6: พ.ย. | G6: ธ.ค. | H6: ม.ค. | I6: ก.พ. | J6: มี.ค. | K6: เม.ย. | L6: พ.ค. | M6: มิ.ย. | N6: ก.ค. | O6: ส.ค. | P6: ก.ย.
A7: แผนงาน : ยุทธศาสตร์ป้องกันและแก้ไขปัญหาที่มีผลกระทบต่อความมั่นคง
A8: โครงการ : ป้องกันและแก้ไขปัญหาการทำประมงผิดกฎหมาย
A9: กิจกรรม : ป้องกันและแก้ไขปัญหาการทำประมงผิดกฎหมาย
A10: กิจกรรมที่ดำเนินงาน : ควบคุมเฝ้าระวังการปฏิบัติการพื้นที่เสี่ยงและการปฏิบัติการเร่งด่วน | B10: ครั้ง | C10: แผน | D10: =SUM(E10:P10) -> 0
C11: ผล | D11: =SUM(E11:P11) -> 0
B12: คดี | C12: คดีจับกุม | D12: =SUM(E12:P12) -> 0
C13: ผู้ถูกกล่าวหา(ราย) | D13: =SUM(E13:P13) -> 0
C14: คดีตรวจยึด | D14: =SUM(E14:P14) -> 0
B15: เรือที่ตรวจ (ลำ) | C15: < 10 ตันกรอส | D15: =SUM(E15:P15) -> 0
C16: 10.01 - 30 ตันกรอส | D16: =SUM(E16:P16) -> 0
C17: 30.01 - 60 ตันกรอส | D17: =SUM(E17:P17) -> 0
C18: 60.01 - 150 ตันกรอส | D18: =SUM(E18:P18) -> 0
C19: > 150 ตันกรอส | D19: =SUM(E19:P19) -> 0
B20: แรงงาน (ราย) | C20: สัญชาติไทย
C21: สัญชาติเมียนมาร์
C22: สัญชาติกัมพูชา
C23: สัญชาติลาว
C24: อื่นๆ
B25: บาท | C25: งบประมาณที่จัดสรร | D25: =SUM(E25:P25) -> 0
C26: งบประมาณที่ใช้ | D26: =SUM(E26:P26) -> 0
C27: งบประมาณคงเหลือ | D27: =SUM(D25-D26) -> 0
A28: กิจกรรมที่ดำเนินงาน : ควบคุมเฝ้าระวังการทำการประมงพื้นที่ทะเลชายฝั่ง | B28: ครั้ง | C28: แผน | D28: =SUM(E28:P28) -> 0
C29: ผล | D29: =SUM(E29:P29) -> 0
B30: คดี | C30: คดีจับกุม | D30: =SUM(E30:P30) -> 0
C31: ผู้ถูกกล่าวหา(ราย) | D31: =SUM(E31:P31) -> 0
C32: คดีตรวจยึด | D32: =SUM(E32:P32) -> 0
B33: เรือที่ตรวจ (ลำ) | C33: < 10 ตันกรอส | D33: =SUM(E33:P33) -> 0
C34: 10.01 - 30 ตันกรอส | D34: =SUM(E34:P34) -> 0
C35: 30.01 - 60 ตันกรอส | D35: =SUM(E35:P35) -> 0
C36: 60.01 - 150 ตันกรอส | D36: =SUM(E36:P36) -> 0
C37: > 150 ตันกรอส | D37: =SUM(E37:P37) -> 0
B38: แรงงาน (ราย) | C38: สัญชาติไทย
C39: สัญชาติเมียนมาร์
C40: สัญชาติกัมพูชา
C41: สัญชาติลาว
C42: อื่นๆ
B43: บาท | C43: งบประมาณที่จัดสรร | D43: =SUM(E43:P43) -> 0
C44: งบประมาณที่ใช้ | D44: =SUM(E44:P44) -> 0
C45: งบประมาณคงเหลือ | D45: =SUM(D43-D44) -> 0
A46: กิจกรรมที่ดำเนินงาน : ควบคุมเฝ้าระวังการทำการประมงพื้นที่ทะเลนอกชายฝั่ง | B46: ครั้ง | C46: แผน | D46: =SUM(E46:P46) -> 0
C47: ผล | D47: =SUM(E47:P47) -> 0
B48: คดี | C48: คดีจับกุม | D48: =SUM(E48:P48) -> 0
C49: ผู้ถูกกล่าวหา(ราย) | D49: =SUM(E49:P49) -> 0
C50: คดีตรวจยึด | D50: =SUM(E50:P50) -> 0
B51: เรือที่ตรวจ (ลำ) | C51: < 10 ตันกรอส | D51: =SUM(E51:P51) -> 0
C52: 10.01 - 30 ตันกรอส | D52: =SUM(E52:P52) -> 0
C53: 30.01 - 60 ตันกรอส | D53: =SUM(E53:P53) -> 0
C54: 60.01 - 150 ตันกรอส | D54: =SUM(E54:P54) -> 0
C55: > 150 ตันกรอส | D55: =SUM(E55:P55) -> 0
B56: แรงงาน (ราย) | C56: สัญชาติไทย
C57: สัญชาติเมียนมาร์
C58: สัญชาติกัมพูชา
C59: สัญชาติลาว
C60: อื่นๆ
B61: บาท | C61: งบประมาณที่จัดสรร | D61: =SUM(E61:P61) -> 0
C62: งบประมาณที่ใช้ | D62: =SUM(E62:P62) -> 0
C63: งบประมาณคงเหลือ | D63: =SUM(D61-D62) -> 0
A64: กิจกรรมที่ดำเนินงาน : นอกเหนือแผนงานฯที่กำหนด/เฉพาะกิจ | B64: ครั้ง | C64: แผน | D64: =SUM(E64:P64) -> 0
C65: ผล | D65: =SUM(E65:P65) -> 0
B66: คดี | C66: คดีจับกุม | D66: =SUM(E66:P66) -> 0
C67: ผู้ถูกกล่าวหา(ราย) | D67: =SUM(E67:P67) -> 0
C68: คดีตรวจยึด | D68: =SUM(E68:P68) -> 0
B69: เรือที่ตรวจ (ลำ) | C69: < 10 ตันกรอส | D69: =SUM(E69:P69) -> 0
C70: 10.01 - 30 ตันกรอส | D70: =SUM(E70:P70) -> 0
C71: 30.01 - 60 ตันกรอส | D71: =SUM(E71:P71) -> 0
C72: 60.01 - 150 ตันกรอส | D72: =SUM(E72:P72) -> 0
C73: > 150 ตันกรอส | D73: =SUM(E73:P73) -> 0
B74: แรงงาน (ราย) | C74: สัญชาติไทย
C75: สัญชาติเมียนมาร์
C76: สัญชาติกัมพูชา
C77: สัญชาติลาว
C78: อื่นๆ
B79: บาท | C79: งบประมาณที่จัดสรร | D79: =SUM(E79:P79) -> 0
C80: งบประมาณที่ใช้ | D80: =SUM(E80:P80) -> 0
C81: งบประมาณคงเหลือ | D81: =SUM(D79-D80) -> 0
A82: กิจกรรมที่ดำเนินงาน : งบเพิ่มเติม | B82: ครั้ง | C82: แผน | D82: =SUM(E82:P82) -> 0
C83: ผล | D83: =SUM(E83:P83) -> 0
B84: คดี | C84: คดีจับกุม | D84: =SUM(E84:P84) -> 0
C85: ผู้ถูกกล่าวหา(ราย) | D85: =SUM(E85:P85) -> 0
C86: คดีตรวจยึด | D86: =SUM(E86:P86) -> 0
B87: เรือที่ตรวจ (ลำ) | C87: < 10 ตันกรอส | D87: =SUM(E87:P87) -> 0
C88: 10.01 - 30 ตันกรอส | D88: =SUM(E88:P88) -> 0
C89: 30.01 - 60 ตันกรอส | D89: =SUM(E89:P89) -> 0
C90: 60.01 - 150 ตันกรอส | D90: =SUM(E90:P90) -> 0
C91: > 150 ตันกรอส | D91: =SUM(E91:P91) -> 0
B92: แรงงาน (ราย) | C92: สัญชาติไทย
C93: สัญชาติเมียนมาร์
C94: สัญชาติกัมพูชา
C95: สัญชาติลาว
C96: อื่นๆ
B97: บาท | C97: งบประมาณที่จัดสรร | D97: =SUM(E97:P97) -> 0
C98: งบประมาณที่ใช้ | D98: =SUM(E98:P98) -> 0
C99: งบประมาณคงเหลือ | D99: =SUM(D97-D98) -> 0
A100: กิจกรรม : จัดการปัญหาแรงงานต่างด้าวและการค้ามนุษย์ด้านการประมง
...
