Workbook

Sheet Total
A2: จำนวนใบอนุญาตขับรถตามกฎหมายว่าด้วยรถยนต์ สำหรับคนพิการ ปีงบประมาณ 2559
E4: (ฉบับ : Issue)
A5: ชนิดใบอนุญาต | C5: ทั่วประเทศ | D5: ส่วนกลาง | E5: ส่วนภูมิภาค
A6: Type of Driving Licence | C6: Whole Kingdom | D6: (กรุงเทพฯ) Bangkok | E6: Provincial
A7: ใบอนุญาตขับรถยนต์ส่วนบุคคลชั่วคราว Temporary Private Automobile | B7: พิการหูหนวก Deaf | C7: =SUM(D7:E7) -> 161 | D7: 18 | E7: ='Regional 59'!C6 -> 143
B8: ตาพิการ Blind | C8: =SUM(D8:E8) -> 615 | D8: 31 | E8: ='Regional 59'!C7 -> 584
B9: พิการแขน ขา Stumb | C9: =SUM(D9:E9) -> 523 | D9: 32 | E9: ='Regional 59'!C8 -> 491
A10: ใบอนุญาตขับรถยนต์ส่วนบุคคล Private Automobile | B10: พิการหูหนวก Deaf | C10: =SUM(D10:E10) -> 49 | D10: 11 | E10: ='Regional 59'!C9 -> 38
B11: ตาพิการ Blind | C11: =SUM(D11:E11) -> 331 | D11: 30 | E11: ='Regional 59'!C10 -> 301
B12: พิการแขน ขา Stumb | C12: =SUM(D12:E12) -> 309 | D12: 23 | E12: ='Regional 59'!C11 -> 286
A13: ใบอนุญาตขับรถยนต์สามล้อส่วนบุคคลชั่วคราว Temporary Private Motor Tricycle | B13: พิการหูหนวก Deaf | C13: =SUM(D13:E13) -> 3 | D13: 0 | E13: ='Regional 59'!C12 -> 3
B14: ตาพิการ Blind | C14: =SUM(D14:E14) -> 1 | D14: 0 | E14: ='Regional 59'!C13 -> 1
B15: พิการแขน ขา Stumb | C15: =SUM(D15:E15) -> 4 | D15: 1 | E15: ='Regional 59'!C14 -> 3
A16: ใบอนุญาตขับรถยนต์สามล้อส่วนบุคคล Private Motor Tricycle | B16: พิการหูหนวก Deaf | C16: =SUM(D16:E16) -> 0 | D16: 0 | E16: ='Regional 59'!C15 -> 0
B17: ตาพิการ Blind | C17: =SUM(D17:E17) -> 6 | D17: 1 | E17: ='Regional 59'!C16 -> 5
B18: พิการแขน ขา Stumb | C18: =SUM(D18:E18) -> 3 | D18: 0 | E18: ='Regional 59'!C17 -> 3
A19: ใบอนุญาตขับรถจักรยานยนต์ชั่วคราว Temporary Motorcycle | B19: พิการหูหนวก Deaf | C19: =SUM(D19:E19) -> 331 | D19: 73 | E19: ='Regional 59'!C18 -> 258
B20: ตาพิการ Blind | C20: =SUM(D20:E20) -> 231 | D20: 21 | E20: ='Regional 59'!C19 -> 210
B21: พิการแขน ขา Stumb | C21: =SUM(D21:E21) -> 129 | D21: 10 | E21: ='Regional 59'!C20 -> 119
A22: ใบอนุญาตขับรถจักรยานยนต์ Motorcycle | B22: พิการหูหนวก Deaf | C22: =SUM(D22:E22) -> 76 | D22: 9 | E22: ='Regional 59'!C21 -> 67
B23: ตาพิการ Blind | C23: =SUM(D23:E23) -> 129 | D23: 16 | E23: ='Regional 59'!C22 -> 113
B24: พิการแขน ขา Stumb | C24: =SUM(D24:E24) -> 75 | D24: 12 | E24: ='Regional 59'!C23 -> 63
B25: พิการหูหนวก Deaf | C25: =SUM(C7,C10,C13,C16,C19,C22) -> 620 | D25: =SUM(D7,D10,D13,D16,D19,D22) -> 111 | E25: =SUM(E7,E10,E13,E16,E19,E22) -> 509
A26: รวม Total | B26: ตาพิการ Blind | C26: =SUM(C8,C11,C14,C17,C20,C23) -> 1313 | D26: =SUM(D8,D11,D14,D17,D20,D23) -> 99 | E26: =SUM(E8,E11,E14,E17,E20,E23) -> 1214
B27: พิการแขน ขา Stumb | C27: =SUM(C9,C12,C15,C18,C21,C24) -> 1043 | D27: =SUM(D9,D12,D15,D18,D21,D24) -> 78 | E27: =SUM(E9,E12,E15,E18,E21,E24) -> 965
A28: รวมทั้งสิ้น Grand Total | C28: =SUM(C7:C24) -> 2976 | D28: =SUM(D7:D24) -> 288 | E28: =SUM(E7:E24) -> 2688
A29: กลุ่มสถิติการขนส่ง กองแผนงาน กรมการขนส่งทางบก | E29: ข้อมูล ณ 3 ตุลาคม 2559
A30: (Transport Statistics Sub-Division, Planning Division, Department of Land Transport)

Sheet Regional 59
I2: ปีงบประมาณ 2559
I3: (ฉบับ : Issue)
A4: ชนิดใบอนุญาต | C4: รวมภูมิภาค | D4: รวมภาคกลาง | E4: รวมภาคตะวันออก | F4: รวมภาคตะวันออกเฉียงเหนือ | G4: รวมภาคเหนือ | H4: รวมภาคตะวันตก | I4: รวมภาคใต้
A5: Type of Driving Licence | C5: Regional | D5: Central | E5: Eastern | F5: North Eastern | G5: Northern | H5: Western | I5: Southern
A6: ใบอนุญาตขับรถยนต์ส่วนบุคคลชั่วคราว Temporary Private Automobile | B6: พิการหูหนวก Deaf | C6: =SUM(D6:I6) -> 143 | D6: =Central!C6 -> 25 | E6: =East!C6 -> 18 | F6: =NE!C6 -> 16 | G6: =North!C6 -> 55 | H6: =West!C6 -> 14 | I6: =South!C6 -> 15
B7: ตาพิการ Blind | C7: =SUM(D7:I7) -> 584 | D7: =Central!C7 -> 84 | E7: =East!C7 -> 89 | F7: =NE!C7 -> 149 | G7: =North!C7 -> 136 | H7: =West!C7 -> 56 | I7: =South!C7 -> 70
B8: พิการแขน ขา Stumb | C8: =SUM(D8:I8) -> 491 | D8: =Central!C8 -> 68 | E8: =East!C8 -> 98 | F8: =NE!C8 -> 128 | G8: =North!C8 -> 102 | H8: =West!C8 -> 49 | I8: =South!C8 -> 46
A9: ใบอนุญาตขับรถยนต์ส่วนบุคคล Private Automobile | B9: พิการหูหนวก Deaf | C9: =SUM(D9:I9) -> 38 | D9: =Central!C9 -> 6 | E9: =East!C9 -> 3 | F9: =NE!C9 -> 7 | G9: =North!C9 -> 16 | H9: =West!C9 -> 2 | I9: =South!C9 -> 4
B10: ตาพิการ Blind | C10: =SUM(D10:I10) -> 301 | D10: =Central!C10 -> 44 | E10: =East!C10 -> 40 | F10: =NE!C10 -> 89 | G10: =North!C10 -> 63 | H10: =West!C10 -> 25 | I10: =South!C10 -> 40
B11: พิการแขน ขา Stumb | C11: =SUM(D11:I11) -> 286 | D11: =Central!C11 -> 48 | E11: =East!C11 -> 34 | F11: =NE!C11 -> 85 | G11: =North!C11 -> 57 | H11: =West!C11 -> 29 | I11: =South!C11 -> 33
A12: ใบอนุญาตขับรถยนต์สามล้อส่วนบุคคลชั่วคราว Temporary Private Motor Tricycle | B12: พิการหูหนวก Deaf | C12: =SUM(D12:I12) -> 3 | D12: =Central!C12 -> 1 | E12: =East!C12 -> 0 | F12: =NE!C12 -> 1 | G12: =North!C12 -> 1 | H12: =West!C12 -> 0 | I12: =South!C12 -> 0
B13: ตาพิการ Blind | C13: =SUM(D13:I13) -> 1 | D13: =Central!C13 -> 0 | E13: =East!C13 -> 0 | F13: =NE!C13 -> 0 | G13: =North!C13 -> 1 | H13: =West!C13 -> 0 | I13: =South!C13 -> 0
B14: พิการแขน ขา Stumb | C14: =SUM(D14:I14) -> 3 | D14: =Central!C14 -> 0 | E14: =East!C14 -> 2 | F14: =NE!C14 -> 1 | G14: =North!C14 -> 0 | H14: =West!C14 -> 0 | I14: =South!C14 -> 0
A15: ใบอนุญาตขับรถยนต์สามล้อส่วนบุคคล Private Motor Tricycle | B15: พิการหูหนวก Deaf | C15: =SUM(D15:I15) -> 0 | D15: =Central!C15 -> 0 | E15: =East!C15 -> 0 | F15: =NE!C15 -> 0 | G15: =North!C15 -> 0 | H15: =West!C15 -> 0 | I15: =South!C15 -> 0
B16: ตาพิการ Blind | C16: =SUM(D16:I16) -> 5 | D16: =Central!C16 -> 0 | E16: =East!C16 -> 0 | F16: =NE!C16 -> 4 | G16: =North!C16 -> 0 | H16: =West!C16 -> 0 | I16: =South!C16 -> 1
B17: พิการแขน ขา Stumb | C17: =SUM(D17:I17) -> 3 | D17: =Central!C17 -> 0 | E17: =East!C17 -> 0 | F17: =NE!C17 -> 3 | G17: =North!C17 -> 0 | H17: =West!C17 -> 0 | I17: =South!C17 -> 0
A18: ใบอนุญาตขับรถจักรยานยนต์ชั่วคราว Temporary Motorcycle | B18: พิการหูหนวก Deaf | C18: =SUM(D18:I18) -> 258 | D18: =Central!C18 -> 57 | E18: =East!C18 -> 44 | F18: =NE!C18 -> 10 | G18: =North!C18 -> 120 | H18: =West!C18 -> 13 | I18: =South!C18 -> 14
B19: ตาพิการ Blind | C19: =SUM(D19:I19) -> 210 | D19: =Central!C19 -> 22 | E19: =East!C19 -> 28 | F19: =NE!C19 -> 49 | G19: =North!C19 -> 66 | H19: =West!C19 -> 20 | I19: =South!C19 -> 25
B20: พิการแขน ขา Stumb | C20: =SUM(D20:I20) -> 119 | D20: =Central!C20 -> 20 | E20: =East!C20 -> 19 | F20: =NE!C20 -> 26 | G20: =North!C20 -> 32 | H20: =West!C20 -> 10 | I20: =South!C20 -> 12
A21: ใบอนุญาตขับรถจักรยานยนต์ Motorcycle | B21: พิการหูหนวก Deaf | C21: =SUM(D21:I21) -> 67 | D21: =Central!C21 -> 5 | E21: =East!C21 -> 1 | F21: =NE!C21 -> 7 | G21: =North!C21 -> 47 | H21: =West!C21 -> 4 | I21: =South!C21 -> 3
B22: ตาพิการ Blind | C22: =SUM(D22:I22) -> 113 | D22: =Central!C22 -> 22 | E22: =East!C22 -> 20 | F22: =NE!C22 -> 31 | G22: =North!C22 -> 23 | H22: =West!C22 -> 8 | I22: =South!C22 -> 9
B23: พิการแขน ขา Stumb | C23: =SUM(D23:I23) -> 63 | D23: =Central!C23 -> 14 | E23: =East!C23 -> 12 | F23: =NE!C23 -> 13 | G23: =North!C23 -> 12 | H23: =West!C23 -> 8 | I23: =South!C23 -> 4
B24: พิการหูหนวก Deaf | C24: =C6+C9+C12+C15+C18+C21 -> 509 | D24: =D6+D9+D12+D15+D18+D21 -> 94 | E24: =E6+E9+E12+E15+E18+E21 -> 66 | F24: =F6+F9+F12+F15+F18+F21 -> 41 | G24: =G6+G9+G12+G15+G18+G21 -> 239 | H24: =H6+H9+H12+H15+H18+H21 -> 33 | I24: =I6+I9+I12+I15+I18+I21 -> 36
A25: รวม Total | B25: ตาพิการ Blind | C25: =C7+C10+C13+C16+C19+C22 -> 1214 | D25: =D7+D10+D13+D16+D19+D22 -> 172 | E25: =E7+E10+E13+E16+E19+E22 -> 177 | F25: =F7+F10+F13+F16+F19+F22 -> 322 | G25: =G7+G10+G13+G16+G19+G22 -> 289 | H25: =H7+H10+H13+H16+H19+H22 -> 109 | I25: =I7+I10+I13+I16+I19+I22 -> 145
B26: พิการแขน ขา Stumb | C26: =C8+C11+C14+C17+C20+C23 -> 965 | D26: =D8+D11+D14+D17+D20+D23 -> 150 | E26: =E8+E11+E14+E17+E20+E23 -> 165 | F26: =F8+F11+F14+F17+F20+F23 -> 256 | G26: =G8+G11+G14+G17+G20+G23 -> 203 | H26: =H8+H11+H14+H17+H20+H23 -> 96 | I26: =I8+I11+I14+I17+I20+I23 -> 95
A27: รวมทั้งสิ้น Grand Total | C27: =SUM(C24:C26) -> 2688 | D27: =SUM(D24:D26) -> 416 | E27: =SUM(E24:E26) -> 408 | F27: =SUM(F24:F26) -> 619 | G27: =SUM(G24:G26) -> 731 | H27: =SUM(H24:H26) -> 238 | I27: =SUM(I24:I26) -> 276

Sheet Central
H2: ='Regional 59'!I2 -> ปีงบประมาณ 2559 | L2: =H2 -> ปีงบประมาณ 2559
H3: (ฉบับ : Issue) | L3: (ฉบับ : Issue)
A4: ชนิดใบอนุญาต | C4: รวมภาคกลาง | D4: ชัยนาท | E4: สิงห์บุรี | F4: ลพบุรี | G4: อ่างทอง | H4: สระบุรี | I4: พระนครศรีอยุธยา | J4: ปทุมธานี | K4: นนทบุรี | L4: สมุทรปราการ
A5: Type of Driving Licence | C5: Central | D5: Chai Nat | E5: Sing Buri | F5: Lop Buri | G5: Ang Thong | H5: Saraburi | I5: Ayuthaya | J5: Pathum Thani | K5: Nonthaburi | L5: Samut Prakarn
A6: ใบอนุญาตขับรถยนต์ส่วนบุคคลชั่วคราว Temporary Private Automobile | B6: พิการหูหนวก Deaf | C6: =SUM(D6:L6) -> 25 | D6: 0 | E6: 2 | F6: 0 | G6: 0 | H6: 6 | I6: 2 | J6: 1 | K6: 13 | L6: 1
B7: ตาพิการ Blind | C7: =SUM(D7:L7) -> 84 | D7: 6 | E7: 20 | F7: 7 | G7: 5 | H7: 5 | I7: 5 | J7: 12 | K7: 2 | L7: 22
B8: พิการแขน ขา Stumb | C8: =SUM(D8:L8) -> 68 | D8: 2 | E8: 8 | F8: 8 | G8: 8 | H8: 2 | I8: 5 | J8: 8 | K8: 8 | L8: 19
A9: ใบอนุญาตขับรถยนต์ส่วนบุคคล Private Automobile | B9: พิการหูหนวก Deaf | C9: =SUM(D9:L9) -> 6 | D9: 2 | E9: 0 | F9: 2 | G9: 0 | H9: 0 | I9: 1 | J9: 1 | K9: 0 | L9: 0
B10: ตาพิการ Blind | C10: =SUM(D10:L10) -> 44 | D10: 6 | E10: 3 | F10: 7 | G10: 1 | H10: 1 | I10: 5 | J10: 6 | K10: 8 | L10: 7
B11: พิการแขน ขา Stumb | C11: =SUM(D11:L11) -> 48 | D11: 2 | E11: 1 | F11: 8 | G11: 3 | H11: 6 | I11: 4 | J11: 5 | K11: 10 | L11: 9
A12: ใบอนุญาตขับรถยนต์สามล้อส่วนบุคคลชั่วคราว Temporary Private Motor Tricycle | B12: พิการหูหนวก Deaf | C12: =SUM(D12:L12) -> 1 | D12: 0 | E12: 0 | F12: 0 | G12: 0 | H12: 0 | I12: 0 | J12: 0 | K12: 0 | L12: 1
B13: ตาพิการ Blind | C13: =SUM(D13:L13) -> 0 | D13: 0 | E13: 0 | F13: 0 | G13: 0 | H13: 0 | I13: 0 | J13: 0 | K13: 0 | L13: 0
B14: พิการแขน ขา Stumb | C14: =SUM(D14:L14) -> 0 | D14: 0 | E14: 0 | F14: 0 | G14: 0 | H14: 0 | I14: 0 | J14: 0 | K14: 0 | L14: 0
A15: ใบอนุญาตขับรถยนต์สามล้อส่วนบุคคล Private Motor Tricycle | B15: พิการหูหนวก Deaf | C15: =SUM(D15:L15) -> 0 | D15: 0 | E15: 0 | F15: 0 | G15: 0 | H15: 0 | I15: 0 | J15: 0 | K15: 0 | L15: 0
B16: ตาพิการ Blind | C16: =SUM(D16:L16) -> 0 | D16: 0 | E16: 0 | F16: 0 | G16: 0 | H16: 0 | I16: 0 | J16: 0 | K16: 0 | L16: 0
B17: พิการแขน ขา Stumb | C17: =SUM(D17:L17) -> 0 | D17: 0 | E17: 0 | F17: 0 | G17: 0 | H17: 0 | I17: 0 | J17: 0 | K17: 0 | L17: 0
A18: ใบอนุญาตขับรถจักรยานยนต์ชั่วคราว Temporary Motorcycle | B18: พิการหูหนวก Deaf | C18: =SUM(D18:L18) -> 57 | D18: 0 | E18: 0 | F18: 2 | G18: 0 | H18: 17 | I18: 20 | J18: 1 | K18: 17 | L18: 0
B19: ตาพิการ Blind | C19: =SUM(D19:L19) -> 22 | D19: 0 | E19: 4 | F19: 1 | G19: 4 | H19: 4 | I19: 3 | J19: 1 | K19: 1 | L19: 4
B20: พิการแขน ขา Stumb | C20: =SUM(D20:L20) -> 20 | D20: 2 | E20: 1 | F20: 1 | G20: 2 | H20: 3 | I20: 1 | J20: 0 | K20: 3 | L20: 7
A21: ใบอนุญาตขับรถจักรยานยนต์ Motorcycle | B21: พิการหูหนวก Deaf | C21: =SUM(D21:L21) -> 5 | D21: 1 | E21: 0 | F21: 0 | G21: 0 | H21: 2 | I21: 0 | J21: 0 | K21: 2 | L21: 0
B22: ตาพิการ Blind | C22: =SUM(D22:L22) -> 22 | D22: 1 | E22: 1 | F22: 2 | G22: 1 | H22: 3 | I22: 1 | J22: 2 | K22: 5 | L22: 6
B23: พิการแขน ขา Stumb | C23: =SUM(D23:L23) -> 14 | D23: 0 | E23: 1 | F23: 0 | G23: 1 | H23: 1 | I23: 2 | J23: 6 | K23: 0 | L23: 3
B24: พิการหูหนวก Deaf | C24: =C6+C9+C12+C15+C18+C21 -> 94 | D24: =D6+D9+D12+D15+D18+D21 -> 3 | E24: =E6+E9+E12+E15+E18+E21 -> 2 | F24: =F6+F9+F12+F15+F18+F21 -> 4 | G24: =G6+G9+G12+G15+G18+G21 -> 0 | H24: =H6+H9+H12+H15+H18+H21 -> 25 | I24: =I6+I9+I12+I15+I18+I21 -> 23 | J24: =J6+J9+J12+J15+J18+J21 -> 3 | ... L24: =L6+L9+L12+L15+L18+L21 -> 2
A25: รวม Total | B25: ตาพิการ Blind | C25: =C7+C10+C13+C16+C19+C22 -> 172 | D25: =D7+D10+D13+D16+D19+D22 -> 13 | E25: =E7+E10+E13+E16+E19+E22 -> 28 | F25: =F7+F10+F13+F16+F19+F22 -> 17 | G25: =G7+G10+G13+G16+G19+G22 -> 11 | H25: =H7+H10+H13+H16+H19+H22 -> 13 | I25: =I7+I10+I13+I16+I19+I22 -> 14 | J25: =J7+J10+J13+J16+J19+J22 -> 21 | ... L25: =L7+L10+L13+L16+L19+L22 -> 39
B26: พิการแขน ขา Stumb | C26: =C8+C11+C14+C17+C20+C23 -> 150 | D26: =D8+D11+D14+D17+D20+D23 -> 6 | E26: =E8+E11+E14+E17+E20+E23 -> 11 | F26: =F8+F11+F14+F17+F20+F23 -> 17 | G26: =G8+G11+G14+G17+G20+G23 -> 14 | H26: =H8+H11+H14+H17+H20+H23 -> 12 | I26: =I8+I11+I14+I17+I20+I23 -> 12 | J26: =J8+J11+J14+J17+J20+J23 -> 19 | ... L26: =L8+L11+L14+L17+L20+L23 -> 38
A27: รวมทั้งสิ้น Grand Total | C27: =SUM(C24:C26) -> 416 | D27: =SUM(D24:D26) -> 22 | E27: =SUM(E24:E26) -> 41 | F27: =SUM(F24:F26) -> 38 | G27: =SUM(G24:G26) -> 25 | H27: =SUM(H24:H26) -> 50 | I27: =SUM(I24:I26) -> 49 | J27: =SUM(J24:J26) -> 43 | ... L27: =SUM(L24:L26) -> 79

Sheet East
H2: ='Regional 59'!I2 -> ปีงบประมาณ 2559 | K2: =H2 -> ปีงบประมาณ 2559
H3: (ฉบับ : Issue) | K3: (ฉบับ : Issue)
A4: ชนิดใบอนุญาต | C4: รวมภาคตะวันออก | D4: นครนายก | E4: ปราจีนบุรี | F4: ฉะเชิงเทรา | G4: ชลบุรี | H4: ระยอง | I4: จันทบุรี | J4: ตราด | K4: สระแก้ว
A5: Type of Driving Licence | C5: Eastern | D5: Nakhon Nayok | E5: Prachin Buri | F5: Chachoengsao | G5: Chonburi | H5: Rayong | I5: Chanthaburi | J5: Trad | K5: Sra Kaew
A6: ใบอนุญาตขับรถยนต์ส่วนบุคคลชั่วคราว Temporary Private Automobile | B6: พิการหูหนวก Deaf | C6: =SUM(D6:K6) -> 18 | D6: 1 | E6: 0 | F6: 3 | G6: 2 | H6: 2 | I6: 10 | J6: 0 | K6: 0
B7: ตาพิการ Blind | C7: =SUM(D7:K7) -> 89 | D7: 2 | E7: 6 | F7: 12 | G7: 38 | H7: 10 | I7: 12 | J7: 5 | K7: 4
B8: พิการแขน ขา Stumb | C8: =SUM(D8:K8) -> 98 | D8: 5 | E8: 11 | F8: 9 | G8: 48 | H8: 10 | I8: 6 | J8: 5 | K8: 4
A9: ใบอนุญาตขับรถยนต์ส่วนบุคคล Private Automobile | B9: พิการหูหนวก Deaf | C9: =SUM(D9:K9) -> 3 | D9: 0 | E9: 0 | F9: 0 | G9: 1 | H9: 1 | I9: 0 | J9: 0 | K9: 1
B10: ตาพิการ Blind | C10: =SUM(D10:K10) -> 40 | D10: 8 | E10: 1 | F10: 5 | G10: 14 | H10: 6 | I10: 4 | J10: 1 | K10: 1
B11: พิการแขน ขา Stumb | C11: =SUM(D11:K11) -> 34 | D11: 2 | E11: 0 | F11: 4 | G11: 14 | H11: 4 | I11: 7 | J11: 3 | K11: 0
A12: ใบอนุญาตขับรถยนต์สามล้อส่วนบุคคลชั่วคราว Temporary Private Motor Tricycle | B12: พิการหูหนวก Deaf | C12: =SUM(D12:K12) -> 0 | D12: 0 | E12: 0 | F12: 0 | G12: 0 | H12: 0 | I12: 0 | J12: 0 | K12: 0
B13: ตาพิการ Blind | C13: =SUM(D13:K13) -> 0 | D13: 0 | E13: 0 | F13: 0 | G13: 0 | H13: 0 | I13: 0 | J13: 0 | K13: 0
B14: พิการแขน ขา Stumb | C14: =SUM(D14:K14) -> 2 | D14: 0 | E14: 0 | F14: 0 | G14: 0 | H14: 0 | I14: 0 | J14: 0 | K14: 2
A15: ใบอนุญาตขับรถยนต์สามล้อส่วนบุคคล Private Motor Tricycle | B15: พิการหูหนวก Deaf | C15: =SUM(D15:K15) -> 0 | D15: 0 | E15: 0 | F15: 0 | G15: 0 | H15: 0 | I15: 0 | J15: 0 | K15: 0
B16: ตาพิการ Blind | C16: =SUM(D16:K16) -> 0 | D16: 0 | E16: 0 | F16: 0 | G16: 0 | H16: 0 | I16: 0 | J16: 0 | K16: 0
B17: พิการแขน ขา Stumb | C17: =SUM(D17:K17) -> 0 | D17: 0 | E17: 0 | F17: 0 | G17: 0 | H17: 0 | I17: 0 | J17: 0 | K17: 0
A18: ใบอนุญาตขับรถจักรยานยนต์ชั่วคราว Temporary Motorcycle | B18: พิการหูหนวก Deaf | C18: =SUM(D18:K18) -> 44 | D18: 0 | E18: 0 | F18: 2 | G18: 30 | H18: 0 | I18: 12 | J18: 0 | K18: 0
B19: ตาพิการ Blind | C19: =SUM(D19:K19) -> 28 | D19: 1 | E19: 0 | F19: 3 | G19: 16 | H19: 0 | I19: 2 | J19: 5 | K19: 1
B20: พิการแขน ขา Stumb | C20: =SUM(D20:K20) -> 19 | D20: 0 | E20: 2 | F20: 3 | G20: 9 | H20: 1 | I20: 2 | J20: 1 | K20: 1
A21: ใบอนุญาตขับรถจักรยานยนต์ Motorcycle | B21: พิการหูหนวก Deaf | C21: =SUM(D21:K21) -> 1 | D21: 0 | E21: 0 | F21: 0 | G21: 1 | H21: 0 | I21: 0 | J21: 0 | K21: 0
B22: ตาพิการ Blind | C22: =SUM(D22:K22) -> 20 | D22: 1 | E22: 1 | F22: 1 | G22: 14 | H22: 2 | I22: 1 | J22: 0 | K22: 0
B23: พิการแขน ขา Stumb | C23: =SUM(D23:K23) -> 12 | D23: 0 | E23: 0 | F23: 3 | G23: 6 | H23: 0 | I23: 3 | J23: 0 | K23: 0
B24: พิการหูหนวก Deaf | C24: =C6+C9+C12+C15+C18+C21 -> 66 | D24: =D6+D9+D12+D15+D18+D21 -> 1 | E24: =E6+E9+E12+E15+E18+E21 -> 0 | F24: =F6+F9+F12+F15+F18+F21 -> 5 | G24: =G6+G9+G12+G15+G18+G21 -> 34 | H24: =H6+H9+H12+H15+H18+H21 -> 3 | I24: =I6+I9+I12+I15+I18+I21 -> 22 | J24: =J6+J9+J12+J15+J18+J21 -> 0 | K24: 0
A25: รวม Total | B25: ตาพิการ Blind | C25: =C7+C10+C13+C16+C19+C22 -> 177 | D25: =D7+D10+D13+D16+D19+D22 -> 12 | E25: =E7+E10+E13+E16+E19+E22 -> 8 | F25: =F7+F10+F13+F16+F19+F22 -> 21 | G25: =G7+G10+G13+G16+G19+G22 -> 82 | H25: =H7+H10+H13+H16+H19+H22 -> 18 | I25: =I7+I10+I13+I16+I19+I22 -> 19 | J25: =J7+J10+J13+J16+J19+J22 -> 11 | K25: 0
B26: พิการแขน ขา Stumb | C26: =C8+C11+C14+C17+C20+C23 -> 165 | D26: =D8+D11+D14+D17+D20+D23 -> 7 | E26: =E8+E11+E14+E17+E20+E23 -> 13 | F26: =F8+F11+F14+F17+F20+F23 -> 19 | G26: =G8+G11+G14+G17+G20+G23 -> 77 | H26: =H8+H11+H14+H17+H20+H23 -> 15 | I26: =I8+I11+I14+I17+I20+I23 -> 18 | J26: =J8+J11+J14+J17+J20+J23 -> 9 | K26: 0
A27: รวมทั้งสิ้น Grand Total | C27: =SUM(C24:C26) -> 408 | D27: =SUM(D24:D26) -> 20 | E27: =SUM(E24:E26) -> 21 | F27: =SUM(F24:F26) -> 45 | G27: =SUM(G24:G26) -> 193 | H27: =SUM(H24:H26) -> 36 | I27: =SUM(I24:I26) -> 59 | J27: =SUM(J24:J26) -> 20 | K27: =SUM(K24:K26) -> 0

Sheet NE
G2: ='Regional 59'!I2 -> ปีงบประมาณ 2559 | M2: =G2 -> ปีงบประมาณ 2559 | S2: =G2 -> ปีงบประมาณ 2559 | W2: =G2 -> ปีงบประมาณ 2559
G3: (ฉบับ : Issue) | M3: (ฉบับ : Issue) | S3: (ฉบับ : Issue) | W3: (ฉบับ : Issue)
A4: ชนิดใบอนุญาต | C4: รวมภาคตะวันออกเฉียงเหนือ | D4: ชัยภูมิ | E4: ยโสธร | F4: อุบลราชธานี | G4: ศรีสะเกษ | H4: บุรีรัมย์ | I4: นครราชสีมา | J4: สุรินทร์ | K4: อำนาจเจริญ | L4: หนองบัวลำภู | M4: บึงกาฬ | N4: หนองคาย | O4: เลย | P4: อุดรธานี | Q4: นครพนม | R4: สกลนคร | S4: ขอนแก่น | T4: กาฬสินธุ์ | U4: มหาสารคาม | V4: ร้อยเอ็ด | W4: มุกดาหาร
A5: Type of Driving Licence | C5: North Eastern | D5: Chaiyaphum | E5: Yasothon | F5: Ubon Ratchathani | G5: Si Sa Ket | H5: Buri Rum | I5: Nakhon Ratchasima | J5: Surin | K5: Amnat Charoen | L5: Nong Bua Lamphu | M5: Bung Kan | N5: Nong Khai | O5: Loei | P5: Udon Thani | Q5: Nakhon Phanom | R5: Sakon Nakhon | S5: Khon Kaen | T5: Kalasin | U5: Maha Sarakham | V5: Roi Et | W5: Mukdahan
A6: ใบอนุญาตขับรถยนต์ส่วนบุคคลชั่วคราว Temporary Private Automobile | B6: พิการหูหนวก Deaf | C6: =SUM(D6:W6) -> 16 | D6: 1 | E6: 1 | F6: 4 | G6: 1 | H6: 2 | I6: 2 | J6: 0 | K6: 0 | L6: 0 | M6: 0 | N6: 0 | O6: 0 | P6: 2 | Q6: 1 | R6: 0 | S6: 1 | T6: 0 | U6: 1 | V6: 0 | W6: 0
B7: ตาพิการ Blind | C7: =SUM(D7:W7) -> 149 | D7: 8 | E7: 2 | F7: 8 | G7: 3 | H7: 19 | I7: 36 | J7: 10 | K7: 1 | L7: 5 | M7: 1 | N7: 1 | O7: 4 | P7: 4 | Q7: 9 | R7: 2 | S7: 13 | T7: 8 | U7: 7 | V7: 6 | W7: 2
B8: พิการแขน ขา Stumb | C8: =SUM(D8:W8) -> 128 | D8: 1 | E8: 4 | F8: 8 | G8: 4 | H8: 21 | I8: 29 | J8: 6 | K8: 4 | L8: 8 | M8: 2 | N8: 5 | O8: 1 | P8: 3 | Q8: 8 | R8: 6 | S8: 5 | T8: 2 | U8: 7 | V8: 4 | W8: 0
A9: ใบอนุญาตขับรถยนต์ส่วนบุคคล Private Automobile | B9: พิการหูหนวก Deaf | C9: =SUM(D9:W9) -> 7 | D9: 0 | E9: 0 | F9: 1 | G9: 1 | H9: 0 | I9: 0 | J9: 0 | K9: 1 | L9: 1 | M9: 0 | N9: 0 | O9: 0 | P9: 2 | Q9: 0 | R9: 0 | S9: 0 | T9: 0 | U9: 1 | V9: 0 | W9: 0
B10: ตาพิการ Blind | C10: =SUM(D10:W10) -> 89 | D10: 3 | E10: 1 | F10: 5 | G10: 3 | H10: 14 | I10: 15 | J10: 6 | K10: 3 | L10: 4 | M10: 1 | N10: 2 | O10: 6 | P10: 3 | Q10: 2 | R10: 4 | S10: 7 | T10: 1 | U10: 5 | V10: 3 | W10: 1
B11: พิการแขน ขา Stumb | C11: =SUM(D11:W11) -> 85 | D11: 7 | E11: 6 | F11: 8 | G11: 1 | H11: 10 | I11: 11 | J11: 4 | K11: 1 | L11: 6 | M11: 1 | N11: 3 | O11: 2 | P11: 4 | Q11: 2 | R11: 5 | S11: 2 | T11: 2 | U11: 8 | V11: 2 | W11: 0
A12: ใบอนุญาตขับรถยนต์สามล้อส่วนบุคคลชั่วคราว Temporary Private Motor Tricycle | B12: พิการหูหนวก Deaf | C12: =SUM(D12:W12) -> 1 | D12: 0 | E12: 0 | F12: 0 | G12: 0 | H12: 0 | I12: 0 | J12: 0 | K12: 0 | L12: 0 | M12: 0 | N12: 0 | O12: 0 | P12: 0 | Q12: 1 | R12: 0 | S12: 0 | T12: 0 | U12: 0 | V12: 0 | W12: 0
B13: ตาพิการ Blind | C13: =SUM(D13:W13) -> 0 | D13: 0 | E13: 0 | F13: 0 | G13: 0 | H13: 0 | I13: 0 | J13: 0 | K13: 0 | L13: 0 | M13: 0 | N13: 0 | O13: 0 | P13: 0 | Q13: 0 | R13: 0 | S13: 0 | T13: 0 | U13: 0 | V13: 0 | W13: 0
B14: พิการแขน ขา Stumb | C14: =SUM(D14:W14) -> 1 | D14: 0 | E14: 0 | F14: 0 | G14: 0 | H14: 0 | I14: 0 | J14: 0 | K14: 0 | L14: 0 | M14: 1 | N14: 0 | O14: 0 | P14: 0 | Q14: 0 | R14: 0 | S14: 0 | T14: 0 | U14: 0 | V14: 0 | W14: 0
A15: ใบอนุญาตขับรถยนต์สามล้อส่วนบุคคล Private Motor Tricycle | B15: พิการหูหนวก Deaf | C15: =SUM(D15:W15) -> 0 | D15: 0 | E15: 0 | F15: 0 | G15: 0 | H15: 0 | I15: 0 | J15: 0 | K15: 0 | L15: 0 | M15: 0 | N15: 0 | O15: 0 | P15: 0 | Q15: 0 | R15: 0 | S15: 0 | T15: 0 | U15: 0 | V15: 0 | W15: 0
B16: ตาพิการ Blind | C16: =SUM(D16:W16) -> 4 | D16: 0 | E16: 0 | F16: 0 | G16: 0 | H16: 0 | I16: 0 | J16: 1 | K16: 0 | L16: 0 | M16: 1 | N16: 0 | O16: 2 | P16: 0 | Q16: 0 | R16: 0 | S16: 0 | T16: 0 | U16: 0 | V16: 0 | W16: 0
B17: พิการแขน ขา Stumb | C17: =SUM(D17:W17) -> 3 | D17: 0 | E17: 0 | F17: 0 | G17: 0 | H17: 0 | I17: 0 | J17: 0 | K17: 0 | L17: 0 | M17: 2 | N17: 0 | O17: 0 | P17: 1 | Q17: 0 | R17: 0 | S17: 0 | T17: 0 | U17: 0 | V17: 0 | W17: 0
A18: ใบอนุญาตขับรถจักรยานยนต์ชั่วคราว Temporary Motorcycle | B18: พิการหูหนวก Deaf | C18: =SUM(D18:W18) -> 10 | D18: 0 | E18: 0 | F18: 2 | G18: 1 | H18: 1 | I18: 0 | J18: 0 | K18: 0 | L18: 1 | M18: 0 | N18: 0 | O18: 0 | P18: 3 | Q18: 0 | R18: 0 | S18: 2 | T18: 0 | U18: 0 | V18: 0 | W18: 0
B19: ตาพิการ Blind | C19: =SUM(D19:W19) -> 49 | D19: 2 | E19: 0 | F19: 3 | G19: 2 | H19: 12 | I19: 9 | J19: 2 | K19: 1 | L19: 0 | M19: 0 | N19: 1 | O19: 2 | P19: 2 | Q19: 1 | R19: 1 | S19: 4 | T19: 2 | U19: 0 | V19: 1 | W19: 4
B20: พิการแขน ขา Stumb | C20: =SUM(D20:W20) -> 26 | D20: 1 | E20: 1 | F20: 0 | G20: 2 | H20: 4 | I20: 3 | J20: 3 | K20: 0 | L20: 2 | M20: 0 | N20: 1 | O20: 2 | P20: 0 | Q20: 4 | R20: 1 | S20: 1 | T20: 0 | U20: 1 | V20: 0 | W20: 0
A21: ใบอนุญาตขับรถจักรยานยนต์ Motorcycle | B21: พิการหูหนวก Deaf | C21: =SUM(D21:W21) -> 7 | D21: 0 | E21: 0 | F21: 2 | G21: 1 | H21: 0 | I21: 0 | J21: 0 | K21: 0 | L21: 0 | M21: 0 | N21: 0 | O21: 0 | P21: 1 | Q21: 0 | R21: 1 | S21: 0 | T21: 0 | U21: 0 | V21: 2 | W21: 0
B22: ตาพิการ Blind | C22: =SUM(D22:W22) -> 31 | D22: 0 | E22: 2 | F22: 3 | G22: 1 | H22: 1 | I22: 6 | J22: 1 | K22: 1 | L22: 1 | M22: 0 | N22: 0 | O22: 1 | P22: 2 | Q22: 2 | R22: 0 | S22: 5 | T22: 2 | U22: 2 | V22: 1 | W22: 0
B23: พิการแขน ขา Stumb | C23: =SUM(D23:W23) -> 13 | D23: 1 | E23: 1 | F23: 1 | G23: 0 | H23: 0 | I23: 2 | J23: 1 | K23: 2 | L23: 0 | M23: 0 | N23: 0 | O23: 0 | P23: 3 | Q23: 1 | R23: 1 | S23: 0 | T23: 0 | U23: 0 | V23: 0 | W23: 0
B24: พิการหูหนวก Deaf | C24: =C6+C9+C12+C15+C18+C21 -> 41 | D24: =D6+D9+D12+D15+D18+D21 -> 1 | E24: =E6+E9+E12+E15+E18+E21 -> 1 | F24: =F6+F9+F12+F15+F18+F21 -> 9 | G24: =G6+G9+G12+G15+G18+G21 -> 4 | H24: =H6+H9+H12+H15+H18+H21 -> 3 | I24: =I6+I9+I12+I15+I18+I21 -> 2 | J24: =J6+J9+J12+J15+J18+J21 -> 0 | ... W24: =W6+W9+W12+W15+W18+W21 -> 0
A25: รวม Total | B25: ตาพิการ Blind | C25: =C7+C10+C13+C16+C19+C22 -> 322 | D25: =D7+D10+D13+D16+D19+D22 -> 13 | E25: =E7+E10+E13+E16+E19+E22 -> 5 | F25: =F7+F10+F13+F16+F19+F22 -> 19 | G25: =G7+G10+G13+G16+G19+G22 -> 9 | H25: =H7+H10+H13+H16+H19+H22 -> 46 | I25: =I7+I10+I13+I16+I19+I22 -> 66 | J25: =J7+J10+J13+J16+J19+J22 -> 20 | ... W25: =W7+W10+W13+W16+W19+W22 -> 7
B26: พิการแขน ขา Stumb | C26: =C8+C11+C14+C17+C20+C23 -> 256 | D26: =D8+D11+D14+D17+D20+D23 -> 10 | E26: =E8+E11+E14+E17+E20+E23 -> 12 | F26: =F8+F11+F14+F17+F20+F23 -> 17 | G26: =G8+G11+G14+G17+G20+G23 -> 7 | H26: =H8+H11+H14+H17+H20+H23 -> 35 | I26: =I8+I11+I14+I17+I20+I23 -> 45 | J26: =J8+J11+J14+J17+J20+J23 -> 14 | ... W26: =W8+W11+W14+W17+W20+W23 -> 0
A27: รวมทั้งสิ้น Grand Total | C27: =SUM(C24:C26) -> 619 | D27: =SUM(D24:D26) -> 24 | E27: =SUM(E24:E26) -> 18 | F27: =SUM(F24:F26) -> 45 | G27: =SUM(G24:G26) -> 20 | H27: =SUM(H24:H26) -> 84 | I27: =SUM(I24:I26) -> 113 | J27: =SUM(J24:J26) -> 34 | ... W27: =SUM(W24:W26) -> 7

Sheet North
H2: ='Regional 59'!I2 -> ปีงบประมาณ 2559 | N2: =H2 -> ปีงบประมาณ 2559 | T2: =H2 -> ปีงบประมาณ 2559
H3: (ฉบับ : Issue) | N3: (ฉบับ : Issue) | T3: (ฉบับ : Issue)
A4: ชนิดใบอนุญาต | C4: รวมภาคเหนือ | D4: เชียงราย | E4: แม่ฮองสอน | F4: เชียงใหม่ | G4: พะเยา | H4: น่าน | I4: ลำพูน | J4: ลำปาง | K4: แพร่ | L4: อุตรดิตถ์ | M4: สุโขทัย | N4: ตาก | O4: พิษณุโลก | P4: กำแพงเพชร | Q4: พิจิตร | R4: เพชรบูรณ์ | S4: นครสวรรค์ | T4: อุทัยธานี
A5: Type of Driving Licence | C5: Northern | D5: Chiang Rai | E5: Mae Hong Son | F5: Chiang Mai | G5: Phayao | H5: nan | I5: Lamphun | J5: Lampang | K5: Phrae | L5: Uttaradit | M5: Sukhothai | N5: Tak | O5: Phitsanulok | P5: Kamphaeng Phet | Q5: Phichit | R5: Phetchabun | S5: Nakhon Sawan | T5: Uthai Thani
A6: ใบอนุญาตขับรถยนต์ส่วนบุคคลชั่วคราว Temporary Private Automobile | B6: พิการหูหนวก Deaf | C6: =SUM(D6:T6) -> 55 | D6: 1 | E6: 0 | F6: 11 | G6: 10 | H6: 2 | I6: 0 | J6: 0 | K6: 3 | L6: 0 | M6: 0 | N6: 2 | O6: 0 | P6: 0 | Q6: 2 | R6: 0 | S6: 24 | T6: 0
B7: ตาพิการ Blind | C7: =SUM(D7:T7) -> 136 | D7: 6 | E7: 0 | F7: 35 | G7: 4 | H7: 1 | I7: 3 | J7: 10 | K7: 5 | L7: 8 | M7: 4 | N7: 12 | O7: 11 | P7: 6 | Q7: 2 | R7: 10 | S7: 11 | T7: 8
B8: พิการแขน ขา Stumb | C8: =SUM(D8:T8) -> 102 | D8: 7 | E8: 0 | F8: 18 | G8: 4 | H8: 2 | I8: 2 | J8: 5 | K8: 7 | L8: 5 | M8: 7 | N8: 4 | O8: 7 | P8: 3 | Q8: 4 | R8: 6 | S8: 12 | T8: 9
A9: ใบอนุญาตขับรถยนต์ส่วนบุคคล Private Automobile | B9: พิการหูหนวก Deaf | C9: =SUM(D9:T9) -> 16 | D9: 0 | E9: 0 | F9: 0 | G9: 0 | H9: 0 | I9: 0 | J9: 0 | K9: 1 | L9: 2 | M9: 3 | N9: 0 | O9: 2 | P9: 2 | Q9: 2 | R9: 2 | S9: 2 | T9: 0
B10: ตาพิการ Blind | C10: =SUM(D10:T10) -> 63 | D10: 9 | E10: 1 | F10: 6 | G10: 1 | H10: 2 | I10: 1 | J10: 2 | K10: 1 | L10: 2 | M10: 5 | N10: 1 | O10: 8 | P10: 7 | Q10: 1 | R10: 9 | S10: 5 | T10: 2
B11: พิการแขน ขา Stumb | C11: =SUM(D11:T11) -> 57 | D11: 3 | E11: 2 | F11: 6 | G11: 4 | H11: 2 | I11: 3 | J11: 1 | K11: 3 | L11: 1 | M11: 4 | N11: 2 | O11: 7 | P11: 4 | Q11: 2 | R11: 6 | S11: 2 | T11: 5
A12: ใบอนุญาตขับรถยนต์สามล้อส่วนบุคคลชั่วคราว Temporary Private Motor Tricycle | B12: พิการหูหนวก Deaf | C12: =SUM(D12:T12) -> 1 | D12: 0 | E12: 0 | F12: 0 | G12: 0 | H12: 0 | I12: 0 | J12: 0 | K12: 0 | L12: 0 | M12: 0 | N12: 0 | O12: 0 | P12: 1 | Q12: 0 | R12: 0 | S12: 0 | T12: 0
B13: ตาพิการ Blind | C13: =SUM(D13:T13) -> 1 | D13: 0 | E13: 0 | F13: 1 | G13: 0 | H13: 0 | I13: 0 | J13: 0 | K13: 0 | L13: 0 | M13: 0 | N13: 0 | O13: 0 | P13: 0 | Q13: 0 | R13: 0 | S13: 0 | T13: 0
B14: พิการแขน ขา Stumb | C14: =SUM(D14:T14) -> 0 | D14: 0 | E14: 0 | F14: 0 | G14: 0 | H14: 0 | I14: 0 | J14: 0 | K14: 0 | L14: 0 | M14: 0 | N14: 0 | O14: 0 | P14: 0 | Q14: 0 | R14: 0 | S14: 0 | T14: 0
A15: ใบอนุญาตขับรถยนต์สามล้อส่วนบุคคล Private Motor Tricycle | B15: พิการหูหนวก Deaf | C15: =SUM(D15:T15) -> 0 | D15: 0 | E15: 0 | F15: 0 | G15: 0 | H15: 0 | I15: 0 | J15: 0 | K15: 0 | L15: 0 | M15: 0 | N15: 0 | O15: 0 | P15: 0 | Q15: 0 | R15: 0 | S15: 0 | T15: 0
B16: ตาพิการ Blind | C16: =SUM(D16:T16) -> 0 | D16: 0 | E16: 0 | F16: 0 | G16: 0 | H16: 0 | I16: 0 | J16: 0 | K16: 0 | L16: 0 | M16: 0 | N16: 0 | O16: 0 | P16: 0 | Q16: 0 | R16: 0 | S16: 0 | T16: 0
B17: พิการแขน ขา Stumb | C17: =SUM(D17:T17) -> 0 | D17: 0 | E17: 0 | F17: 0 | G17: 0 | H17: 0 | I17: 0 | J17: 0 | K17: 0 | L17: 0 | M17: 0 | N17: 0 | O17: 0 | P17: 0 | Q17: 0 | R17: 0 | S17: 0 | T17: 0
A18: ใบอนุญาตขับรถจักรยานยนต์ชั่วคราว Temporary Motorcycle | B18: พิการหูหนวก Deaf | C18: =SUM(D18:T18) -> 120 | D18: 2 | E18: 0 | F18: 20 | G18: 20 | H18: 0 | I18: 1 | J18: 1 | K18: 16 | L18: 0 | M18: 0 | N18: 1 | O18: 4 | P18: 4 | Q18: 0 | R18: 0 | S18: 50 | T18: 1
B19: ตาพิการ Blind | C19: =SUM(D19:T19) -> 66 | D19: 7 | E19: 1 | F19: 26 | G19: 0 | H19: 2 | I19: 1 | J19: 6 | K19: 1 | L19: 1 | M19: 4 | N19: 2 | O19: 4 | P19: 2 | Q19: 0 | R19: 1 | S19: 4 | T19: 4
B20: พิการแขน ขา Stumb | C20: =SUM(D20:T20) -> 32 | D20: 5 | E20: 0 | F20: 10 | G20: 0 | H20: 0 | I20: 1 | J20: 1 | K20: 1 | L20: 2 | M20: 2 | N20: 3 | O20: 0 | P20: 0 | Q20: 0 | R20: 2 | S20: 5 | T20: 0
A21: ใบอนุญาตขับรถจักรยานยนต์ Motorcycle | B21: พิการหูหนวก Deaf | C21: =SUM(D21:T21) -> 47 | D21: 0 | E21: 0 | F21: 2 | G21: 0 | H21: 2 | I21: 1 | J21: 2 | K21: 1 | L21: 1 | M21: 13 | N21: 0 | O21: 4 | P21: 2 | Q21: 6 | R21: 11 | S21: 2 | T21: 0
B22: ตาพิการ Blind | C22: =SUM(D22:T22) -> 23 | D22: 0 | E22: 0 | F22: 9 | G22: 0 | H22: 0 | I22: 1 | J22: 2 | K22: 0 | L22: 0 | M22: 0 | N22: 0 | O22: 4 | P22: 2 | Q22: 0 | R22: 4 | S22: 0 | T22: 1
B23: พิการแขน ขา Stumb | C23: =SUM(D23:T23) -> 12 | D23: 1 | E23: 0 | F23: 6 | G23: 0 | H23: 0 | I23: 1 | J23: 1 | K23: 0 | L23: 0 | M23: 2 | N23: 0 | O23: 1 | P23: 0 | Q23: 0 | R23: 0 | S23: 0 | T23: 0
B24: พิการหูหนวก Deaf | C24: =C6+C9+C12+C15+C18+C21 -> 239 | D24: =D6+D9+D12+D15+D18+D21 -> 3 | E24: =E6+E9+E12+E15+E18+E21 -> 0 | F24: =F6+F9+F12+F15+F18+F21 -> 33 | G24: =G6+G9+G12+G15+G18+G21 -> 30 | H24: =H6+H9+H12+H15+H18+H21 -> 4 | I24: =I6+I9+I12+I15+I18+I21 -> 2 | J24: =J6+J9+J12+J15+J18+J21 -> 3 | ... T24: =T6+T9+T12+T15+T18+T21 -> 1
A25: รวม Total | B25: ตาพิการ Blind | C25: =C7+C10+C13+C16+C19+C22 -> 289 | D25: =D7+D10+D13+D16+D19+D22 -> 22 | E25: =E7+E10+E13+E16+E19+E22 -> 2 | F25: =F7+F10+F13+F16+F19+F22 -> 77 | G25: =G7+G10+G13+G16+G19+G22 -> 5 | H25: =H7+H10+H13+H16+H19+H22 -> 5 | I25: =I7+I10+I13+I16+I19+I22 -> 6 | J25: =J7+J10+J13+J16+J19+J22 -> 20 | ... T25: =T7+T10+T13+T16+T19+T22 -> 15
B26: พิการแขน ขา Stumb | C26: =C8+C11+C14+C17+C20+C23 -> 203 | D26: =D8+D11+D14+D17+D20+D23 -> 16 | E26: =E8+E11+E14+E17+E20+E23 -> 2 | F26: =F8+F11+F14+F17+F20+F23 -> 40 | G26: =G8+G11+G14+G17+G20+G23 -> 8 | H26: =H8+H11+H14+H17+H20+H23 -> 4 | I26: =I8+I11+I14+I17+I20+I23 -> 7 | J26: =J8+J11+J14+J17+J20+J23 -> 8 | ... T26: =T8+T11+T14+T17+T20+T23 -> 14
A27: รวมทั้งสิ้น Grand Total | C27: =SUM(C24:C26) -> 731 | D27: =SUM(D24:D26) -> 41 | E27: =SUM(E24:E26) -> 4 | F27: =SUM(F24:F26) -> 150 | G27: =SUM(G24:G26) -> 43 | H27: =SUM(H24:H26) -> 13 | I27: =SUM(I24:I26) -> 15 | J27: =SUM(J24:J26) -> 31 | ... T27: =SUM(T24:T26) -> 30

Sheet West
H2: ='Regional 59'!I2 -> ปีงบประมาณ 2559 | K2: =H2 -> ปีงบประมาณ 2559
H3: (ฉบับ : Issue) | K3: (ฉบับ : Issue)
A4: ชนิดใบอนุญาต | C4: รวมภาคตะวันตก | D4: สุพรรณบุรี | E4: กาญจนบุรี | F4: นครปฐม | G4: ราชบุรี | H4: สมุทรสาคร | I4: สมุทรสงคราม | J4: เพชรบุรี | K4: ประจวบคีรีขันธ์
A5: Type of Driving Licence | C5: Western | D5: Suphan Buri | E5: Khanchanaburi | F5: Nakhon Pathom | G5: Ratchaburi | H5: Samut Sakorn | I5: Samut Songkram | J5: Petchaburi | K5: Prachuap Kiri Khan
A6: ใบอนุญาตขับรถยนต์ส่วนบุคคลชั่วคราว Temporary Private Automobile | B6: พิการหูหนวก Deaf | C6: =SUM(D6:K6) -> 14 | D6: 2 | E6: 10 | F6: 0 | G6: 2 | H6: 0 | I6: 0 | J6: 0 | K6: 0
B7: ตาพิการ Blind | C7: =SUM(D7:K7) -> 56 | D7: 7 | E7: 14 | F7: 12 | G7: 5 | H7: 5 | I7: 2 | J7: 6 | K7: 5
B8: พิการแขน ขา Stumb | C8: =SUM(D8:K8) -> 49 | D8: 6 | E8: 13 | F8: 9 | G8: 8 | H8: 2 | I8: 1 | J8: 6 | K8: 4
A9: ใบอนุญาตขับรถยนต์ส่วนบุคคล Private Automobile | B9: พิการหูหนวก Deaf | C9: =SUM(D9:K9) -> 2 | D9: 0 | E9: 1 | F9: 0 | G9: 0 | H9: 0 | I9: 0 | J9: 0 | K9: 1
B10: ตาพิการ Blind | C10: =SUM(D10:K10) -> 25 | D10: 3 | E10: 3 | F10: 6 | G10: 4 | H10: 3 | I10: 0 | J10: 4 | K10: 2
B11: พิการแขน ขา Stumb | C11: =SUM(D11:K11) -> 29 | D11: 6 | E11: 7 | F11: 5 | G11: 1 | H11: 5 | I11: 1 | J11: 4 | K11: 0
A12: ใบอนุญาตขับรถยนต์สามล้อส่วนบุคคลชั่วคราว Temporary Private Motor Tricycle | B12: พิการหูหนวก Deaf | C12: =SUM(D12:K12) -> 0 | D12: 0 | E12: 0 | F12: 0 | G12: 0 | H12: 0 | I12: 0 | J12: 0 | K12: 0
B13: ตาพิการ Blind | C13: =SUM(D13:K13) -> 0 | D13: 0 | E13: 0 | F13: 0 | G13: 0 | H13: 0 | I13: 0 | J13: 0 | K13: 0
B14: พิการแขน ขา Stumb | C14: =SUM(D14:K14) -> 0 | D14: 0 | E14: 0 | F14: 0 | G14: 0 | H14: 0 | I14: 0 | J14: 0 | K14: 0
A15: ใบอนุญาตขับรถยนต์สามล้อส่วนบุคคล Private Motor Tricycle | B15: พิการหูหนวก Deaf | C15: =SUM(D15:K15) -> 0 | D15: 0 | E15: 0 | F15: 0 | G15: 0 | H15: 0 | I15: 0 | J15: 0 | K15: 0
B16: ตาพิการ Blind | C16: =SUM(D16:K16) -> 0 | D16: 0 | E16: 0 | F16: 0 | G16: 0 | H16: 0 | I16: 0 | J16: 0 | K16: 0
B17: พิการแขน ขา Stumb | C17: =SUM(D17:K17) -> 0 | D17: 0 | E17: 0 | F17: 0 | G17: 0 | H17: 0 | I17: 0 | J17: 0 | K17: 0
A18: ใบอนุญาตขับรถจักรยานยนต์ชั่วคราว Temporary Motorcycle | B18: พิการหูหนวก Deaf | C18: =SUM(D18:K18) -> 13 | D18: 1 | E18: 10 | F18: 1 | G18: 1 | H18: 0 | I18: 0 | J18: 0 | K18: 0
B19: ตาพิการ Blind | C19: =SUM(D19:K19) -> 20 | D19: 2 | E19: 5 | F19: 1 | G19: 3 | H19: 2 | I19: 0 | J19: 3 | K19: 4
B20: พิการแขน ขา Stumb | C20: =SUM(D20:K20) -> 10 | D20: 3 | E20: 2 | F20: 0 | G20: 1 | H20: 3 | I20: 0 | J20: 1 | K20: 0
A21: ใบอนุญาตขับรถจักรยานยนต์ Motorcycle | B21: พิการหูหนวก Deaf | C21: =SUM(D21:K21) -> 4 | D21: 0 | E21: 3 | F21: 0 | G21: 0 | H21: 0 | I21: 0 | J21: 0 | K21: 1
B22: ตาพิการ Blind | C22: =SUM(D22:K22) -> 8 | D22: 2 | E22: 1 | F22: 0 | G22: 3 | H22: 0 | I22: 0 | J22: 1 | K22: 1
B23: พิการแขน ขา Stumb | C23: =SUM(D23:K23) -> 8 | D23: 3 | E23: 1 | F23: 1 | G23: 1 | H23: 2 | I23: 0 | J23: 0 | K23: 0
B24: พิการหูหนวก Deaf | C24: =C6+C9+C12+C15+C18+C21 -> 33 | D24: =D6+D9+D12+D15+D18+D21 -> 3 | E24: =E6+E9+E12+E15+E18+E21 -> 24 | F24: =F6+F9+F12+F15+F18+F21 -> 1 | G24: =G6+G9+G12+G15+G18+G21 -> 3 | H24: =H6+H9+H12+H15+H18+H21 -> 0 | I24: =I6+I9+I12+I15+I18+I21 -> 0 | J24: =J6+J9+J12+J15+J18+J21 -> 0 | K24: =K6+K9+K12+K15+K18+K21 -> 2
A25: รวม Total | B25: ตาพิการ Blind | C25: =C7+C10+C13+C16+C19+C22 -> 109 | D25: =D7+D10+D13+D16+D19+D22 -> 14 | E25: =E7+E10+E13+E16+E19+E22 -> 23 | F25: =F7+F10+F13+F16+F19+F22 -> 19 | G25: =G7+G10+G13+G16+G19+G22 -> 15 | H25: =H7+H10+H13+H16+H19+H22 -> 10 | I25: =I7+I10+I13+I16+I19+I22 -> 2 | J25: =J7+J10+J13+J16+J19+J22 -> 14 | K25: =K7+K10+K13+K16+K19+K22 -> 12
B26: พิการแขน ขา Stumb | C26: =C8+C11+C14+C17+C20+C23 -> 96 | D26: =D8+D11+D14+D17+D20+D23 -> 18 | E26: =E8+E11+E14+E17+E20+E23 -> 23 | F26: =F8+F11+F14+F17+F20+F23 -> 15 | G26: =G8+G11+G14+G17+G20+G23 -> 11 | H26: =H8+H11+H14+H17+H20+H23 -> 12 | I26: =I8+I11+I14+I17+I20+I23 -> 2 | J26: =J8+J11+J14+J17+J20+J23 -> 11 | K26: =K8+K11+K14+K17+K20+K23 -> 4
A27: รวมทั้งสิ้น Grand Total | C27: =SUM(C24:C26) -> 238 | D27: =SUM(D24:D26) -> 35 | E27: =SUM(E24:E26) -> 70 | F27: =SUM(F24:F26) -> 35 | G27: =SUM(G24:G26) -> 29 | H27: =SUM(H24:H26) -> 22 | I27: =SUM(I24:I26) -> 4 | J27: =SUM(J24:J26) -> 25 | K27: =SUM(K24:K26) -> 18

Sheet South
G2: ='Regional 59'!I2 -> ปีงบประมาณ 2559 | L2: =G2 -> ปีงบประมาณ 2559 | Q2: =G2 -> ปีงบประมาณ 2559
G3: (ฉบับ : Issue) | L3: (ฉบับ : Issue) | Q3: (ฉบับ : Issue)
A4: ชนิดใบอนุญาต | C4: รวมภาคใต้ | D4: ชุมพร | E4: ระนอง | F4: สุราษฎร์ธานี | G4: พังงา | H4: นครศรีธรรมราช | I4: กระบี่ | J4: ภูเก็ต | K4: พัทลุง | L4: ตรัง | M4: สงขลา | N4: สตูล | O4: ปัตตานี | P4: ยะลา | Q4: นราธิวาส
A5: Type of Driving Licence | C5: Southern | D5: Chumphon | E5: Ranong | F5: Surat Thani | G5: Pang Nga | H5: Nakhon Si Thammarat | I5: Krabi | J5: Phuket | K5: Phatthalung | L5: Trang | M5: Songkhla | N5: Satun | O5: Pattani | P5: Yala | Q5: Narathiwat
A6: ใบอนุญาตขับรถยนต์ส่วนบุคคลชั่วคราว Temporary Private Automobile | B6: พิการหูหนวก Deaf | C6: =SUM(D6:Q6) -> 15 | D6: 0 | E6: 0 | F6: 1 | G6: 0 | H6: 4 | I6: 1 | J6: 1 | K6: 0 | L6: 1 | M6: 1 | N6: 3 | O6: 0 | P6: 1 | Q6: 2
B7: ตาพิการ Blind | C7: =SUM(D7:Q7) -> 70 | D7: 7 | E7: 0 | F7: 14 | G7: 2 | H7: 12 | I7: 2 | J7: 6 | K7: 9 | L7: 4 | M7: 3 | N7: 2 | O7: 0 | P7: 6 | Q7: 3
B8: พิการแขน ขา Stumb | C8: =SUM(D8:Q8) -> 46 | D8: 3 | E8: 2 | F8: 11 | G8: 1 | H8: 4 | I8: 3 | J8: 4 | K8: 11 | L8: 1 | M8: 4 | N8: 0 | O8: 0 | P8: 0 | Q8: 2
A9: ใบอนุญาตขับรถยนต์ส่วนบุคคล Private Automobile | B9: พิการหูหนวก Deaf | C9: =SUM(D9:Q9) -> 4 | D9: 0 | E9: 0 | F9: 0 | G9: 0 | H9: 0 | I9: 2 | J9: 0 | K9: 0 | L9: 2 | M9: 0 | N9: 0 | O9: 0 | P9: 0 | Q9: 0
B10: ตาพิการ Blind | C10: =SUM(D10:Q10) -> 40 | D10: 3 | E10: 2 | F10: 7 | G10: 0 | H10: 2 | I10: 2 | J10: 2 | K10: 6 | L10: 6 | M10: 7 | N10: 0 | O10: 0 | P10: 2 | Q10: 1
B11: พิการแขน ขา Stumb | C11: =SUM(D11:Q11) -> 33 | D11: 1 | E11: 1 | F11: 4 | G11: 1 | H11: 8 | I11: 0 | J11: 4 | K11: 3 | L11: 5 | M11: 2 | N11: 0 | O11: 2 | P11: 0 | Q11: 2
A12: ใบอนุญาตขับรถยนต์สามล้อส่วนบุคคลชั่วคราว Temporary Private Motor Tricycle | B12: พิการหูหนวก Deaf | C12: =SUM(D12:Q12) -> 0 | D12: 0 | E12: 0 | F12: 0 | G12: 0 | H12: 0 | I12: 0 | J12: 0 | K12: 0 | L12: 0 | M12: 0 | N12: 0 | O12: 0 | P12: 0 | Q12: 0
B13: ตาพิการ Blind | C13: =SUM(D13:Q13) -> 0 | D13: 0 | E13: 0 | F13: 0 | G13: 0 | H13: 0 | I13: 0 | J13: 0 | K13: 0 | L13: 0 | M13: 0 | N13: 0 | O13: 0 | P13: 0 | Q13: 0
B14: พิการแขน ขา Stumb | C14: =SUM(D14:Q14) -> 0 | D14: 0 | E14: 0 | F14: 0 | G14: 0 | H14: 0 | I14: 0 | J14: 0 | K14: 0 | L14: 0 | M14: 0 | N14: 0 | O14: 0 | P14: 0 | Q14: 0
A15: ใบอนุญาตขับรถยนต์สามล้อส่วนบุคคล Private Motor Tricycle | B15: พิการหูหนวก Deaf | C15: =SUM(D15:Q15) -> 0 | D15: 0 | E15: 0 | F15: 0 | G15: 0 | H15: 0 | I15: 0 | J15: 0 | K15: 0 | L15: 0 | M15: 0 | N15: 0 | O15: 0 | P15: 0 | Q15: 0
B16: ตาพิการ Blind | C16: =SUM(D16:Q16) -> 1 | D16: 0 | E16: 0 | F16: 0 | G16: 0 | H16: 0 | I16: 0 | J16: 0 | K16: 0 | L16: 1 | M16: 0 | N16: 0 | O16: 0 | P16: 0 | Q16: 0
B17: พิการแขน ขา Stumb | C17: =SUM(D17:Q17) -> 0 | D17: 0 | E17: 0 | F17: 0 | G17: 0 | H17: 0 | I17: 0 | J17: 0 | K17: 0 | L17: 0 | M17: 0 | N17: 0 | O17: 0 | P17: 0 | Q17: 0
A18: ใบอนุญาตขับรถจักรยานยนต์ชั่วคราว Temporary Motorcycle | B18: พิการหูหนวก Deaf | C18: =SUM(D18:Q18) -> 14 | D18: 1 | E18: 0 | F18: 0 | G18: 2 | H18: 3 | I18: 0 | J18: 0 | K18: 0 | L18: 0 | M18: 2 | N18: 6 | O18: 0 | P18: 0 | Q18: 0
B19: ตาพิการ Blind | C19: =SUM(D19:Q19) -> 25 | D19: 3 | E19: 0 | F19: 1 | G19: 0 | H19: 4 | I19: 2 | J19: 2 | K19: 6 | L19: 2 | M19: 2 | N19: 1 | O19: 1 | P19: 0 | Q19: 1
B20: พิการแขน ขา Stumb | C20: =SUM(D20:Q20) -> 12 | D20: 1 | E20: 1 | F20: 2 | G20: 0 | H20: 0 | I20: 1 | J20: 2 | K20: 0 | L20: 2 | M20: 1 | N20: 1 | O20: 0 | P20: 0 | Q20: 1
A21: ใบอนุญาตขับรถจักรยานยนต์ Motorcycle | B21: พิการหูหนวก Deaf | C21: =SUM(D21:Q21) -> 3 | D21: 0 | E21: 0 | F21: 1 | G21: 0 | H21: 0 | I21: 0 | J21: 0 | K21: 0 | L21: 0 | M21: 1 | N21: 1 | O21: 0 | P21: 0 | Q21: 0
B22: ตาพิการ Blind | C22: =SUM(D22:Q22) -> 9 | D22: 1 | E22: 0 | F22: 0 | G22: 0 | H22: 0 | I22: 1 | J22: 4 | K22: 1 | L22: 1 | M22: 1 | N22: 0 | O22: 0 | P22: 0 | Q22: 0
B23: พิการแขน ขา Stumb | C23: =SUM(D23:Q23) -> 4 | D23: 0 | E23: 0 | F23: 0 | G23: 0 | H23: 1 | I23: 0 | J23: 1 | K23: 1 | L23: 1 | M23: 0 | N23: 0 | O23: 0 | P23: 0 | Q23: 0
B24: พิการหูหนวก Deaf | C24: =C6+C9+C12+C15+C18+C21 -> 36 | D24: =D6+D9+D12+D15+D18+D21 -> 1 | E24: =E6+E9+E12+E15+E18+E21 -> 0 | F24: =F6+F9+F12+F15+F18+F21 -> 2 | G24: =G6+G9+G12+G15+G18+G21 -> 2 | H24: =H6+H9+H12+H15+H18+H21 -> 7 | I24: =I6+I9+I12+I15+I18+I21 -> 3 | J24: =J6+J9+J12+J15+J18+J21 -> 1 | ... Q24: =Q6+Q9+Q12+Q15+Q18+Q21 -> 2
A25: รวม Total | B25: ตาพิการ Blind | C25: =C7+C10+C13+C16+C19+C22 -> 145 | D25: =D7+D10+D13+D16+D19+D22 -> 14 | E25: =E7+E10+E13+E16+E19+E22 -> 2 | F25: =F7+F10+F13+F16+F19+F22 -> 22 | G25: =G7+G10+G13+G16+G19+G22 -> 2 | H25: =H7+H10+H13+H16+H19+H22 -> 18 | I25: =I7+I10+I13+I16+I19+I22 -> 7 | J25: =J7+J10+J13+J16+J19+J22 -> 14 | ... Q25: =Q7+Q10+Q13+Q16+Q19+Q22 -> 5
B26: พิการแขน ขา Stumb | C26: =C8+C11+C14+C17+C20+C23 -> 95 | D26: =D8+D11+D14+D17+D20+D23 -> 5 | E26: =E8+E11+E14+E17+E20+E23 -> 4 | F26: =F8+F11+F14+F17+F20+F23 -> 17 | G26: =G8+G11+G14+G17+G20+G23 -> 2 | H26: =H8+H11+H14+H17+H20+H23 -> 13 | I26: =I8+I11+I14+I17+I20+I23 -> 4 | J26: =J8+J11+J14+J17+J20+J23 -> 11 | ... Q26: =Q8+Q11+Q14+Q17+Q20+Q23 -> 5
A27: รวมทั้งสิ้น Grand Total | C27: =SUM(C24:C26) -> 276 | D27: =SUM(D24:D26) -> 20 | E27: =SUM(E24:E26) -> 6 | F27: =SUM(F24:F26) -> 41 | G27: =SUM(G24:G26) -> 6 | H27: =SUM(H24:H26) -> 38 | I27: =SUM(I24:I26) -> 14 | J27: =SUM(J24:J26) -> 26 | ... Q27: =SUM(Q24:Q26) -> 12
