Workbook
Name ก6: '[1]แบบ4 แบบ10'!$J$13
Name ก6.1: '[1]แบบ4 แบบ10'!$J$13
Name กด: '[1]แบบ4 แบบ10'!$J$13
Name กราฟ6: '[2]18แบบ4 แบบ10'!$J$13
Name มาตรฐาน: '[3]แบบ4 แบบ10'!$J$13
Name ห: '[1]แบบ4 แบบ10'!$J$13

Sheet เปรียบเทียบ
A1: เปรียบเทียบจำนวนใบอนุญาตขับรถและใบอนุญาตผู้ประจำรถ จำแนกตามประเภทใบอนุญาต ณ วันที่ 30 กันยายน 2550-2560 (ทั่วประเทศ)
A3: ชนิดใบอนุญาต | B3: ปี 2551 | D3: ปี 2552 | F3: ปี 2553 | H3: ปี 2554 | J3: ปี 2555 | L3: ปี 2556 | N3: ปี 2557 | P3: ปี 2558 | R3: ปี 2559 | T3: ปี 2560 | V3: ปี 2561 | AB3: ออกใหม่
B4: ออกใหม่ | C4: ต่อออายุ | D4: ออกใหม่ | E4: ต่อออายุ | F4: ออกใหม่ | G4: ต่อออายุ | H4: ออกใหม่ | I4: ต่อออายุ | J4: ออกใหม่ | K4: ต่อออายุ | L4: ออกใหม่ | M4: ต่อออายุ | N4: ออกใหม่ | O4: ต่ออายุ | P4: ออกใหม่ | Q4: ต่ออายุ | R4: ออกใหม่ | S4: ต่ออายุ | T4: ออกใหม่ | U4: ต่ออายุ | V4: ออกใหม่ | W4: ต่ออายุ | AB4: 2551 | AC4: 2552 | AD4: 2553 | AE4: 2554 | AF4: 2555 | AG4: 2556 | AH4: 2557 | AI4: 2558 | AJ4: 2559 | AK4: 2560 | AL4: 2561
A5: ผู้ขับรถส่วนบุคคล | B5: =SUM(B6:B9) -> 38515 | C5: =SUM(C6:C9) -> 69858 | D5: =SUM(D6:D9) -> 38770 | E5: =SUM(E6:E9) -> 69899 | F5: =SUM(F6:F9) -> 43159 | G5: =SUM(G6:G9) -> 101110 | H5: =SUM(H6:H9) -> 44072 | I5: =SUM(I6:I9) -> 81463 | ... W5: =SUM(W6:W9) -> 155130 | AA5: ผู้ขับรถ | AB5: =B5+B10 -> 116258 | AC5: =D5+D10 -> 113298 | AD5: =F5+F10 -> 111056 | AE5: =H5+H10 -> 123754 | AF5: =J5+J10 -> 127922 | AG5: =L5+L10 -> 138552 | AH5: =N5+N10 -> 170053 | AI5: =P5+P10 -> 188001 | AJ5: =R5+R10 -> 187985 | AK5: =T5+T10 -> 142973 | AL5: =V5+V10 -> 144987
A6: - ชนิดที่ 1 | B6: 409 | C6: 229 | D6: 509 | E6: 261 | F6: 443 | G6: 360 | H6: 416 | I6: 281 | J6: 428 | K6: 263 | L6: 460 | M6: 379 | N6: 483 | O6: 294 | P6: 383 | Q6: 311 | R6: 405 | S6: 408 | T6: 235 | U6: 386 | V6: =ปีงบประมาณ2561!I10 -> 240 | W6: =ปีงบประมาณ2561!J10 -> 370 | AA6: นายตรวจ | AB6: =B15 -> 204 | AC6: =D15 -> 261 | AD6: =F15 -> 192 | AE6: =H15 -> 131 | AF6: =J15 -> 126 | AG6: =L15 -> 116 | AH6: =N15 -> 77 | AI6: =P15 -> 65 | AJ6: =R15 -> 65 | AK6: =T15 -> 53 | AL6: =V15 -> 44
A7: - ชนิดที่ 2 | B7: 32943 | C7: 64664 | D7: 33172 | E7: 63492 | F7: 36554 | G7: 90222 | H7: 37079 | I7: 74323 | J7: 21890 | K7: 69885 | L7: 24616 | M7: 94071 | N7: 95215 | O7: 87607 | P7: 86477 | Q7: 77578 | R7: 87395 | S7: 98034 | T7: 49405 | U7: 139611 | V7: =ปีงบประมาณ2561!I11 -> 48459 | W7: =ปีงบประมาณ2561!J11 -> 131374 | AA7: ผู้เก็บค่าโดยสาร | AB7: =B16 -> 1974 | AC7: =D16 -> 2213 | AD7: =F16 -> 1529 | AE7: =H16 -> 1394 | AF7: =J16 -> 960 | AG7: =L16 -> 882 | AH7: =N16 -> 875 | AI7: =P16 -> 1121 | AJ7: =R16 -> 1080 | AK7: =T16 -> 1339 | AL7: =V16 -> 1515
A8: - ชนิดที่ 3 | B8: 4914 | C8: 4841 | D8: 4888 | E8: 5937 | F8: 5814 | G8: 10273 | H8: 6110 | I8: 6641 | J8: 4200 | K8: 7241 | L8: 5268 | M8: 11218 | N8: 24872 | O8: 9372 | P8: 22010 | Q8: 9163 | R8: 22232 | S8: 12894 | T8: 13168 | U8: 22025 | V8: =ปีงบประมาณ2561!I12 -> 13770 | W8: =ปีงบประมาณ2561!J12 -> 21918 | AA8: ผู้บริการ | AB8: =B17 -> 1490 | AC8: =D17 -> 797 | AD8: =F17 -> 772 | AE8: =H17 -> 682 | AF8: =J17 -> 604 | AG8: =L17 -> 776 | AH8: =N17 -> 573 | AI8: =P17 -> 799 | AJ8: =R17 -> 650 | AK8: =T17 -> 1235 | AL8: =V17 -> 879
A9: - ชนิดที่ 4 | B9: 249 | C9: 124 | D9: 201 | E9: 209 | F9: 348 | G9: 255 | H9: 467 | I9: 218 | J9: 136 | K9: 242 | L9: 211 | M9: 384 | N9: 2722 | O9: 390 | P9: 2178 | Q9: 288 | R9: 2040 | S9: 476 | T9: 1180 | U9: 1645 | V9: =ปีงบประมาณ2561!I13 -> 1123 | W9: =ปีงบประมาณ2561!J13 -> 1468 | AA9: รวม | AB9: =SUM(AB5:AB8) -> 119926 | AC9: =SUM(AC5:AC8) -> 116569 | AD9: =SUM(AD5:AD8) -> 113549 | AE9: =SUM(AE5:AE8) -> 125961 | AF9: =SUM(AF5:AF8) -> 129612 | AG9: =SUM(AG5:AG8) -> 140326 | AH9: =SUM(AH5:AH8) -> 171578 | AI9: =SUM(AI5:AI8) -> 189986 | ... AL9: =SUM(AL5:AL8) -> 147425
A10: ผู้ขับรถทุกประเภท | B10: =SUM(B11:B14) -> 77743 | C10: =SUM(C11:C14) -> 249657 | D10: =SUM(D11:D14) -> 74528 | E10: =SUM(E11:E14) -> 284582 | F10: =SUM(F11:F14) -> 67897 | G10: =SUM(G11:G14) -> 446604 | H10: =SUM(H11:H14) -> 79682 | I10: =SUM(I11:I14) -> 292884 | ... W10: =SUM(W11:W14) -> 332783
A11: - ชนิดที่ 1 | B11: 588 | C11: 1424 | D11: 698 | E11: 1562 | F11: 626 | G11: 2262 | H11: 829 | I11: 1569 | J11: 870 | K11: 1870 | L11: 1038 | M11: 2446 | N11: 981 | O11: 1304 | P11: 3090 | Q11: 2290 | R11: 1976 | S11: 2739 | T11: 2014 | U11: 2146 | V11: =ปีงบประมาณ2561!I15 -> 1726 | W11: =ปีงบประมาณ2561!J15 -> 4073 | AB11: ต่ออายุ
A12: - ชนิดที่ 2 | B12: 51009 | C12: 192423 | D12: 49909 | E12: 215155 | F12: 44545 | G12: 324546 | H12: 53621 | I12: 218195 | J12: 70793 | K12: 233774 | L12: 73136 | M12: 328306 | N12: 27503 | O12: 132930 | P12: 46959 | Q12: 237984 | R12: 47230 | S12: 300409 | T12: 49553 | U12: 163690 | V12: =ปีงบประมาณ2561!I16 -> 50199 | W12: =ปีงบประมาณ2561!J16 -> 227748 | AB12: 2551 | AC12: 2552 | AD12: 2553 | AE12: 2554 | AF12: 2555 | AG12: 2556 | AH12: 2557 | AI12: 2558 | AJ12: 2559 | AK12: 2560 | AL12: 2561
A13: - ชนิดที่ 3 | B13: 16635 | C13: 44003 | D13: 14671 | E13: 55432 | F13: 14216 | G13: 94367 | H13: 16686 | I13: 53070 | J13: 21737 | K13: 60337 | L13: 25124 | M13: 94216 | N13: 11576 | O13: 34599 | P13: 17732 | Q13: 66383 | R13: 17818 | S13: 87174 | T13: 18966 | U13: 45171 | V13: =ปีงบประมาณ2561!I17 -> 20744 | W13: =ปีงบประมาณ2561!J17 -> 66548 | AA13: ผู้ขับรถ | AB13: =C5+C10 -> 319515 | AC13: =E5+E10 -> 354481 | AD13: =G5+G10 -> 547714 | AE13: =I5+I10 -> 374347 | AF13: =K5+K10 -> 394278 | AG13: =M5+M10 -> 563109 | AH13: =O5+O10 -> 285274 | AI13: =Q5+Q10 -> 423454 | AJ13: =S5+S10 -> 537974 | AK13: =U5+U10 -> 401393 | AL13: =W5+W10 -> 487913
A14: - ชนิดที่ 4 | B14: 9511 | C14: 11807 | D14: 9250 | E14: 12433 | F14: 8510 | G14: 25429 | H14: 8546 | I14: 20050 | J14: 7868 | K14: 20666 | L14: 8699 | M14: 32089 | N14: 6701 | O14: 18778 | P14: 9172 | Q14: 29457 | R14: 8889 | S14: 35840 | T14: 8452 | U14: 26719 | V14: =ปีงบประมาณ2561!I18 -> 8726 | W14: =ปีงบประมาณ2561!J18 -> 34414 | AA14: นายตรวจ | AB14: =C15 -> 307 | AC14: =E15 -> 289 | AD14: =G15 -> 304 | AE14: =I15 -> 266 | AF14: =K15 -> 220 | AG14: =M15 -> 247 | AH14: =O15 -> 237 | AI14: =Q15 -> 189 | AJ14: =S15 -> 214 | AK14: =U15 -> 181 | AL14: =W15 -> 159
A15: นายตรวจ | B15: 204 | C15: 307 | D15: 261 | E15: 289 | F15: 192 | G15: 304 | H15: 131 | I15: 266 | J15: 126 | K15: 220 | L15: 116 | M15: 247 | N15: 77 | O15: 237 | P15: 65 | Q15: 189 | R15: 65 | S15: 214 | T15: 53 | U15: 181 | V15: =ปีงบประมาณ2561!I19 -> 44 | W15: =ปีงบประมาณ2561!J19 -> 159 | AA15: ผู้เก็บค่าโดยสาร | AB15: =C16 -> 4524 | AC15: =E16 -> 3989 | AD15: =G16 -> 4632 | AE15: =I16 -> 3606 | AF15: =K16 -> 3171 | AG15: =M16 -> 3937 | AH15: =O16 -> 3261 | AI15: =Q16 -> 2902 | AJ15: =S16 -> 3205 | AK15: =U16 -> 2727 | AL15: =W16 -> 2591
A16: ผู้เก็บค่าโดยสาร | B16: 1974 | C16: 4524 | D16: 2213 | E16: 3989 | F16: 1529 | G16: 4632 | H16: 1394 | I16: 3606 | J16: 960 | K16: 3171 | L16: 882 | M16: 3937 | N16: 875 | O16: 3261 | P16: 1121 | Q16: 2902 | R16: 1080 | S16: 3205 | T16: 1339 | U16: 2727 | V16: =ปีงบประมาณ2561!I20 -> 1515 | W16: =ปีงบประมาณ2561!J20 -> 2591 | AA16: ผู้บริการ | AB16: =C17 -> 606 | AC16: =E17 -> 446 | AD16: =G17 -> 469 | AE16: =I17 -> 501 | AF16: =K17 -> 416 | AG16: =M17 -> 395 | AH16: =O17 -> 329 | AI16: =Q17 -> 386 | AJ16: =S17 -> 344 | AK16: =U17 -> 455 | AL16: =W17 -> 456
A17: ผู้บริการ | B17: 1490 | C17: 606 | D17: 797 | E17: 446 | F17: 772 | G17: 469 | H17: 682 | I17: 501 | J17: 604 | K17: 416 | L17: 776 | M17: 395 | N17: 573 | O17: 329 | P17: 799 | Q17: 386 | R17: 650 | S17: 344 | T17: 1235 | U17: 455 | V17: =ปีงบประมาณ2561!I21 -> 879 | W17: =ปีงบประมาณ2561!J21 -> 456 | AA17: รวม | AB17: =SUM(AB13:AB16) -> 324952 | AC17: =SUM(AC13:AC16) -> 359205 | AD17: =SUM(AD13:AD16) -> 553119 | AE17: =SUM(AE13:AE16) -> 378720 | AF17: =SUM(AF13:AF16) -> 398085 | AG17: =SUM(AG13:AG16) -> 567688 | AH17: =SUM(AH13:AH16) -> 289101 | AI17: =SUM(AI13:AI16) -> 426931 | ... AL17: =SUM(AL13:AL16) -> 491119
A18: รวม | B18: =B5+B10+B15+B16+B17 -> 119926 | C18: =C5+C10+C15+C16+C17 -> 324952 | D18: =D5+D10+D15+D16+D17 -> 116569 | E18: =E5+E10+E15+E16+E17 -> 359205 | F18: =F5+F10+F15+F16+F17 -> 113549 | G18: =G5+G10+G15+G16+G17 -> 553119 | H18: =H5+H10+H15+H16+H17 -> 125961 | I18: =I5+I10+I15+I16+I17 -> 378720 | ... W18: =W5+W10+W15+W16+W17 -> 491119
A26: ผู้ขับรถ | H26: นายตรวจ
A39: ผู้เก็บค่าโดยสาร | H39: ผู้บริการ

Sheet ปีงบประมาณ2561
A1: สถิติการดำเนินการเกี่ยวกับใบอนุญาตผู้ประจำรถ ตามกฎหมายว่าด้วยการขนส่งทางบก ประจำปีงบประมาณ 2561
A2: รวมทั่วประเทศ
A3: ชนิดใบอนุญาต | B3: จำนวนผู้ | C3: จำนวนผู้เข้ารับการอบรม (ราย) | N3: แก้ไข | P3: จำนวนใบ
B4: มาดำเนินการ | H4: จำนวน | I4: จำนวน | J4: จำนวน | K4: จำนวน | N4: รายการ | P4: อนุญาตที่
B5: เกี่ยวกับ | F5: หลักสูตร | G5: หลักสูตร | H5: ครั้งที่ | I5: ใบอนุญาต | J5: ใบอนุญาต | K5: ใบแทน | L5: ย้ายเข้า | M5: ย้ายออก | N5: ในใบ | O5: อื่นๆ | P5: ได้รับยก
B6: ใบอนุญาต | C6: หลักสูตร | D6: หลักสูตร | E6: หลักสูตร | F6: วัตถุ | G6: (นต./กส. | H6: ทดสอบ | I6: ออกใหม่ | J6: ต่ออายุ | K6: ใบอนุญาต | N6: อนุญาต | P6: เว้นค่า
C7: ออกใหม่ | D7: ต่ออายุ | E7: ลากจูง | F7: อันตราย | G7: /บก.) | P7: ธรรมเนียม
B8: (ราย) | H8: (ครั้ง) | I8: (ฉบับ) | J8: (ฉบับ) | K8: (ฉบับ) | L8: (ฉบับ) | M8: (ฉบับ) | N8: (ฉบับ) | O8: (ฉบับ) | P8: (ฉบับ)
A9: ผู้ขับรถส่วนบุคคล | B9: =B10+B11+B12+B13 -> 239542 | C9: =C10+C11+C12+C13 -> 35397 | D9: =D10+D11+D12+D13 -> 169615 | E9: =E10+E11+E12+E13 -> 16739 | F9: =F10+F11+F12+F13 -> 1274 | G9: =G10+G11+G12+G13 -> 0 | H9: =H10+H11+H12+H13 -> 291637 | I9: =I10+I11+I12+I13 -> 63592 | ... P9: =P10+P11+P12+P13 -> 0
A10: - ชนิดที่ 1 | B10: =B33+B56 -> 837 | C10: =C33+C56 -> 209 | D10: =D33+D56 -> 449 | E10: =E33+E56 -> 0 | F10: =F33+F56 -> 0 | G10: =G33+G56 -> 0 | H10: =H33+H56 -> 988 | I10: =I33+I56 -> 240 | ... P10: =P33+P56 -> 0
A11: - ชนิดที่ 2 | B11: =B34+B57 -> 195873 | C11: =C34+C57 -> 31329 | D11: =D34+D57 -> 149743 | E11: =E34+E57 -> 0 | F11: =F34+F57 -> 0 | G11: =G34+G57 -> 0 | H11: =H34+H57 -> 236742 | I11: =I34+I57 -> 48459 | ... P11: =P34+P57 -> 0
A12: - ชนิดที่ 3 | B12: =B35+B58 -> 39988 | C12: =C35+C58 -> 3657 | D12: =D35+D58 -> 18059 | E12: =E35+E58 -> 16680 | F12: =F35+F58 -> 0 | G12: =G35+G58 -> 0 | H12: =H35+H58 -> 50685 | I12: =I35+I58 -> 13770 | ... P12: =P35+P58 -> 0
A13: - ชนิดที่ 4 | B13: =B36+B59 -> 2844 | C13: =C36+C59 -> 202 | D13: =D36+D59 -> 1364 | E13: =E36+E59 -> 59 | F13: =F36+F59 -> 1274 | G13: =G36+G59 -> 0 | H13: =H36+H59 -> 3222 | I13: =I36+I59 -> 1123 | ... P13: =P36+P59 -> 0
A14: ผู้ขับรถทุกประเภท | B14: =B15+B16+B17+B18 -> 496234 | C14: =C15+C16+C17+C18 -> 37644 | D14: =D15+D16+D17+D18 -> 310291 | E14: =E15+E16+E17+E18 -> 25794 | F14: =F15+F16+F17+F18 -> 10791 | G14: =G15+G16+G17+G18 -> 0 | H14: =H15+H16+H17+H18 -> 481494 | I14: =I15+I16+I17+I18 -> 81395 | ... P14: =P15+P16+P17+P18 -> 1
A15: - ชนิดที่ 1 | B15: =B38+B61 -> 7468 | C15: =C38+C61 -> 1627 | D15: =D38+D61 -> 3968 | E15: =E38+E61 -> 0 | F15: =F38+F61 -> 0 | G15: =G38+G61 -> 0 | H15: =H38+H61 -> 8844 | I15: =I38+I61 -> 1726 | ... P15: =P38+P61 -> 0
A16: - ชนิดที่ 2 | B16: =B39+B62 -> 330610 | C16: =C39+C62 -> 30538 | D16: =D39+D62 -> 226055 | E16: =E39+E62 -> 0 | F16: =F39+F62 -> 0 | G16: =G39+G62 -> 0 | H16: =H39+H62 -> 317553 | I16: =I39+I62 -> 50199 | ... P16: =P39+P62 -> 1
A17: - ชนิดที่ 3 | B17: =B40+B63 -> 106825 | C17: =C40+C63 -> 4466 | D17: =D40+D63 -> 52291 | E17: =E40+E63 -> 24856 | F17: =F40+F63 -> 0 | G17: =G40+G63 -> 0 | H17: =H40+H63 -> 105285 | I17: =I40+I63 -> 20744 | ... P17: =P40+P63 -> 0
A18: - ชนิดที่ 4 | B18: =B41+B64 -> 51331 | C18: =C41+C64 -> 1013 | D18: =D41+D64 -> 27977 | E18: =E41+E64 -> 938 | F18: =F41+F64 -> 10791 | G18: =G41+G64 -> 0 | H18: =H41+H64 -> 49812 | I18: =I41+I64 -> 8726 | ... P18: =P41+P64 -> 0
A19: นายตรวจ | B19: =B42+B65 -> 226 | C19: =C42+C65 -> 0 | D19: =D42+D65 -> 0 | E19: =E42+E65 -> 0 | F19: =F42+F65 -> 0 | G19: =G42+G65 -> 38 | H19: =H42+H65 -> 46 | I19: =I42+I65 -> 44 | ... P19: =P42+P65 -> 0
A20: ผู้เก็บค่าโดยสาร | B20: =B43+B66 -> 4757 | C20: =C43+C66 -> 0 | D20: =D43+D66 -> 0 | E20: =E43+E66 -> 0 | F20: =F43+F66 -> 0 | G20: =G43+G66 -> 1529 | H20: =H43+H66 -> 1540 | I20: =I43+I66 -> 1515 | ... P20: =P43+P66 -> 0
A21: ผู้บริการ | B21: =B44+B67 -> 1638 | C21: =C44+C67 -> 0 | D21: =D44+D67 -> 0 | E21: =E44+E67 -> 0 | F21: =F44+F67 -> 0 | G21: =G44+G67 -> 936 | H21: =H44+H67 -> 945 | I21: =I44+I67 -> 879 | ... P21: =P44+P67 -> 0
A22: รวม | B22: =B9+B14+B19+B20+B21 -> 742397 | C22: =C9+C14+C19+C20+C21 -> 73041 | D22: =D9+D14+D19+D20+D21 -> 479906 | E22: =E9+E14+E19+E20+E21 -> 42533 | F22: =F9+F14+F19+F20+F21 -> 12065 | G22: =G9+G14+G19+G20+G21 -> 2503 | H22: =H9+H14+H19+H20+H21 -> 775662 | I22: =I9+I14+I19+I20+I21 -> 147425 | ... P22: =P9+P14+P19+P20+P21 -> 1
A24: สถิติการดำเนินการเกี่ยวกับใบอนุญาตผู้ประจำรถ ตามกฎหมายว่าด้วยการขนส่งทางบก ประจำปีงบประมาณ 2561
A25: รวมส่วนกลาง
A26: ชนิดใบอนุญาต | B26: จำนวนผู้ | C26: จำนวนผู้เข้ารับการอบรม (ราย) | N26: แก้ไข | P26: จำนวนใบ
B27: มาดำเนินการ | H27: จำนวน | I27: จำนวน | J27: จำนวน | K27: จำนวน | N27: รายการ | P27: อนุญาตที่
B28: เกี่ยวกับ | F28: หลักสูตร | G28: หลักสูตร | H28: ครั้งที่ | I28: ใบอนุญาต | J28: ใบอนุญาต | K28: ใบแทน | L28: ย้ายเข้า | M28: ย้ายออก | N28: ในใบ | O28: อื่นๆ | P28: ได้รับยก
B29: ใบอนุญาต | C29: หลักสูตร | D29: หลักสูตร | E29: หลักสูตร | F29: วัตถุ | G29: (นต./กส. | H29: ทดสอบ | I29: ออกใหม่ | J29: ต่ออายุ | K29: ใบอนุญาต | N29: อนุญาต | P29: เว้นค่า
C30: ออกใหม่ | D30: ต่ออายุ | E30: ลากจูง | F30: อันตราย | G30: /บก.) | P30: ธรรมเนียม
B31: (ราย) | H31: (ครั้ง) | I31: (ฉบับ) | J31: (ฉบับ) | K31: (ฉบับ) | L31: (ฉบับ) | M31: (ฉบับ) | N31: (ฉบับ) | O31: (ฉบับ) | P31: (ฉบับ)
A32: ผู้ขับรถส่วนบุคคล | B32: =B33+B34+B35+B36 -> 8451 | C32: =C33+C34+C35+C36 -> 1853 | D32: =D33+D34+D35+D36 -> 4441 | E32: =E33+E34+E35+E36 -> 128 | F32: =F33+F34+F35+F36 -> 23 | G32: =G33+G34+G35+G36 -> 0 | H32: =H33+H34+H35+H36 -> 7545 | I32: =I33+I34+I35+I36 -> 2176 | ... P32: =P33+P34+P35+P36 -> 0
A33: - ชนิดที่ 1 | B33: 55 | C33: 19 | D33: 40 | E33: 0 | F33: 0 | G33: 0 | H33: 57 | I33: 12 | J33: 38 | K33: 1 | L33: 0 | M33: 0 | N33: 4 | O33: 0 | P33: 0
A34: - ชนิดที่ 2 | B34: 7638 | C34: 1741 | D34: 4080 | E34: 0 | F34: 0 | G34: 0 | H34: 6890 | I34: 1947 | J34: 4881 | K34: 418 | L34: 0 | M34: 0 | N34: 361 | O34: 23 | P34: 0
A35: - ชนิดที่ 3 | B35: 667 | C35: 89 | D35: 285 | E35: 123 | F35: 0 | G35: 0 | H35: 516 | I35: 185 | J35: 414 | K35: 42 | L35: 0 | M35: 0 | N35: 24 | O35: 1 | P35: 0
A36: - ชนิดที่ 4 | B36: 91 | C36: 4 | D36: 36 | E36: 5 | F36: 23 | G36: 0 | H36: 82 | I36: 32 | J36: 50 | K36: 7 | L36: 0 | M36: 0 | N36: 6 | O36: 0 | P36: 0
A37: ผู้ขับรถทุกประเภท | B37: =B38+B39+B40+B41 -> 42209 | C37: =C38+C39+C40+C41 -> 6164 | D37: =D38+D39+D40+D41 -> 22528 | E37: =E38+E39+E40+E41 -> 861 | F37: =F38+F39+F40+F41 -> 596 | G37: =G38+G39+G40+G41 -> 0 | H37: =H38+H39+H40+H41 -> 35538 | I37: =I38+I39+I40+I41 -> 5472 | ... P37: =P38+P39+P40+P41 -> 0
A38: - ชนิดที่ 1 | B38: 348 | C38: 109 | D38: 131 | E38: 0 | F38: 0 | G38: 0 | H38: 329 | I38: 64 | J38: 190 | K38: 22 | L38: 0 | M38: 0 | N38: 15 | O38: 0 | P38: 0
A39: - ชนิดที่ 2 | B39: 34468 | C39: 5638 | D39: 19416 | E39: 0 | F39: 0 | G39: 0 | H39: 29403 | I39: 4597 | J39: 23416 | K39: 2183 | L39: 0 | M39: 0 | N39: 1902 | O39: 14 | P39: 0
A40: - ชนิดที่ 3 | B40: 4636 | C40: 298 | D40: 1900 | E40: 721 | F40: 0 | G40: 0 | H40: 3360 | I40: 444 | J40: 3205 | K40: 405 | L40: 0 | M40: 0 | N40: 189 | O40: 3 | P40: 0
A41: - ชนิดที่ 4 | B41: 2757 | C41: 119 | D41: 1081 | E41: 140 | F41: 596 | G41: 0 | H41: 2446 | I41: 367 | J41: 1884 | K41: 292 | L41: 0 | M41: 0 | N41: 160 | O41: 5 | P41: 0
...
