Workbook
Name ก6: '[1]แบบ4 แบบ10'!$J$13
Name ก6.1: '[1]แบบ4 แบบ10'!$J$13
Name กด: '[1]แบบ4 แบบ10'!$J$13
Name กราฟ6: '[2]18แบบ4 แบบ10'!$J$13
Name มาตรฐาน: '[3]แบบ4 แบบ10'!$J$13
Name ห: '[1]แบบ4 แบบ10'!$J$13

Sheet เปรียบเทียบ
A1: เปรียบเทียบจำนวนใบอนุญาตขับรถและใบอนุญาตผู้ประจำรถ จำแนกตามประเภทใบอนุญาต ณ วันที่ 30 กันยายน 2550-2560 (ทั่วประเทศ)
A3: ชนิดใบอนุญาต | B3: ปี 2550 | D3: ปี 2551 | F3: ปี 2552 | H3: ปี 2553 | J3: ปี 2554 | L3: ปี 2555 | N3: ปี 2556 | P3: ปี 2557 | R3: ปี 2558 | T3: ปี 2559 | V3: ปี 2560 | AB3: ออกใหม่
B4: ออกใหม่ | C4: ต่อออายุ | D4: ออกใหม่ | E4: ต่อออายุ | F4: ออกใหม่ | G4: ต่อออายุ | H4: ออกใหม่ | I4: ต่อออายุ | J4: ออกใหม่ | K4: ต่อออายุ | L4: ออกใหม่ | M4: ต่อออายุ | N4: ออกใหม่ | O4: ต่ออายุ | P4: ออกใหม่ | Q4: ต่ออายุ | R4: ออกใหม่ | S4: ต่ออายุ | T4: ออกใหม่ | U4: ต่ออายุ | V4: ออกใหม่ | W4: ต่ออายุ | AB4: 2550 | AC4: 2551 | AD4: 2552 | AE4: 2553 | AF4: 2554 | AG4: 2555 | AH4: 2556 | AI4: 2557 | AJ4: 2558 | AK4: 2559 | AL4: 2560
A5: ผู้ขับรถส่วนบุคคล | B5: =SUM(B6:B9) -> 42287 | C5: =SUM(C6:C9) -> 91919 | D5: =SUM(D6:D9) -> 38515 | E5: =SUM(E6:E9) -> 69858 | F5: =SUM(F6:F9) -> 38770 | G5: =SUM(G6:G9) -> 69899 | H5: =SUM(H6:H9) -> 43159 | I5: =SUM(I6:I9) -> 101110 | ... S5: =SUM(S6:S9) -> 87340 | T5: 112072 | U5: 111812 | V5: 63988 | W5: 163667 | AA5: ผู้ขับรถ | AB5: =B5+B10 -> 119880 | AC5: =D5+D10 -> 116258 | AD5: =F5+F10 -> 113298 | AE5: =H5+H10 -> 111056 | AF5: =J5+J10 -> 123754 | AG5: =L5+L10 -> 127922 | AH5: =N5+N10 -> 138552 | AI5: =P5+P10 -> 170053 | AJ5: =R5+R10 -> 188001 | AK5: =T5+T10 -> 187985 | AL5: =V5+V10 -> 142973
A6: - ชนิดที่ 1 | B6: 421 | C6: 400 | D6: 409 | E6: 229 | F6: 509 | G6: 261 | H6: 443 | I6: 360 | J6: 416 | K6: 281 | L6: 428 | M6: 263 | N6: 460 | O6: 379 | P6: 483 | Q6: 294 | R6: 383 | S6: 311 | T6: 405 | U6: 408 | V6: 235 | W6: 386 | AA6: นายตรวจ | AB6: =B15 -> 275 | AC6: =D15 -> 204 | AD6: =F15 -> 261 | AE6: =H15 -> 192 | AF6: =J15 -> 131 | AG6: =L15 -> 126 | AH6: =N15 -> 116 | AI6: =P15 -> 77 | AJ6: =R15 -> 65 | AK6: =T15 -> 65 | AL6: =V15 -> 53
A7: - ชนิดที่ 2 | B7: 36408 | C7: 82282 | D7: 32943 | E7: 64664 | F7: 33172 | G7: 63492 | H7: 36554 | I7: 90222 | J7: 37079 | K7: 74323 | L7: 21890 | M7: 69885 | N7: 24616 | O7: 94071 | P7: 95215 | Q7: 87607 | R7: 86477 | S7: 77578 | T7: 87395 | U7: 98034 | V7: 49405 | W7: 139611 | AA7: ผู้เก็บค่าโดยสาร | AB7: =B16 -> 3027 | AC7: =D16 -> 1974 | AD7: =F16 -> 2213 | AE7: =H16 -> 1529 | AF7: =J16 -> 1394 | AG7: =L16 -> 960 | AH7: =N16 -> 882 | AI7: =P16 -> 875 | AJ7: =R16 -> 1121 | AK7: =T16 -> 1080 | AL7: =V16 -> 1339
A8: - ชนิดที่ 3 | B8: 5205 | C8: 9096 | D8: 4914 | E8: 4841 | F8: 4888 | G8: 5937 | H8: 5814 | I8: 10273 | J8: 6110 | K8: 6641 | L8: 4200 | M8: 7241 | N8: 5268 | O8: 11218 | P8: 24872 | Q8: 9372 | R8: 22010 | S8: 9163 | T8: 22232 | U8: 12894 | V8: 13168 | W8: 22025 | AA8: ผู้บริการ | AB8: =B17 -> 755 | AC8: =D17 -> 1490 | AD8: =F17 -> 797 | AE8: =H17 -> 772 | AF8: =J17 -> 682 | AG8: =L17 -> 604 | AH8: =N17 -> 776 | AI8: =P17 -> 573 | AJ8: =R17 -> 799 | AK8: =T17 -> 650 | AL8: =V17 -> 1235
A9: - ชนิดที่ 4 | B9: 253 | C9: 141 | D9: 249 | E9: 124 | F9: 201 | G9: 209 | H9: 348 | I9: 255 | J9: 467 | K9: 218 | L9: 136 | M9: 242 | N9: 211 | O9: 384 | P9: 2722 | Q9: 390 | R9: 2178 | S9: 288 | T9: 2040 | U9: 476 | V9: 1180 | W9: 1645 | AA9: รวม | AB9: =SUM(AB5:AB8) -> 123937 | AC9: =SUM(AC5:AC8) -> 119926 | AD9: =SUM(AD5:AD8) -> 116569 | AE9: =SUM(AE5:AE8) -> 113549 | AF9: =SUM(AF5:AF8) -> 125961 | AG9: =SUM(AG5:AG8) -> 129612 | AH9: =SUM(AH5:AH8) -> 140326 | AI9: =SUM(AI5:AI8) -> 171578 | ... AL9: =SUM(AL5:AL8) -> 145600
A10: ผู้ขับรถทุกประเภท | B10: =SUM(B11:B14) -> 77593 | C10: =SUM(C11:C14) -> 450397 | D10: =SUM(D11:D14) -> 77743 | E10: =SUM(E11:E14) -> 249657 | F10: =SUM(F11:F14) -> 74528 | G10: =SUM(G11:G14) -> 284582 | H10: =SUM(H11:H14) -> 67897 | I10: =SUM(I11:I14) -> 446604 | ... S10: =SUM(S11:S14) -> 336114 | T10: 75913 | U10: 426162 | V10: 78985 | W10: 237726
A11: - ชนิดที่ 1 | B11: 558 | C11: 2266 | D11: 588 | E11: 1424 | F11: 698 | G11: 1562 | H11: 626 | I11: 2262 | J11: 829 | K11: 1569 | L11: 870 | M11: 1870 | N11: 1038 | O11: 2446 | P11: 981 | Q11: 1304 | R11: 3090 | S11: 2290 | T11: 1976 | U11: 2739 | V11: 2014 | W11: 2146 | AB11: ต่ออายุ
A12: - ชนิดที่ 2 | B12: 51938 | C12: 331243 | D12: 51009 | E12: 192423 | F12: 49909 | G12: 215155 | H12: 44545 | I12: 324546 | J12: 53621 | K12: 218195 | L12: 70793 | M12: 233774 | N12: 73136 | O12: 328306 | P12: 27503 | Q12: 132930 | R12: 46959 | S12: 237984 | T12: 47230 | U12: 300409 | V12: 49553 | W12: 163690 | AB12: 2550 | AC12: 2551 | AD12: 2552 | AE12: 2553 | AF12: 2554 | AG12: 2555 | AH12: 2556 | AI12: 2557 | AJ12: 2558 | AK12: 2559 | AL12: 2560
A13: - ชนิดที่ 3 | B13: 16496 | C13: 98059 | D13: 16635 | E13: 44003 | F13: 14671 | G13: 55432 | H13: 14216 | I13: 94367 | J13: 16686 | K13: 53070 | L13: 21737 | M13: 60337 | N13: 25124 | O13: 94216 | P13: 11576 | Q13: 34599 | R13: 17732 | S13: 66383 | T13: 17818 | U13: 87174 | V13: 18966 | W13: 45171 | AA13: ผู้ขับรถ | AB13: =C5+C10 -> 542316 | AC13: =E5+E10 -> 319515 | AD13: =G5+G10 -> 354481 | AE13: =I5+I10 -> 547714 | AF13: =K5+K10 -> 374347 | AG13: =M5+M10 -> 394278 | AH13: =O5+O10 -> 563109 | AI13: =Q5+Q10 -> 285274 | AJ13: =S5+S10 -> 423454 | AK13: =U5+U10 -> 537974 | AL13: =W5+W10 -> 401393
A14: - ชนิดที่ 4 | B14: 8601 | C14: 18829 | D14: 9511 | E14: 11807 | F14: 9250 | G14: 12433 | H14: 8510 | I14: 25429 | J14: 8546 | K14: 20050 | L14: 7868 | M14: 20666 | N14: 8699 | O14: 32089 | P14: 6701 | Q14: 18778 | R14: 9172 | S14: 29457 | T14: 8889 | U14: 35840 | V14: 8452 | W14: 26719 | AA14: นายตรวจ | AB14: =C15 -> 295 | AC14: =E15 -> 307 | AD14: =G15 -> 289 | AE14: =I15 -> 304 | AF14: =K15 -> 266 | AG14: =M15 -> 220 | AH14: =O15 -> 247 | AI14: =Q15 -> 237 | AJ14: =S15 -> 189 | AK14: =U15 -> 214 | AL14: =W15 -> 181
A15: นายตรวจ | B15: 275 | C15: 295 | D15: 204 | E15: 307 | F15: 261 | G15: 289 | H15: 192 | I15: 304 | J15: 131 | K15: 266 | L15: 126 | M15: 220 | N15: 116 | O15: 247 | P15: 77 | Q15: 237 | R15: 65 | S15: 189 | T15: 65 | U15: 214 | V15: 53 | W15: 181 | AA15: ผู้เก็บค่าโดยสาร | AB15: =C16 -> 5246 | AC15: =E16 -> 4524 | AD15: =G16 -> 3989 | AE15: =I16 -> 4632 | AF15: =K16 -> 3606 | AG15: =M16 -> 3171 | AH15: =O16 -> 3937 | AI15: =Q16 -> 3261 | AJ15: =S16 -> 2902 | AK15: =U16 -> 3205 | AL15: =W16 -> 2727
A16: ผู้เก็บค่าโดยสาร | B16: 3027 | C16: 5246 | D16: 1974 | E16: 4524 | F16: 2213 | G16: 3989 | H16: 1529 | I16: 4632 | J16: 1394 | K16: 3606 | L16: 960 | M16: 3171 | N16: 882 | O16: 3937 | P16: 875 | Q16: 3261 | R16: 1121 | S16: 2902 | T16: 1080 | U16: 3205 | V16: 1339 | W16: 2727 | AA16: ผู้บริการ | AB16: =C17 -> 542 | AC16: =E17 -> 606 | AD16: =G17 -> 446 | AE16: =I17 -> 469 | AF16: =K17 -> 501 | AG16: =M17 -> 416 | AH16: =O17 -> 395 | AI16: =Q17 -> 329 | AJ16: =S17 -> 386 | AK16: =U17 -> 344 | AL16: =W17 -> 455
A17: ผู้บริการ | B17: 755 | C17: 542 | D17: 1490 | E17: 606 | F17: 797 | G17: 446 | H17: 772 | I17: 469 | J17: 682 | K17: 501 | L17: 604 | M17: 416 | N17: 776 | O17: 395 | P17: 573 | Q17: 329 | R17: 799 | S17: 386 | T17: 650 | U17: 344 | V17: 1235 | W17: 455 | AA17: รวม | AB17: =SUM(AB13:AB16) -> 548399 | AC17: =SUM(AC13:AC16) -> 324952 | AD17: =SUM(AD13:AD16) -> 359205 | AE17: =SUM(AE13:AE16) -> 553119 | AF17: =SUM(AF13:AF16) -> 378720 | AG17: =SUM(AG13:AG16) -> 398085 | AH17: =SUM(AH13:AH16) -> 567688 | AI17: =SUM(AI13:AI16) -> 289101 | ... AL17: =SUM(AL13:AL16) -> 404756
A18: รวม | B18: =B5+B10+B15+B16+B17 -> 123937 | C18: =C5+C10+C15+C16+C17 -> 548399 | D18: =D5+D10+D15+D16+D17 -> 119926 | E18: =E5+E10+E15+E16+E17 -> 324952 | F18: =F5+F10+F15+F16+F17 -> 116569 | G18: =G5+G10+G15+G16+G17 -> 359205 | H18: =H5+H10+H15+H16+H17 -> 113549 | I18: =I5+I10+I15+I16+I17 -> 553119 | ... S18: =S5+S10+S15+S16+S17 -> 426931 | T18: 189780 | U18: 541737 | V18: 145600 | W18: 404756
A26: ผู้ขับรถ | H26: นายตรวจ
A39: ผู้เก็บค่าโดยสาร | H39: ผู้บริการ

Sheet Total
A1: สถิติการดำเนินการเกี่ยวกับใบอนุญาตผู้ประจำรถ ตามกฎหมายว่าด้วยการขนส่งทางบก ปีงบประมาณ 2560
A2: รวมทั่วประเทศ
A3: ชนิดใบอนุญาต | B3: จำนวนผู้ | C3: จำนวนผู้เข้ารับ | N3: แก้ไข | P3: จำนวนใบ
B4: มาดำเนินการ | C4: การอบรม | H4: จำนวน | I4: จำนวน | J4: จำนวน | K4: จำนวน | N4: รายการ | P4: อนุญาตที่
B5: เกี่ยวกับ | C5: หลักสูตร | D5: หลักสูตร | E5: หลักสูตร | F5: หลักสูตร | G5: หลักสูตร | H5: ครั้งที่ | I5: ใบอนุญาต | J5: ใบอนุญาต | K5: ใบแทน | L5: ย้ายเข้า | M5: ย้ายออก | N5: ในใบ | O5: อื่นๆ | P5: ได้รับยก
B6: ใบอนุญาต | C6: พิเศษ | D6: ลากจูง | E6: ระยะสั้น | F6: วัตถุ | G6: พกส. | H6: ทดสอบ | I6: ออกใหม่ | J6: ต่ออายุ | K6: ใบอนุญาต | N6: อนุญาต | P6: เว้นค่า
F7: อันตราย | P7: ธรรมเนียม
B8: (ราย) | C8: (คน) | D8: (คน) | E8: (คน) | F8: (คน) | G8: (คน) | H8: (ครั้ง) | I8: (ฉบับ) | J8: (ฉบับ) | K8: (ฉบับ) | L8: (ฉบับ) | M8: (ฉบับ) | N8: (ฉบับ) | O8: (ฉบับ) | P8: (ฉบับ)
A9: ผู้ขับรถส่วนบุคคล | B9: =SUM(B10:B13) -> 250660 | C9: =SUM(C10:C13) -> 59572 | D9: =SUM(D10:D13) -> 7515 | E9: =SUM(E10:E13) -> 139018 | F9: =SUM(F10:F13) -> 467 | G9: =SUM(G10:G13) -> 0 | H9: =SUM(H10:H13) -> 275230 | I9: =SUM(I10:I13) -> 63988 | ... P9: =SUM(P10:P13) -> 19
A10: - ชนิดที่ 1 | B10: ='Central (BKK)'!B10+Regional!B10 -> 922 | C10: ='Central (BKK)'!C10+Regional!C10 -> 183 | D10: ='Central (BKK)'!D10+Regional!D10 -> 0 | E10: ='Central (BKK)'!E10+Regional!E10 -> 425 | F10: ='Central (BKK)'!F10+Regional!F10 -> 0 | G10: ='Central (BKK)'!G10+Regional!G10 -> 0 | H10: ='Central (BKK)'!H10+Regional!H10 -> 901 | I10: ='Central (BKK)'!I10+Regional!I10 -> 235 | ... P10: ='Central (BKK)'!P10+Regional!P10 -> 0
A11: - ชนิดที่ 2 | B11: ='Central (BKK)'!B11+Regional!B11 -> 206711 | C11: ='Central (BKK)'!C11+Regional!C11 -> 51392 | D11: ='Central (BKK)'!D11+Regional!D11 -> 0 | E11: ='Central (BKK)'!E11+Regional!E11 -> 120213 | F11: ='Central (BKK)'!F11+Regional!F11 -> 0 | G11: ='Central (BKK)'!G11+Regional!G11 -> 0 | H11: ='Central (BKK)'!H11+Regional!H11 -> 226960 | I11: ='Central (BKK)'!I11+Regional!I11 -> 49405 | ... P11: ='Central (BKK)'!P11+Regional!P11 -> 17
A12: - ชนิดที่ 3 | B12: ='Central (BKK)'!B12+Regional!B12 -> 39912 | C12: ='Central (BKK)'!C12+Regional!C12 -> 7342 | D12: ='Central (BKK)'!D12+Regional!D12 -> 7421 | E12: ='Central (BKK)'!E12+Regional!E12 -> 17081 | F12: ='Central (BKK)'!F12+Regional!F12 -> 0 | G12: ='Central (BKK)'!G12+Regional!G12 -> 0 | H12: ='Central (BKK)'!H12+Regional!H12 -> 44472 | I12: ='Central (BKK)'!I12+Regional!I12 -> 13168 | ... P12: ='Central (BKK)'!P12+Regional!P12 -> 2
A13: - ชนิดที่ 4 | B13: ='Central (BKK)'!B13+Regional!B13 -> 3115 | C13: ='Central (BKK)'!C13+Regional!C13 -> 655 | D13: ='Central (BKK)'!D13+Regional!D13 -> 94 | E13: ='Central (BKK)'!E13+Regional!E13 -> 1299 | F13: ='Central (BKK)'!F13+Regional!F13 -> 467 | G13: ='Central (BKK)'!G13+Regional!G13 -> 0 | H13: ='Central (BKK)'!H13+Regional!H13 -> 2897 | I13: ='Central (BKK)'!I13+Regional!I13 -> 1180 | ... P13: ='Central (BKK)'!P13+Regional!P13 -> 0
A14: ผู้ขับรถทุกประเภท | B14: =SUM(B15:B18) -> 375644 | C14: =SUM(C15:C18) -> 67368 | D14: =SUM(D15:D18) -> 10732 | E14: =SUM(E15:E18) -> 164646 | F14: =SUM(F15:F18) -> 5647 | G14: =SUM(G15:G18) -> 0 | H14: =SUM(H15:H18) -> 326928 | I14: =SUM(I15:I18) -> 78985 | ... P14: =SUM(P15:P18) -> 25
A15: - ชนิดที่ 1 | B15: ='Central (BKK)'!B15+Regional!B15 -> 5991 | C15: ='Central (BKK)'!C15+Regional!C15 -> 1192 | D15: ='Central (BKK)'!D15+Regional!D15 -> 0 | E15: ='Central (BKK)'!E15+Regional!E15 -> 2402 | F15: ='Central (BKK)'!F15+Regional!F15 -> 0 | G15: ='Central (BKK)'!G15+Regional!G15 -> 0 | H15: ='Central (BKK)'!H15+Regional!H15 -> 7140 | I15: ='Central (BKK)'!I15+Regional!I15 -> 2014 | ... P15: ='Central (BKK)'!P15+Regional!P15 -> 1
A16: - ชนิดที่ 2 | B16: ='Central (BKK)'!B16+Regional!B16 -> 248008 | C16: ='Central (BKK)'!C16+Regional!C16 -> 49191 | D16: ='Central (BKK)'!D16+Regional!D16 -> 0 | E16: ='Central (BKK)'!E16+Regional!E16 -> 115268 | F16: ='Central (BKK)'!F16+Regional!F16 -> 0 | G16: ='Central (BKK)'!G16+Regional!G16 -> 0 | H16: ='Central (BKK)'!H16+Regional!H16 -> 219481 | I16: ='Central (BKK)'!I16+Regional!I16 -> 49553 | ... P16: ='Central (BKK)'!P16+Regional!P16 -> 13
A17: - ชนิดที่ 3 | B17: ='Central (BKK)'!B17+Regional!B17 -> 78573 | C17: ='Central (BKK)'!C17+Regional!C17 -> 11043 | D17: ='Central (BKK)'!D17+Regional!D17 -> 9569 | E17: ='Central (BKK)'!E17+Regional!E17 -> 29607 | F17: ='Central (BKK)'!F17+Regional!F17 -> 0 | G17: ='Central (BKK)'!G17+Regional!G17 -> 0 | H17: ='Central (BKK)'!H17+Regional!H17 -> 65458 | I17: ='Central (BKK)'!I17+Regional!I17 -> 18966 | ... P17: ='Central (BKK)'!P17+Regional!P17 -> 8
A18: - ชนิดที่ 4 | B18: ='Central (BKK)'!B18+Regional!B18 -> 43072 | C18: ='Central (BKK)'!C18+Regional!C18 -> 5942 | D18: ='Central (BKK)'!D18+Regional!D18 -> 1163 | E18: ='Central (BKK)'!E18+Regional!E18 -> 17369 | F18: ='Central (BKK)'!F18+Regional!F18 -> 5647 | G18: ='Central (BKK)'!G18+Regional!G18 -> 0 | H18: ='Central (BKK)'!H18+Regional!H18 -> 34849 | I18: ='Central (BKK)'!I18+Regional!I18 -> 8452 | ... P18: ='Central (BKK)'!P18+Regional!P18 -> 3
A19: นายตรวจ | B19: ='Central (BKK)'!B19+Regional!B19 -> 264 | C19: ='Central (BKK)'!C19+Regional!C19 -> 0 | D19: ='Central (BKK)'!D19+Regional!D19 -> 0 | E19: ='Central (BKK)'!E19+Regional!E19 -> 0 | F19: ='Central (BKK)'!F19+Regional!F19 -> 0 | G19: ='Central (BKK)'!G19+Regional!G19 -> 44 | H19: ='Central (BKK)'!H19+Regional!H19 -> 51 | I19: ='Central (BKK)'!I19+Regional!I19 -> 53 | ... P19: ='Central (BKK)'!P19+Regional!P19 -> 0
A20: ผู้เก็บค่าโดยสาร | B20: ='Central (BKK)'!B20+Regional!B20 -> 4607 | C20: ='Central (BKK)'!C20+Regional!C20 -> 0 | D20: ='Central (BKK)'!D20+Regional!D20 -> 0 | E20: ='Central (BKK)'!E20+Regional!E20 -> 0 | F20: ='Central (BKK)'!F20+Regional!F20 -> 0 | G20: ='Central (BKK)'!G20+Regional!G20 -> 1265 | H20: ='Central (BKK)'!H20+Regional!H20 -> 1317 | I20: ='Central (BKK)'!I20+Regional!I20 -> 1339 | ... P20: ='Central (BKK)'!P20+Regional!P20 -> 0
A21: ผู้บริการ | B21: ='Central (BKK)'!B21+Regional!B21 -> 2077 | C21: ='Central (BKK)'!C21+Regional!C21 -> 0 | D21: ='Central (BKK)'!D21+Regional!D21 -> 0 | E21: ='Central (BKK)'!E21+Regional!E21 -> 0 | F21: ='Central (BKK)'!F21+Regional!F21 -> 0 | G21: ='Central (BKK)'!G21+Regional!G21 -> 1165 | H21: ='Central (BKK)'!H21+Regional!H21 -> 1236 | I21: ='Central (BKK)'!I21+Regional!I21 -> 1235 | ... P21: ='Central (BKK)'!P21+Regional!P21 -> 0
A22: รวม | B22: =B9+B14+B19+B20+B21 -> 633252 | C22: =C9+C14+C19+C20+C21 -> 126940 | D22: =D9+D14+D19+D20+D21 -> 18247 | E22: =E9+E14+E19+E20+E21 -> 303664 | F22: =F9+F14+F19+F20+F21 -> 6114 | G22: =G9+G14+G19+G20+G21 -> 2474 | H22: =H9+H14+H19+H20+H21 -> 604762 | I22: =I9+I14+I19+I20+I21 -> 145600 | ... P22: =P9+P14+P19+P20+P21 -> 44

Sheet Central (BKK)
A1: สถิติการดำเนินการเกี่ยวกับใบอนุญาตผู้ประจำรถ ตามกฎหมายว่าด้วยการขนส่งทางบก ปีงบประมาณ 2560
A2: รวมส่วนกลาง
A3: ชนิดใบอนุญาต | B3: จำนวนผู้ | C3: จำนวนผู้เข้ารับ | N3: แก้ไข | P3: จำนวนใบ
B4: มาดำเนินการ | C4: การอบรม | H4: จำนวน | I4: จำนวน | J4: จำนวน | K4: จำนวน | N4: รายการ | P4: อนุญาตที่
B5: เกี่ยวกับ | C5: หลักสูตร | D5: หลักสูตร | E5: หลักสูตร | F5: หลักสูตร | G5: หลักสูตร | H5: ครั้งที่ | I5: ใบอนุญาต | J5: ใบอนุญาต | K5: ใบแทน | L5: ย้ายเข้า | M5: ย้ายออก | N5: ในใบ | O5: อื่นๆ | P5: ได้รับยก
B6: ใบอนุญาต | C6: พิเศษ | D6: ลากจูง | E6: ระยะสั้น | F6: วัตถุ | G6: พกส. | H6: ทดสอบ | I6: ออกใหม่ | J6: ต่ออายุ | K6: ใบอนุญาต | N6: อนุญาต | P6: เว้นค่า
F7: อันตราย | P7: ธรรมเนียม
B8: (ราย) | C8: (คน) | D8: (คน) | E8: (คน) | F8: (คน) | G8: (คน) | H8: (ครั้ง) | I8: (ฉบับ) | J8: (ฉบับ) | K8: (ฉบับ) | L8: (ฉบับ) | M8: (ฉบับ) | N8: (ฉบับ) | O8: (ฉบับ) | P8: (ฉบับ)
A9: ผู้ขับรถส่วนบุคคล | B9: =SUM(B10:B13) -> 8703 | C9: =SUM(C10:C13) -> 1691 | D9: =SUM(D10:D13) -> 40 | E9: =SUM(E10:E13) -> 4558 | F9: =SUM(F10:F13) -> 24 | G9: =SUM(G10:G13) -> 0 | H9: =SUM(H10:H13) -> 7776 | I9: =SUM(I10:I13) -> 2240 | ... P9: =SUM(P10:P13) -> 0
A10: - ชนิดที่ 1 | B10: 57 | C10: 16 | D10: 0 | E10: 33 | F10: 0 | G10: 0 | H10: 54 | I10: 11 | J10: 35 | K10: 6 | L10: 0 | M10: 0 | N10: 7 | O10: 0 | P10: 0
A11: - ชนิดที่ 2 | B11: 7938 | C11: 1594 | D11: 0 | E11: 4217 | F11: 0 | G11: 0 | H11: 7223 | I11: 2012 | J11: 5084 | K11: 428 | L11: 0 | M11: 0 | N11: 477 | O11: 33 | P11: 0
A12: - ชนิดที่ 3 | B12: 593 | C12: 50 | D12: 27 | E12: 265 | F12: 0 | G12: 0 | H12: 376 | I12: 161 | J12: 346 | K12: 45 | L12: 0 | M12: 0 | N12: 35 | O12: 9 | P12: 0
A13: - ชนิดที่ 4 | B13: 115 | C13: 31 | D13: 13 | E13: 43 | F13: 24 | G13: 0 | H13: 123 | I13: 56 | J13: 47 | K13: 5 | L13: 0 | M13: 0 | N13: 6 | O13: 0 | P13: 0
A14: ผู้ขับรถทุกประเภท | B14: =SUM(B15:B18) -> 34453 | C14: =SUM(C15:C18) -> 4852 | D14: =SUM(D15:D18) -> 396 | E14: =SUM(E15:E18) -> 17386 | F14: =SUM(F15:F18) -> 363 | G14: =SUM(G15:G18) -> 0 | H14: =SUM(H15:H18) -> 28145 | I14: =SUM(I15:I18) -> 5532 | ... P14: =SUM(P15:P18) -> 2
A15: - ชนิดที่ 1 | B15: 320 | C15: 87 | D15: 0 | E15: 87 | F15: 0 | G15: 0 | H15: 280 | I15: 64 | J15: 136 | K15: 17 | L15: 0 | M15: 0 | N15: 12 | O15: 0 | P15: 0
A16: - ชนิดที่ 2 | B16: 28047 | C16: 4397 | D16: 0 | E16: 14578 | F16: 0 | G16: 0 | H16: 23158 | I16: 4646 | J16: 18988 | K16: 1926 | L16: 0 | M16: 0 | N16: 2064 | O16: 35 | P16: 1
A17: - ชนิดที่ 3 | B17: 3642 | C17: 285 | D17: 257 | E17: 1664 | F17: 0 | G17: 0 | H17: 2582 | I17: 426 | J17: 2580 | K17: 369 | L17: 0 | M17: 0 | N17: 288 | O17: 14 | P17: 1
A18: - ชนิดที่ 4 | B18: 2444 | C18: 83 | D18: 139 | E18: 1057 | F18: 363 | G18: 0 | H18: 2125 | I18: 396 | J18: 1610 | K18: 226 | L18: 0 | M18: 0 | N18: 183 | O18: 9 | P18: 0
A19: นายตรวจ | B19: 134 | C19: 0 | D19: 0 | E19: 0 | F19: 0 | G19: 16 | H19: 17 | I19: 17 | J19: 103 | K19: 1 | L19: 0 | M19: 0 | N19: 15 | O19: 0 | P19: 0
A20: ผู้เก็บค่าโดยสาร | B20: 2710 | C20: 0 | D20: 0 | E20: 0 | F20: 0 | G20: 789 | H20: 834 | I20: 833 | J20: 1579 | K20: 83 | L20: 0 | M20: 0 | N20: 225 | O20: 0 | P20: 0
A21: ผู้บริการ | B21: 500 | C21: 0 | D21: 0 | E21: 0 | F21: 0 | G21: 331 | H21: 354 | I21: 333 | J21: 100 | K21: 18 | L21: 0 | M21: 0 | N21: 18 | O21: 0 | P21: 0
A22: รวม | B22: =B9+B14+B19+B20+B21 -> 46500 | C22: =C9+C14+C19+C20+C21 -> 6543 | D22: =D9+D14+D19+D20+D21 -> 436 | E22: =E9+E14+E19+E20+E21 -> 21944 | F22: =F9+F14+F19+F20+F21 -> 387 | G22: =G9+G14+G19+G20+G21 -> 1136 | H22: =H9+H14+H19+H20+H21 -> 37126 | I22: =I9+I14+I19+I20+I21 -> 8955 | ... P22: =P9+P14+P19+P20+P21 -> 2

Sheet Regional
A1: สถิติการดำเนินการเกี่ยวกับใบอนุญาตผู้ประจำรถ ตามกฎหมายว่าด้วยการขนส่งทางบก ปีงบประมาณ 2560
A2: รวมส่วนภูมิภาค
A3: ชนิดใบอนุญาต | B3: จำนวนผู้ | C3: จำนวนผู้เข้ารับ | N3: แก้ไข | P3: จำนวนใบ
B4: มาดำเนินการ | C4: การอบรม | H4: จำนวน | I4: จำนวน | J4: จำนวน | K4: จำนวน | N4: รายการ | P4: อนุญาตที่
B5: เกี่ยวกับ | C5: หลักสูตร | D5: หลักสูตร | E5: หลักสูตร | F5: หลักสูตร | G5: หลักสูตร | H5: ครั้งที่ | I5: ใบอนุญาต | J5: ใบอนุญาต | K5: ใบแทน | L5: ย้ายเข้า | M5: ย้ายออก | N5: ในใบ | O5: อื่นๆ | P5: ได้รับยก
B6: ใบอนุญาต | C6: พิเศษ | D6: ลากจูง | E6: ระยะสั้น | F6: วัตถุ | G6: พกส. | H6: ทดสอบ | I6: ออกใหม่ | J6: ต่ออายุ | K6: ใบอนุญาต | N6: อนุญาต | P6: เว้นค่า
F7: อันตราย | P7: ธรรมเนียม
B8: (ราย) | C8: (คน) | D8: (คน) | E8: (คน) | F8: (คน) | G8: (คน) | H8: (ครั้ง) | I8: (ฉบับ) | J8: (ฉบับ) | K8: (ฉบับ) | L8: (ฉบับ) | M8: (ฉบับ) | N8: (ฉบับ) | O8: (ฉบับ) | P8: (ฉบับ)
A9: ผู้ขับรถส่วนบุคคล | B9: =SUM(B10:B13) -> 241957 | C9: =SUM(C10:C13) -> 57881 | D9: =SUM(D10:D13) -> 7475 | E9: =SUM(E10:E13) -> 134460 | F9: =SUM(F10:F13) -> 443 | G9: =SUM(G10:G13) -> 0 | H9: =SUM(H10:H13) -> 267454 | I9: =SUM(I10:I13) -> 61748 | ... P9: =SUM(P10:P13) -> 19
A10: - ชนิดที่ 1 | B10: 865 | C10: 167 | D10: 0 | E10: 392 | F10: 0 | G10: 0 | H10: 847 | I10: 224 | J10: 351 | K10: 33 | L10: 0 | M10: 0 | N10: 56 | O10: 0 | P10: 0
A11: - ชนิดที่ 2 | B11: 198773 | C11: 49798 | D11: 0 | E11: 115996 | F11: 0 | G11: 0 | H11: 219737 | I11: 47393 | J11: 134527 | K11: 5789 | L11: 0 | M11: 0 | N11: 13756 | O11: 1 | P11: 17
A12: - ชนิดที่ 3 | B12: 39319 | C12: 7292 | D12: 7394 | E12: 16816 | F12: 0 | G12: 0 | H12: 44096 | I12: 13007 | J12: 21679 | K12: 1590 | L12: 0 | M12: 0 | N12: 2496 | O12: 0 | P12: 2
A13: - ชนิดที่ 4 | B13: 3000 | C13: 624 | D13: 81 | E13: 1256 | F13: 443 | G13: 0 | H13: 2774 | I13: 1124 | J13: 1598 | K13: 160 | L13: 0 | M13: 0 | N13: 260 | O13: 0 | P13: 0
A14: ผู้ขับรถทุกประเภท | B14: =SUM(B15:B18) -> 341191 | C14: =SUM(C15:C18) -> 62516 | D14: =SUM(D15:D18) -> 10336 | E14: =SUM(E15:E18) -> 147260 | F14: =SUM(F15:F18) -> 5284 | G14: =SUM(G15:G18) -> 0 | H14: =SUM(H15:H18) -> 298783 | I14: =SUM(I15:I18) -> 73453 | ... P14: =SUM(P15:P18) -> 23
A15: - ชนิดที่ 1 | B15: 5671 | C15: 1105 | D15: 0 | E15: 2315 | F15: 0 | G15: 0 | H15: 6860 | I15: 1950 | J15: 2010 | K15: 288 | L15: 0 | M15: 0 | N15: 325 | O15: 1 | P15: 1
A16: - ชนิดที่ 2 | B16: 219961 | C16: 44794 | D16: 0 | E16: 100690 | F16: 0 | G16: 0 | H16: 196323 | I16: 44907 | J16: 144702 | K16: 12182 | L16: 0 | M16: 0 | N16: 16761 | O16: 16 | P16: 12
A17: - ชนิดที่ 3 | B17: 74931 | C17: 10758 | D17: 9312 | E17: 27943 | F17: 0 | G17: 0 | H17: 62876 | I17: 18540 | J17: 42591 | K17: 5029 | L17: 0 | M17: 0 | N17: 4892 | O17: 0 | P17: 7
A18: - ชนิดที่ 4 | B18: 40628 | C18: 5859 | D18: 1024 | E18: 16312 | F18: 5284 | G18: 0 | H18: 32724 | I18: 8056 | J18: 25109 | K18: 3616 | L18: 0 | M18: 0 | N18: 3263 | O18: 1 | P18: 3
A19: นายตรวจ | B19: 130 | C19: 0 | D19: 0 | E19: 0 | F19: 0 | G19: 28 | H19: 34 | I19: 36 | J19: 78 | K19: 5 | L19: 0 | M19: 0 | N19: 13 | O19: 0 | P19: 0
A20: ผู้เก็บค่าโดยสาร | B20: 1897 | C20: 0 | D20: 0 | E20: 0 | F20: 0 | G20: 476 | H20: 483 | I20: 506 | J20: 1148 | K20: 46 | L20: 0 | M20: 0 | N20: 178 | O20: 0 | P20: 0
A21: ผู้บริการ | B21: 1577 | C21: 0 | D21: 0 | E21: 0 | F21: 0 | G21: 834 | H21: 882 | I21: 902 | J21: 355 | K21: 32 | L21: 0 | M21: 0 | N21: 52 | O21: 0 | P21: 0
A22: รวม | B22: =B9+B14+B19+B20+B21 -> 586752 | C22: =C9+C14+C19+C20+C21 -> 120397 | D22: =D9+D14+D19+D20+D21 -> 17811 | E22: =E9+E14+E19+E20+E21 -> 281720 | F22: =F9+F14+F19+F20+F21 -> 5727 | G22: =G9+G14+G19+G20+G21 -> 1338 | H22: =H9+H14+H19+H20+H21 -> 567636 | I22: =I9+I14+I19+I20+I21 -> 136645 | ... P22: =P9+P14+P19+P20+P21 -> 42
