Workbook

Sheet ภาพรวม
B2: รายงานผลการออกใบอนุญาต ตามคู่มือบริการประชาชน
B3: หน่วยงาน สำนักงานเกษตรจังหวัดร้อยเอ็ด
B5: งานบริการ การจดทะเบียนวิสาหกิจชุมชนและเครือข่ายวิสาหกิจชุมชน กรณีจดทะเบียน ณ ศูนย์บริการและถ่ายทอดเทคโนโลยีการเกษตรประจำตำบล/แขวง (กทม.)
B6: ลำดับที่ | C6: รายการ | D6: ปี 2563 | G6: ปีงบประมาณ 2564
D7: ไตรมาส 1/63 | G7: ไตรมาส 1/64 | J7: ไตรมาส 2/64 | M7: ไตรมาส 3/64 | P7: ไตรมาส 4/64 | S7: รวม | T7: เฉลี่ย
D8: ก.ค. | E8: ส.ค. | F8: ก.ย. | G8: ต.ค. | H8: พ.ย. | I8: ธ.ค. | J8: ม.ค. | K8: ก.พ. | L8: มี.ค. | M8: เม.ย. | N8: พ.ค. | O8: มิ.ค. | P8: ก.ค. | Q8: ส.ค. | R8: ก.ย.
B9: 1 | C9: จำนวนคำขอที่ได้รับการอนุมัติ | D9: - | E9: - | F9: - | G9: - | H9: - | I9: - | J9: =SUM(เกษตรเมืองร้อยเอ็ด!J9,เกษตรธวัชบุรี!J9,เกษตรเสลภูมิ!J9,เกษตรโพนทอง!J9,เกษตรหนองพอก!J9,เกษตรโพธิ์ชัย!J9,เกษตรจตุรพักตรพิมาน!J9,เกษตรปทุมรัตต์!J9,เกษตรเกษตรวิสัย!J9,เกษตรสุวรรณภูมิ!J9,เกษตรอาจสามารถ!J9,เกษตรพนมไพร!J9,เกษตรเมืองสรวง!J9,เกษตรโพนทราย!J9,เกษตรเมยวดี!J9,เกษตรศรีสมเด็จ!J9,เกษตรจังหาร!J9,เกษตรเชียงขวัญ!J9,เกษตรหนองฮี!J9,เกษตรทุ่งเขาหลวง!J9) -> 0 | K9: =SUM(เกษตรเมืองร้อยเอ็ด!K9,เกษตรธวัชบุรี!K9,เกษตรเสลภูมิ!K9,เกษตรโพนทอง!K9,เกษตรหนองพอก!K9,เกษตรโพธิ์ชัย!K9,เกษตรจตุรพักตรพิมาน!K9,เกษตรปทุมรัตต์!K9,เกษตรเกษตรวิสัย!K9,เกษตรสุวรรณภูมิ!K9,เกษตรอาจสามารถ!K9,เกษตรพนมไพร!K9,เกษตรเมืองสรวง!K9,เกษตรโพนทราย!K9,เกษตรเมยวดี!K9,เกษตรศรีสมเด็จ!K9,เกษตรจังหาร!K9,เกษตรเชียงขวัญ!K9,เกษตรหนองฮี!K9,เกษตรทุ่งเขาหลวง!K9) -> 0 | L9: =SUM(เกษตรเมืองร้อยเอ็ด!L9,เกษตรธวัชบุรี!L9,เกษตรเสลภูมิ!L9,เกษตรโพนทอง!L9,เกษตรหนองพอก!L9,เกษตรโพธิ์ชัย!L9,เกษตรจตุรพักตรพิมาน!L9,เกษตรปทุมรัตต์!L9,เกษตรเกษตรวิสัย!L9,เกษตรสุวรรณภูมิ!L9,เกษตรอาจสามารถ!L9,เกษตรพนมไพร!L9,เกษตรเมืองสรวง!L9,เกษตรโพนทราย!L9,เกษตรเมยวดี!L9,เกษตรศรีสมเด็จ!L9,เกษตรจังหาร!L9,เกษตรเชียงขวัญ!L9,เกษตรหนองฮี!L9,เกษตรทุ่งเขาหลวง!L9) -> 0 | M9: =SUM(เกษตรเมืองร้อยเอ็ด!M9,เกษตรธวัชบุรี!M9,เกษตรเสลภูมิ!M9,เกษตรโพนทอง!M9,เกษตรหนองพอก!M9,เกษตรโพธิ์ชัย!M9,เกษตรจตุรพักตรพิมาน!M9,เกษตรปทุมรัตต์!M9,เกษตรเกษตรวิสัย!M9,เกษตรสุวรรณภูมิ!M9,เกษตรอาจสามารถ!M9,เกษตรพนมไพร!M9,เกษตรเมืองสรวง!M9,เกษตรโพนทราย!M9,เกษตรเมยวดี!M9,เกษตรศรีสมเด็จ!M9,เกษตรจังหาร!M9,เกษตรเชียงขวัญ!M9,เกษตรหนองฮี!M9,เกษตรทุ่งเขาหลวง!M9) -> 0 | N9: =SUM(เกษตรเมืองร้อยเอ็ด!N9,เกษตรธวัชบุรี!N9,เกษตรเสลภูมิ!N9,เกษตรโพนทอง!N9,เกษตรหนองพอก!N9,เกษตรโพธิ์ชัย!N9,เกษตรจตุรพักตรพิมาน!N9,เกษตรปทุมรัตต์!N9,เกษตรเกษตรวิสัย!N9,เกษตรสุวรรณภูมิ!N9,เกษตรอาจสามารถ!N9,เกษตรพนมไพร!N9,เกษตรเมืองสรวง!N9,เกษตรโพนทราย!N9,เกษตรเมยวดี!N9,เกษตรศรีสมเด็จ!N9,เกษตรจังหาร!N9,เกษตรเชียงขวัญ!N9,เกษตรหนองฮี!N9,เกษตรทุ่งเขาหลวง!N9) -> 0 | O9: =SUM(เกษตรเมืองร้อยเอ็ด!O9,เกษตรธวัชบุรี!O9,เกษตรเสลภูมิ!O9,เกษตรโพนทอง!O9,เกษตรหนองพอก!O9,เกษตรโพธิ์ชัย!O9,เกษตรจตุรพักตรพิมาน!O9,เกษตรปทุมรัตต์!O9,เกษตรเกษตรวิสัย!O9,เกษตรสุวรรณภูมิ!O9,เกษตรอาจสามารถ!O9,เกษตรพนมไพร!O9,เกษตรเมืองสรวง!O9,เกษตรโพนทราย!O9,เกษตรเมยวดี!O9,เกษตรศรีสมเด็จ!O9,เกษตรจังหาร!O9,เกษตรเชียงขวัญ!O9,เกษตรหนองฮี!O9,เกษตรทุ่งเขาหลวง!O9) -> 0 | P9: =SUM(เกษตรเมืองร้อยเอ็ด!P9,เกษตรธวัชบุรี!P9,เกษตรเสลภูมิ!P9,เกษตรโพนทอง!P9,เกษตรหนองพอก!P9,เกษตรโพธิ์ชัย!P9,เกษตรจตุรพักตรพิมาน!P9,เกษตรปทุมรัตต์!P9,เกษตรเกษตรวิสัย!P9,เกษตรสุวรรณภูมิ!P9,เกษตรอาจสามารถ!P9,เกษตรพนมไพร!P9,เกษตรเมืองสรวง!P9,เกษตรโพนทราย!P9,เกษตรเมยวดี!P9,เกษตรศรีสมเด็จ!P9,เกษตรจังหาร!P9,เกษตรเชียงขวัญ!P9,เกษตรหนองฮี!P9,เกษตรทุ่งเขาหลวง!P9) -> 0 | Q9: =SUM(เกษตรเมืองร้อยเอ็ด!Q9,เกษตรธวัชบุรี!Q9,เกษตรเสลภูมิ!Q9,เกษตรโพนทอง!Q9,เกษตรหนองพอก!Q9,เกษตรโพธิ์ชัย!Q9,เกษตรจตุรพักตรพิมาน!Q9,เกษตรปทุมรัตต์!Q9,เกษตรเกษตรวิสัย!Q9,เกษตรสุวรรณภูมิ!Q9,เกษตรอาจสามารถ!Q9,เกษตรพนมไพร!Q9,เกษตรเมืองสรวง!Q9,เกษตรโพนทราย!Q9,เกษตรเมยวดี!Q9,เกษตรศรีสมเด็จ!Q9,เกษตรจังหาร!Q9,เกษตรเชียงขวัญ!Q9,เกษตรหนองฮี!Q9,เกษตรทุ่งเขาหลวง!Q9) -> 0 | R9: =SUM(เกษตรเมืองร้อยเอ็ด!R9,เกษตรธวัชบุรี!R9,เกษตรเสลภูมิ!R9,เกษตรโพนทอง!R9,เกษตรหนองพอก!R9,เกษตรโพธิ์ชัย!R9,เกษตรจตุรพักตรพิมาน!R9,เกษตรปทุมรัตต์!R9,เกษตรเกษตรวิสัย!R9,เกษตรสุวรรณภูมิ!R9,เกษตรอาจสามารถ!R9,เกษตรพนมไพร!R9,เกษตรเมืองสรวง!R9,เกษตรโพนทราย!R9,เกษตรเมยวดี!R9,เกษตรศรีสมเด็จ!R9,เกษตรจังหาร!R9,เกษตรเชียงขวัญ!R9,เกษตรหนองฮี!R9,เกษตรทุ่งเขาหลวง!R9) -> 0 | S9: =SUM(D9:R9) -> 0 | T9: =AVERAGE(D9:R9) -> 0
B10: 2 | C10: จำนวนคำขอที่ไม่ได้รับการอนุมัติ | D10: - | E10: - | F10: - | G10: - | H10: - | I10: - | J10: =SUM(เกษตรเมืองร้อยเอ็ด!J10,เกษตรธวัชบุรี!J10,เกษตรเสลภูมิ!J10,เกษตรโพนทอง!J10,เกษตรหนองพอก!J10,เกษตรโพธิ์ชัย!J10,เกษตรจตุรพักตรพิมาน!J10,เกษตรปทุมรัตต์!J10,เกษตรเกษตรวิสัย!J10,เกษตรสุวรรณภูมิ!J10,เกษตรอาจสามารถ!J10,เกษตรพนมไพร!J10,เกษตรเมืองสรวง!J10,เกษตรโพนทราย!J10,เกษตรเมยวดี!J10,เกษตรศรีสมเด็จ!J10,เกษตรจังหาร!J10,เกษตรเชียงขวัญ!J10,เกษตรหนองฮี!J10,เกษตรทุ่งเขาหลวง!J10) -> 0 | K10: =SUM(เกษตรเมืองร้อยเอ็ด!K10,เกษตรธวัชบุรี!K10,เกษตรเสลภูมิ!K10,เกษตรโพนทอง!K10,เกษตรหนองพอก!K10,เกษตรโพธิ์ชัย!K10,เกษตรจตุรพักตรพิมาน!K10,เกษตรปทุมรัตต์!K10,เกษตรเกษตรวิสัย!K10,เกษตรสุวรรณภูมิ!K10,เกษตรอาจสามารถ!K10,เกษตรพนมไพร!K10,เกษตรเมืองสรวง!K10,เกษตรโพนทราย!K10,เกษตรเมยวดี!K10,เกษตรศรีสมเด็จ!K10,เกษตรจังหาร!K10,เกษตรเชียงขวัญ!K10,เกษตรหนองฮี!K10,เกษตรทุ่งเขาหลวง!K10) -> 0 | L10: =SUM(เกษตรเมืองร้อยเอ็ด!L10,เกษตรธวัชบุรี!L10,เกษตรเสลภูมิ!L10,เกษตรโพนทอง!L10,เกษตรหนองพอก!L10,เกษตรโพธิ์ชัย!L10,เกษตรจตุรพักตรพิมาน!L10,เกษตรปทุมรัตต์!L10,เกษตรเกษตรวิสัย!L10,เกษตรสุวรรณภูมิ!L10,เกษตรอาจสามารถ!L10,เกษตรพนมไพร!L10,เกษตรเมืองสรวง!L10,เกษตรโพนทราย!L10,เกษตรเมยวดี!L10,เกษตรศรีสมเด็จ!L10,เกษตรจังหาร!L10,เกษตรเชียงขวัญ!L10,เกษตรหนองฮี!L10,เกษตรทุ่งเขาหลวง!L10) -> 0 | M10: =SUM(เกษตรเมืองร้อยเอ็ด!M10,เกษตรธวัชบุรี!M10,เกษตรเสลภูมิ!M10,เกษตรโพนทอง!M10,เกษตรหนองพอก!M10,เกษตรโพธิ์ชัย!M10,เกษตรจตุรพักตรพิมาน!M10,เกษตรปทุมรัตต์!M10,เกษตรเกษตรวิสัย!M10,เกษตรสุวรรณภูมิ!M10,เกษตรอาจสามารถ!M10,เกษตรพนมไพร!M10,เกษตรเมืองสรวง!M10,เกษตรโพนทราย!M10,เกษตรเมยวดี!M10,เกษตรศรีสมเด็จ!M10,เกษตรจังหาร!M10,เกษตรเชียงขวัญ!M10,เกษตรหนองฮี!M10,เกษตรทุ่งเขาหลวง!M10) -> 0 | N10: =SUM(เกษตรเมืองร้อยเอ็ด!N10,เกษตรธวัชบุรี!N10,เกษตรเสลภูมิ!N10,เกษตรโพนทอง!N10,เกษตรหนองพอก!N10,เกษตรโพธิ์ชัย!N10,เกษตรจตุรพักตรพิมาน!N10,เกษตรปทุมรัตต์!N10,เกษตรเกษตรวิสัย!N10,เกษตรสุวรรณภูมิ!N10,เกษตรอาจสามารถ!N10,เกษตรพนมไพร!N10,เกษตรเมืองสรวง!N10,เกษตรโพนทราย!N10,เกษตรเมยวดี!N10,เกษตรศรีสมเด็จ!N10,เกษตรจังหาร!N10,เกษตรเชียงขวัญ!N10,เกษตรหนองฮี!N10,เกษตรทุ่งเขาหลวง!N10) -> 0 | O10: =SUM(เกษตรเมืองร้อยเอ็ด!O10,เกษตรธวัชบุรี!O10,เกษตรเสลภูมิ!O10,เกษตรโพนทอง!O10,เกษตรหนองพอก!O10,เกษตรโพธิ์ชัย!O10,เกษตรจตุรพักตรพิมาน!O10,เกษตรปทุมรัตต์!O10,เกษตรเกษตรวิสัย!O10,เกษตรสุวรรณภูมิ!O10,เกษตรอาจสามารถ!O10,เกษตรพนมไพร!O10,เกษตรเมืองสรวง!O10,เกษตรโพนทราย!O10,เกษตรเมยวดี!O10,เกษตรศรีสมเด็จ!O10,เกษตรจังหาร!O10,เกษตรเชียงขวัญ!O10,เกษตรหนองฮี!O10,เกษตรทุ่งเขาหลวง!O10) -> 0 | P10: =SUM(เกษตรเมืองร้อยเอ็ด!P10,เกษตรธวัชบุรี!P10,เกษตรเสลภูมิ!P10,เกษตรโพนทอง!P10,เกษตรหนองพอก!P10,เกษตรโพธิ์ชัย!P10,เกษตรจตุรพักตรพิมาน!P10,เกษตรปทุมรัตต์!P10,เกษตรเกษตรวิสัย!P10,เกษตรสุวรรณภูมิ!P10,เกษตรอาจสามารถ!P10,เกษตรพนมไพร!P10,เกษตรเมืองสรวง!P10,เกษตรโพนทราย!P10,เกษตรเมยวดี!P10,เกษตรศรีสมเด็จ!P10,เกษตรจังหาร!P10,เกษตรเชียงขวัญ!P10,เกษตรหนองฮี!P10,เกษตรทุ่งเขาหลวง!P10) -> 0 | Q10: =SUM(เกษตรเมืองร้อยเอ็ด!Q10,เกษตรธวัชบุรี!Q10,เกษตรเสลภูมิ!Q10,เกษตรโพนทอง!Q10,เกษตรหนองพอก!Q10,เกษตรโพธิ์ชัย!Q10,เกษตรจตุรพักตรพิมาน!Q10,เกษตรปทุมรัตต์!Q10,เกษตรเกษตรวิสัย!Q10,เกษตรสุวรรณภูมิ!Q10,เกษตรอาจสามารถ!Q10,เกษตรพนมไพร!Q10,เกษตรเมืองสรวง!Q10,เกษตรโพนทราย!Q10,เกษตรเมยวดี!Q10,เกษตรศรีสมเด็จ!Q10,เกษตรจังหาร!Q10,เกษตรเชียงขวัญ!Q10,เกษตรหนองฮี!Q10,เกษตรทุ่งเขาหลวง!Q10) -> 0 | R10: =SUM(เกษตรเมืองร้อยเอ็ด!R10,เกษตรธวัชบุรี!R10,เกษตรเสลภูมิ!R10,เกษตรโพนทอง!R10,เกษตรหนองพอก!R10,เกษตรโพธิ์ชัย!R10,เกษตรจตุรพักตรพิมาน!R10,เกษตรปทุมรัตต์!R10,เกษตรเกษตรวิสัย!R10,เกษตรสุวรรณภูมิ!R10,เกษตรอาจสามารถ!R10,เกษตรพนมไพร!R10,เกษตรเมืองสรวง!R10,เกษตรโพนทราย!R10,เกษตรเมยวดี!R10,เกษตรศรีสมเด็จ!R10,เกษตรจังหาร!R10,เกษตรเชียงขวัญ!R10,เกษตรหนองฮี!R10,เกษตรทุ่งเขาหลวง!R10) -> 0 | S10: =SUM(D10:R10) -> 0 | T10: =AVERAGE(D10:R10) -> 0
B11: 3 | C11: จำนวนคำขอที่ดำเนินการล่าช้ากว่ากำหนด | D11: - | E11: - | F11: - | G11: - | H11: - | I11: - | J11: =SUM(เกษตรเมืองร้อยเอ็ด!J11,เกษตรธวัชบุรี!J11,เกษตรเสลภูมิ!J11,เกษตรโพนทอง!J11,เกษตรหนองพอก!J11,เกษตรโพธิ์ชัย!J11,เกษตรจตุรพักตรพิมาน!J11,เกษตรปทุมรัตต์!J11,เกษตรเกษตรวิสัย!J11,เกษตรสุวรรณภูมิ!J11,เกษตรอาจสามารถ!J11,เกษตรพนมไพร!J11,เกษตรเมืองสรวง!J11,เกษตรโพนทราย!J11,เกษตรเมยวดี!J11,เกษตรศรีสมเด็จ!J11,เกษตรจังหาร!J11,เกษตรเชียงขวัญ!J11,เกษตรหนองฮี!J11,เกษตรทุ่งเขาหลวง!J11) -> 0 | K11: =SUM(เกษตรเมืองร้อยเอ็ด!K11,เกษตรธวัชบุรี!K11,เกษตรเสลภูมิ!K11,เกษตรโพนทอง!K11,เกษตรหนองพอก!K11,เกษตรโพธิ์ชัย!K11,เกษตรจตุรพักตรพิมาน!K11,เกษตรปทุมรัตต์!K11,เกษตรเกษตรวิสัย!K11,เกษตรสุวรรณภูมิ!K11,เกษตรอาจสามารถ!K11,เกษตรพนมไพร!K11,เกษตรเมืองสรวง!K11,เกษตรโพนทราย!K11,เกษตรเมยวดี!K11,เกษตรศรีสมเด็จ!K11,เกษตรจังหาร!K11,เกษตรเชียงขวัญ!K11,เกษตรหนองฮี!K11,เกษตรทุ่งเขาหลวง!K11) -> 0 | L11: =SUM(เกษตรเมืองร้อยเอ็ด!L11,เกษตรธวัชบุรี!L11,เกษตรเสลภูมิ!L11,เกษตรโพนทอง!L11,เกษตรหนองพอก!L11,เกษตรโพธิ์ชัย!L11,เกษตรจตุรพักตรพิมาน!L11,เกษตรปทุมรัตต์!L11,เกษตรเกษตรวิสัย!L11,เกษตรสุวรรณภูมิ!L11,เกษตรอาจสามารถ!L11,เกษตรพนมไพร!L11,เกษตรเมืองสรวง!L11,เกษตรโพนทราย!L11,เกษตรเมยวดี!L11,เกษตรศรีสมเด็จ!L11,เกษตรจังหาร!L11,เกษตรเชียงขวัญ!L11,เกษตรหนองฮี!L11,เกษตรทุ่งเขาหลวง!L11) -> 0 | M11: =SUM(เกษตรเมืองร้อยเอ็ด!M11,เกษตรธวัชบุรี!M11,เกษตรเสลภูมิ!M11,เกษตรโพนทอง!M11,เกษตรหนองพอก!M11,เกษตรโพธิ์ชัย!M11,เกษตรจตุรพักตรพิมาน!M11,เกษตรปทุมรัตต์!M11,เกษตรเกษตรวิสัย!M11,เกษตรสุวรรณภูมิ!M11,เกษตรอาจสามารถ!M11,เกษตรพนมไพร!M11,เกษตรเมืองสรวง!M11,เกษตรโพนทราย!M11,เกษตรเมยวดี!M11,เกษตรศรีสมเด็จ!M11,เกษตรจังหาร!M11,เกษตรเชียงขวัญ!M11,เกษตรหนองฮี!M11,เกษตรทุ่งเขาหลวง!M11) -> 0 | N11: =SUM(เกษตรเมืองร้อยเอ็ด!N11,เกษตรธวัชบุรี!N11,เกษตรเสลภูมิ!N11,เกษตรโพนทอง!N11,เกษตรหนองพอก!N11,เกษตรโพธิ์ชัย!N11,เกษตรจตุรพักตรพิมาน!N11,เกษตรปทุมรัตต์!N11,เกษตรเกษตรวิสัย!N11,เกษตรสุวรรณภูมิ!N11,เกษตรอาจสามารถ!N11,เกษตรพนมไพร!N11,เกษตรเมืองสรวง!N11,เกษตรโพนทราย!N11,เกษตรเมยวดี!N11,เกษตรศรีสมเด็จ!N11,เกษตรจังหาร!N11,เกษตรเชียงขวัญ!N11,เกษตรหนองฮี!N11,เกษตรทุ่งเขาหลวง!N11) -> 0 | O11: =SUM(เกษตรเมืองร้อยเอ็ด!O11,เกษตรธวัชบุรี!O11,เกษตรเสลภูมิ!O11,เกษตรโพนทอง!O11,เกษตรหนองพอก!O11,เกษตรโพธิ์ชัย!O11,เกษตรจตุรพักตรพิมาน!O11,เกษตรปทุมรัตต์!O11,เกษตรเกษตรวิสัย!O11,เกษตรสุวรรณภูมิ!O11,เกษตรอาจสามารถ!O11,เกษตรพนมไพร!O11,เกษตรเมืองสรวง!O11,เกษตรโพนทราย!O11,เกษตรเมยวดี!O11,เกษตรศรีสมเด็จ!O11,เกษตรจังหาร!O11,เกษตรเชียงขวัญ!O11,เกษตรหนองฮี!O11,เกษตรทุ่งเขาหลวง!O11) -> 0 | P11: =SUM(เกษตรเมืองร้อยเอ็ด!P11,เกษตรธวัชบุรี!P11,เกษตรเสลภูมิ!P11,เกษตรโพนทอง!P11,เกษตรหนองพอก!P11,เกษตรโพธิ์ชัย!P11,เกษตรจตุรพักตรพิมาน!P11,เกษตรปทุมรัตต์!P11,เกษตรเกษตรวิสัย!P11,เกษตรสุวรรณภูมิ!P11,เกษตรอาจสามารถ!P11,เกษตรพนมไพร!P11,เกษตรเมืองสรวง!P11,เกษตรโพนทราย!P11,เกษตรเมยวดี!P11,เกษตรศรีสมเด็จ!P11,เกษตรจังหาร!P11,เกษตรเชียงขวัญ!P11,เกษตรหนองฮี!P11,เกษตรทุ่งเขาหลวง!P11) -> 0 | Q11: =SUM(เกษตรเมืองร้อยเอ็ด!Q11,เกษตรธวัชบุรี!Q11,เกษตรเสลภูมิ!Q11,เกษตรโพนทอง!Q11,เกษตรหนองพอก!Q11,เกษตรโพธิ์ชัย!Q11,เกษตรจตุรพักตรพิมาน!Q11,เกษตรปทุมรัตต์!Q11,เกษตรเกษตรวิสัย!Q11,เกษตรสุวรรณภูมิ!Q11,เกษตรอาจสามารถ!Q11,เกษตรพนมไพร!Q11,เกษตรเมืองสรวง!Q11,เกษตรโพนทราย!Q11,เกษตรเมยวดี!Q11,เกษตรศรีสมเด็จ!Q11,เกษตรจังหาร!Q11,เกษตรเชียงขวัญ!Q11,เกษตรหนองฮี!Q11,เกษตรทุ่งเขาหลวง!Q11) -> 0 | R11: =SUM(เกษตรเมืองร้อยเอ็ด!R11,เกษตรธวัชบุรี!R11,เกษตรเสลภูมิ!R11,เกษตรโพนทอง!R11,เกษตรหนองพอก!R11,เกษตรโพธิ์ชัย!R11,เกษตรจตุรพักตรพิมาน!R11,เกษตรปทุมรัตต์!R11,เกษตรเกษตรวิสัย!R11,เกษตรสุวรรณภูมิ!R11,เกษตรอาจสามารถ!R11,เกษตรพนมไพร!R11,เกษตรเมืองสรวง!R11,เกษตรโพนทราย!R11,เกษตรเมยวดี!R11,เกษตรศรีสมเด็จ!R11,เกษตรจังหาร!R11,เกษตรเชียงขวัญ!R11,เกษตรหนองฮี!R11,เกษตรทุ่งเขาหลวง!R11) -> 0 | S11: =SUM(D11:R11) -> 0 | T11: =AVERAGE(D11:R11) -> 0
B12: 4 | C12: จำนวนเรื่องร้องเรียนจากประชาชน | D12: - | E12: - | F12: - | G12: - | H12: - | I12: - | J12: =SUM(เกษตรเมืองร้อยเอ็ด!J12,เกษตรธวัชบุรี!J12,เกษตรเสลภูมิ!J12,เกษตรโพนทอง!J12,เกษตรหนองพอก!J12,เกษตรโพธิ์ชัย!J12,เกษตรจตุรพักตรพิมาน!J12,เกษตรปทุมรัตต์!J12,เกษตรเกษตรวิสัย!J12,เกษตรสุวรรณภูมิ!J12,เกษตรอาจสามารถ!J12,เกษตรพนมไพร!J12,เกษตรเมืองสรวง!J12,เกษตรโพนทราย!J12,เกษตรเมยวดี!J12,เกษตรศรีสมเด็จ!J12,เกษตรจังหาร!J12,เกษตรเชียงขวัญ!J12,เกษตรหนองฮี!J12,เกษตรทุ่งเขาหลวง!J12) -> 0 | K12: =SUM(เกษตรเมืองร้อยเอ็ด!K12,เกษตรธวัชบุรี!K12,เกษตรเสลภูมิ!K12,เกษตรโพนทอง!K12,เกษตรหนองพอก!K12,เกษตรโพธิ์ชัย!K12,เกษตรจตุรพักตรพิมาน!K12,เกษตรปทุมรัตต์!K12,เกษตรเกษตรวิสัย!K12,เกษตรสุวรรณภูมิ!K12,เกษตรอาจสามารถ!K12,เกษตรพนมไพร!K12,เกษตรเมืองสรวง!K12,เกษตรโพนทราย!K12,เกษตรเมยวดี!K12,เกษตรศรีสมเด็จ!K12,เกษตรจังหาร!K12,เกษตรเชียงขวัญ!K12,เกษตรหนองฮี!K12,เกษตรทุ่งเขาหลวง!K12) -> 0 | L12: =SUM(เกษตรเมืองร้อยเอ็ด!L12,เกษตรธวัชบุรี!L12,เกษตรเสลภูมิ!L12,เกษตรโพนทอง!L12,เกษตรหนองพอก!L12,เกษตรโพธิ์ชัย!L12,เกษตรจตุรพักตรพิมาน!L12,เกษตรปทุมรัตต์!L12,เกษตรเกษตรวิสัย!L12,เกษตรสุวรรณภูมิ!L12,เกษตรอาจสามารถ!L12,เกษตรพนมไพร!L12,เกษตรเมืองสรวง!L12,เกษตรโพนทราย!L12,เกษตรเมยวดี!L12,เกษตรศรีสมเด็จ!L12,เกษตรจังหาร!L12,เกษตรเชียงขวัญ!L12,เกษตรหนองฮี!L12,เกษตรทุ่งเขาหลวง!L12) -> 0 | M12: =SUM(เกษตรเมืองร้อยเอ็ด!M12,เกษตรธวัชบุรี!M12,เกษตรเสลภูมิ!M12,เกษตรโพนทอง!M12,เกษตรหนองพอก!M12,เกษตรโพธิ์ชัย!M12,เกษตรจตุรพักตรพิมาน!M12,เกษตรปทุมรัตต์!M12,เกษตรเกษตรวิสัย!M12,เกษตรสุวรรณภูมิ!M12,เกษตรอาจสามารถ!M12,เกษตรพนมไพร!M12,เกษตรเมืองสรวง!M12,เกษตรโพนทราย!M12,เกษตรเมยวดี!M12,เกษตรศรีสมเด็จ!M12,เกษตรจังหาร!M12,เกษตรเชียงขวัญ!M12,เกษตรหนองฮี!M12,เกษตรทุ่งเขาหลวง!M12) -> 0 | N12: =SUM(เกษตรเมืองร้อยเอ็ด!N12,เกษตรธวัชบุรี!N12,เกษตรเสลภูมิ!N12,เกษตรโพนทอง!N12,เกษตรหนองพอก!N12,เกษตรโพธิ์ชัย!N12,เกษตรจตุรพักตรพิมาน!N12,เกษตรปทุมรัตต์!N12,เกษตรเกษตรวิสัย!N12,เกษตรสุวรรณภูมิ!N12,เกษตรอาจสามารถ!N12,เกษตรพนมไพร!N12,เกษตรเมืองสรวง!N12,เกษตรโพนทราย!N12,เกษตรเมยวดี!N12,เกษตรศรีสมเด็จ!N12,เกษตรจังหาร!N12,เกษตรเชียงขวัญ!N12,เกษตรหนองฮี!N12,เกษตรทุ่งเขาหลวง!N12) -> 0 | O12: =SUM(เกษตรเมืองร้อยเอ็ด!O12,เกษตรธวัชบุรี!O12,เกษตรเสลภูมิ!O12,เกษตรโพนทอง!O12,เกษตรหนองพอก!O12,เกษตรโพธิ์ชัย!O12,เกษตรจตุรพักตรพิมาน!O12,เกษตรปทุมรัตต์!O12,เกษตรเกษตรวิสัย!O12,เกษตรสุวรรณภูมิ!O12,เกษตรอาจสามารถ!O12,เกษตรพนมไพร!O12,เกษตรเมืองสรวง!O12,เกษตรโพนทราย!O12,เกษตรเมยวดี!O12,เกษตรศรีสมเด็จ!O12,เกษตรจังหาร!O12,เกษตรเชียงขวัญ!O12,เกษตรหนองฮี!O12,เกษตรทุ่งเขาหลวง!O12) -> 0 | P12: =SUM(เกษตรเมืองร้อยเอ็ด!P12,เกษตรธวัชบุรี!P12,เกษตรเสลภูมิ!P12,เกษตรโพนทอง!P12,เกษตรหนองพอก!P12,เกษตรโพธิ์ชัย!P12,เกษตรจตุรพักตรพิมาน!P12,เกษตรปทุมรัตต์!P12,เกษตรเกษตรวิสัย!P12,เกษตรสุวรรณภูมิ!P12,เกษตรอาจสามารถ!P12,เกษตรพนมไพร!P12,เกษตรเมืองสรวง!P12,เกษตรโพนทราย!P12,เกษตรเมยวดี!P12,เกษตรศรีสมเด็จ!P12,เกษตรจังหาร!P12,เกษตรเชียงขวัญ!P12,เกษตรหนองฮี!P12,เกษตรทุ่งเขาหลวง!P12) -> 0 | Q12: =SUM(เกษตรเมืองร้อยเอ็ด!Q12,เกษตรธวัชบุรี!Q12,เกษตรเสลภูมิ!Q12,เกษตรโพนทอง!Q12,เกษตรหนองพอก!Q12,เกษตรโพธิ์ชัย!Q12,เกษตรจตุรพักตรพิมาน!Q12,เกษตรปทุมรัตต์!Q12,เกษตรเกษตรวิสัย!Q12,เกษตรสุวรรณภูมิ!Q12,เกษตรอาจสามารถ!Q12,เกษตรพนมไพร!Q12,เกษตรเมืองสรวง!Q12,เกษตรโพนทราย!Q12,เกษตรเมยวดี!Q12,เกษตรศรีสมเด็จ!Q12,เกษตรจังหาร!Q12,เกษตรเชียงขวัญ!Q12,เกษตรหนองฮี!Q12,เกษตรทุ่งเขาหลวง!Q12) -> 0 | R12: =SUM(เกษตรเมืองร้อยเอ็ด!R12,เกษตรธวัชบุรี!R12,เกษตรเสลภูมิ!R12,เกษตรโพนทอง!R12,เกษตรหนองพอก!R12,เกษตรโพธิ์ชัย!R12,เกษตรจตุรพักตรพิมาน!R12,เกษตรปทุมรัตต์!R12,เกษตรเกษตรวิสัย!R12,เกษตรสุวรรณภูมิ!R12,เกษตรอาจสามารถ!R12,เกษตรพนมไพร!R12,เกษตรเมืองสรวง!R12,เกษตรโพนทราย!R12,เกษตรเมยวดี!R12,เกษตรศรีสมเด็จ!R12,เกษตรจังหาร!R12,เกษตรเชียงขวัญ!R12,เกษตรหนองฮี!R12,เกษตรทุ่งเขาหลวง!R12) -> 0 | S12: =SUM(D12:R12) -> 0 | T12: =AVERAGE(D12:R12) -> 0
B13: 5 | C13: จำนวนการดำเนินคดีที่เกี่ยวข้องกับการออกใบอนุญาต | D13: - | E13: - | F13: - | G13: - | H13: - | I13: - | J13: =SUM(เกษตรเมืองร้อยเอ็ด!J13,เกษตรธวัชบุรี!J13,เกษตรเสลภูมิ!J13,เกษตรโพนทอง!J13,เกษตรหนองพอก!J13,เกษตรโพธิ์ชัย!J13,เกษตรจตุรพักตรพิมาน!J13,เกษตรปทุมรัตต์!J13,เกษตรเกษตรวิสัย!J13,เกษตรสุวรรณภูมิ!J13,เกษตรอาจสามารถ!J13,เกษตรพนมไพร!J13,เกษตรเมืองสรวง!J13,เกษตรโพนทราย!J13,เกษตรเมยวดี!J13,เกษตรศรีสมเด็จ!J13,เกษตรจังหาร!J13,เกษตรเชียงขวัญ!J13,เกษตรหนองฮี!J13,เกษตรทุ่งเขาหลวง!J13) -> 0 | K13: =SUM(เกษตรเมืองร้อยเอ็ด!K13,เกษตรธวัชบุรี!K13,เกษตรเสลภูมิ!K13,เกษตรโพนทอง!K13,เกษตรหนองพอก!K13,เกษตรโพธิ์ชัย!K13,เกษตรจตุรพักตรพิมาน!K13,เกษตรปทุมรัตต์!K13,เกษตรเกษตรวิสัย!K13,เกษตรสุวรรณภูมิ!K13,เกษตรอาจสามารถ!K13,เกษตรพนมไพร!K13,เกษตรเมืองสรวง!K13,เกษตรโพนทราย!K13,เกษตรเมยวดี!K13,เกษตรศรีสมเด็จ!K13,เกษตรจังหาร!K13,เกษตรเชียงขวัญ!K13,เกษตรหนองฮี!K13,เกษตรทุ่งเขาหลวง!K13) -> 0 | L13: =SUM(เกษตรเมืองร้อยเอ็ด!L13,เกษตรธวัชบุรี!L13,เกษตรเสลภูมิ!L13,เกษตรโพนทอง!L13,เกษตรหนองพอก!L13,เกษตรโพธิ์ชัย!L13,เกษตรจตุรพักตรพิมาน!L13,เกษตรปทุมรัตต์!L13,เกษตรเกษตรวิสัย!L13,เกษตรสุวรรณภูมิ!L13,เกษตรอาจสามารถ!L13,เกษตรพนมไพร!L13,เกษตรเมืองสรวง!L13,เกษตรโพนทราย!L13,เกษตรเมยวดี!L13,เกษตรศรีสมเด็จ!L13,เกษตรจังหาร!L13,เกษตรเชียงขวัญ!L13,เกษตรหนองฮี!L13,เกษตรทุ่งเขาหลวง!L13) -> 0 | M13: =SUM(เกษตรเมืองร้อยเอ็ด!M13,เกษตรธวัชบุรี!M13,เกษตรเสลภูมิ!M13,เกษตรโพนทอง!M13,เกษตรหนองพอก!M13,เกษตรโพธิ์ชัย!M13,เกษตรจตุรพักตรพิมาน!M13,เกษตรปทุมรัตต์!M13,เกษตรเกษตรวิสัย!M13,เกษตรสุวรรณภูมิ!M13,เกษตรอาจสามารถ!M13,เกษตรพนมไพร!M13,เกษตรเมืองสรวง!M13,เกษตรโพนทราย!M13,เกษตรเมยวดี!M13,เกษตรศรีสมเด็จ!M13,เกษตรจังหาร!M13,เกษตรเชียงขวัญ!M13,เกษตรหนองฮี!M13,เกษตรทุ่งเขาหลวง!M13) -> 0 | N13: =SUM(เกษตรเมืองร้อยเอ็ด!N13,เกษตรธวัชบุรี!N13,เกษตรเสลภูมิ!N13,เกษตรโพนทอง!N13,เกษตรหนองพอก!N13,เกษตรโพธิ์ชัย!N13,เกษตรจตุรพักตรพิมาน!N13,เกษตรปทุมรัตต์!N13,เกษตรเกษตรวิสัย!N13,เกษตรสุวรรณภูมิ!N13,เกษตรอาจสามารถ!N13,เกษตรพนมไพร!N13,เกษตรเมืองสรวง!N13,เกษตรโพนทราย!N13,เกษตรเมยวดี!N13,เกษตรศรีสมเด็จ!N13,เกษตรจังหาร!N13,เกษตรเชียงขวัญ!N13,เกษตรหนองฮี!N13,เกษตรทุ่งเขาหลวง!N13) -> 0 | O13: =SUM(เกษตรเมืองร้อยเอ็ด!O13,เกษตรธวัชบุรี!O13,เกษตรเสลภูมิ!O13,เกษตรโพนทอง!O13,เกษตรหนองพอก!O13,เกษตรโพธิ์ชัย!O13,เกษตรจตุรพักตรพิมาน!O13,เกษตรปทุมรัตต์!O13,เกษตรเกษตรวิสัย!O13,เกษตรสุวรรณภูมิ!O13,เกษตรอาจสามารถ!O13,เกษตรพนมไพร!O13,เกษตรเมืองสรวง!O13,เกษตรโพนทราย!O13,เกษตรเมยวดี!O13,เกษตรศรีสมเด็จ!O13,เกษตรจังหาร!O13,เกษตรเชียงขวัญ!O13,เกษตรหนองฮี!O13,เกษตรทุ่งเขาหลวง!O13) -> 0 | P13: =SUM(เกษตรเมืองร้อยเอ็ด!P13,เกษตรธวัชบุรี!P13,เกษตรเสลภูมิ!P13,เกษตรโพนทอง!P13,เกษตรหนองพอก!P13,เกษตรโพธิ์ชัย!P13,เกษตรจตุรพักตรพิมาน!P13,เกษตรปทุมรัตต์!P13,เกษตรเกษตรวิสัย!P13,เกษตรสุวรรณภูมิ!P13,เกษตรอาจสามารถ!P13,เกษตรพนมไพร!P13,เกษตรเมืองสรวง!P13,เกษตรโพนทราย!P13,เกษตรเมยวดี!P13,เกษตรศรีสมเด็จ!P13,เกษตรจังหาร!P13,เกษตรเชียงขวัญ!P13,เกษตรหนองฮี!P13,เกษตรทุ่งเขาหลวง!P13) -> 0 | Q13: =SUM(เกษตรเมืองร้อยเอ็ด!Q13,เกษตรธวัชบุรี!Q13,เกษตรเสลภูมิ!Q13,เกษตรโพนทอง!Q13,เกษตรหนองพอก!Q13,เกษตรโพธิ์ชัย!Q13,เกษตรจตุรพักตรพิมาน!Q13,เกษตรปทุมรัตต์!Q13,เกษตรเกษตรวิสัย!Q13,เกษตรสุวรรณภูมิ!Q13,เกษตรอาจสามารถ!Q13,เกษตรพนมไพร!Q13,เกษตรเมืองสรวง!Q13,เกษตรโพนทราย!Q13,เกษตรเมยวดี!Q13,เกษตรศรีสมเด็จ!Q13,เกษตรจังหาร!Q13,เกษตรเชียงขวัญ!Q13,เกษตรหนองฮี!Q13,เกษตรทุ่งเขาหลวง!Q13) -> 0 | R13: =SUM(เกษตรเมืองร้อยเอ็ด!R13,เกษตรธวัชบุรี!R13,เกษตรเสลภูมิ!R13,เกษตรโพนทอง!R13,เกษตรหนองพอก!R13,เกษตรโพธิ์ชัย!R13,เกษตรจตุรพักตรพิมาน!R13,เกษตรปทุมรัตต์!R13,เกษตรเกษตรวิสัย!R13,เกษตรสุวรรณภูมิ!R13,เกษตรอาจสามารถ!R13,เกษตรพนมไพร!R13,เกษตรเมืองสรวง!R13,เกษตรโพนทราย!R13,เกษตรเมยวดี!R13,เกษตรศรีสมเด็จ!R13,เกษตรจังหาร!R13,เกษตรเชียงขวัญ!R13,เกษตรหนองฮี!R13,เกษตรทุ่งเขาหลวง!R13) -> 0 | S13: =SUM(D13:R13) -> 0 | T13: =AVERAGE(D13:R13) -> 0
C14: จำนวนหน่ายงานที่รายงาน | J14: =COUNT(เกษตรเมืองร้อยเอ็ด!J9,เกษตรธวัชบุรี!J9,เกษตรเสลภูมิ!J9,เกษตรโพนทอง!J9,เกษตรหนองพอก!J9,เกษตรโพธิ์ชัย!J9,เกษตรจตุรพักตรพิมาน!J9,เกษตรปทุมรัตต์!J9,เกษตรเกษตรวิสัย!J9,เกษตรสุวรรณภูมิ!J9,เกษตรอาจสามารถ!J9,เกษตรพนมไพร!J9,เกษตรเมืองสรวง!J9,เกษตรโพนทราย!J9,เกษตรเมยวดี!J9,เกษตรศรีสมเด็จ!J9,เกษตรจังหาร!J9,เกษตรเชียงขวัญ!J9,เกษตรหนองฮี!J9,เกษตรทุ่งเขาหลวง!J9) -> 20 | K14: =COUNT(เกษตรเมืองร้อยเอ็ด!K9,เกษตรธวัชบุรี!K9,เกษตรเสลภูมิ!K9,เกษตรโพนทอง!K9,เกษตรหนองพอก!K9,เกษตรโพธิ์ชัย!K9,เกษตรจตุรพักตรพิมาน!K9,เกษตรปทุมรัตต์!K9,เกษตรเกษตรวิสัย!K9,เกษตรสุวรรณภูมิ!K9,เกษตรอาจสามารถ!K9,เกษตรพนมไพร!K9,เกษตรเมืองสรวง!K9,เกษตรโพนทราย!K9,เกษตรเมยวดี!K9,เกษตรศรีสมเด็จ!K9,เกษตรจังหาร!K9,เกษตรเชียงขวัญ!K9,เกษตรหนองฮี!K9,เกษตรทุ่งเขาหลวง!K9) -> 20 | L14: =COUNT(เกษตรเมืองร้อยเอ็ด!L9,เกษตรธวัชบุรี!L9,เกษตรเสลภูมิ!L9,เกษตรโพนทอง!L9,เกษตรหนองพอก!L9,เกษตรโพธิ์ชัย!L9,เกษตรจตุรพักตรพิมาน!L9,เกษตรปทุมรัตต์!L9,เกษตรเกษตรวิสัย!L9,เกษตรสุวรรณภูมิ!L9,เกษตรอาจสามารถ!L9,เกษตรพนมไพร!L9,เกษตรเมืองสรวง!L9,เกษตรโพนทราย!L9,เกษตรเมยวดี!L9,เกษตรศรีสมเด็จ!L9,เกษตรจังหาร!L9,เกษตรเชียงขวัญ!L9,เกษตรหนองฮี!L9,เกษตรทุ่งเขาหลวง!L9) -> 20 | M14: =COUNT(เกษตรเมืองร้อยเอ็ด!M9,เกษตรธวัชบุรี!M9,เกษตรเสลภูมิ!M9,เกษตรโพนทอง!M9,เกษตรหนองพอก!M9,เกษตรโพธิ์ชัย!M9,เกษตรจตุรพักตรพิมาน!M9,เกษตรปทุมรัตต์!M9,เกษตรเกษตรวิสัย!M9,เกษตรสุวรรณภูมิ!M9,เกษตรอาจสามารถ!M9,เกษตรพนมไพร!M9,เกษตรเมืองสรวง!M9,เกษตรโพนทราย!M9,เกษตรเมยวดี!M9,เกษตรศรีสมเด็จ!M9,เกษตรจังหาร!M9,เกษตรเชียงขวัญ!M9,เกษตรหนองฮี!M9,เกษตรทุ่งเขาหลวง!M9) -> 20 | N14: =COUNT(เกษตรเมืองร้อยเอ็ด!N9,เกษตรธวัชบุรี!N9,เกษตรเสลภูมิ!N9,เกษตรโพนทอง!N9,เกษตรหนองพอก!N9,เกษตรโพธิ์ชัย!N9,เกษตรจตุรพักตรพิมาน!N9,เกษตรปทุมรัตต์!N9,เกษตรเกษตรวิสัย!N9,เกษตรสุวรรณภูมิ!N9,เกษตรอาจสามารถ!N9,เกษตรพนมไพร!N9,เกษตรเมืองสรวง!N9,เกษตรโพนทราย!N9,เกษตรเมยวดี!N9,เกษตรศรีสมเด็จ!N9,เกษตรจังหาร!N9,เกษตรเชียงขวัญ!N9,เกษตรหนองฮี!N9,เกษตรทุ่งเขาหลวง!N9) -> 20 | O14: =COUNT(เกษตรเมืองร้อยเอ็ด!O9,เกษตรธวัชบุรี!O9,เกษตรเสลภูมิ!O9,เกษตรโพนทอง!O9,เกษตรหนองพอก!O9,เกษตรโพธิ์ชัย!O9,เกษตรจตุรพักตรพิมาน!O9,เกษตรปทุมรัตต์!O9,เกษตรเกษตรวิสัย!O9,เกษตรสุวรรณภูมิ!O9,เกษตรอาจสามารถ!O9,เกษตรพนมไพร!O9,เกษตรเมืองสรวง!O9,เกษตรโพนทราย!O9,เกษตรเมยวดี!O9,เกษตรศรีสมเด็จ!O9,เกษตรจังหาร!O9,เกษตรเชียงขวัญ!O9,เกษตรหนองฮี!O9,เกษตรทุ่งเขาหลวง!O9) -> 20 | P14: =COUNT(เกษตรเมืองร้อยเอ็ด!P9,เกษตรธวัชบุรี!P9,เกษตรเสลภูมิ!P9,เกษตรโพนทอง!P9,เกษตรหนองพอก!P9,เกษตรโพธิ์ชัย!P9,เกษตรจตุรพักตรพิมาน!P9,เกษตรปทุมรัตต์!P9,เกษตรเกษตรวิสัย!P9,เกษตรสุวรรณภูมิ!P9,เกษตรอาจสามารถ!P9,เกษตรพนมไพร!P9,เกษตรเมืองสรวง!P9,เกษตรโพนทราย!P9,เกษตรเมยวดี!P9,เกษตรศรีสมเด็จ!P9,เกษตรจังหาร!P9,เกษตรเชียงขวัญ!P9,เกษตรหนองฮี!P9,เกษตรทุ่งเขาหลวง!P9) -> 20 | Q14: =COUNT(เกษตรเมืองร้อยเอ็ด!Q9,เกษตรธวัชบุรี!Q9,เกษตรเสลภูมิ!Q9,เกษตรโพนทอง!Q9,เกษตรหนองพอก!Q9,เกษตรโพธิ์ชัย!Q9,เกษตรจตุรพักตรพิมาน!Q9,เกษตรปทุมรัตต์!Q9,เกษตรเกษตรวิสัย!Q9,เกษตรสุวรรณภูมิ!Q9,เกษตรอาจสามารถ!Q9,เกษตรพนมไพร!Q9,เกษตรเมืองสรวง!Q9,เกษตรโพนทราย!Q9,เกษตรเมยวดี!Q9,เกษตรศรีสมเด็จ!Q9,เกษตรจังหาร!Q9,เกษตรเชียงขวัญ!Q9,เกษตรหนองฮี!Q9,เกษตรทุ่งเขาหลวง!Q9) -> 20 | R14: =COUNT(เกษตรเมืองร้อยเอ็ด!R9,เกษตรธวัชบุรี!R9,เกษตรเสลภูมิ!R9,เกษตรโพนทอง!R9,เกษตรหนองพอก!R9,เกษตรโพธิ์ชัย!R9,เกษตรจตุรพักตรพิมาน!R9,เกษตรปทุมรัตต์!R9,เกษตรเกษตรวิสัย!R9,เกษตรสุวรรณภูมิ!R9,เกษตรอาจสามารถ!R9,เกษตรพนมไพร!R9,เกษตรเมืองสรวง!R9,เกษตรโพนทราย!R9,เกษตรเมยวดี!R9,เกษตรศรีสมเด็จ!R9,เกษตรจังหาร!R9,เกษตรเชียงขวัญ!R9,เกษตรหนองฮี!R9,เกษตรทุ่งเขาหลวง!R9) -> 20
C15: ร้อยละของการรายงาน | J15: =(COUNT(เกษตรเมืองร้อยเอ็ด!J9:J13,เกษตรธวัชบุรี!J9:J13,เกษตรเสลภูมิ!J9:J13,เกษตรโพนทอง!J9:J13,เกษตรหนองพอก!J9:J13,เกษตรโพธิ์ชัย!J9:J13,เกษตรจตุรพักตรพิมาน!J9:J13,เกษตรปทุมรัตต์!J9:J13,เกษตรเกษตรวิสัย!J9:J13,เกษตรสุวรรณภูมิ!J9:J13,เกษตรอาจสามารถ!J9:J13,เกษตรพนมไพร!J9:J13,เกษตรเมืองสรวง!J9:J13,เกษตรโพนทราย!J9:J13,เกษตรเมยวดี!J9:J13,เกษตรศรีสมเด็จ!J9:J13,เกษตรจังหาร!J9:J13,เกษตรเชียงขวัญ!J9:J13,เกษตรหนองฮี!J9:J13,เกษตรทุ่งเขาหลวง!J9:J13)*100/100) -> 100 | K15: =(COUNT(เกษตรเมืองร้อยเอ็ด!K9:K13,เกษตรธวัชบุรี!K9:K13,เกษตรเสลภูมิ!K9:K13,เกษตรโพนทอง!K9:K13,เกษตรหนองพอก!K9:K13,เกษตรโพธิ์ชัย!K9:K13,เกษตรจตุรพักตรพิมาน!K9:K13,เกษตรปทุมรัตต์!K9:K13,เกษตรเกษตรวิสัย!K9:K13,เกษตรสุวรรณภูมิ!K9:K13,เกษตรอาจสามารถ!K9:K13,เกษตรพนมไพร!K9:K13,เกษตรเมืองสรวง!K9:K13,เกษตรโพนทราย!K9:K13,เกษตรเมยวดี!K9:K13,เกษตรศรีสมเด็จ!K9:K13,เกษตรจังหาร!K9:K13,เกษตรเชียงขวัญ!K9:K13,เกษตรหนองฮี!K9:K13,เกษตรทุ่งเขาหลวง!K9:K13)*100/100) -> 100 | L15: =(COUNT(เกษตรเมืองร้อยเอ็ด!L9:L13,เกษตรธวัชบุรี!L9:L13,เกษตรเสลภูมิ!L9:L13,เกษตรโพนทอง!L9:L13,เกษตรหนองพอก!L9:L13,เกษตรโพธิ์ชัย!L9:L13,เกษตรจตุรพักตรพิมาน!L9:L13,เกษตรปทุมรัตต์!L9:L13,เกษตรเกษตรวิสัย!L9:L13,เกษตรสุวรรณภูมิ!L9:L13,เกษตรอาจสามารถ!L9:L13,เกษตรพนมไพร!L9:L13,เกษตรเมืองสรวง!L9:L13,เกษตรโพนทราย!L9:L13,เกษตรเมยวดี!L9:L13,เกษตรศรีสมเด็จ!L9:L13,เกษตรจังหาร!L9:L13,เกษตรเชียงขวัญ!L9:L13,เกษตรหนองฮี!L9:L13,เกษตรทุ่งเขาหลวง!L9:L13)*100/100) -> 100 | M15: =(COUNT(เกษตรเมืองร้อยเอ็ด!M9:M13,เกษตรธวัชบุรี!M9:M13,เกษตรเสลภูมิ!M9:M13,เกษตรโพนทอง!M9:M13,เกษตรหนองพอก!M9:M13,เกษตรโพธิ์ชัย!M9:M13,เกษตรจตุรพักตรพิมาน!M9:M13,เกษตรปทุมรัตต์!M9:M13,เกษตรเกษตรวิสัย!M9:M13,เกษตรสุวรรณภูมิ!M9:M13,เกษตรอาจสามารถ!M9:M13,เกษตรพนมไพร!M9:M13,เกษตรเมืองสรวง!M9:M13,เกษตรโพนทราย!M9:M13,เกษตรเมยวดี!M9:M13,เกษตรศรีสมเด็จ!M9:M13,เกษตรจังหาร!M9:M13,เกษตรเชียงขวัญ!M9:M13,เกษตรหนองฮี!M9:M13,เกษตรทุ่งเขาหลวง!M9:M13)*100/100) -> 100 | N15: =(COUNT(เกษตรเมืองร้อยเอ็ด!N9:N13,เกษตรธวัชบุรี!N9:N13,เกษตรเสลภูมิ!N9:N13,เกษตรโพนทอง!N9:N13,เกษตรหนองพอก!N9:N13,เกษตรโพธิ์ชัย!N9:N13,เกษตรจตุรพักตรพิมาน!N9:N13,เกษตรปทุมรัตต์!N9:N13,เกษตรเกษตรวิสัย!N9:N13,เกษตรสุวรรณภูมิ!N9:N13,เกษตรอาจสามารถ!N9:N13,เกษตรพนมไพร!N9:N13,เกษตรเมืองสรวง!N9:N13,เกษตรโพนทราย!N9:N13,เกษตรเมยวดี!N9:N13,เกษตรศรีสมเด็จ!N9:N13,เกษตรจังหาร!N9:N13,เกษตรเชียงขวัญ!N9:N13,เกษตรหนองฮี!N9:N13,เกษตรทุ่งเขาหลวง!N9:N13)*100/100) -> 100 | O15: =(COUNT(เกษตรเมืองร้อยเอ็ด!O9:O13,เกษตรธวัชบุรี!O9:O13,เกษตรเสลภูมิ!O9:O13,เกษตรโพนทอง!O9:O13,เกษตรหนองพอก!O9:O13,เกษตรโพธิ์ชัย!O9:O13,เกษตรจตุรพักตรพิมาน!O9:O13,เกษตรปทุมรัตต์!O9:O13,เกษตรเกษตรวิสัย!O9:O13,เกษตรสุวรรณภูมิ!O9:O13,เกษตรอาจสามารถ!O9:O13,เกษตรพนมไพร!O9:O13,เกษตรเมืองสรวง!O9:O13,เกษตรโพนทราย!O9:O13,เกษตรเมยวดี!O9:O13,เกษตรศรีสมเด็จ!O9:O13,เกษตรจังหาร!O9:O13,เกษตรเชียงขวัญ!O9:O13,เกษตรหนองฮี!O9:O13,เกษตรทุ่งเขาหลวง!O9:O13)*100/100) -> 100 | P15: =(COUNT(เกษตรเมืองร้อยเอ็ด!P9:P13,เกษตรธวัชบุรี!P9:P13,เกษตรเสลภูมิ!P9:P13,เกษตรโพนทอง!P9:P13,เกษตรหนองพอก!P9:P13,เกษตรโพธิ์ชัย!P9:P13,เกษตรจตุรพักตรพิมาน!P9:P13,เกษตรปทุมรัตต์!P9:P13,เกษตรเกษตรวิสัย!P9:P13,เกษตรสุวรรณภูมิ!P9:P13,เกษตรอาจสามารถ!P9:P13,เกษตรพนมไพร!P9:P13,เกษตรเมืองสรวง!P9:P13,เกษตรโพนทราย!P9:P13,เกษตรเมยวดี!P9:P13,เกษตรศรีสมเด็จ!P9:P13,เกษตรจังหาร!P9:P13,เกษตรเชียงขวัญ!P9:P13,เกษตรหนองฮี!P9:P13,เกษตรทุ่งเขาหลวง!P9:P13)*100/100) -> 100 | Q15: =(COUNT(เกษตรเมืองร้อยเอ็ด!Q9:Q13,เกษตรธวัชบุรี!Q9:Q13,เกษตรเสลภูมิ!Q9:Q13,เกษตรโพนทอง!Q9:Q13,เกษตรหนองพอก!Q9:Q13,เกษตรโพธิ์ชัย!Q9:Q13,เกษตรจตุรพักตรพิมาน!Q9:Q13,เกษตรปทุมรัตต์!Q9:Q13,เกษตรเกษตรวิสัย!Q9:Q13,เกษตรสุวรรณภูมิ!Q9:Q13,เกษตรอาจสามารถ!Q9:Q13,เกษตรพนมไพร!Q9:Q13,เกษตรเมืองสรวง!Q9:Q13,เกษตรโพนทราย!Q9:Q13,เกษตรเมยวดี!Q9:Q13,เกษตรศรีสมเด็จ!Q9:Q13,เกษตรจังหาร!Q9:Q13,เกษตรเชียงขวัญ!Q9:Q13,เกษตรหนองฮี!Q9:Q13,เกษตรทุ่งเขาหลวง!Q9:Q13)*100/100) -> 100 | R15: =(COUNT(เกษตรเมืองร้อยเอ็ด!R9:R13,เกษตรธวัชบุรี!R9:R13,เกษตรเสลภูมิ!R9:R13,เกษตรโพนทอง!R9:R13,เกษตรหนองพอก!R9:R13,เกษตรโพธิ์ชัย!R9:R13,เกษตรจตุรพักตรพิมาน!R9:R13,เกษตรปทุมรัตต์!R9:R13,เกษตรเกษตรวิสัย!R9:R13,เกษตรสุวรรณภูมิ!R9:R13,เกษตรอาจสามารถ!R9:R13,เกษตรพนมไพร!R9:R13,เกษตรเมืองสรวง!R9:R13,เกษตรโพนทราย!R9:R13,เกษตรเมยวดี!R9:R13,เกษตรศรีสมเด็จ!R9:R13,เกษตรจังหาร!R9:R13,เกษตรเชียงขวัญ!R9:R13,เกษตรหนองฮี!R9:R13,เกษตรทุ่งเขาหลวง!R9:R13)*100/100) -> 100
B17: งานบริการ การจดทะเบียนวิสาหกิจชุมชนและเครือข่ายวิสาหกิจชุมชน กรณีจดทะเบียน ณ สำนักงานเกษตรอำเภอ/กิ่งอำเภอ/สำนักงานเกษตรพื้นที่ (กทม.)
B18: ลำดับที่ | C18: รายการ | D18: ปี 2563 | G18: ปีงบประมาณ 2564
D19: ไตรมาส 1/63 | G19: ไตรมาส 1/64 | J19: ไตรมาส 2/64 | M19: ไตรมาส 3/64 | P19: ไตรมาส 4/64 | S19: รวม | T19: เฉลี่ย
D20: ก.ค. | E20: ส.ค. | F20: ก.ย. | G20: ต.ค. | H20: พ.ย. | I20: ธ.ค. | J20: ม.ค. | K20: ก.พ. | L20: มี.ค. | M20: เม.ย. | N20: พ.ค. | O20: มิ.ค. | P20: ก.ค. | Q20: ส.ค. | R20: ก.ย.
B21: 1 | C21: จำนวนคำขอที่ได้รับการอนุมัติ | D21: - | E21: - | F21: - | G21: - | H21: - | I21: - | J21: =SUM(เกษตรเมืองร้อยเอ็ด!J21,เกษตรธวัชบุรี!J21,เกษตรเสลภูมิ!J21,เกษตรโพนทอง!J21,เกษตรหนองพอก!J21,เกษตรโพธิ์ชัย!J21,เกษตรจตุรพักตรพิมาน!J21,เกษตรปทุมรัตต์!J21,เกษตรเกษตรวิสัย!J21,เกษตรสุวรรณภูมิ!J21,เกษตรอาจสามารถ!J21,เกษตรพนมไพร!J21,เกษตรเมืองสรวง!J21,เกษตรโพนทราย!J21,เกษตรเมยวดี!J21,เกษตรศรีสมเด็จ!J21,เกษตรจังหาร!J21,เกษตรเชียงขวัญ!J21,เกษตรหนองฮี!J21,เกษตรทุ่งเขาหลวง!J21) -> 25 | K21: =SUM(เกษตรเมืองร้อยเอ็ด!K21,เกษตรธวัชบุรี!K21,เกษตรเสลภูมิ!K21,เกษตรโพนทอง!K21,เกษตรหนองพอก!K21,เกษตรโพธิ์ชัย!K21,เกษตรจตุรพักตรพิมาน!K21,เกษตรปทุมรัตต์!K21,เกษตรเกษตรวิสัย!K21,เกษตรสุวรรณภูมิ!K21,เกษตรอาจสามารถ!K21,เกษตรพนมไพร!K21,เกษตรเมืองสรวง!K21,เกษตรโพนทราย!K21,เกษตรเมยวดี!K21,เกษตรศรีสมเด็จ!K21,เกษตรจังหาร!K21,เกษตรเชียงขวัญ!K21,เกษตรหนองฮี!K21,เกษตรทุ่งเขาหลวง!K21) -> 29 | L21: =SUM(เกษตรเมืองร้อยเอ็ด!L21,เกษตรธวัชบุรี!L21,เกษตรเสลภูมิ!L21,เกษตรโพนทอง!L21,เกษตรหนองพอก!L21,เกษตรโพธิ์ชัย!L21,เกษตรจตุรพักตรพิมาน!L21,เกษตรปทุมรัตต์!L21,เกษตรเกษตรวิสัย!L21,เกษตรสุวรรณภูมิ!L21,เกษตรอาจสามารถ!L21,เกษตรพนมไพร!L21,เกษตรเมืองสรวง!L21,เกษตรโพนทราย!L21,เกษตรเมยวดี!L21,เกษตรศรีสมเด็จ!L21,เกษตรจังหาร!L21,เกษตรเชียงขวัญ!L21,เกษตรหนองฮี!L21,เกษตรทุ่งเขาหลวง!L21) -> 38 | M21: =SUM(เกษตรเมืองร้อยเอ็ด!M21,เกษตรธวัชบุรี!M21,เกษตรเสลภูมิ!M21,เกษตรโพนทอง!M21,เกษตรหนองพอก!M21,เกษตรโพธิ์ชัย!M21,เกษตรจตุรพักตรพิมาน!M21,เกษตรปทุมรัตต์!M21,เกษตรเกษตรวิสัย!M21,เกษตรสุวรรณภูมิ!M21,เกษตรอาจสามารถ!M21,เกษตรพนมไพร!M21,เกษตรเมืองสรวง!M21,เกษตรโพนทราย!M21,เกษตรเมยวดี!M21,เกษตรศรีสมเด็จ!M21,เกษตรจังหาร!M21,เกษตรเชียงขวัญ!M21,เกษตรหนองฮี!M21,เกษตรทุ่งเขาหลวง!M21) -> 89 | N21: =SUM(เกษตรเมืองร้อยเอ็ด!N21,เกษตรธวัชบุรี!N21,เกษตรเสลภูมิ!N21,เกษตรโพนทอง!N21,เกษตรหนองพอก!N21,เกษตรโพธิ์ชัย!N21,เกษตรจตุรพักตรพิมาน!N21,เกษตรปทุมรัตต์!N21,เกษตรเกษตรวิสัย!N21,เกษตรสุวรรณภูมิ!N21,เกษตรอาจสามารถ!N21,เกษตรพนมไพร!N21,เกษตรเมืองสรวง!N21,เกษตรโพนทราย!N21,เกษตรเมยวดี!N21,เกษตรศรีสมเด็จ!N21,เกษตรจังหาร!N21,เกษตรเชียงขวัญ!N21,เกษตรหนองฮี!N21,เกษตรทุ่งเขาหลวง!N21) -> 65 | O21: =SUM(เกษตรเมืองร้อยเอ็ด!O21,เกษตรธวัชบุรี!O21,เกษตรเสลภูมิ!O21,เกษตรโพนทอง!O21,เกษตรหนองพอก!O21,เกษตรโพธิ์ชัย!O21,เกษตรจตุรพักตรพิมาน!O21,เกษตรปทุมรัตต์!O21,เกษตรเกษตรวิสัย!O21,เกษตรสุวรรณภูมิ!O21,เกษตรอาจสามารถ!O21,เกษตรพนมไพร!O21,เกษตรเมืองสรวง!O21,เกษตรโพนทราย!O21,เกษตรเมยวดี!O21,เกษตรศรีสมเด็จ!O21,เกษตรจังหาร!O21,เกษตรเชียงขวัญ!O21,เกษตรหนองฮี!O21,เกษตรทุ่งเขาหลวง!O21) -> 24 | P21: =SUM(เกษตรเมืองร้อยเอ็ด!P21,เกษตรธวัชบุรี!P21,เกษตรเสลภูมิ!P21,เกษตรโพนทอง!P21,เกษตรหนองพอก!P21,เกษตรโพธิ์ชัย!P21,เกษตรจตุรพักตรพิมาน!P21,เกษตรปทุมรัตต์!P21,เกษตรเกษตรวิสัย!P21,เกษตรสุวรรณภูมิ!P21,เกษตรอาจสามารถ!P21,เกษตรพนมไพร!P21,เกษตรเมืองสรวง!P21,เกษตรโพนทราย!P21,เกษตรเมยวดี!P21,เกษตรศรีสมเด็จ!P21,เกษตรจังหาร!P21,เกษตรเชียงขวัญ!P21,เกษตรหนองฮี!P21,เกษตรทุ่งเขาหลวง!P21) -> 21 | Q21: =SUM(เกษตรเมืองร้อยเอ็ด!Q21,เกษตรธวัชบุรี!Q21,เกษตรเสลภูมิ!Q21,เกษตรโพนทอง!Q21,เกษตรหนองพอก!Q21,เกษตรโพธิ์ชัย!Q21,เกษตรจตุรพักตรพิมาน!Q21,เกษตรปทุมรัตต์!Q21,เกษตรเกษตรวิสัย!Q21,เกษตรสุวรรณภูมิ!Q21,เกษตรอาจสามารถ!Q21,เกษตรพนมไพร!Q21,เกษตรเมืองสรวง!Q21,เกษตรโพนทราย!Q21,เกษตรเมยวดี!Q21,เกษตรศรีสมเด็จ!Q21,เกษตรจังหาร!Q21,เกษตรเชียงขวัญ!Q21,เกษตรหนองฮี!Q21,เกษตรทุ่งเขาหลวง!Q21) -> 24 | R21: =SUM(เกษตรเมืองร้อยเอ็ด!R21,เกษตรธวัชบุรี!R21,เกษตรเสลภูมิ!R21,เกษตรโพนทอง!R21,เกษตรหนองพอก!R21,เกษตรโพธิ์ชัย!R21,เกษตรจตุรพักตรพิมาน!R21,เกษตรปทุมรัตต์!R21,เกษตรเกษตรวิสัย!R21,เกษตรสุวรรณภูมิ!R21,เกษตรอาจสามารถ!R21,เกษตรพนมไพร!R21,เกษตรเมืองสรวง!R21,เกษตรโพนทราย!R21,เกษตรเมยวดี!R21,เกษตรศรีสมเด็จ!R21,เกษตรจังหาร!R21,เกษตรเชียงขวัญ!R21,เกษตรหนองฮี!R21,เกษตรทุ่งเขาหลวง!R21) -> 32 | S21: =SUM(D21:R21) -> 347 | T21: =AVERAGE(D21:R21) -> 38.555556
B22: 2 | C22: จำนวนคำขอที่ไม่ได้รับการอนุมัติ | D22: - | E22: - | F22: - | G22: - | H22: - | I22: - | J22: =SUM(เกษตรเมืองร้อยเอ็ด!J22,เกษตรธวัชบุรี!J22,เกษตรเสลภูมิ!J22,เกษตรโพนทอง!J22,เกษตรหนองพอก!J22,เกษตรโพธิ์ชัย!J22,เกษตรจตุรพักตรพิมาน!J22,เกษตรปทุมรัตต์!J22,เกษตรเกษตรวิสัย!J22,เกษตรสุวรรณภูมิ!J22,เกษตรอาจสามารถ!J22,เกษตรพนมไพร!J22,เกษตรเมืองสรวง!J22,เกษตรโพนทราย!J22,เกษตรเมยวดี!J22,เกษตรศรีสมเด็จ!J22,เกษตรจังหาร!J22,เกษตรเชียงขวัญ!J22,เกษตรหนองฮี!J22,เกษตรทุ่งเขาหลวง!J22) -> 0 | K22: =SUM(เกษตรเมืองร้อยเอ็ด!K22,เกษตรธวัชบุรี!K22,เกษตรเสลภูมิ!K22,เกษตรโพนทอง!K22,เกษตรหนองพอก!K22,เกษตรโพธิ์ชัย!K22,เกษตรจตุรพักตรพิมาน!K22,เกษตรปทุมรัตต์!K22,เกษตรเกษตรวิสัย!K22,เกษตรสุวรรณภูมิ!K22,เกษตรอาจสามารถ!K22,เกษตรพนมไพร!K22,เกษตรเมืองสรวง!K22,เกษตรโพนทราย!K22,เกษตรเมยวดี!K22,เกษตรศรีสมเด็จ!K22,เกษตรจังหาร!K22,เกษตรเชียงขวัญ!K22,เกษตรหนองฮี!K22,เกษตรทุ่งเขาหลวง!K22) -> 0 | L22: =SUM(เกษตรเมืองร้อยเอ็ด!L22,เกษตรธวัชบุรี!L22,เกษตรเสลภูมิ!L22,เกษตรโพนทอง!L22,เกษตรหนองพอก!L22,เกษตรโพธิ์ชัย!L22,เกษตรจตุรพักตรพิมาน!L22,เกษตรปทุมรัตต์!L22,เกษตรเกษตรวิสัย!L22,เกษตรสุวรรณภูมิ!L22,เกษตรอาจสามารถ!L22,เกษตรพนมไพร!L22,เกษตรเมืองสรวง!L22,เกษตรโพนทราย!L22,เกษตรเมยวดี!L22,เกษตรศรีสมเด็จ!L22,เกษตรจังหาร!L22,เกษตรเชียงขวัญ!L22,เกษตรหนองฮี!L22,เกษตรทุ่งเขาหลวง!L22) -> 0 | M22: =SUM(เกษตรเมืองร้อยเอ็ด!M22,เกษตรธวัชบุรี!M22,เกษตรเสลภูมิ!M22,เกษตรโพนทอง!M22,เกษตรหนองพอก!M22,เกษตรโพธิ์ชัย!M22,เกษตรจตุรพักตรพิมาน!M22,เกษตรปทุมรัตต์!M22,เกษตรเกษตรวิสัย!M22,เกษตรสุวรรณภูมิ!M22,เกษตรอาจสามารถ!M22,เกษตรพนมไพร!M22,เกษตรเมืองสรวง!M22,เกษตรโพนทราย!M22,เกษตรเมยวดี!M22,เกษตรศรีสมเด็จ!M22,เกษตรจังหาร!M22,เกษตรเชียงขวัญ!M22,เกษตรหนองฮี!M22,เกษตรทุ่งเขาหลวง!M22) -> 0 | N22: =SUM(เกษตรเมืองร้อยเอ็ด!N22,เกษตรธวัชบุรี!N22,เกษตรเสลภูมิ!N22,เกษตรโพนทอง!N22,เกษตรหนองพอก!N22,เกษตรโพธิ์ชัย!N22,เกษตรจตุรพักตรพิมาน!N22,เกษตรปทุมรัตต์!N22,เกษตรเกษตรวิสัย!N22,เกษตรสุวรรณภูมิ!N22,เกษตรอาจสามารถ!N22,เกษตรพนมไพร!N22,เกษตรเมืองสรวง!N22,เกษตรโพนทราย!N22,เกษตรเมยวดี!N22,เกษตรศรีสมเด็จ!N22,เกษตรจังหาร!N22,เกษตรเชียงขวัญ!N22,เกษตรหนองฮี!N22,เกษตรทุ่งเขาหลวง!N22) -> 0 | O22: =SUM(เกษตรเมืองร้อยเอ็ด!O22,เกษตรธวัชบุรี!O22,เกษตรเสลภูมิ!O22,เกษตรโพนทอง!O22,เกษตรหนองพอก!O22,เกษตรโพธิ์ชัย!O22,เกษตรจตุรพักตรพิมาน!O22,เกษตรปทุมรัตต์!O22,เกษตรเกษตรวิสัย!O22,เกษตรสุวรรณภูมิ!O22,เกษตรอาจสามารถ!O22,เกษตรพนมไพร!O22,เกษตรเมืองสรวง!O22,เกษตรโพนทราย!O22,เกษตรเมยวดี!O22,เกษตรศรีสมเด็จ!O22,เกษตรจังหาร!O22,เกษตรเชียงขวัญ!O22,เกษตรหนองฮี!O22,เกษตรทุ่งเขาหลวง!O22) -> 0 | P22: =SUM(เกษตรเมืองร้อยเอ็ด!P22,เกษตรธวัชบุรี!P22,เกษตรเสลภูมิ!P22,เกษตรโพนทอง!P22,เกษตรหนองพอก!P22,เกษตรโพธิ์ชัย!P22,เกษตรจตุรพักตรพิมาน!P22,เกษตรปทุมรัตต์!P22,เกษตรเกษตรวิสัย!P22,เกษตรสุวรรณภูมิ!P22,เกษตรอาจสามารถ!P22,เกษตรพนมไพร!P22,เกษตรเมืองสรวง!P22,เกษตรโพนทราย!P22,เกษตรเมยวดี!P22,เกษตรศรีสมเด็จ!P22,เกษตรจังหาร!P22,เกษตรเชียงขวัญ!P22,เกษตรหนองฮี!P22,เกษตรทุ่งเขาหลวง!P22) -> 0 | Q22: =SUM(เกษตรเมืองร้อยเอ็ด!Q22,เกษตรธวัชบุรี!Q22,เกษตรเสลภูมิ!Q22,เกษตรโพนทอง!Q22,เกษตรหนองพอก!Q22,เกษตรโพธิ์ชัย!Q22,เกษตรจตุรพักตรพิมาน!Q22,เกษตรปทุมรัตต์!Q22,เกษตรเกษตรวิสัย!Q22,เกษตรสุวรรณภูมิ!Q22,เกษตรอาจสามารถ!Q22,เกษตรพนมไพร!Q22,เกษตรเมืองสรวง!Q22,เกษตรโพนทราย!Q22,เกษตรเมยวดี!Q22,เกษตรศรีสมเด็จ!Q22,เกษตรจังหาร!Q22,เกษตรเชียงขวัญ!Q22,เกษตรหนองฮี!Q22,เกษตรทุ่งเขาหลวง!Q22) -> 0 | R22: =SUM(เกษตรเมืองร้อยเอ็ด!R22,เกษตรธวัชบุรี!R22,เกษตรเสลภูมิ!R22,เกษตรโพนทอง!R22,เกษตรหนองพอก!R22,เกษตรโพธิ์ชัย!R22,เกษตรจตุรพักตรพิมาน!R22,เกษตรปทุมรัตต์!R22,เกษตรเกษตรวิสัย!R22,เกษตรสุวรรณภูมิ!R22,เกษตรอาจสามารถ!R22,เกษตรพนมไพร!R22,เกษตรเมืองสรวง!R22,เกษตรโพนทราย!R22,เกษตรเมยวดี!R22,เกษตรศรีสมเด็จ!R22,เกษตรจังหาร!R22,เกษตรเชียงขวัญ!R22,เกษตรหนองฮี!R22,เกษตรทุ่งเขาหลวง!R22) -> 0 | S22: =SUM(D22:R22) -> 0 | T22: =AVERAGE(D22:R22) -> 0
B23: 3 | C23: จำนวนคำขอที่ดำเนินการล่าช้ากว่ากำหนด | D23: - | E23: - | F23: - | G23: - | H23: - | I23: - | J23: =SUM(เกษตรเมืองร้อยเอ็ด!J23,เกษตรธวัชบุรี!J23,เกษตรเสลภูมิ!J23,เกษตรโพนทอง!J23,เกษตรหนองพอก!J23,เกษตรโพธิ์ชัย!J23,เกษตรจตุรพักตรพิมาน!J23,เกษตรปทุมรัตต์!J23,เกษตรเกษตรวิสัย!J23,เกษตรสุวรรณภูมิ!J23,เกษตรอาจสามารถ!J23,เกษตรพนมไพร!J23,เกษตรเมืองสรวง!J23,เกษตรโพนทราย!J23,เกษตรเมยวดี!J23,เกษตรศรีสมเด็จ!J23,เกษตรจังหาร!J23,เกษตรเชียงขวัญ!J23,เกษตรหนองฮี!J23,เกษตรทุ่งเขาหลวง!J23) -> 0 | K23: =SUM(เกษตรเมืองร้อยเอ็ด!K23,เกษตรธวัชบุรี!K23,เกษตรเสลภูมิ!K23,เกษตรโพนทอง!K23,เกษตรหนองพอก!K23,เกษตรโพธิ์ชัย!K23,เกษตรจตุรพักตรพิมาน!K23,เกษตรปทุมรัตต์!K23,เกษตรเกษตรวิสัย!K23,เกษตรสุวรรณภูมิ!K23,เกษตรอาจสามารถ!K23,เกษตรพนมไพร!K23,เกษตรเมืองสรวง!K23,เกษตรโพนทราย!K23,เกษตรเมยวดี!K23,เกษตรศรีสมเด็จ!K23,เกษตรจังหาร!K23,เกษตรเชียงขวัญ!K23,เกษตรหนองฮี!K23,เกษตรทุ่งเขาหลวง!K23) -> 0 | L23: =SUM(เกษตรเมืองร้อยเอ็ด!L23,เกษตรธวัชบุรี!L23,เกษตรเสลภูมิ!L23,เกษตรโพนทอง!L23,เกษตรหนองพอก!L23,เกษตรโพธิ์ชัย!L23,เกษตรจตุรพักตรพิมาน!L23,เกษตรปทุมรัตต์!L23,เกษตรเกษตรวิสัย!L23,เกษตรสุวรรณภูมิ!L23,เกษตรอาจสามารถ!L23,เกษตรพนมไพร!L23,เกษตรเมืองสรวง!L23,เกษตรโพนทราย!L23,เกษตรเมยวดี!L23,เกษตรศรีสมเด็จ!L23,เกษตรจังหาร!L23,เกษตรเชียงขวัญ!L23,เกษตรหนองฮี!L23,เกษตรทุ่งเขาหลวง!L23) -> 0 | M23: =SUM(เกษตรเมืองร้อยเอ็ด!M23,เกษตรธวัชบุรี!M23,เกษตรเสลภูมิ!M23,เกษตรโพนทอง!M23,เกษตรหนองพอก!M23,เกษตรโพธิ์ชัย!M23,เกษตรจตุรพักตรพิมาน!M23,เกษตรปทุมรัตต์!M23,เกษตรเกษตรวิสัย!M23,เกษตรสุวรรณภูมิ!M23,เกษตรอาจสามารถ!M23,เกษตรพนมไพร!M23,เกษตรเมืองสรวง!M23,เกษตรโพนทราย!M23,เกษตรเมยวดี!M23,เกษตรศรีสมเด็จ!M23,เกษตรจังหาร!M23,เกษตรเชียงขวัญ!M23,เกษตรหนองฮี!M23,เกษตรทุ่งเขาหลวง!M23) -> 0 | N23: =SUM(เกษตรเมืองร้อยเอ็ด!N23,เกษตรธวัชบุรี!N23,เกษตรเสลภูมิ!N23,เกษตรโพนทอง!N23,เกษตรหนองพอก!N23,เกษตรโพธิ์ชัย!N23,เกษตรจตุรพักตรพิมาน!N23,เกษตรปทุมรัตต์!N23,เกษตรเกษตรวิสัย!N23,เกษตรสุวรรณภูมิ!N23,เกษตรอาจสามารถ!N23,เกษตรพนมไพร!N23,เกษตรเมืองสรวง!N23,เกษตรโพนทราย!N23,เกษตรเมยวดี!N23,เกษตรศรีสมเด็จ!N23,เกษตรจังหาร!N23,เกษตรเชียงขวัญ!N23,เกษตรหนองฮี!N23,เกษตรทุ่งเขาหลวง!N23) -> 0 | O23: =SUM(เกษตรเมืองร้อยเอ็ด!O23,เกษตรธวัชบุรี!O23,เกษตรเสลภูมิ!O23,เกษตรโพนทอง!O23,เกษตรหนองพอก!O23,เกษตรโพธิ์ชัย!O23,เกษตรจตุรพักตรพิมาน!O23,เกษตรปทุมรัตต์!O23,เกษตรเกษตรวิสัย!O23,เกษตรสุวรรณภูมิ!O23,เกษตรอาจสามารถ!O23,เกษตรพนมไพร!O23,เกษตรเมืองสรวง!O23,เกษตรโพนทราย!O23,เกษตรเมยวดี!O23,เกษตรศรีสมเด็จ!O23,เกษตรจังหาร!O23,เกษตรเชียงขวัญ!O23,เกษตรหนองฮี!O23,เกษตรทุ่งเขาหลวง!O23) -> 0 | P23: =SUM(เกษตรเมืองร้อยเอ็ด!P23,เกษตรธวัชบุรี!P23,เกษตรเสลภูมิ!P23,เกษตรโพนทอง!P23,เกษตรหนองพอก!P23,เกษตรโพธิ์ชัย!P23,เกษตรจตุรพักตรพิมาน!P23,เกษตรปทุมรัตต์!P23,เกษตรเกษตรวิสัย!P23,เกษตรสุวรรณภูมิ!P23,เกษตรอาจสามารถ!P23,เกษตรพนมไพร!P23,เกษตรเมืองสรวง!P23,เกษตรโพนทราย!P23,เกษตรเมยวดี!P23,เกษตรศรีสมเด็จ!P23,เกษตรจังหาร!P23,เกษตรเชียงขวัญ!P23,เกษตรหนองฮี!P23,เกษตรทุ่งเขาหลวง!P23) -> 0 | Q23: =SUM(เกษตรเมืองร้อยเอ็ด!Q23,เกษตรธวัชบุรี!Q23,เกษตรเสลภูมิ!Q23,เกษตรโพนทอง!Q23,เกษตรหนองพอก!Q23,เกษตรโพธิ์ชัย!Q23,เกษตรจตุรพักตรพิมาน!Q23,เกษตรปทุมรัตต์!Q23,เกษตรเกษตรวิสัย!Q23,เกษตรสุวรรณภูมิ!Q23,เกษตรอาจสามารถ!Q23,เกษตรพนมไพร!Q23,เกษตรเมืองสรวง!Q23,เกษตรโพนทราย!Q23,เกษตรเมยวดี!Q23,เกษตรศรีสมเด็จ!Q23,เกษตรจังหาร!Q23,เกษตรเชียงขวัญ!Q23,เกษตรหนองฮี!Q23,เกษตรทุ่งเขาหลวง!Q23) -> 0 | R23: =SUM(เกษตรเมืองร้อยเอ็ด!R23,เกษตรธวัชบุรี!R23,เกษตรเสลภูมิ!R23,เกษตรโพนทอง!R23,เกษตรหนองพอก!R23,เกษตรโพธิ์ชัย!R23,เกษตรจตุรพักตรพิมาน!R23,เกษตรปทุมรัตต์!R23,เกษตรเกษตรวิสัย!R23,เกษตรสุวรรณภูมิ!R23,เกษตรอาจสามารถ!R23,เกษตรพนมไพร!R23,เกษตรเมืองสรวง!R23,เกษตรโพนทราย!R23,เกษตรเมยวดี!R23,เกษตรศรีสมเด็จ!R23,เกษตรจังหาร!R23,เกษตรเชียงขวัญ!R23,เกษตรหนองฮี!R23,เกษตรทุ่งเขาหลวง!R23) -> 0 | S23: =SUM(D23:R23) -> 0 | T23: =AVERAGE(D23:R23) -> 0
B24: 4 | C24: จำนวนเรื่องร้องเรียนจากประชาชน | D24: - | E24: - | F24: - | G24: - | H24: - | I24: - | J24: =SUM(เกษตรเมืองร้อยเอ็ด!J24,เกษตรธวัชบุรี!J24,เกษตรเสลภูมิ!J24,เกษตรโพนทอง!J24,เกษตรหนองพอก!J24,เกษตรโพธิ์ชัย!J24,เกษตรจตุรพักตรพิมาน!J24,เกษตรปทุมรัตต์!J24,เกษตรเกษตรวิสัย!J24,เกษตรสุวรรณภูมิ!J24,เกษตรอาจสามารถ!J24,เกษตรพนมไพร!J24,เกษตรเมืองสรวง!J24,เกษตรโพนทราย!J24,เกษตรเมยวดี!J24,เกษตรศรีสมเด็จ!J24,เกษตรจังหาร!J24,เกษตรเชียงขวัญ!J24,เกษตรหนองฮี!J24,เกษตรทุ่งเขาหลวง!J24) -> 0 | K24: =SUM(เกษตรเมืองร้อยเอ็ด!K24,เกษตรธวัชบุรี!K24,เกษตรเสลภูมิ!K24,เกษตรโพนทอง!K24,เกษตรหนองพอก!K24,เกษตรโพธิ์ชัย!K24,เกษตรจตุรพักตรพิมาน!K24,เกษตรปทุมรัตต์!K24,เกษตรเกษตรวิสัย!K24,เกษตรสุวรรณภูมิ!K24,เกษตรอาจสามารถ!K24,เกษตรพนมไพร!K24,เกษตรเมืองสรวง!K24,เกษตรโพนทราย!K24,เกษตรเมยวดี!K24,เกษตรศรีสมเด็จ!K24,เกษตรจังหาร!K24,เกษตรเชียงขวัญ!K24,เกษตรหนองฮี!K24,เกษตรทุ่งเขาหลวง!K24) -> 0 | L24: =SUM(เกษตรเมืองร้อยเอ็ด!L24,เกษตรธวัชบุรี!L24,เกษตรเสลภูมิ!L24,เกษตรโพนทอง!L24,เกษตรหนองพอก!L24,เกษตรโพธิ์ชัย!L24,เกษตรจตุรพักตรพิมาน!L24,เกษตรปทุมรัตต์!L24,เกษตรเกษตรวิสัย!L24,เกษตรสุวรรณภูมิ!L24,เกษตรอาจสามารถ!L24,เกษตรพนมไพร!L24,เกษตรเมืองสรวง!L24,เกษตรโพนทราย!L24,เกษตรเมยวดี!L24,เกษตรศรีสมเด็จ!L24,เกษตรจังหาร!L24,เกษตรเชียงขวัญ!L24,เกษตรหนองฮี!L24,เกษตรทุ่งเขาหลวง!L24) -> 0 | M24: =SUM(เกษตรเมืองร้อยเอ็ด!M24,เกษตรธวัชบุรี!M24,เกษตรเสลภูมิ!M24,เกษตรโพนทอง!M24,เกษตรหนองพอก!M24,เกษตรโพธิ์ชัย!M24,เกษตรจตุรพักตรพิมาน!M24,เกษตรปทุมรัตต์!M24,เกษตรเกษตรวิสัย!M24,เกษตรสุวรรณภูมิ!M24,เกษตรอาจสามารถ!M24,เกษตรพนมไพร!M24,เกษตรเมืองสรวง!M24,เกษตรโพนทราย!M24,เกษตรเมยวดี!M24,เกษตรศรีสมเด็จ!M24,เกษตรจังหาร!M24,เกษตรเชียงขวัญ!M24,เกษตรหนองฮี!M24,เกษตรทุ่งเขาหลวง!M24) -> 0 | N24: =SUM(เกษตรเมืองร้อยเอ็ด!N24,เกษตรธวัชบุรี!N24,เกษตรเสลภูมิ!N24,เกษตรโพนทอง!N24,เกษตรหนองพอก!N24,เกษตรโพธิ์ชัย!N24,เกษตรจตุรพักตรพิมาน!N24,เกษตรปทุมรัตต์!N24,เกษตรเกษตรวิสัย!N24,เกษตรสุวรรณภูมิ!N24,เกษตรอาจสามารถ!N24,เกษตรพนมไพร!N24,เกษตรเมืองสรวง!N24,เกษตรโพนทราย!N24,เกษตรเมยวดี!N24,เกษตรศรีสมเด็จ!N24,เกษตรจังหาร!N24,เกษตรเชียงขวัญ!N24,เกษตรหนองฮี!N24,เกษตรทุ่งเขาหลวง!N24) -> 0 | O24: =SUM(เกษตรเมืองร้อยเอ็ด!O24,เกษตรธวัชบุรี!O24,เกษตรเสลภูมิ!O24,เกษตรโพนทอง!O24,เกษตรหนองพอก!O24,เกษตรโพธิ์ชัย!O24,เกษตรจตุรพักตรพิมาน!O24,เกษตรปทุมรัตต์!O24,เกษตรเกษตรวิสัย!O24,เกษตรสุวรรณภูมิ!O24,เกษตรอาจสามารถ!O24,เกษตรพนมไพร!O24,เกษตรเมืองสรวง!O24,เกษตรโพนทราย!O24,เกษตรเมยวดี!O24,เกษตรศรีสมเด็จ!O24,เกษตรจังหาร!O24,เกษตรเชียงขวัญ!O24,เกษตรหนองฮี!O24,เกษตรทุ่งเขาหลวง!O24) -> 0 | P24: =SUM(เกษตรเมืองร้อยเอ็ด!P24,เกษตรธวัชบุรี!P24,เกษตรเสลภูมิ!P24,เกษตรโพนทอง!P24,เกษตรหนองพอก!P24,เกษตรโพธิ์ชัย!P24,เกษตรจตุรพักตรพิมาน!P24,เกษตรปทุมรัตต์!P24,เกษตรเกษตรวิสัย!P24,เกษตรสุวรรณภูมิ!P24,เกษตรอาจสามารถ!P24,เกษตรพนมไพร!P24,เกษตรเมืองสรวง!P24,เกษตรโพนทราย!P24,เกษตรเมยวดี!P24,เกษตรศรีสมเด็จ!P24,เกษตรจังหาร!P24,เกษตรเชียงขวัญ!P24,เกษตรหนองฮี!P24,เกษตรทุ่งเขาหลวง!P24) -> 0 | Q24: =SUM(เกษตรเมืองร้อยเอ็ด!Q24,เกษตรธวัชบุรี!Q24,เกษตรเสลภูมิ!Q24,เกษตรโพนทอง!Q24,เกษตรหนองพอก!Q24,เกษตรโพธิ์ชัย!Q24,เกษตรจตุรพักตรพิมาน!Q24,เกษตรปทุมรัตต์!Q24,เกษตรเกษตรวิสัย!Q24,เกษตรสุวรรณภูมิ!Q24,เกษตรอาจสามารถ!Q24,เกษตรพนมไพร!Q24,เกษตรเมืองสรวง!Q24,เกษตรโพนทราย!Q24,เกษตรเมยวดี!Q24,เกษตรศรีสมเด็จ!Q24,เกษตรจังหาร!Q24,เกษตรเชียงขวัญ!Q24,เกษตรหนองฮี!Q24,เกษตรทุ่งเขาหลวง!Q24) -> 0 | R24: =SUM(เกษตรเมืองร้อยเอ็ด!R24,เกษตรธวัชบุรี!R24,เกษตรเสลภูมิ!R24,เกษตรโพนทอง!R24,เกษตรหนองพอก!R24,เกษตรโพธิ์ชัย!R24,เกษตรจตุรพักตรพิมาน!R24,เกษตรปทุมรัตต์!R24,เกษตรเกษตรวิสัย!R24,เกษตรสุวรรณภูมิ!R24,เกษตรอาจสามารถ!R24,เกษตรพนมไพร!R24,เกษตรเมืองสรวง!R24,เกษตรโพนทราย!R24,เกษตรเมยวดี!R24,เกษตรศรีสมเด็จ!R24,เกษตรจังหาร!R24,เกษตรเชียงขวัญ!R24,เกษตรหนองฮี!R24,เกษตรทุ่งเขาหลวง!R24) -> 0 | S24: =SUM(D24:R24) -> 0 | T24: =AVERAGE(D24:R24) -> 0
B25: 5 | C25: จำนวนการดำเนินคดีที่เกี่ยวข้องกับการออกใบอนุญาต | D25: - | E25: - | F25: - | G25: - | H25: - | I25: - | J25: =SUM(เกษตรเมืองร้อยเอ็ด!J25,เกษตรธวัชบุรี!J25,เกษตรเสลภูมิ!J25,เกษตรโพนทอง!J25,เกษตรหนองพอก!J25,เกษตรโพธิ์ชัย!J25,เกษตรจตุรพักตรพิมาน!J25,เกษตรปทุมรัตต์!J25,เกษตรเกษตรวิสัย!J25,เกษตรสุวรรณภูมิ!J25,เกษตรอาจสามารถ!J25,เกษตรพนมไพร!J25,เกษตรเมืองสรวง!J25,เกษตรโพนทราย!J25,เกษตรเมยวดี!J25,เกษตรศรีสมเด็จ!J25,เกษตรจังหาร!J25,เกษตรเชียงขวัญ!J25,เกษตรหนองฮี!J25,เกษตรทุ่งเขาหลวง!J25) -> 0 | K25: =SUM(เกษตรเมืองร้อยเอ็ด!K25,เกษตรธวัชบุรี!K25,เกษตรเสลภูมิ!K25,เกษตรโพนทอง!K25,เกษตรหนองพอก!K25,เกษตรโพธิ์ชัย!K25,เกษตรจตุรพักตรพิมาน!K25,เกษตรปทุมรัตต์!K25,เกษตรเกษตรวิสัย!K25,เกษตรสุวรรณภูมิ!K25,เกษตรอาจสามารถ!K25,เกษตรพนมไพร!K25,เกษตรเมืองสรวง!K25,เกษตรโพนทราย!K25,เกษตรเมยวดี!K25,เกษตรศรีสมเด็จ!K25,เกษตรจังหาร!K25,เกษตรเชียงขวัญ!K25,เกษตรหนองฮี!K25,เกษตรทุ่งเขาหลวง!K25) -> 0 | L25: =SUM(เกษตรเมืองร้อยเอ็ด!L25,เกษตรธวัชบุรี!L25,เกษตรเสลภูมิ!L25,เกษตรโพนทอง!L25,เกษตรหนองพอก!L25,เกษตรโพธิ์ชัย!L25,เกษตรจตุรพักตรพิมาน!L25,เกษตรปทุมรัตต์!L25,เกษตรเกษตรวิสัย!L25,เกษตรสุวรรณภูมิ!L25,เกษตรอาจสามารถ!L25,เกษตรพนมไพร!L25,เกษตรเมืองสรวง!L25,เกษตรโพนทราย!L25,เกษตรเมยวดี!L25,เกษตรศรีสมเด็จ!L25,เกษตรจังหาร!L25,เกษตรเชียงขวัญ!L25,เกษตรหนองฮี!L25,เกษตรทุ่งเขาหลวง!L25) -> 0 | M25: =SUM(เกษตรเมืองร้อยเอ็ด!M25,เกษตรธวัชบุรี!M25,เกษตรเสลภูมิ!M25,เกษตรโพนทอง!M25,เกษตรหนองพอก!M25,เกษตรโพธิ์ชัย!M25,เกษตรจตุรพักตรพิมาน!M25,เกษตรปทุมรัตต์!M25,เกษตรเกษตรวิสัย!M25,เกษตรสุวรรณภูมิ!M25,เกษตรอาจสามารถ!M25,เกษตรพนมไพร!M25,เกษตรเมืองสรวง!M25,เกษตรโพนทราย!M25,เกษตรเมยวดี!M25,เกษตรศรีสมเด็จ!M25,เกษตรจังหาร!M25,เกษตรเชียงขวัญ!M25,เกษตรหนองฮี!M25,เกษตรทุ่งเขาหลวง!M25) -> 0 | N25: =SUM(เกษตรเมืองร้อยเอ็ด!N25,เกษตรธวัชบุรี!N25,เกษตรเสลภูมิ!N25,เกษตรโพนทอง!N25,เกษตรหนองพอก!N25,เกษตรโพธิ์ชัย!N25,เกษตรจตุรพักตรพิมาน!N25,เกษตรปทุมรัตต์!N25,เกษตรเกษตรวิสัย!N25,เกษตรสุวรรณภูมิ!N25,เกษตรอาจสามารถ!N25,เกษตรพนมไพร!N25,เกษตรเมืองสรวง!N25,เกษตรโพนทราย!N25,เกษตรเมยวดี!N25,เกษตรศรีสมเด็จ!N25,เกษตรจังหาร!N25,เกษตรเชียงขวัญ!N25,เกษตรหนองฮี!N25,เกษตรทุ่งเขาหลวง!N25) -> 0 | O25: =SUM(เกษตรเมืองร้อยเอ็ด!O25,เกษตรธวัชบุรี!O25,เกษตรเสลภูมิ!O25,เกษตรโพนทอง!O25,เกษตรหนองพอก!O25,เกษตรโพธิ์ชัย!O25,เกษตรจตุรพักตรพิมาน!O25,เกษตรปทุมรัตต์!O25,เกษตรเกษตรวิสัย!O25,เกษตรสุวรรณภูมิ!O25,เกษตรอาจสามารถ!O25,เกษตรพนมไพร!O25,เกษตรเมืองสรวง!O25,เกษตรโพนทราย!O25,เกษตรเมยวดี!O25,เกษตรศรีสมเด็จ!O25,เกษตรจังหาร!O25,เกษตรเชียงขวัญ!O25,เกษตรหนองฮี!O25,เกษตรทุ่งเขาหลวง!O25) -> 0 | P25: =SUM(เกษตรเมืองร้อยเอ็ด!P25,เกษตรธวัชบุรี!P25,เกษตรเสลภูมิ!P25,เกษตรโพนทอง!P25,เกษตรหนองพอก!P25,เกษตรโพธิ์ชัย!P25,เกษตรจตุรพักตรพิมาน!P25,เกษตรปทุมรัตต์!P25,เกษตรเกษตรวิสัย!P25,เกษตรสุวรรณภูมิ!P25,เกษตรอาจสามารถ!P25,เกษตรพนมไพร!P25,เกษตรเมืองสรวง!P25,เกษตรโพนทราย!P25,เกษตรเมยวดี!P25,เกษตรศรีสมเด็จ!P25,เกษตรจังหาร!P25,เกษตรเชียงขวัญ!P25,เกษตรหนองฮี!P25,เกษตรทุ่งเขาหลวง!P25) -> 0 | Q25: =SUM(เกษตรเมืองร้อยเอ็ด!Q25,เกษตรธวัชบุรี!Q25,เกษตรเสลภูมิ!Q25,เกษตรโพนทอง!Q25,เกษตรหนองพอก!Q25,เกษตรโพธิ์ชัย!Q25,เกษตรจตุรพักตรพิมาน!Q25,เกษตรปทุมรัตต์!Q25,เกษตรเกษตรวิสัย!Q25,เกษตรสุวรรณภูมิ!Q25,เกษตรอาจสามารถ!Q25,เกษตรพนมไพร!Q25,เกษตรเมืองสรวง!Q25,เกษตรโพนทราย!Q25,เกษตรเมยวดี!Q25,เกษตรศรีสมเด็จ!Q25,เกษตรจังหาร!Q25,เกษตรเชียงขวัญ!Q25,เกษตรหนองฮี!Q25,เกษตรทุ่งเขาหลวง!Q25) -> 0 | R25: =SUM(เกษตรเมืองร้อยเอ็ด!R25,เกษตรธวัชบุรี!R25,เกษตรเสลภูมิ!R25,เกษตรโพนทอง!R25,เกษตรหนองพอก!R25,เกษตรโพธิ์ชัย!R25,เกษตรจตุรพักตรพิมาน!R25,เกษตรปทุมรัตต์!R25,เกษตรเกษตรวิสัย!R25,เกษตรสุวรรณภูมิ!R25,เกษตรอาจสามารถ!R25,เกษตรพนมไพร!R25,เกษตรเมืองสรวง!R25,เกษตรโพนทราย!R25,เกษตรเมยวดี!R25,เกษตรศรีสมเด็จ!R25,เกษตรจังหาร!R25,เกษตรเชียงขวัญ!R25,เกษตรหนองฮี!R25,เกษตรทุ่งเขาหลวง!R25) -> 0 | S25: =SUM(D25:R25) -> 0 | T25: =AVERAGE(D25:R25) -> 0
C26: จำนวนหน่ายงานที่รายงาน | J26: =COUNT(เกษตรเมืองร้อยเอ็ด!J21,เกษตรธวัชบุรี!J21,เกษตรเสลภูมิ!J21,เกษตรโพนทอง!J21,เกษตรหนองพอก!J21,เกษตรโพธิ์ชัย!J21,เกษตรจตุรพักตรพิมาน!J21,เกษตรปทุมรัตต์!J21,เกษตรเกษตรวิสัย!J21,เกษตรสุวรรณภูมิ!J21,เกษตรอาจสามารถ!J21,เกษตรพนมไพร!J21,เกษตรเมืองสรวง!J21,เกษตรโพนทราย!J21,เกษตรเมยวดี!J21,เกษตรศรีสมเด็จ!J21,เกษตรจังหาร!J21,เกษตรเชียงขวัญ!J21,เกษตรหนองฮี!J21,เกษตรทุ่งเขาหลวง!J21) -> 20 | K26: =COUNT(เกษตรเมืองร้อยเอ็ด!K21,เกษตรธวัชบุรี!K21,เกษตรเสลภูมิ!K21,เกษตรโพนทอง!K21,เกษตรหนองพอก!K21,เกษตรโพธิ์ชัย!K21,เกษตรจตุรพักตรพิมาน!K21,เกษตรปทุมรัตต์!K21,เกษตรเกษตรวิสัย!K21,เกษตรสุวรรณภูมิ!K21,เกษตรอาจสามารถ!K21,เกษตรพนมไพร!K21,เกษตรเมืองสรวง!K21,เกษตรโพนทราย!K21,เกษตรเมยวดี!K21,เกษตรศรีสมเด็จ!K21,เกษตรจังหาร!K21,เกษตรเชียงขวัญ!K21,เกษตรหนองฮี!K21,เกษตรทุ่งเขาหลวง!K21) -> 20 | L26: =COUNT(เกษตรเมืองร้อยเอ็ด!L21,เกษตรธวัชบุรี!L21,เกษตรเสลภูมิ!L21,เกษตรโพนทอง!L21,เกษตรหนองพอก!L21,เกษตรโพธิ์ชัย!L21,เกษตรจตุรพักตรพิมาน!L21,เกษตรปทุมรัตต์!L21,เกษตรเกษตรวิสัย!L21,เกษตรสุวรรณภูมิ!L21,เกษตรอาจสามารถ!L21,เกษตรพนมไพร!L21,เกษตรเมืองสรวง!L21,เกษตรโพนทราย!L21,เกษตรเมยวดี!L21,เกษตรศรีสมเด็จ!L21,เกษตรจังหาร!L21,เกษตรเชียงขวัญ!L21,เกษตรหนองฮี!L21,เกษตรทุ่งเขาหลวง!L21) -> 20 | M26: =COUNT(เกษตรเมืองร้อยเอ็ด!M21,เกษตรธวัชบุรี!M21,เกษตรเสลภูมิ!M21,เกษตรโพนทอง!M21,เกษตรหนองพอก!M21,เกษตรโพธิ์ชัย!M21,เกษตรจตุรพักตรพิมาน!M21,เกษตรปทุมรัตต์!M21,เกษตรเกษตรวิสัย!M21,เกษตรสุวรรณภูมิ!M21,เกษตรอาจสามารถ!M21,เกษตรพนมไพร!M21,เกษตรเมืองสรวง!M21,เกษตรโพนทราย!M21,เกษตรเมยวดี!M21,เกษตรศรีสมเด็จ!M21,เกษตรจังหาร!M21,เกษตรเชียงขวัญ!M21,เกษตรหนองฮี!M21,เกษตรทุ่งเขาหลวง!M21) -> 20 | N26: =COUNT(เกษตรเมืองร้อยเอ็ด!N21,เกษตรธวัชบุรี!N21,เกษตรเสลภูมิ!N21,เกษตรโพนทอง!N21,เกษตรหนองพอก!N21,เกษตรโพธิ์ชัย!N21,เกษตรจตุรพักตรพิมาน!N21,เกษตรปทุมรัตต์!N21,เกษตรเกษตรวิสัย!N21,เกษตรสุวรรณภูมิ!N21,เกษตรอาจสามารถ!N21,เกษตรพนมไพร!N21,เกษตรเมืองสรวง!N21,เกษตรโพนทราย!N21,เกษตรเมยวดี!N21,เกษตรศรีสมเด็จ!N21,เกษตรจังหาร!N21,เกษตรเชียงขวัญ!N21,เกษตรหนองฮี!N21,เกษตรทุ่งเขาหลวง!N21) -> 20 | O26: =COUNT(เกษตรเมืองร้อยเอ็ด!O21,เกษตรธวัชบุรี!O21,เกษตรเสลภูมิ!O21,เกษตรโพนทอง!O21,เกษตรหนองพอก!O21,เกษตรโพธิ์ชัย!O21,เกษตรจตุรพักตรพิมาน!O21,เกษตรปทุมรัตต์!O21,เกษตรเกษตรวิสัย!O21,เกษตรสุวรรณภูมิ!O21,เกษตรอาจสามารถ!O21,เกษตรพนมไพร!O21,เกษตรเมืองสรวง!O21,เกษตรโพนทราย!O21,เกษตรเมยวดี!O21,เกษตรศรีสมเด็จ!O21,เกษตรจังหาร!O21,เกษตรเชียงขวัญ!O21,เกษตรหนองฮี!O21,เกษตรทุ่งเขาหลวง!O21) -> 20 | P26: =COUNT(เกษตรเมืองร้อยเอ็ด!P21,เกษตรธวัชบุรี!P21,เกษตรเสลภูมิ!P21,เกษตรโพนทอง!P21,เกษตรหนองพอก!P21,เกษตรโพธิ์ชัย!P21,เกษตรจตุรพักตรพิมาน!P21,เกษตรปทุมรัตต์!P21,เกษตรเกษตรวิสัย!P21,เกษตรสุวรรณภูมิ!P21,เกษตรอาจสามารถ!P21,เกษตรพนมไพร!P21,เกษตรเมืองสรวง!P21,เกษตรโพนทราย!P21,เกษตรเมยวดี!P21,เกษตรศรีสมเด็จ!P21,เกษตรจังหาร!P21,เกษตรเชียงขวัญ!P21,เกษตรหนองฮี!P21,เกษตรทุ่งเขาหลวง!P21) -> 20 | Q26: =COUNT(เกษตรเมืองร้อยเอ็ด!Q21,เกษตรธวัชบุรี!Q21,เกษตรเสลภูมิ!Q21,เกษตรโพนทอง!Q21,เกษตรหนองพอก!Q21,เกษตรโพธิ์ชัย!Q21,เกษตรจตุรพักตรพิมาน!Q21,เกษตรปทุมรัตต์!Q21,เกษตรเกษตรวิสัย!Q21,เกษตรสุวรรณภูมิ!Q21,เกษตรอาจสามารถ!Q21,เกษตรพนมไพร!Q21,เกษตรเมืองสรวง!Q21,เกษตรโพนทราย!Q21,เกษตรเมยวดี!Q21,เกษตรศรีสมเด็จ!Q21,เกษตรจังหาร!Q21,เกษตรเชียงขวัญ!Q21,เกษตรหนองฮี!Q21,เกษตรทุ่งเขาหลวง!Q21) -> 20 | R26: =COUNT(เกษตรเมืองร้อยเอ็ด!R21,เกษตรธวัชบุรี!R21,เกษตรเสลภูมิ!R21,เกษตรโพนทอง!R21,เกษตรหนองพอก!R21,เกษตรโพธิ์ชัย!R21,เกษตรจตุรพักตรพิมาน!R21,เกษตรปทุมรัตต์!R21,เกษตรเกษตรวิสัย!R21,เกษตรสุวรรณภูมิ!R21,เกษตรอาจสามารถ!R21,เกษตรพนมไพร!R21,เกษตรเมืองสรวง!R21,เกษตรโพนทราย!R21,เกษตรเมยวดี!R21,เกษตรศรีสมเด็จ!R21,เกษตรจังหาร!R21,เกษตรเชียงขวัญ!R21,เกษตรหนองฮี!R21,เกษตรทุ่งเขาหลวง!R21) -> 20
C27: ร้อยละของการรายงาน | J27: =(COUNT(เกษตรเมืองร้อยเอ็ด!J21:J25,เกษตรธวัชบุรี!J21:J25,เกษตรเสลภูมิ!J21:J25,เกษตรโพนทอง!J21:J25,เกษตรหนองพอก!J21:J25,เกษตรโพธิ์ชัย!J21:J25,เกษตรจตุรพักตรพิมาน!J21:J25,เกษตรปทุมรัตต์!J21:J25,เกษตรเกษตรวิสัย!J21:J25,เกษตรสุวรรณภูมิ!J21:J25,เกษตรอาจสามารถ!J21:J25,เกษตรพนมไพร!J21:J25,เกษตรเมืองสรวง!J21:J25,เกษตรโพนทราย!J21:J25,เกษตรเมยวดี!J21:J25,เกษตรศรีสมเด็จ!J21:J25,เกษตรจังหาร!J21:J25,เกษตรเชียงขวัญ!J21:J25,เกษตรหนองฮี!J21:J25,เกษตรทุ่งเขาหลวง!J21:J25)*100/100) -> 100 | K27: =(COUNT(เกษตรเมืองร้อยเอ็ด!K21:K25,เกษตรธวัชบุรี!K21:K25,เกษตรเสลภูมิ!K21:K25,เกษตรโพนทอง!K21:K25,เกษตรหนองพอก!K21:K25,เกษตรโพธิ์ชัย!K21:K25,เกษตรจตุรพักตรพิมาน!K21:K25,เกษตรปทุมรัตต์!K21:K25,เกษตรเกษตรวิสัย!K21:K25,เกษตรสุวรรณภูมิ!K21:K25,เกษตรอาจสามารถ!K21:K25,เกษตรพนมไพร!K21:K25,เกษตรเมืองสรวง!K21:K25,เกษตรโพนทราย!K21:K25,เกษตรเมยวดี!K21:K25,เกษตรศรีสมเด็จ!K21:K25,เกษตรจังหาร!K21:K25,เกษตรเชียงขวัญ!K21:K25,เกษตรหนองฮี!K21:K25,เกษตรทุ่งเขาหลวง!K21:K25)*100/100) -> 100 | L27: =(COUNT(เกษตรเมืองร้อยเอ็ด!L21:L25,เกษตรธวัชบุรี!L21:L25,เกษตรเสลภูมิ!L21:L25,เกษตรโพนทอง!L21:L25,เกษตรหนองพอก!L21:L25,เกษตรโพธิ์ชัย!L21:L25,เกษตรจตุรพักตรพิมาน!L21:L25,เกษตรปทุมรัตต์!L21:L25,เกษตรเกษตรวิสัย!L21:L25,เกษตรสุวรรณภูมิ!L21:L25,เกษตรอาจสามารถ!L21:L25,เกษตรพนมไพร!L21:L25,เกษตรเมืองสรวง!L21:L25,เกษตรโพนทราย!L21:L25,เกษตรเมยวดี!L21:L25,เกษตรศรีสมเด็จ!L21:L25,เกษตรจังหาร!L21:L25,เกษตรเชียงขวัญ!L21:L25,เกษตรหนองฮี!L21:L25,เกษตรทุ่งเขาหลวง!L21:L25)*100/100) -> 100 | M27: =(COUNT(เกษตรเมืองร้อยเอ็ด!M21:M25,เกษตรธวัชบุรี!M21:M25,เกษตรเสลภูมิ!M21:M25,เกษตรโพนทอง!M21:M25,เกษตรหนองพอก!M21:M25,เกษตรโพธิ์ชัย!M21:M25,เกษตรจตุรพักตรพิมาน!M21:M25,เกษตรปทุมรัตต์!M21:M25,เกษตรเกษตรวิสัย!M21:M25,เกษตรสุวรรณภูมิ!M21:M25,เกษตรอาจสามารถ!M21:M25,เกษตรพนมไพร!M21:M25,เกษตรเมืองสรวง!M21:M25,เกษตรโพนทราย!M21:M25,เกษตรเมยวดี!M21:M25,เกษตรศรีสมเด็จ!M21:M25,เกษตรจังหาร!M21:M25,เกษตรเชียงขวัญ!M21:M25,เกษตรหนองฮี!M21:M25,เกษตรทุ่งเขาหลวง!M21:M25)*100/100) -> 100 | N27: =(COUNT(เกษตรเมืองร้อยเอ็ด!N21:N25,เกษตรธวัชบุรี!N21:N25,เกษตรเสลภูมิ!N21:N25,เกษตรโพนทอง!N21:N25,เกษตรหนองพอก!N21:N25,เกษตรโพธิ์ชัย!N21:N25,เกษตรจตุรพักตรพิมาน!N21:N25,เกษตรปทุมรัตต์!N21:N25,เกษตรเกษตรวิสัย!N21:N25,เกษตรสุวรรณภูมิ!N21:N25,เกษตรอาจสามารถ!N21:N25,เกษตรพนมไพร!N21:N25,เกษตรเมืองสรวง!N21:N25,เกษตรโพนทราย!N21:N25,เกษตรเมยวดี!N21:N25,เกษตรศรีสมเด็จ!N21:N25,เกษตรจังหาร!N21:N25,เกษตรเชียงขวัญ!N21:N25,เกษตรหนองฮี!N21:N25,เกษตรทุ่งเขาหลวง!N21:N25)*100/100) -> 100 | O27: =(COUNT(เกษตรเมืองร้อยเอ็ด!O21:O25,เกษตรธวัชบุรี!O21:O25,เกษตรเสลภูมิ!O21:O25,เกษตรโพนทอง!O21:O25,เกษตรหนองพอก!O21:O25,เกษตรโพธิ์ชัย!O21:O25,เกษตรจตุรพักตรพิมาน!O21:O25,เกษตรปทุมรัตต์!O21:O25,เกษตรเกษตรวิสัย!O21:O25,เกษตรสุวรรณภูมิ!O21:O25,เกษตรอาจสามารถ!O21:O25,เกษตรพนมไพร!O21:O25,เกษตรเมืองสรวง!O21:O25,เกษตรโพนทราย!O21:O25,เกษตรเมยวดี!O21:O25,เกษตรศรีสมเด็จ!O21:O25,เกษตรจังหาร!O21:O25,เกษตรเชียงขวัญ!O21:O25,เกษตรหนองฮี!O21:O25,เกษตรทุ่งเขาหลวง!O21:O25)*100/100) -> 100 | P27: =(COUNT(เกษตรเมืองร้อยเอ็ด!P21:P25,เกษตรธวัชบุรี!P21:P25,เกษตรเสลภูมิ!P21:P25,เกษตรโพนทอง!P21:P25,เกษตรหนองพอก!P21:P25,เกษตรโพธิ์ชัย!P21:P25,เกษตรจตุรพักตรพิมาน!P21:P25,เกษตรปทุมรัตต์!P21:P25,เกษตรเกษตรวิสัย!P21:P25,เกษตรสุวรรณภูมิ!P21:P25,เกษตรอาจสามารถ!P21:P25,เกษตรพนมไพร!P21:P25,เกษตรเมืองสรวง!P21:P25,เกษตรโพนทราย!P21:P25,เกษตรเมยวดี!P21:P25,เกษตรศรีสมเด็จ!P21:P25,เกษตรจังหาร!P21:P25,เกษตรเชียงขวัญ!P21:P25,เกษตรหนองฮี!P21:P25,เกษตรทุ่งเขาหลวง!P21:P25)*100/100) -> 100 | Q27: =(COUNT(เกษตรเมืองร้อยเอ็ด!Q21:Q25,เกษตรธวัชบุรี!Q21:Q25,เกษตรเสลภูมิ!Q21:Q25,เกษตรโพนทอง!Q21:Q25,เกษตรหนองพอก!Q21:Q25,เกษตรโพธิ์ชัย!Q21:Q25,เกษตรจตุรพักตรพิมาน!Q21:Q25,เกษตรปทุมรัตต์!Q21:Q25,เกษตรเกษตรวิสัย!Q21:Q25,เกษตรสุวรรณภูมิ!Q21:Q25,เกษตรอาจสามารถ!Q21:Q25,เกษตรพนมไพร!Q21:Q25,เกษตรเมืองสรวง!Q21:Q25,เกษตรโพนทราย!Q21:Q25,เกษตรเมยวดี!Q21:Q25,เกษตรศรีสมเด็จ!Q21:Q25,เกษตรจังหาร!Q21:Q25,เกษตรเชียงขวัญ!Q21:Q25,เกษตรหนองฮี!Q21:Q25,เกษตรทุ่งเขาหลวง!Q21:Q25)*100/100) -> 100 | R27: =(COUNT(เกษตรเมืองร้อยเอ็ด!R21:R25,เกษตรธวัชบุรี!R21:R25,เกษตรเสลภูมิ!R21:R25,เกษตรโพนทอง!R21:R25,เกษตรหนองพอก!R21:R25,เกษตรโพธิ์ชัย!R21:R25,เกษตรจตุรพักตรพิมาน!R21:R25,เกษตรปทุมรัตต์!R21:R25,เกษตรเกษตรวิสัย!R21:R25,เกษตรสุวรรณภูมิ!R21:R25,เกษตรอาจสามารถ!R21:R25,เกษตรพนมไพร!R21:R25,เกษตรเมืองสรวง!R21:R25,เกษตรโพนทราย!R21:R25,เกษตรเมยวดี!R21:R25,เกษตรศรีสมเด็จ!R21:R25,เกษตรจังหาร!R21:R25,เกษตรเชียงขวัญ!R21:R25,เกษตรหนองฮี!R21:R25,เกษตรทุ่งเขาหลวง!R21:R25)*100/100) -> 100
B29: งานบริการ การขึ้นทะเบียนเกษตรกร กรณีเกษตรกรนำแปลงใหม่มาขึ้นทะเบียนด้วยตนเอง ณ สำนักงานเกษตรอำเภอ/สำนักงานเกษตรพื้นที่ (กทม.)
B30: ลำดับที่ | C30: รายการ | D30: ปี 2563 | G30: ปีงบประมาณ 2564
D31: ไตรมาส 1/63 | G31: ไตรมาส 1/64 | J31: ไตรมาส 2/64 | M31: ไตรมาส 3/64 | P31: ไตรมาส 4/64 | S31: รวม | T31: เฉลี่ย
D32: ก.ค. | E32: ส.ค. | F32: ก.ย. | G32: ต.ค. | H32: พ.ย. | I32: ธ.ค. | J32: ม.ค. | K32: ก.พ. | L32: มี.ค. | M32: เม.ย. | N32: พ.ค. | O32: มิ.ค. | P32: ก.ค. | Q32: ส.ค. | R32: ก.ย.
B33: 1 | C33: จำนวนคำขอที่ได้รับการอนุมัติ | D33: - | E33: - | F33: - | G33: - | H33: - | I33: - | J33: =SUM(เกษตรเมืองร้อยเอ็ด!J33,เกษตรธวัชบุรี!J33,เกษตรเสลภูมิ!J33,เกษตรโพนทอง!J33,เกษตรหนองพอก!J33,เกษตรโพธิ์ชัย!J33,เกษตรจตุรพักตรพิมาน!J33,เกษตรปทุมรัตต์!J33,เกษตรเกษตรวิสัย!J33,เกษตรสุวรรณภูมิ!J33,เกษตรอาจสามารถ!J33,เกษตรพนมไพร!J33,เกษตรเมืองสรวง!J33,เกษตรโพนทราย!J33,เกษตรเมยวดี!J33,เกษตรศรีสมเด็จ!J33,เกษตรจังหาร!J33,เกษตรเชียงขวัญ!J33,เกษตรหนองฮี!J33,เกษตรทุ่งเขาหลวง!J33) -> 0 | K33: =SUM(เกษตรเมืองร้อยเอ็ด!K33,เกษตรธวัชบุรี!K33,เกษตรเสลภูมิ!K33,เกษตรโพนทอง!K33,เกษตรหนองพอก!K33,เกษตรโพธิ์ชัย!K33,เกษตรจตุรพักตรพิมาน!K33,เกษตรปทุมรัตต์!K33,เกษตรเกษตรวิสัย!K33,เกษตรสุวรรณภูมิ!K33,เกษตรอาจสามารถ!K33,เกษตรพนมไพร!K33,เกษตรเมืองสรวง!K33,เกษตรโพนทราย!K33,เกษตรเมยวดี!K33,เกษตรศรีสมเด็จ!K33,เกษตรจังหาร!K33,เกษตรเชียงขวัญ!K33,เกษตรหนองฮี!K33,เกษตรทุ่งเขาหลวง!K33) -> 0 | L33: =SUM(เกษตรเมืองร้อยเอ็ด!L33,เกษตรธวัชบุรี!L33,เกษตรเสลภูมิ!L33,เกษตรโพนทอง!L33,เกษตรหนองพอก!L33,เกษตรโพธิ์ชัย!L33,เกษตรจตุรพักตรพิมาน!L33,เกษตรปทุมรัตต์!L33,เกษตรเกษตรวิสัย!L33,เกษตรสุวรรณภูมิ!L33,เกษตรอาจสามารถ!L33,เกษตรพนมไพร!L33,เกษตรเมืองสรวง!L33,เกษตรโพนทราย!L33,เกษตรเมยวดี!L33,เกษตรศรีสมเด็จ!L33,เกษตรจังหาร!L33,เกษตรเชียงขวัญ!L33,เกษตรหนองฮี!L33,เกษตรทุ่งเขาหลวง!L33) -> 0 | M33: =SUM(เกษตรเมืองร้อยเอ็ด!M33,เกษตรธวัชบุรี!M33,เกษตรเสลภูมิ!M33,เกษตรโพนทอง!M33,เกษตรหนองพอก!M33,เกษตรโพธิ์ชัย!M33,เกษตรจตุรพักตรพิมาน!M33,เกษตรปทุมรัตต์!M33,เกษตรเกษตรวิสัย!M33,เกษตรสุวรรณภูมิ!M33,เกษตรอาจสามารถ!M33,เกษตรพนมไพร!M33,เกษตรเมืองสรวง!M33,เกษตรโพนทราย!M33,เกษตรเมยวดี!M33,เกษตรศรีสมเด็จ!M33,เกษตรจังหาร!M33,เกษตรเชียงขวัญ!M33,เกษตรหนองฮี!M33,เกษตรทุ่งเขาหลวง!M33) -> 0 | N33: =SUM(เกษตรเมืองร้อยเอ็ด!N33,เกษตรธวัชบุรี!N33,เกษตรเสลภูมิ!N33,เกษตรโพนทอง!N33,เกษตรหนองพอก!N33,เกษตรโพธิ์ชัย!N33,เกษตรจตุรพักตรพิมาน!N33,เกษตรปทุมรัตต์!N33,เกษตรเกษตรวิสัย!N33,เกษตรสุวรรณภูมิ!N33,เกษตรอาจสามารถ!N33,เกษตรพนมไพร!N33,เกษตรเมืองสรวง!N33,เกษตรโพนทราย!N33,เกษตรเมยวดี!N33,เกษตรศรีสมเด็จ!N33,เกษตรจังหาร!N33,เกษตรเชียงขวัญ!N33,เกษตรหนองฮี!N33,เกษตรทุ่งเขาหลวง!N33) -> 541 | O33: =SUM(เกษตรเมืองร้อยเอ็ด!O33,เกษตรธวัชบุรี!O33,เกษตรเสลภูมิ!O33,เกษตรโพนทอง!O33,เกษตรหนองพอก!O33,เกษตรโพธิ์ชัย!O33,เกษตรจตุรพักตรพิมาน!O33,เกษตรปทุมรัตต์!O33,เกษตรเกษตรวิสัย!O33,เกษตรสุวรรณภูมิ!O33,เกษตรอาจสามารถ!O33,เกษตรพนมไพร!O33,เกษตรเมืองสรวง!O33,เกษตรโพนทราย!O33,เกษตรเมยวดี!O33,เกษตรศรีสมเด็จ!O33,เกษตรจังหาร!O33,เกษตรเชียงขวัญ!O33,เกษตรหนองฮี!O33,เกษตรทุ่งเขาหลวง!O33) -> 840 | P33: =SUM(เกษตรเมืองร้อยเอ็ด!P33,เกษตรธวัชบุรี!P33,เกษตรเสลภูมิ!P33,เกษตรโพนทอง!P33,เกษตรหนองพอก!P33,เกษตรโพธิ์ชัย!P33,เกษตรจตุรพักตรพิมาน!P33,เกษตรปทุมรัตต์!P33,เกษตรเกษตรวิสัย!P33,เกษตรสุวรรณภูมิ!P33,เกษตรอาจสามารถ!P33,เกษตรพนมไพร!P33,เกษตรเมืองสรวง!P33,เกษตรโพนทราย!P33,เกษตรเมยวดี!P33,เกษตรศรีสมเด็จ!P33,เกษตรจังหาร!P33,เกษตรเชียงขวัญ!P33,เกษตรหนองฮี!P33,เกษตรทุ่งเขาหลวง!P33) -> 142 | Q33: =SUM(เกษตรเมืองร้อยเอ็ด!Q33,เกษตรธวัชบุรี!Q33,เกษตรเสลภูมิ!Q33,เกษตรโพนทอง!Q33,เกษตรหนองพอก!Q33,เกษตรโพธิ์ชัย!Q33,เกษตรจตุรพักตรพิมาน!Q33,เกษตรปทุมรัตต์!Q33,เกษตรเกษตรวิสัย!Q33,เกษตรสุวรรณภูมิ!Q33,เกษตรอาจสามารถ!Q33,เกษตรพนมไพร!Q33,เกษตรเมืองสรวง!Q33,เกษตรโพนทราย!Q33,เกษตรเมยวดี!Q33,เกษตรศรีสมเด็จ!Q33,เกษตรจังหาร!Q33,เกษตรเชียงขวัญ!Q33,เกษตรหนองฮี!Q33,เกษตรทุ่งเขาหลวง!Q33) -> 466 | R33: =SUM(เกษตรเมืองร้อยเอ็ด!R33,เกษตรธวัชบุรี!R33,เกษตรเสลภูมิ!R33,เกษตรโพนทอง!R33,เกษตรหนองพอก!R33,เกษตรโพธิ์ชัย!R33,เกษตรจตุรพักตรพิมาน!R33,เกษตรปทุมรัตต์!R33,เกษตรเกษตรวิสัย!R33,เกษตรสุวรรณภูมิ!R33,เกษตรอาจสามารถ!R33,เกษตรพนมไพร!R33,เกษตรเมืองสรวง!R33,เกษตรโพนทราย!R33,เกษตรเมยวดี!R33,เกษตรศรีสมเด็จ!R33,เกษตรจังหาร!R33,เกษตรเชียงขวัญ!R33,เกษตรหนองฮี!R33,เกษตรทุ่งเขาหลวง!R33) -> 152 | S33: =SUM(D33:R33) -> 2141 | T33: =AVERAGE(D33:R33) -> 237.88889
B34: 2 | C34: จำนวนคำขอที่ไม่ได้รับการอนุมัติ | D34: - | E34: - | F34: - | G34: - | H34: - | I34: - | J34: =SUM(เกษตรเมืองร้อยเอ็ด!J34,เกษตรธวัชบุรี!J34,เกษตรเสลภูมิ!J34,เกษตรโพนทอง!J34,เกษตรหนองพอก!J34,เกษตรโพธิ์ชัย!J34,เกษตรจตุรพักตรพิมาน!J34,เกษตรปทุมรัตต์!J34,เกษตรเกษตรวิสัย!J34,เกษตรสุวรรณภูมิ!J34,เกษตรอาจสามารถ!J34,เกษตรพนมไพร!J34,เกษตรเมืองสรวง!J34,เกษตรโพนทราย!J34,เกษตรเมยวดี!J34,เกษตรศรีสมเด็จ!J34,เกษตรจังหาร!J34,เกษตรเชียงขวัญ!J34,เกษตรหนองฮี!J34,เกษตรทุ่งเขาหลวง!J34) -> 0 | K34: =SUM(เกษตรเมืองร้อยเอ็ด!K34,เกษตรธวัชบุรี!K34,เกษตรเสลภูมิ!K34,เกษตรโพนทอง!K34,เกษตรหนองพอก!K34,เกษตรโพธิ์ชัย!K34,เกษตรจตุรพักตรพิมาน!K34,เกษตรปทุมรัตต์!K34,เกษตรเกษตรวิสัย!K34,เกษตรสุวรรณภูมิ!K34,เกษตรอาจสามารถ!K34,เกษตรพนมไพร!K34,เกษตรเมืองสรวง!K34,เกษตรโพนทราย!K34,เกษตรเมยวดี!K34,เกษตรศรีสมเด็จ!K34,เกษตรจังหาร!K34,เกษตรเชียงขวัญ!K34,เกษตรหนองฮี!K34,เกษตรทุ่งเขาหลวง!K34) -> 0 | L34: =SUM(เกษตรเมืองร้อยเอ็ด!L34,เกษตรธวัชบุรี!L34,เกษตรเสลภูมิ!L34,เกษตรโพนทอง!L34,เกษตรหนองพอก!L34,เกษตรโพธิ์ชัย!L34,เกษตรจตุรพักตรพิมาน!L34,เกษตรปทุมรัตต์!L34,เกษตรเกษตรวิสัย!L34,เกษตรสุวรรณภูมิ!L34,เกษตรอาจสามารถ!L34,เกษตรพนมไพร!L34,เกษตรเมืองสรวง!L34,เกษตรโพนทราย!L34,เกษตรเมยวดี!L34,เกษตรศรีสมเด็จ!L34,เกษตรจังหาร!L34,เกษตรเชียงขวัญ!L34,เกษตรหนองฮี!L34,เกษตรทุ่งเขาหลวง!L34) -> 0 | M34: =SUM(เกษตรเมืองร้อยเอ็ด!M34,เกษตรธวัชบุรี!M34,เกษตรเสลภูมิ!M34,เกษตรโพนทอง!M34,เกษตรหนองพอก!M34,เกษตรโพธิ์ชัย!M34,เกษตรจตุรพักตรพิมาน!M34,เกษตรปทุมรัตต์!M34,เกษตรเกษตรวิสัย!M34,เกษตรสุวรรณภูมิ!M34,เกษตรอาจสามารถ!M34,เกษตรพนมไพร!M34,เกษตรเมืองสรวง!M34,เกษตรโพนทราย!M34,เกษตรเมยวดี!M34,เกษตรศรีสมเด็จ!M34,เกษตรจังหาร!M34,เกษตรเชียงขวัญ!M34,เกษตรหนองฮี!M34,เกษตรทุ่งเขาหลวง!M34) -> 0 | N34: =SUM(เกษตรเมืองร้อยเอ็ด!N34,เกษตรธวัชบุรี!N34,เกษตรเสลภูมิ!N34,เกษตรโพนทอง!N34,เกษตรหนองพอก!N34,เกษตรโพธิ์ชัย!N34,เกษตรจตุรพักตรพิมาน!N34,เกษตรปทุมรัตต์!N34,เกษตรเกษตรวิสัย!N34,เกษตรสุวรรณภูมิ!N34,เกษตรอาจสามารถ!N34,เกษตรพนมไพร!N34,เกษตรเมืองสรวง!N34,เกษตรโพนทราย!N34,เกษตรเมยวดี!N34,เกษตรศรีสมเด็จ!N34,เกษตรจังหาร!N34,เกษตรเชียงขวัญ!N34,เกษตรหนองฮี!N34,เกษตรทุ่งเขาหลวง!N34) -> 15 | O34: =SUM(เกษตรเมืองร้อยเอ็ด!O34,เกษตรธวัชบุรี!O34,เกษตรเสลภูมิ!O34,เกษตรโพนทอง!O34,เกษตรหนองพอก!O34,เกษตรโพธิ์ชัย!O34,เกษตรจตุรพักตรพิมาน!O34,เกษตรปทุมรัตต์!O34,เกษตรเกษตรวิสัย!O34,เกษตรสุวรรณภูมิ!O34,เกษตรอาจสามารถ!O34,เกษตรพนมไพร!O34,เกษตรเมืองสรวง!O34,เกษตรโพนทราย!O34,เกษตรเมยวดี!O34,เกษตรศรีสมเด็จ!O34,เกษตรจังหาร!O34,เกษตรเชียงขวัญ!O34,เกษตรหนองฮี!O34,เกษตรทุ่งเขาหลวง!O34) -> 0 | P34: =SUM(เกษตรเมืองร้อยเอ็ด!P34,เกษตรธวัชบุรี!P34,เกษตรเสลภูมิ!P34,เกษตรโพนทอง!P34,เกษตรหนองพอก!P34,เกษตรโพธิ์ชัย!P34,เกษตรจตุรพักตรพิมาน!P34,เกษตรปทุมรัตต์!P34,เกษตรเกษตรวิสัย!P34,เกษตรสุวรรณภูมิ!P34,เกษตรอาจสามารถ!P34,เกษตรพนมไพร!P34,เกษตรเมืองสรวง!P34,เกษตรโพนทราย!P34,เกษตรเมยวดี!P34,เกษตรศรีสมเด็จ!P34,เกษตรจังหาร!P34,เกษตรเชียงขวัญ!P34,เกษตรหนองฮี!P34,เกษตรทุ่งเขาหลวง!P34) -> 17 | Q34: =SUM(เกษตรเมืองร้อยเอ็ด!Q34,เกษตรธวัชบุรี!Q34,เกษตรเสลภูมิ!Q34,เกษตรโพนทอง!Q34,เกษตรหนองพอก!Q34,เกษตรโพธิ์ชัย!Q34,เกษตรจตุรพักตรพิมาน!Q34,เกษตรปทุมรัตต์!Q34,เกษตรเกษตรวิสัย!Q34,เกษตรสุวรรณภูมิ!Q34,เกษตรอาจสามารถ!Q34,เกษตรพนมไพร!Q34,เกษตรเมืองสรวง!Q34,เกษตรโพนทราย!Q34,เกษตรเมยวดี!Q34,เกษตรศรีสมเด็จ!Q34,เกษตรจังหาร!Q34,เกษตรเชียงขวัญ!Q34,เกษตรหนองฮี!Q34,เกษตรทุ่งเขาหลวง!Q34) -> 21 | R34: =SUM(เกษตรเมืองร้อยเอ็ด!R34,เกษตรธวัชบุรี!R34,เกษตรเสลภูมิ!R34,เกษตรโพนทอง!R34,เกษตรหนองพอก!R34,เกษตรโพธิ์ชัย!R34,เกษตรจตุรพักตรพิมาน!R34,เกษตรปทุมรัตต์!R34,เกษตรเกษตรวิสัย!R34,เกษตรสุวรรณภูมิ!R34,เกษตรอาจสามารถ!R34,เกษตรพนมไพร!R34,เกษตรเมืองสรวง!R34,เกษตรโพนทราย!R34,เกษตรเมยวดี!R34,เกษตรศรีสมเด็จ!R34,เกษตรจังหาร!R34,เกษตรเชียงขวัญ!R34,เกษตรหนองฮี!R34,เกษตรทุ่งเขาหลวง!R34) -> 0 | S34: =SUM(D34:R34) -> 53 | T34: =AVERAGE(D34:R34) -> 5.8888889
B35: 3 | C35: จำนวนคำขอที่ดำเนินการล่าช้ากว่ากำหนด | D35: - | E35: - | F35: - | G35: - | H35: - | I35: - | J35: =SUM(เกษตรเมืองร้อยเอ็ด!J35,เกษตรธวัชบุรี!J35,เกษตรเสลภูมิ!J35,เกษตรโพนทอง!J35,เกษตรหนองพอก!J35,เกษตรโพธิ์ชัย!J35,เกษตรจตุรพักตรพิมาน!J35,เกษตรปทุมรัตต์!J35,เกษตรเกษตรวิสัย!J35,เกษตรสุวรรณภูมิ!J35,เกษตรอาจสามารถ!J35,เกษตรพนมไพร!J35,เกษตรเมืองสรวง!J35,เกษตรโพนทราย!J35,เกษตรเมยวดี!J35,เกษตรศรีสมเด็จ!J35,เกษตรจังหาร!J35,เกษตรเชียงขวัญ!J35,เกษตรหนองฮี!J35,เกษตรทุ่งเขาหลวง!J35) -> 0 | K35: =SUM(เกษตรเมืองร้อยเอ็ด!K35,เกษตรธวัชบุรี!K35,เกษตรเสลภูมิ!K35,เกษตรโพนทอง!K35,เกษตรหนองพอก!K35,เกษตรโพธิ์ชัย!K35,เกษตรจตุรพักตรพิมาน!K35,เกษตรปทุมรัตต์!K35,เกษตรเกษตรวิสัย!K35,เกษตรสุวรรณภูมิ!K35,เกษตรอาจสามารถ!K35,เกษตรพนมไพร!K35,เกษตรเมืองสรวง!K35,เกษตรโพนทราย!K35,เกษตรเมยวดี!K35,เกษตรศรีสมเด็จ!K35,เกษตรจังหาร!K35,เกษตรเชียงขวัญ!K35,เกษตรหนองฮี!K35,เกษตรทุ่งเขาหลวง!K35) -> 0 | L35: =SUM(เกษตรเมืองร้อยเอ็ด!L35,เกษตรธวัชบุรี!L35,เกษตรเสลภูมิ!L35,เกษตรโพนทอง!L35,เกษตรหนองพอก!L35,เกษตรโพธิ์ชัย!L35,เกษตรจตุรพักตรพิมาน!L35,เกษตรปทุมรัตต์!L35,เกษตรเกษตรวิสัย!L35,เกษตรสุวรรณภูมิ!L35,เกษตรอาจสามารถ!L35,เกษตรพนมไพร!L35,เกษตรเมืองสรวง!L35,เกษตรโพนทราย!L35,เกษตรเมยวดี!L35,เกษตรศรีสมเด็จ!L35,เกษตรจังหาร!L35,เกษตรเชียงขวัญ!L35,เกษตรหนองฮี!L35,เกษตรทุ่งเขาหลวง!L35) -> 0 | M35: =SUM(เกษตรเมืองร้อยเอ็ด!M35,เกษตรธวัชบุรี!M35,เกษตรเสลภูมิ!M35,เกษตรโพนทอง!M35,เกษตรหนองพอก!M35,เกษตรโพธิ์ชัย!M35,เกษตรจตุรพักตรพิมาน!M35,เกษตรปทุมรัตต์!M35,เกษตรเกษตรวิสัย!M35,เกษตรสุวรรณภูมิ!M35,เกษตรอาจสามารถ!M35,เกษตรพนมไพร!M35,เกษตรเมืองสรวง!M35,เกษตรโพนทราย!M35,เกษตรเมยวดี!M35,เกษตรศรีสมเด็จ!M35,เกษตรจังหาร!M35,เกษตรเชียงขวัญ!M35,เกษตรหนองฮี!M35,เกษตรทุ่งเขาหลวง!M35) -> 0 | N35: =SUM(เกษตรเมืองร้อยเอ็ด!N35,เกษตรธวัชบุรี!N35,เกษตรเสลภูมิ!N35,เกษตรโพนทอง!N35,เกษตรหนองพอก!N35,เกษตรโพธิ์ชัย!N35,เกษตรจตุรพักตรพิมาน!N35,เกษตรปทุมรัตต์!N35,เกษตรเกษตรวิสัย!N35,เกษตรสุวรรณภูมิ!N35,เกษตรอาจสามารถ!N35,เกษตรพนมไพร!N35,เกษตรเมืองสรวง!N35,เกษตรโพนทราย!N35,เกษตรเมยวดี!N35,เกษตรศรีสมเด็จ!N35,เกษตรจังหาร!N35,เกษตรเชียงขวัญ!N35,เกษตรหนองฮี!N35,เกษตรทุ่งเขาหลวง!N35) -> 0 | O35: =SUM(เกษตรเมืองร้อยเอ็ด!O35,เกษตรธวัชบุรี!O35,เกษตรเสลภูมิ!O35,เกษตรโพนทอง!O35,เกษตรหนองพอก!O35,เกษตรโพธิ์ชัย!O35,เกษตรจตุรพักตรพิมาน!O35,เกษตรปทุมรัตต์!O35,เกษตรเกษตรวิสัย!O35,เกษตรสุวรรณภูมิ!O35,เกษตรอาจสามารถ!O35,เกษตรพนมไพร!O35,เกษตรเมืองสรวง!O35,เกษตรโพนทราย!O35,เกษตรเมยวดี!O35,เกษตรศรีสมเด็จ!O35,เกษตรจังหาร!O35,เกษตรเชียงขวัญ!O35,เกษตรหนองฮี!O35,เกษตรทุ่งเขาหลวง!O35) -> 0 | P35: =SUM(เกษตรเมืองร้อยเอ็ด!P35,เกษตรธวัชบุรี!P35,เกษตรเสลภูมิ!P35,เกษตรโพนทอง!P35,เกษตรหนองพอก!P35,เกษตรโพธิ์ชัย!P35,เกษตรจตุรพักตรพิมาน!P35,เกษตรปทุมรัตต์!P35,เกษตรเกษตรวิสัย!P35,เกษตรสุวรรณภูมิ!P35,เกษตรอาจสามารถ!P35,เกษตรพนมไพร!P35,เกษตรเมืองสรวง!P35,เกษตรโพนทราย!P35,เกษตรเมยวดี!P35,เกษตรศรีสมเด็จ!P35,เกษตรจังหาร!P35,เกษตรเชียงขวัญ!P35,เกษตรหนองฮี!P35,เกษตรทุ่งเขาหลวง!P35) -> 0 | Q35: =SUM(เกษตรเมืองร้อยเอ็ด!Q35,เกษตรธวัชบุรี!Q35,เกษตรเสลภูมิ!Q35,เกษตรโพนทอง!Q35,เกษตรหนองพอก!Q35,เกษตรโพธิ์ชัย!Q35,เกษตรจตุรพักตรพิมาน!Q35,เกษตรปทุมรัตต์!Q35,เกษตรเกษตรวิสัย!Q35,เกษตรสุวรรณภูมิ!Q35,เกษตรอาจสามารถ!Q35,เกษตรพนมไพร!Q35,เกษตรเมืองสรวง!Q35,เกษตรโพนทราย!Q35,เกษตรเมยวดี!Q35,เกษตรศรีสมเด็จ!Q35,เกษตรจังหาร!Q35,เกษตรเชียงขวัญ!Q35,เกษตรหนองฮี!Q35,เกษตรทุ่งเขาหลวง!Q35) -> 0 | R35: =SUM(เกษตรเมืองร้อยเอ็ด!R35,เกษตรธวัชบุรี!R35,เกษตรเสลภูมิ!R35,เกษตรโพนทอง!R35,เกษตรหนองพอก!R35,เกษตรโพธิ์ชัย!R35,เกษตรจตุรพักตรพิมาน!R35,เกษตรปทุมรัตต์!R35,เกษตรเกษตรวิสัย!R35,เกษตรสุวรรณภูมิ!R35,เกษตรอาจสามารถ!R35,เกษตรพนมไพร!R35,เกษตรเมืองสรวง!R35,เกษตรโพนทราย!R35,เกษตรเมยวดี!R35,เกษตรศรีสมเด็จ!R35,เกษตรจังหาร!R35,เกษตรเชียงขวัญ!R35,เกษตรหนองฮี!R35,เกษตรทุ่งเขาหลวง!R35) -> 0 | S35: =SUM(D35:R35) -> 0 | T35: =AVERAGE(D35:R35) -> 0
B36: 4 | C36: จำนวนเรื่องร้องเรียนจากประชาชน | D36: - | E36: - | F36: - | G36: - | H36: - | I36: - | J36: =SUM(เกษตรเมืองร้อยเอ็ด!J36,เกษตรธวัชบุรี!J36,เกษตรเสลภูมิ!J36,เกษตรโพนทอง!J36,เกษตรหนองพอก!J36,เกษตรโพธิ์ชัย!J36,เกษตรจตุรพักตรพิมาน!J36,เกษตรปทุมรัตต์!J36,เกษตรเกษตรวิสัย!J36,เกษตรสุวรรณภูมิ!J36,เกษตรอาจสามารถ!J36,เกษตรพนมไพร!J36,เกษตรเมืองสรวง!J36,เกษตรโพนทราย!J36,เกษตรเมยวดี!J36,เกษตรศรีสมเด็จ!J36,เกษตรจังหาร!J36,เกษตรเชียงขวัญ!J36,เกษตรหนองฮี!J36,เกษตรทุ่งเขาหลวง!J36) -> 0 | K36: =SUM(เกษตรเมืองร้อยเอ็ด!K36,เกษตรธวัชบุรี!K36,เกษตรเสลภูมิ!K36,เกษตรโพนทอง!K36,เกษตรหนองพอก!K36,เกษตรโพธิ์ชัย!K36,เกษตรจตุรพักตรพิมาน!K36,เกษตรปทุมรัตต์!K36,เกษตรเกษตรวิสัย!K36,เกษตรสุวรรณภูมิ!K36,เกษตรอาจสามารถ!K36,เกษตรพนมไพร!K36,เกษตรเมืองสรวง!K36,เกษตรโพนทราย!K36,เกษตรเมยวดี!K36,เกษตรศรีสมเด็จ!K36,เกษตรจังหาร!K36,เกษตรเชียงขวัญ!K36,เกษตรหนองฮี!K36,เกษตรทุ่งเขาหลวง!K36) -> 0 | L36: =SUM(เกษตรเมืองร้อยเอ็ด!L36,เกษตรธวัชบุรี!L36,เกษตรเสลภูมิ!L36,เกษตรโพนทอง!L36,เกษตรหนองพอก!L36,เกษตรโพธิ์ชัย!L36,เกษตรจตุรพักตรพิมาน!L36,เกษตรปทุมรัตต์!L36,เกษตรเกษตรวิสัย!L36,เกษตรสุวรรณภูมิ!L36,เกษตรอาจสามารถ!L36,เกษตรพนมไพร!L36,เกษตรเมืองสรวง!L36,เกษตรโพนทราย!L36,เกษตรเมยวดี!L36,เกษตรศรีสมเด็จ!L36,เกษตรจังหาร!L36,เกษตรเชียงขวัญ!L36,เกษตรหนองฮี!L36,เกษตรทุ่งเขาหลวง!L36) -> 0 | M36: =SUM(เกษตรเมืองร้อยเอ็ด!M36,เกษตรธวัชบุรี!M36,เกษตรเสลภูมิ!M36,เกษตรโพนทอง!M36,เกษตรหนองพอก!M36,เกษตรโพธิ์ชัย!M36,เกษตรจตุรพักตรพิมาน!M36,เกษตรปทุมรัตต์!M36,เกษตรเกษตรวิสัย!M36,เกษตรสุวรรณภูมิ!M36,เกษตรอาจสามารถ!M36,เกษตรพนมไพร!M36,เกษตรเมืองสรวง!M36,เกษตรโพนทราย!M36,เกษตรเมยวดี!M36,เกษตรศรีสมเด็จ!M36,เกษตรจังหาร!M36,เกษตรเชียงขวัญ!M36,เกษตรหนองฮี!M36,เกษตรทุ่งเขาหลวง!M36) -> 0 | N36: =SUM(เกษตรเมืองร้อยเอ็ด!N36,เกษตรธวัชบุรี!N36,เกษตรเสลภูมิ!N36,เกษตรโพนทอง!N36,เกษตรหนองพอก!N36,เกษตรโพธิ์ชัย!N36,เกษตรจตุรพักตรพิมาน!N36,เกษตรปทุมรัตต์!N36,เกษตรเกษตรวิสัย!N36,เกษตรสุวรรณภูมิ!N36,เกษตรอาจสามารถ!N36,เกษตรพนมไพร!N36,เกษตรเมืองสรวง!N36,เกษตรโพนทราย!N36,เกษตรเมยวดี!N36,เกษตรศรีสมเด็จ!N36,เกษตรจังหาร!N36,เกษตรเชียงขวัญ!N36,เกษตรหนองฮี!N36,เกษตรทุ่งเขาหลวง!N36) -> 0 | O36: =SUM(เกษตรเมืองร้อยเอ็ด!O36,เกษตรธวัชบุรี!O36,เกษตรเสลภูมิ!O36,เกษตรโพนทอง!O36,เกษตรหนองพอก!O36,เกษตรโพธิ์ชัย!O36,เกษตรจตุรพักตรพิมาน!O36,เกษตรปทุมรัตต์!O36,เกษตรเกษตรวิสัย!O36,เกษตรสุวรรณภูมิ!O36,เกษตรอาจสามารถ!O36,เกษตรพนมไพร!O36,เกษตรเมืองสรวง!O36,เกษตรโพนทราย!O36,เกษตรเมยวดี!O36,เกษตรศรีสมเด็จ!O36,เกษตรจังหาร!O36,เกษตรเชียงขวัญ!O36,เกษตรหนองฮี!O36,เกษตรทุ่งเขาหลวง!O36) -> 0 | P36: =SUM(เกษตรเมืองร้อยเอ็ด!P36,เกษตรธวัชบุรี!P36,เกษตรเสลภูมิ!P36,เกษตรโพนทอง!P36,เกษตรหนองพอก!P36,เกษตรโพธิ์ชัย!P36,เกษตรจตุรพักตรพิมาน!P36,เกษตรปทุมรัตต์!P36,เกษตรเกษตรวิสัย!P36,เกษตรสุวรรณภูมิ!P36,เกษตรอาจสามารถ!P36,เกษตรพนมไพร!P36,เกษตรเมืองสรวง!P36,เกษตรโพนทราย!P36,เกษตรเมยวดี!P36,เกษตรศรีสมเด็จ!P36,เกษตรจังหาร!P36,เกษตรเชียงขวัญ!P36,เกษตรหนองฮี!P36,เกษตรทุ่งเขาหลวง!P36) -> 0 | Q36: =SUM(เกษตรเมืองร้อยเอ็ด!Q36,เกษตรธวัชบุรี!Q36,เกษตรเสลภูมิ!Q36,เกษตรโพนทอง!Q36,เกษตรหนองพอก!Q36,เกษตรโพธิ์ชัย!Q36,เกษตรจตุรพักตรพิมาน!Q36,เกษตรปทุมรัตต์!Q36,เกษตรเกษตรวิสัย!Q36,เกษตรสุวรรณภูมิ!Q36,เกษตรอาจสามารถ!Q36,เกษตรพนมไพร!Q36,เกษตรเมืองสรวง!Q36,เกษตรโพนทราย!Q36,เกษตรเมยวดี!Q36,เกษตรศรีสมเด็จ!Q36,เกษตรจังหาร!Q36,เกษตรเชียงขวัญ!Q36,เกษตรหนองฮี!Q36,เกษตรทุ่งเขาหลวง!Q36) -> 0 | R36: =SUM(เกษตรเมืองร้อยเอ็ด!R36,เกษตรธวัชบุรี!R36,เกษตรเสลภูมิ!R36,เกษตรโพนทอง!R36,เกษตรหนองพอก!R36,เกษตรโพธิ์ชัย!R36,เกษตรจตุรพักตรพิมาน!R36,เกษตรปทุมรัตต์!R36,เกษตรเกษตรวิสัย!R36,เกษตรสุวรรณภูมิ!R36,เกษตรอาจสามารถ!R36,เกษตรพนมไพร!R36,เกษตรเมืองสรวง!R36,เกษตรโพนทราย!R36,เกษตรเมยวดี!R36,เกษตรศรีสมเด็จ!R36,เกษตรจังหาร!R36,เกษตรเชียงขวัญ!R36,เกษตรหนองฮี!R36,เกษตรทุ่งเขาหลวง!R36) -> 0 | S36: =SUM(D36:R36) -> 0 | T36: =AVERAGE(D36:R36) -> 0
B37: 5 | C37: จำนวนการดำเนินคดีที่เกี่ยวข้องกับการออกใบอนุญาต | D37: - | E37: - | F37: - | G37: - | H37: - | I37: - | J37: =SUM(เกษตรเมืองร้อยเอ็ด!J37,เกษตรธวัชบุรี!J37,เกษตรเสลภูมิ!J37,เกษตรโพนทอง!J37,เกษตรหนองพอก!J37,เกษตรโพธิ์ชัย!J37,เกษตรจตุรพักตรพิมาน!J37,เกษตรปทุมรัตต์!J37,เกษตรเกษตรวิสัย!J37,เกษตรสุวรรณภูมิ!J37,เกษตรอาจสามารถ!J37,เกษตรพนมไพร!J37,เกษตรเมืองสรวง!J37,เกษตรโพนทราย!J37,เกษตรเมยวดี!J37,เกษตรศรีสมเด็จ!J37,เกษตรจังหาร!J37,เกษตรเชียงขวัญ!J37,เกษตรหนองฮี!J37,เกษตรทุ่งเขาหลวง!J37) -> 0 | K37: =SUM(เกษตรเมืองร้อยเอ็ด!K37,เกษตรธวัชบุรี!K37,เกษตรเสลภูมิ!K37,เกษตรโพนทอง!K37,เกษตรหนองพอก!K37,เกษตรโพธิ์ชัย!K37,เกษตรจตุรพักตรพิมาน!K37,เกษตรปทุมรัตต์!K37,เกษตรเกษตรวิสัย!K37,เกษตรสุวรรณภูมิ!K37,เกษตรอาจสามารถ!K37,เกษตรพนมไพร!K37,เกษตรเมืองสรวง!K37,เกษตรโพนทราย!K37,เกษตรเมยวดี!K37,เกษตรศรีสมเด็จ!K37,เกษตรจังหาร!K37,เกษตรเชียงขวัญ!K37,เกษตรหนองฮี!K37,เกษตรทุ่งเขาหลวง!K37) -> 0 | L37: =SUM(เกษตรเมืองร้อยเอ็ด!L37,เกษตรธวัชบุรี!L37,เกษตรเสลภูมิ!L37,เกษตรโพนทอง!L37,เกษตรหนองพอก!L37,เกษตรโพธิ์ชัย!L37,เกษตรจตุรพักตรพิมาน!L37,เกษตรปทุมรัตต์!L37,เกษตรเกษตรวิสัย!L37,เกษตรสุวรรณภูมิ!L37,เกษตรอาจสามารถ!L37,เกษตรพนมไพร!L37,เกษตรเมืองสรวง!L37,เกษตรโพนทราย!L37,เกษตรเมยวดี!L37,เกษตรศรีสมเด็จ!L37,เกษตรจังหาร!L37,เกษตรเชียงขวัญ!L37,เกษตรหนองฮี!L37,เกษตรทุ่งเขาหลวง!L37) -> 0 | M37: =SUM(เกษตรเมืองร้อยเอ็ด!M37,เกษตรธวัชบุรี!M37,เกษตรเสลภูมิ!M37,เกษตรโพนทอง!M37,เกษตรหนองพอก!M37,เกษตรโพธิ์ชัย!M37,เกษตรจตุรพักตรพิมาน!M37,เกษตรปทุมรัตต์!M37,เกษตรเกษตรวิสัย!M37,เกษตรสุวรรณภูมิ!M37,เกษตรอาจสามารถ!M37,เกษตรพนมไพร!M37,เกษตรเมืองสรวง!M37,เกษตรโพนทราย!M37,เกษตรเมยวดี!M37,เกษตรศรีสมเด็จ!M37,เกษตรจังหาร!M37,เกษตรเชียงขวัญ!M37,เกษตรหนองฮี!M37,เกษตรทุ่งเขาหลวง!M37) -> 0 | N37: =SUM(เกษตรเมืองร้อยเอ็ด!N37,เกษตรธวัชบุรี!N37,เกษตรเสลภูมิ!N37,เกษตรโพนทอง!N37,เกษตรหนองพอก!N37,เกษตรโพธิ์ชัย!N37,เกษตรจตุรพักตรพิมาน!N37,เกษตรปทุมรัตต์!N37,เกษตรเกษตรวิสัย!N37,เกษตรสุวรรณภูมิ!N37,เกษตรอาจสามารถ!N37,เกษตรพนมไพร!N37,เกษตรเมืองสรวง!N37,เกษตรโพนทราย!N37,เกษตรเมยวดี!N37,เกษตรศรีสมเด็จ!N37,เกษตรจังหาร!N37,เกษตรเชียงขวัญ!N37,เกษตรหนองฮี!N37,เกษตรทุ่งเขาหลวง!N37) -> 0 | O37: =SUM(เกษตรเมืองร้อยเอ็ด!O37,เกษตรธวัชบุรี!O37,เกษตรเสลภูมิ!O37,เกษตรโพนทอง!O37,เกษตรหนองพอก!O37,เกษตรโพธิ์ชัย!O37,เกษตรจตุรพักตรพิมาน!O37,เกษตรปทุมรัตต์!O37,เกษตรเกษตรวิสัย!O37,เกษตรสุวรรณภูมิ!O37,เกษตรอาจสามารถ!O37,เกษตรพนมไพร!O37,เกษตรเมืองสรวง!O37,เกษตรโพนทราย!O37,เกษตรเมยวดี!O37,เกษตรศรีสมเด็จ!O37,เกษตรจังหาร!O37,เกษตรเชียงขวัญ!O37,เกษตรหนองฮี!O37,เกษตรทุ่งเขาหลวง!O37) -> 0 | P37: =SUM(เกษตรเมืองร้อยเอ็ด!P37,เกษตรธวัชบุรี!P37,เกษตรเสลภูมิ!P37,เกษตรโพนทอง!P37,เกษตรหนองพอก!P37,เกษตรโพธิ์ชัย!P37,เกษตรจตุรพักตรพิมาน!P37,เกษตรปทุมรัตต์!P37,เกษตรเกษตรวิสัย!P37,เกษตรสุวรรณภูมิ!P37,เกษตรอาจสามารถ!P37,เกษตรพนมไพร!P37,เกษตรเมืองสรวง!P37,เกษตรโพนทราย!P37,เกษตรเมยวดี!P37,เกษตรศรีสมเด็จ!P37,เกษตรจังหาร!P37,เกษตรเชียงขวัญ!P37,เกษตรหนองฮี!P37,เกษตรทุ่งเขาหลวง!P37) -> 0 | Q37: =SUM(เกษตรเมืองร้อยเอ็ด!Q37,เกษตรธวัชบุรี!Q37,เกษตรเสลภูมิ!Q37,เกษตรโพนทอง!Q37,เกษตรหนองพอก!Q37,เกษตรโพธิ์ชัย!Q37,เกษตรจตุรพักตรพิมาน!Q37,เกษตรปทุมรัตต์!Q37,เกษตรเกษตรวิสัย!Q37,เกษตรสุวรรณภูมิ!Q37,เกษตรอาจสามารถ!Q37,เกษตรพนมไพร!Q37,เกษตรเมืองสรวง!Q37,เกษตรโพนทราย!Q37,เกษตรเมยวดี!Q37,เกษตรศรีสมเด็จ!Q37,เกษตรจังหาร!Q37,เกษตรเชียงขวัญ!Q37,เกษตรหนองฮี!Q37,เกษตรทุ่งเขาหลวง!Q37) -> 0 | R37: =SUM(เกษตรเมืองร้อยเอ็ด!R37,เกษตรธวัชบุรี!R37,เกษตรเสลภูมิ!R37,เกษตรโพนทอง!R37,เกษตรหนองพอก!R37,เกษตรโพธิ์ชัย!R37,เกษตรจตุรพักตรพิมาน!R37,เกษตรปทุมรัตต์!R37,เกษตรเกษตรวิสัย!R37,เกษตรสุวรรณภูมิ!R37,เกษตรอาจสามารถ!R37,เกษตรพนมไพร!R37,เกษตรเมืองสรวง!R37,เกษตรโพนทราย!R37,เกษตรเมยวดี!R37,เกษตรศรีสมเด็จ!R37,เกษตรจังหาร!R37,เกษตรเชียงขวัญ!R37,เกษตรหนองฮี!R37,เกษตรทุ่งเขาหลวง!R37) -> 0 | S37: =SUM(D37:R37) -> 0 | T37: =AVERAGE(D37:R37) -> 0
C38: จำนวนหน่ายงานที่รายงาน | J38: =COUNT(เกษตรเมืองร้อยเอ็ด!J33,เกษตรธวัชบุรี!J33,เกษตรเสลภูมิ!J33,เกษตรโพนทอง!J33,เกษตรหนองพอก!J33,เกษตรโพธิ์ชัย!J33,เกษตรจตุรพักตรพิมาน!J33,เกษตรปทุมรัตต์!J33,เกษตรเกษตรวิสัย!J33,เกษตรสุวรรณภูมิ!J33,เกษตรอาจสามารถ!J33,เกษตรพนมไพร!J33,เกษตรเมืองสรวง!J33,เกษตรโพนทราย!J33,เกษตรเมยวดี!J33,เกษตรศรีสมเด็จ!J33,เกษตรจังหาร!J33,เกษตรเชียงขวัญ!J33,เกษตรหนองฮี!J33,เกษตรทุ่งเขาหลวง!J33) -> 20 | K38: =COUNT(เกษตรเมืองร้อยเอ็ด!K33,เกษตรธวัชบุรี!K33,เกษตรเสลภูมิ!K33,เกษตรโพนทอง!K33,เกษตรหนองพอก!K33,เกษตรโพธิ์ชัย!K33,เกษตรจตุรพักตรพิมาน!K33,เกษตรปทุมรัตต์!K33,เกษตรเกษตรวิสัย!K33,เกษตรสุวรรณภูมิ!K33,เกษตรอาจสามารถ!K33,เกษตรพนมไพร!K33,เกษตรเมืองสรวง!K33,เกษตรโพนทราย!K33,เกษตรเมยวดี!K33,เกษตรศรีสมเด็จ!K33,เกษตรจังหาร!K33,เกษตรเชียงขวัญ!K33,เกษตรหนองฮี!K33,เกษตรทุ่งเขาหลวง!K33) -> 20 | L38: =COUNT(เกษตรเมืองร้อยเอ็ด!L33,เกษตรธวัชบุรี!L33,เกษตรเสลภูมิ!L33,เกษตรโพนทอง!L33,เกษตรหนองพอก!L33,เกษตรโพธิ์ชัย!L33,เกษตรจตุรพักตรพิมาน!L33,เกษตรปทุมรัตต์!L33,เกษตรเกษตรวิสัย!L33,เกษตรสุวรรณภูมิ!L33,เกษตรอาจสามารถ!L33,เกษตรพนมไพร!L33,เกษตรเมืองสรวง!L33,เกษตรโพนทราย!L33,เกษตรเมยวดี!L33,เกษตรศรีสมเด็จ!L33,เกษตรจังหาร!L33,เกษตรเชียงขวัญ!L33,เกษตรหนองฮี!L33,เกษตรทุ่งเขาหลวง!L33) -> 20 | M38: =COUNT(เกษตรเมืองร้อยเอ็ด!M33,เกษตรธวัชบุรี!M33,เกษตรเสลภูมิ!M33,เกษตรโพนทอง!M33,เกษตรหนองพอก!M33,เกษตรโพธิ์ชัย!M33,เกษตรจตุรพักตรพิมาน!M33,เกษตรปทุมรัตต์!M33,เกษตรเกษตรวิสัย!M33,เกษตรสุวรรณภูมิ!M33,เกษตรอาจสามารถ!M33,เกษตรพนมไพร!M33,เกษตรเมืองสรวง!M33,เกษตรโพนทราย!M33,เกษตรเมยวดี!M33,เกษตรศรีสมเด็จ!M33,เกษตรจังหาร!M33,เกษตรเชียงขวัญ!M33,เกษตรหนองฮี!M33,เกษตรทุ่งเขาหลวง!M33) -> 20 | N38: =COUNT(เกษตรเมืองร้อยเอ็ด!N33,เกษตรธวัชบุรี!N33,เกษตรเสลภูมิ!N33,เกษตรโพนทอง!N33,เกษตรหนองพอก!N33,เกษตรโพธิ์ชัย!N33,เกษตรจตุรพักตรพิมาน!N33,เกษตรปทุมรัตต์!N33,เกษตรเกษตรวิสัย!N33,เกษตรสุวรรณภูมิ!N33,เกษตรอาจสามารถ!N33,เกษตรพนมไพร!N33,เกษตรเมืองสรวง!N33,เกษตรโพนทราย!N33,เกษตรเมยวดี!N33,เกษตรศรีสมเด็จ!N33,เกษตรจังหาร!N33,เกษตรเชียงขวัญ!N33,เกษตรหนองฮี!N33,เกษตรทุ่งเขาหลวง!N33) -> 20 | O38: =COUNT(เกษตรเมืองร้อยเอ็ด!O33,เกษตรธวัชบุรี!O33,เกษตรเสลภูมิ!O33,เกษตรโพนทอง!O33,เกษตรหนองพอก!O33,เกษตรโพธิ์ชัย!O33,เกษตรจตุรพักตรพิมาน!O33,เกษตรปทุมรัตต์!O33,เกษตรเกษตรวิสัย!O33,เกษตรสุวรรณภูมิ!O33,เกษตรอาจสามารถ!O33,เกษตรพนมไพร!O33,เกษตรเมืองสรวง!O33,เกษตรโพนทราย!O33,เกษตรเมยวดี!O33,เกษตรศรีสมเด็จ!O33,เกษตรจังหาร!O33,เกษตรเชียงขวัญ!O33,เกษตรหนองฮี!O33,เกษตรทุ่งเขาหลวง!O33) -> 20 | P38: =COUNT(เกษตรเมืองร้อยเอ็ด!P33,เกษตรธวัชบุรี!P33,เกษตรเสลภูมิ!P33,เกษตรโพนทอง!P33,เกษตรหนองพอก!P33,เกษตรโพธิ์ชัย!P33,เกษตรจตุรพักตรพิมาน!P33,เกษตรปทุมรัตต์!P33,เกษตรเกษตรวิสัย!P33,เกษตรสุวรรณภูมิ!P33,เกษตรอาจสามารถ!P33,เกษตรพนมไพร!P33,เกษตรเมืองสรวง!P33,เกษตรโพนทราย!P33,เกษตรเมยวดี!P33,เกษตรศรีสมเด็จ!P33,เกษตรจังหาร!P33,เกษตรเชียงขวัญ!P33,เกษตรหนองฮี!P33,เกษตรทุ่งเขาหลวง!P33) -> 20 | Q38: =COUNT(เกษตรเมืองร้อยเอ็ด!Q33,เกษตรธวัชบุรี!Q33,เกษตรเสลภูมิ!Q33,เกษตรโพนทอง!Q33,เกษตรหนองพอก!Q33,เกษตรโพธิ์ชัย!Q33,เกษตรจตุรพักตรพิมาน!Q33,เกษตรปทุมรัตต์!Q33,เกษตรเกษตรวิสัย!Q33,เกษตรสุวรรณภูมิ!Q33,เกษตรอาจสามารถ!Q33,เกษตรพนมไพร!Q33,เกษตรเมืองสรวง!Q33,เกษตรโพนทราย!Q33,เกษตรเมยวดี!Q33,เกษตรศรีสมเด็จ!Q33,เกษตรจังหาร!Q33,เกษตรเชียงขวัญ!Q33,เกษตรหนองฮี!Q33,เกษตรทุ่งเขาหลวง!Q33) -> 20 | R38: =COUNT(เกษตรเมืองร้อยเอ็ด!R33,เกษตรธวัชบุรี!R33,เกษตรเสลภูมิ!R33,เกษตรโพนทอง!R33,เกษตรหนองพอก!R33,เกษตรโพธิ์ชัย!R33,เกษตรจตุรพักตรพิมาน!R33,เกษตรปทุมรัตต์!R33,เกษตรเกษตรวิสัย!R33,เกษตรสุวรรณภูมิ!R33,เกษตรอาจสามารถ!R33,เกษตรพนมไพร!R33,เกษตรเมืองสรวง!R33,เกษตรโพนทราย!R33,เกษตรเมยวดี!R33,เกษตรศรีสมเด็จ!R33,เกษตรจังหาร!R33,เกษตรเชียงขวัญ!R33,เกษตรหนองฮี!R33,เกษตรทุ่งเขาหลวง!R33) -> 20
C39: ร้อยละของการรายงาน | J39: =(COUNT(เกษตรเมืองร้อยเอ็ด!J33:J37,เกษตรธวัชบุรี!J33:J37,เกษตรเสลภูมิ!J33:J37,เกษตรโพนทอง!J33:J37,เกษตรหนองพอก!J33:J37,เกษตรโพธิ์ชัย!J33:J37,เกษตรจตุรพักตรพิมาน!J33:J37,เกษตรปทุมรัตต์!J33:J37,เกษตรเกษตรวิสัย!J33:J37,เกษตรสุวรรณภูมิ!J33:J37,เกษตรอาจสามารถ!J33:J37,เกษตรพนมไพร!J33:J37,เกษตรเมืองสรวง!J33:J37,เกษตรโพนทราย!J33:J37,เกษตรเมยวดี!J33:J37,เกษตรศรีสมเด็จ!J33:J37,เกษตรจังหาร!J33:J37,เกษตรเชียงขวัญ!J33:J37,เกษตรหนองฮี!J33:J37,เกษตรทุ่งเขาหลวง!J33:J37)*100/100) -> 100 | K39: =(COUNT(เกษตรเมืองร้อยเอ็ด!K33:K37,เกษตรธวัชบุรี!K33:K37,เกษตรเสลภูมิ!K33:K37,เกษตรโพนทอง!K33:K37,เกษตรหนองพอก!K33:K37,เกษตรโพธิ์ชัย!K33:K37,เกษตรจตุรพักตรพิมาน!K33:K37,เกษตรปทุมรัตต์!K33:K37,เกษตรเกษตรวิสัย!K33:K37,เกษตรสุวรรณภูมิ!K33:K37,เกษตรอาจสามารถ!K33:K37,เกษตรพนมไพร!K33:K37,เกษตรเมืองสรวง!K33:K37,เกษตรโพนทราย!K33:K37,เกษตรเมยวดี!K33:K37,เกษตรศรีสมเด็จ!K33:K37,เกษตรจังหาร!K33:K37,เกษตรเชียงขวัญ!K33:K37,เกษตรหนองฮี!K33:K37,เกษตรทุ่งเขาหลวง!K33:K37)*100/100) -> 100 | L39: =(COUNT(เกษตรเมืองร้อยเอ็ด!L33:L37,เกษตรธวัชบุรี!L33:L37,เกษตรเสลภูมิ!L33:L37,เกษตรโพนทอง!L33:L37,เกษตรหนองพอก!L33:L37,เกษตรโพธิ์ชัย!L33:L37,เกษตรจตุรพักตรพิมาน!L33:L37,เกษตรปทุมรัตต์!L33:L37,เกษตรเกษตรวิสัย!L33:L37,เกษตรสุวรรณภูมิ!L33:L37,เกษตรอาจสามารถ!L33:L37,เกษตรพนมไพร!L33:L37,เกษตรเมืองสรวง!L33:L37,เกษตรโพนทราย!L33:L37,เกษตรเมยวดี!L33:L37,เกษตรศรีสมเด็จ!L33:L37,เกษตรจังหาร!L33:L37,เกษตรเชียงขวัญ!L33:L37,เกษตรหนองฮี!L33:L37,เกษตรทุ่งเขาหลวง!L33:L37)*100/100) -> 100 | M39: =(COUNT(เกษตรเมืองร้อยเอ็ด!M33:M37,เกษตรธวัชบุรี!M33:M37,เกษตรเสลภูมิ!M33:M37,เกษตรโพนทอง!M33:M37,เกษตรหนองพอก!M33:M37,เกษตรโพธิ์ชัย!M33:M37,เกษตรจตุรพักตรพิมาน!M33:M37,เกษตรปทุมรัตต์!M33:M37,เกษตรเกษตรวิสัย!M33:M37,เกษตรสุวรรณภูมิ!M33:M37,เกษตรอาจสามารถ!M33:M37,เกษตรพนมไพร!M33:M37,เกษตรเมืองสรวง!M33:M37,เกษตรโพนทราย!M33:M37,เกษตรเมยวดี!M33:M37,เกษตรศรีสมเด็จ!M33:M37,เกษตรจังหาร!M33:M37,เกษตรเชียงขวัญ!M33:M37,เกษตรหนองฮี!M33:M37,เกษตรทุ่งเขาหลวง!M33:M37)*100/100) -> 100 | N39: =(COUNT(เกษตรเมืองร้อยเอ็ด!N33:N37,เกษตรธวัชบุรี!N33:N37,เกษตรเสลภูมิ!N33:N37,เกษตรโพนทอง!N33:N37,เกษตรหนองพอก!N33:N37,เกษตรโพธิ์ชัย!N33:N37,เกษตรจตุรพักตรพิมาน!N33:N37,เกษตรปทุมรัตต์!N33:N37,เกษตรเกษตรวิสัย!N33:N37,เกษตรสุวรรณภูมิ!N33:N37,เกษตรอาจสามารถ!N33:N37,เกษตรพนมไพร!N33:N37,เกษตรเมืองสรวง!N33:N37,เกษตรโพนทราย!N33:N37,เกษตรเมยวดี!N33:N37,เกษตรศรีสมเด็จ!N33:N37,เกษตรจังหาร!N33:N37,เกษตรเชียงขวัญ!N33:N37,เกษตรหนองฮี!N33:N37,เกษตรทุ่งเขาหลวง!N33:N37)*100/100) -> 100 | O39: =(COUNT(เกษตรเมืองร้อยเอ็ด!O33:O37,เกษตรธวัชบุรี!O33:O37,เกษตรเสลภูมิ!O33:O37,เกษตรโพนทอง!O33:O37,เกษตรหนองพอก!O33:O37,เกษตรโพธิ์ชัย!O33:O37,เกษตรจตุรพักตรพิมาน!O33:O37,เกษตรปทุมรัตต์!O33:O37,เกษตรเกษตรวิสัย!O33:O37,เกษตรสุวรรณภูมิ!O33:O37,เกษตรอาจสามารถ!O33:O37,เกษตรพนมไพร!O33:O37,เกษตรเมืองสรวง!O33:O37,เกษตรโพนทราย!O33:O37,เกษตรเมยวดี!O33:O37,เกษตรศรีสมเด็จ!O33:O37,เกษตรจังหาร!O33:O37,เกษตรเชียงขวัญ!O33:O37,เกษตรหนองฮี!O33:O37,เกษตรทุ่งเขาหลวง!O33:O37)*100/100) -> 100 | P39: =(COUNT(เกษตรเมืองร้อยเอ็ด!P33:P37,เกษตรธวัชบุรี!P33:P37,เกษตรเสลภูมิ!P33:P37,เกษตรโพนทอง!P33:P37,เกษตรหนองพอก!P33:P37,เกษตรโพธิ์ชัย!P33:P37,เกษตรจตุรพักตรพิมาน!P33:P37,เกษตรปทุมรัตต์!P33:P37,เกษตรเกษตรวิสัย!P33:P37,เกษตรสุวรรณภูมิ!P33:P37,เกษตรอาจสามารถ!P33:P37,เกษตรพนมไพร!P33:P37,เกษตรเมืองสรวง!P33:P37,เกษตรโพนทราย!P33:P37,เกษตรเมยวดี!P33:P37,เกษตรศรีสมเด็จ!P33:P37,เกษตรจังหาร!P33:P37,เกษตรเชียงขวัญ!P33:P37,เกษตรหนองฮี!P33:P37,เกษตรทุ่งเขาหลวง!P33:P37)*100/100) -> 100 | Q39: =(COUNT(เกษตรเมืองร้อยเอ็ด!Q33:Q37,เกษตรธวัชบุรี!Q33:Q37,เกษตรเสลภูมิ!Q33:Q37,เกษตรโพนทอง!Q33:Q37,เกษตรหนองพอก!Q33:Q37,เกษตรโพธิ์ชัย!Q33:Q37,เกษตรจตุรพักตรพิมาน!Q33:Q37,เกษตรปทุมรัตต์!Q33:Q37,เกษตรเกษตรวิสัย!Q33:Q37,เกษตรสุวรรณภูมิ!Q33:Q37,เกษตรอาจสามารถ!Q33:Q37,เกษตรพนมไพร!Q33:Q37,เกษตรเมืองสรวง!Q33:Q37,เกษตรโพนทราย!Q33:Q37,เกษตรเมยวดี!Q33:Q37,เกษตรศรีสมเด็จ!Q33:Q37,เกษตรจังหาร!Q33:Q37,เกษตรเชียงขวัญ!Q33:Q37,เกษตรหนองฮี!Q33:Q37,เกษตรทุ่งเขาหลวง!Q33:Q37)*100/100) -> 100 | R39: =(COUNT(เกษตรเมืองร้อยเอ็ด!R33:R37,เกษตรธวัชบุรี!R33:R37,เกษตรเสลภูมิ!R33:R37,เกษตรโพนทอง!R33:R37,เกษตรหนองพอก!R33:R37,เกษตรโพธิ์ชัย!R33:R37,เกษตรจตุรพักตรพิมาน!R33:R37,เกษตรปทุมรัตต์!R33:R37,เกษตรเกษตรวิสัย!R33:R37,เกษตรสุวรรณภูมิ!R33:R37,เกษตรอาจสามารถ!R33:R37,เกษตรพนมไพร!R33:R37,เกษตรเมืองสรวง!R33:R37,เกษตรโพนทราย!R33:R37,เกษตรเมยวดี!R33:R37,เกษตรศรีสมเด็จ!R33:R37,เกษตรจังหาร!R33:R37,เกษตรเชียงขวัญ!R33:R37,เกษตรหนองฮี!R33:R37,เกษตรทุ่งเขาหลวง!R33:R37)*100/100) -> 100
B41: งานบริการ การขึ้นทะเบียนเกษตรกร กรณีเกษตรกรนำแปลงเดิมมาขึ้นทะเบียนด้วยตนเอง ณ สำนักงานเกษตรอำเภอ/สำนักงานเกษตรพื้นที่ (กทม.)
B42: ลำดับที่ | C42: รายการ | D42: ปี 2563 | G42: ปีงบประมาณ 2564
D43: ไตรมาส 1/63 | G43: ไตรมาส 1/64 | J43: ไตรมาส 2/64 | M43: ไตรมาส 3/64 | P43: ไตรมาส 4/64 | S43: รวม | T43: เฉลี่ย
D44: ก.ค. | E44: ส.ค. | F44: ก.ย. | G44: ต.ค. | H44: พ.ย. | I44: ธ.ค. | J44: ม.ค. | K44: ก.พ. | L44: มี.ค. | M44: เม.ย. | N44: พ.ค. | O44: มิ.ค. | P44: ก.ค. | Q44: ส.ค. | R44: ก.ย.
B45: 1 | C45: จำนวนคำขอที่ได้รับการอนุมัติ | D45: - | E45: - | F45: - | G45: - | H45: - | I45: - | J45: =SUM(เกษตรเมืองร้อยเอ็ด!J45,เกษตรธวัชบุรี!J45,เกษตรเสลภูมิ!J45,เกษตรโพนทอง!J45,เกษตรหนองพอก!J45,เกษตรโพธิ์ชัย!J45,เกษตรจตุรพักตรพิมาน!J45,เกษตรปทุมรัตต์!J45,เกษตรเกษตรวิสัย!J45,เกษตรสุวรรณภูมิ!J45,เกษตรอาจสามารถ!J45,เกษตรพนมไพร!J45,เกษตรเมืองสรวง!J45,เกษตรโพนทราย!J45,เกษตรเมยวดี!J45,เกษตรศรีสมเด็จ!J45,เกษตรจังหาร!J45,เกษตรเชียงขวัญ!J45,เกษตรหนองฮี!J45,เกษตรทุ่งเขาหลวง!J45) -> 8 | K45: =SUM(เกษตรเมืองร้อยเอ็ด!K45,เกษตรธวัชบุรี!K45,เกษตรเสลภูมิ!K45,เกษตรโพนทอง!K45,เกษตรหนองพอก!K45,เกษตรโพธิ์ชัย!K45,เกษตรจตุรพักตรพิมาน!K45,เกษตรปทุมรัตต์!K45,เกษตรเกษตรวิสัย!K45,เกษตรสุวรรณภูมิ!K45,เกษตรอาจสามารถ!K45,เกษตรพนมไพร!K45,เกษตรเมืองสรวง!K45,เกษตรโพนทราย!K45,เกษตรเมยวดี!K45,เกษตรศรีสมเด็จ!K45,เกษตรจังหาร!K45,เกษตรเชียงขวัญ!K45,เกษตรหนองฮี!K45,เกษตรทุ่งเขาหลวง!K45) -> 10868 | L45: =SUM(เกษตรเมืองร้อยเอ็ด!L45,เกษตรธวัชบุรี!L45,เกษตรเสลภูมิ!L45,เกษตรโพนทอง!L45,เกษตรหนองพอก!L45,เกษตรโพธิ์ชัย!L45,เกษตรจตุรพักตรพิมาน!L45,เกษตรปทุมรัตต์!L45,เกษตรเกษตรวิสัย!L45,เกษตรสุวรรณภูมิ!L45,เกษตรอาจสามารถ!L45,เกษตรพนมไพร!L45,เกษตรเมืองสรวง!L45,เกษตรโพนทราย!L45,เกษตรเมยวดี!L45,เกษตรศรีสมเด็จ!L45,เกษตรจังหาร!L45,เกษตรเชียงขวัญ!L45,เกษตรหนองฮี!L45,เกษตรทุ่งเขาหลวง!L45) -> 13084 | M45: =SUM(เกษตรเมืองร้อยเอ็ด!M45,เกษตรธวัชบุรี!M45,เกษตรเสลภูมิ!M45,เกษตรโพนทอง!M45,เกษตรหนองพอก!M45,เกษตรโพธิ์ชัย!M45,เกษตรจตุรพักตรพิมาน!M45,เกษตรปทุมรัตต์!M45,เกษตรเกษตรวิสัย!M45,เกษตรสุวรรณภูมิ!M45,เกษตรอาจสามารถ!M45,เกษตรพนมไพร!M45,เกษตรเมืองสรวง!M45,เกษตรโพนทราย!M45,เกษตรเมยวดี!M45,เกษตรศรีสมเด็จ!M45,เกษตรจังหาร!M45,เกษตรเชียงขวัญ!M45,เกษตรหนองฮี!M45,เกษตรทุ่งเขาหลวง!M45) -> 2685 | N45: =SUM(เกษตรเมืองร้อยเอ็ด!N45,เกษตรธวัชบุรี!N45,เกษตรเสลภูมิ!N45,เกษตรโพนทอง!N45,เกษตรหนองพอก!N45,เกษตรโพธิ์ชัย!N45,เกษตรจตุรพักตรพิมาน!N45,เกษตรปทุมรัตต์!N45,เกษตรเกษตรวิสัย!N45,เกษตรสุวรรณภูมิ!N45,เกษตรอาจสามารถ!N45,เกษตรพนมไพร!N45,เกษตรเมืองสรวง!N45,เกษตรโพนทราย!N45,เกษตรเมยวดี!N45,เกษตรศรีสมเด็จ!N45,เกษตรจังหาร!N45,เกษตรเชียงขวัญ!N45,เกษตรหนองฮี!N45,เกษตรทุ่งเขาหลวง!N45) -> 20991 | O45: =SUM(เกษตรเมืองร้อยเอ็ด!O45,เกษตรธวัชบุรี!O45,เกษตรเสลภูมิ!O45,เกษตรโพนทอง!O45,เกษตรหนองพอก!O45,เกษตรโพธิ์ชัย!O45,เกษตรจตุรพักตรพิมาน!O45,เกษตรปทุมรัตต์!O45,เกษตรเกษตรวิสัย!O45,เกษตรสุวรรณภูมิ!O45,เกษตรอาจสามารถ!O45,เกษตรพนมไพร!O45,เกษตรเมืองสรวง!O45,เกษตรโพนทราย!O45,เกษตรเมยวดี!O45,เกษตรศรีสมเด็จ!O45,เกษตรจังหาร!O45,เกษตรเชียงขวัญ!O45,เกษตรหนองฮี!O45,เกษตรทุ่งเขาหลวง!O45) -> 129381 | P45: =SUM(เกษตรเมืองร้อยเอ็ด!P45,เกษตรธวัชบุรี!P45,เกษตรเสลภูมิ!P45,เกษตรโพนทอง!P45,เกษตรหนองพอก!P45,เกษตรโพธิ์ชัย!P45,เกษตรจตุรพักตรพิมาน!P45,เกษตรปทุมรัตต์!P45,เกษตรเกษตรวิสัย!P45,เกษตรสุวรรณภูมิ!P45,เกษตรอาจสามารถ!P45,เกษตรพนมไพร!P45,เกษตรเมืองสรวง!P45,เกษตรโพนทราย!P45,เกษตรเมยวดี!P45,เกษตรศรีสมเด็จ!P45,เกษตรจังหาร!P45,เกษตรเชียงขวัญ!P45,เกษตรหนองฮี!P45,เกษตรทุ่งเขาหลวง!P45) -> 39467 | Q45: =SUM(เกษตรเมืองร้อยเอ็ด!Q45,เกษตรธวัชบุรี!Q45,เกษตรเสลภูมิ!Q45,เกษตรโพนทอง!Q45,เกษตรหนองพอก!Q45,เกษตรโพธิ์ชัย!Q45,เกษตรจตุรพักตรพิมาน!Q45,เกษตรปทุมรัตต์!Q45,เกษตรเกษตรวิสัย!Q45,เกษตรสุวรรณภูมิ!Q45,เกษตรอาจสามารถ!Q45,เกษตรพนมไพร!Q45,เกษตรเมืองสรวง!Q45,เกษตรโพนทราย!Q45,เกษตรเมยวดี!Q45,เกษตรศรีสมเด็จ!Q45,เกษตรจังหาร!Q45,เกษตรเชียงขวัญ!Q45,เกษตรหนองฮี!Q45,เกษตรทุ่งเขาหลวง!Q45) -> 14466 | R45: =SUM(เกษตรเมืองร้อยเอ็ด!R45,เกษตรธวัชบุรี!R45,เกษตรเสลภูมิ!R45,เกษตรโพนทอง!R45,เกษตรหนองพอก!R45,เกษตรโพธิ์ชัย!R45,เกษตรจตุรพักตรพิมาน!R45,เกษตรปทุมรัตต์!R45,เกษตรเกษตรวิสัย!R45,เกษตรสุวรรณภูมิ!R45,เกษตรอาจสามารถ!R45,เกษตรพนมไพร!R45,เกษตรเมืองสรวง!R45,เกษตรโพนทราย!R45,เกษตรเมยวดี!R45,เกษตรศรีสมเด็จ!R45,เกษตรจังหาร!R45,เกษตรเชียงขวัญ!R45,เกษตรหนองฮี!R45,เกษตรทุ่งเขาหลวง!R45) -> 13215 | S45: =SUM(D45:R45) -> 244165 | T45: =AVERAGE(D45:R45) -> 27129.444
B46: 2 | C46: จำนวนคำขอที่ไม่ได้รับการอนุมัติ | D46: - | E46: - | F46: - | G46: - | H46: - | I46: - | J46: =SUM(เกษตรเมืองร้อยเอ็ด!J46,เกษตรธวัชบุรี!J46,เกษตรเสลภูมิ!J46,เกษตรโพนทอง!J46,เกษตรหนองพอก!J46,เกษตรโพธิ์ชัย!J46,เกษตรจตุรพักตรพิมาน!J46,เกษตรปทุมรัตต์!J46,เกษตรเกษตรวิสัย!J46,เกษตรสุวรรณภูมิ!J46,เกษตรอาจสามารถ!J46,เกษตรพนมไพร!J46,เกษตรเมืองสรวง!J46,เกษตรโพนทราย!J46,เกษตรเมยวดี!J46,เกษตรศรีสมเด็จ!J46,เกษตรจังหาร!J46,เกษตรเชียงขวัญ!J46,เกษตรหนองฮี!J46,เกษตรทุ่งเขาหลวง!J46) -> 0 | K46: =SUM(เกษตรเมืองร้อยเอ็ด!K46,เกษตรธวัชบุรี!K46,เกษตรเสลภูมิ!K46,เกษตรโพนทอง!K46,เกษตรหนองพอก!K46,เกษตรโพธิ์ชัย!K46,เกษตรจตุรพักตรพิมาน!K46,เกษตรปทุมรัตต์!K46,เกษตรเกษตรวิสัย!K46,เกษตรสุวรรณภูมิ!K46,เกษตรอาจสามารถ!K46,เกษตรพนมไพร!K46,เกษตรเมืองสรวง!K46,เกษตรโพนทราย!K46,เกษตรเมยวดี!K46,เกษตรศรีสมเด็จ!K46,เกษตรจังหาร!K46,เกษตรเชียงขวัญ!K46,เกษตรหนองฮี!K46,เกษตรทุ่งเขาหลวง!K46) -> 30 | L46: =SUM(เกษตรเมืองร้อยเอ็ด!L46,เกษตรธวัชบุรี!L46,เกษตรเสลภูมิ!L46,เกษตรโพนทอง!L46,เกษตรหนองพอก!L46,เกษตรโพธิ์ชัย!L46,เกษตรจตุรพักตรพิมาน!L46,เกษตรปทุมรัตต์!L46,เกษตรเกษตรวิสัย!L46,เกษตรสุวรรณภูมิ!L46,เกษตรอาจสามารถ!L46,เกษตรพนมไพร!L46,เกษตรเมืองสรวง!L46,เกษตรโพนทราย!L46,เกษตรเมยวดี!L46,เกษตรศรีสมเด็จ!L46,เกษตรจังหาร!L46,เกษตรเชียงขวัญ!L46,เกษตรหนองฮี!L46,เกษตรทุ่งเขาหลวง!L46) -> 31 | M46: =SUM(เกษตรเมืองร้อยเอ็ด!M46,เกษตรธวัชบุรี!M46,เกษตรเสลภูมิ!M46,เกษตรโพนทอง!M46,เกษตรหนองพอก!M46,เกษตรโพธิ์ชัย!M46,เกษตรจตุรพักตรพิมาน!M46,เกษตรปทุมรัตต์!M46,เกษตรเกษตรวิสัย!M46,เกษตรสุวรรณภูมิ!M46,เกษตรอาจสามารถ!M46,เกษตรพนมไพร!M46,เกษตรเมืองสรวง!M46,เกษตรโพนทราย!M46,เกษตรเมยวดี!M46,เกษตรศรีสมเด็จ!M46,เกษตรจังหาร!M46,เกษตรเชียงขวัญ!M46,เกษตรหนองฮี!M46,เกษตรทุ่งเขาหลวง!M46) -> 120 | N46: =SUM(เกษตรเมืองร้อยเอ็ด!N46,เกษตรธวัชบุรี!N46,เกษตรเสลภูมิ!N46,เกษตรโพนทอง!N46,เกษตรหนองพอก!N46,เกษตรโพธิ์ชัย!N46,เกษตรจตุรพักตรพิมาน!N46,เกษตรปทุมรัตต์!N46,เกษตรเกษตรวิสัย!N46,เกษตรสุวรรณภูมิ!N46,เกษตรอาจสามารถ!N46,เกษตรพนมไพร!N46,เกษตรเมืองสรวง!N46,เกษตรโพนทราย!N46,เกษตรเมยวดี!N46,เกษตรศรีสมเด็จ!N46,เกษตรจังหาร!N46,เกษตรเชียงขวัญ!N46,เกษตรหนองฮี!N46,เกษตรทุ่งเขาหลวง!N46) -> 14 | O46: =SUM(เกษตรเมืองร้อยเอ็ด!O46,เกษตรธวัชบุรี!O46,เกษตรเสลภูมิ!O46,เกษตรโพนทอง!O46,เกษตรหนองพอก!O46,เกษตรโพธิ์ชัย!O46,เกษตรจตุรพักตรพิมาน!O46,เกษตรปทุมรัตต์!O46,เกษตรเกษตรวิสัย!O46,เกษตรสุวรรณภูมิ!O46,เกษตรอาจสามารถ!O46,เกษตรพนมไพร!O46,เกษตรเมืองสรวง!O46,เกษตรโพนทราย!O46,เกษตรเมยวดี!O46,เกษตรศรีสมเด็จ!O46,เกษตรจังหาร!O46,เกษตรเชียงขวัญ!O46,เกษตรหนองฮี!O46,เกษตรทุ่งเขาหลวง!O46) -> 0 | P46: =SUM(เกษตรเมืองร้อยเอ็ด!P46,เกษตรธวัชบุรี!P46,เกษตรเสลภูมิ!P46,เกษตรโพนทอง!P46,เกษตรหนองพอก!P46,เกษตรโพธิ์ชัย!P46,เกษตรจตุรพักตรพิมาน!P46,เกษตรปทุมรัตต์!P46,เกษตรเกษตรวิสัย!P46,เกษตรสุวรรณภูมิ!P46,เกษตรอาจสามารถ!P46,เกษตรพนมไพร!P46,เกษตรเมืองสรวง!P46,เกษตรโพนทราย!P46,เกษตรเมยวดี!P46,เกษตรศรีสมเด็จ!P46,เกษตรจังหาร!P46,เกษตรเชียงขวัญ!P46,เกษตรหนองฮี!P46,เกษตรทุ่งเขาหลวง!P46) -> 31 | Q46: =SUM(เกษตรเมืองร้อยเอ็ด!Q46,เกษตรธวัชบุรี!Q46,เกษตรเสลภูมิ!Q46,เกษตรโพนทอง!Q46,เกษตรหนองพอก!Q46,เกษตรโพธิ์ชัย!Q46,เกษตรจตุรพักตรพิมาน!Q46,เกษตรปทุมรัตต์!Q46,เกษตรเกษตรวิสัย!Q46,เกษตรสุวรรณภูมิ!Q46,เกษตรอาจสามารถ!Q46,เกษตรพนมไพร!Q46,เกษตรเมืองสรวง!Q46,เกษตรโพนทราย!Q46,เกษตรเมยวดี!Q46,เกษตรศรีสมเด็จ!Q46,เกษตรจังหาร!Q46,เกษตรเชียงขวัญ!Q46,เกษตรหนองฮี!Q46,เกษตรทุ่งเขาหลวง!Q46) -> 28 | R46: =SUM(เกษตรเมืองร้อยเอ็ด!R46,เกษตรธวัชบุรี!R46,เกษตรเสลภูมิ!R46,เกษตรโพนทอง!R46,เกษตรหนองพอก!R46,เกษตรโพธิ์ชัย!R46,เกษตรจตุรพักตรพิมาน!R46,เกษตรปทุมรัตต์!R46,เกษตรเกษตรวิสัย!R46,เกษตรสุวรรณภูมิ!R46,เกษตรอาจสามารถ!R46,เกษตรพนมไพร!R46,เกษตรเมืองสรวง!R46,เกษตรโพนทราย!R46,เกษตรเมยวดี!R46,เกษตรศรีสมเด็จ!R46,เกษตรจังหาร!R46,เกษตรเชียงขวัญ!R46,เกษตรหนองฮี!R46,เกษตรทุ่งเขาหลวง!R46) -> 0 | S46: =SUM(D46:R46) -> 254 | T46: =AVERAGE(D46:R46) -> 28.222222
B47: 3 | C47: จำนวนคำขอที่ดำเนินการล่าช้ากว่ากำหนด | D47: - | E47: - | F47: - | G47: - | H47: - | I47: - | J47: =SUM(เกษตรเมืองร้อยเอ็ด!J47,เกษตรธวัชบุรี!J47,เกษตรเสลภูมิ!J47,เกษตรโพนทอง!J47,เกษตรหนองพอก!J47,เกษตรโพธิ์ชัย!J47,เกษตรจตุรพักตรพิมาน!J47,เกษตรปทุมรัตต์!J47,เกษตรเกษตรวิสัย!J47,เกษตรสุวรรณภูมิ!J47,เกษตรอาจสามารถ!J47,เกษตรพนมไพร!J47,เกษตรเมืองสรวง!J47,เกษตรโพนทราย!J47,เกษตรเมยวดี!J47,เกษตรศรีสมเด็จ!J47,เกษตรจังหาร!J47,เกษตรเชียงขวัญ!J47,เกษตรหนองฮี!J47,เกษตรทุ่งเขาหลวง!J47) -> 0 | K47: =SUM(เกษตรเมืองร้อยเอ็ด!K47,เกษตรธวัชบุรี!K47,เกษตรเสลภูมิ!K47,เกษตรโพนทอง!K47,เกษตรหนองพอก!K47,เกษตรโพธิ์ชัย!K47,เกษตรจตุรพักตรพิมาน!K47,เกษตรปทุมรัตต์!K47,เกษตรเกษตรวิสัย!K47,เกษตรสุวรรณภูมิ!K47,เกษตรอาจสามารถ!K47,เกษตรพนมไพร!K47,เกษตรเมืองสรวง!K47,เกษตรโพนทราย!K47,เกษตรเมยวดี!K47,เกษตรศรีสมเด็จ!K47,เกษตรจังหาร!K47,เกษตรเชียงขวัญ!K47,เกษตรหนองฮี!K47,เกษตรทุ่งเขาหลวง!K47) -> 0 | L47: =SUM(เกษตรเมืองร้อยเอ็ด!L47,เกษตรธวัชบุรี!L47,เกษตรเสลภูมิ!L47,เกษตรโพนทอง!L47,เกษตรหนองพอก!L47,เกษตรโพธิ์ชัย!L47,เกษตรจตุรพักตรพิมาน!L47,เกษตรปทุมรัตต์!L47,เกษตรเกษตรวิสัย!L47,เกษตรสุวรรณภูมิ!L47,เกษตรอาจสามารถ!L47,เกษตรพนมไพร!L47,เกษตรเมืองสรวง!L47,เกษตรโพนทราย!L47,เกษตรเมยวดี!L47,เกษตรศรีสมเด็จ!L47,เกษตรจังหาร!L47,เกษตรเชียงขวัญ!L47,เกษตรหนองฮี!L47,เกษตรทุ่งเขาหลวง!L47) -> 0 | M47: =SUM(เกษตรเมืองร้อยเอ็ด!M47,เกษตรธวัชบุรี!M47,เกษตรเสลภูมิ!M47,เกษตรโพนทอง!M47,เกษตรหนองพอก!M47,เกษตรโพธิ์ชัย!M47,เกษตรจตุรพักตรพิมาน!M47,เกษตรปทุมรัตต์!M47,เกษตรเกษตรวิสัย!M47,เกษตรสุวรรณภูมิ!M47,เกษตรอาจสามารถ!M47,เกษตรพนมไพร!M47,เกษตรเมืองสรวง!M47,เกษตรโพนทราย!M47,เกษตรเมยวดี!M47,เกษตรศรีสมเด็จ!M47,เกษตรจังหาร!M47,เกษตรเชียงขวัญ!M47,เกษตรหนองฮี!M47,เกษตรทุ่งเขาหลวง!M47) -> 0 | N47: =SUM(เกษตรเมืองร้อยเอ็ด!N47,เกษตรธวัชบุรี!N47,เกษตรเสลภูมิ!N47,เกษตรโพนทอง!N47,เกษตรหนองพอก!N47,เกษตรโพธิ์ชัย!N47,เกษตรจตุรพักตรพิมาน!N47,เกษตรปทุมรัตต์!N47,เกษตรเกษตรวิสัย!N47,เกษตรสุวรรณภูมิ!N47,เกษตรอาจสามารถ!N47,เกษตรพนมไพร!N47,เกษตรเมืองสรวง!N47,เกษตรโพนทราย!N47,เกษตรเมยวดี!N47,เกษตรศรีสมเด็จ!N47,เกษตรจังหาร!N47,เกษตรเชียงขวัญ!N47,เกษตรหนองฮี!N47,เกษตรทุ่งเขาหลวง!N47) -> 0 | O47: =SUM(เกษตรเมืองร้อยเอ็ด!O47,เกษตรธวัชบุรี!O47,เกษตรเสลภูมิ!O47,เกษตรโพนทอง!O47,เกษตรหนองพอก!O47,เกษตรโพธิ์ชัย!O47,เกษตรจตุรพักตรพิมาน!O47,เกษตรปทุมรัตต์!O47,เกษตรเกษตรวิสัย!O47,เกษตรสุวรรณภูมิ!O47,เกษตรอาจสามารถ!O47,เกษตรพนมไพร!O47,เกษตรเมืองสรวง!O47,เกษตรโพนทราย!O47,เกษตรเมยวดี!O47,เกษตรศรีสมเด็จ!O47,เกษตรจังหาร!O47,เกษตรเชียงขวัญ!O47,เกษตรหนองฮี!O47,เกษตรทุ่งเขาหลวง!O47) -> 0 | P47: =SUM(เกษตรเมืองร้อยเอ็ด!P47,เกษตรธวัชบุรี!P47,เกษตรเสลภูมิ!P47,เกษตรโพนทอง!P47,เกษตรหนองพอก!P47,เกษตรโพธิ์ชัย!P47,เกษตรจตุรพักตรพิมาน!P47,เกษตรปทุมรัตต์!P47,เกษตรเกษตรวิสัย!P47,เกษตรสุวรรณภูมิ!P47,เกษตรอาจสามารถ!P47,เกษตรพนมไพร!P47,เกษตรเมืองสรวง!P47,เกษตรโพนทราย!P47,เกษตรเมยวดี!P47,เกษตรศรีสมเด็จ!P47,เกษตรจังหาร!P47,เกษตรเชียงขวัญ!P47,เกษตรหนองฮี!P47,เกษตรทุ่งเขาหลวง!P47) -> 0 | Q47: =SUM(เกษตรเมืองร้อยเอ็ด!Q47,เกษตรธวัชบุรี!Q47,เกษตรเสลภูมิ!Q47,เกษตรโพนทอง!Q47,เกษตรหนองพอก!Q47,เกษตรโพธิ์ชัย!Q47,เกษตรจตุรพักตรพิมาน!Q47,เกษตรปทุมรัตต์!Q47,เกษตรเกษตรวิสัย!Q47,เกษตรสุวรรณภูมิ!Q47,เกษตรอาจสามารถ!Q47,เกษตรพนมไพร!Q47,เกษตรเมืองสรวง!Q47,เกษตรโพนทราย!Q47,เกษตรเมยวดี!Q47,เกษตรศรีสมเด็จ!Q47,เกษตรจังหาร!Q47,เกษตรเชียงขวัญ!Q47,เกษตรหนองฮี!Q47,เกษตรทุ่งเขาหลวง!Q47) -> 0 | R47: =SUM(เกษตรเมืองร้อยเอ็ด!R47,เกษตรธวัชบุรี!R47,เกษตรเสลภูมิ!R47,เกษตรโพนทอง!R47,เกษตรหนองพอก!R47,เกษตรโพธิ์ชัย!R47,เกษตรจตุรพักตรพิมาน!R47,เกษตรปทุมรัตต์!R47,เกษตรเกษตรวิสัย!R47,เกษตรสุวรรณภูมิ!R47,เกษตรอาจสามารถ!R47,เกษตรพนมไพร!R47,เกษตรเมืองสรวง!R47,เกษตรโพนทราย!R47,เกษตรเมยวดี!R47,เกษตรศรีสมเด็จ!R47,เกษตรจังหาร!R47,เกษตรเชียงขวัญ!R47,เกษตรหนองฮี!R47,เกษตรทุ่งเขาหลวง!R47) -> 0 | S47: =SUM(D47:R47) -> 0 | T47: =AVERAGE(D47:R47) -> 0
B48: 4 | C48: จำนวนเรื่องร้องเรียนจากประชาชน | D48: - | E48: - | F48: - | G48: - | H48: - | I48: - | J48: =SUM(เกษตรเมืองร้อยเอ็ด!J48,เกษตรธวัชบุรี!J48,เกษตรเสลภูมิ!J48,เกษตรโพนทอง!J48,เกษตรหนองพอก!J48,เกษตรโพธิ์ชัย!J48,เกษตรจตุรพักตรพิมาน!J48,เกษตรปทุมรัตต์!J48,เกษตรเกษตรวิสัย!J48,เกษตรสุวรรณภูมิ!J48,เกษตรอาจสามารถ!J48,เกษตรพนมไพร!J48,เกษตรเมืองสรวง!J48,เกษตรโพนทราย!J48,เกษตรเมยวดี!J48,เกษตรศรีสมเด็จ!J48,เกษตรจังหาร!J48,เกษตรเชียงขวัญ!J48,เกษตรหนองฮี!J48,เกษตรทุ่งเขาหลวง!J48) -> 3 | K48: =SUM(เกษตรเมืองร้อยเอ็ด!K48,เกษตรธวัชบุรี!K48,เกษตรเสลภูมิ!K48,เกษตรโพนทอง!K48,เกษตรหนองพอก!K48,เกษตรโพธิ์ชัย!K48,เกษตรจตุรพักตรพิมาน!K48,เกษตรปทุมรัตต์!K48,เกษตรเกษตรวิสัย!K48,เกษตรสุวรรณภูมิ!K48,เกษตรอาจสามารถ!K48,เกษตรพนมไพร!K48,เกษตรเมืองสรวง!K48,เกษตรโพนทราย!K48,เกษตรเมยวดี!K48,เกษตรศรีสมเด็จ!K48,เกษตรจังหาร!K48,เกษตรเชียงขวัญ!K48,เกษตรหนองฮี!K48,เกษตรทุ่งเขาหลวง!K48) -> 3 | L48: =SUM(เกษตรเมืองร้อยเอ็ด!L48,เกษตรธวัชบุรี!L48,เกษตรเสลภูมิ!L48,เกษตรโพนทอง!L48,เกษตรหนองพอก!L48,เกษตรโพธิ์ชัย!L48,เกษตรจตุรพักตรพิมาน!L48,เกษตรปทุมรัตต์!L48,เกษตรเกษตรวิสัย!L48,เกษตรสุวรรณภูมิ!L48,เกษตรอาจสามารถ!L48,เกษตรพนมไพร!L48,เกษตรเมืองสรวง!L48,เกษตรโพนทราย!L48,เกษตรเมยวดี!L48,เกษตรศรีสมเด็จ!L48,เกษตรจังหาร!L48,เกษตรเชียงขวัญ!L48,เกษตรหนองฮี!L48,เกษตรทุ่งเขาหลวง!L48) -> 0 | M48: =SUM(เกษตรเมืองร้อยเอ็ด!M48,เกษตรธวัชบุรี!M48,เกษตรเสลภูมิ!M48,เกษตรโพนทอง!M48,เกษตรหนองพอก!M48,เกษตรโพธิ์ชัย!M48,เกษตรจตุรพักตรพิมาน!M48,เกษตรปทุมรัตต์!M48,เกษตรเกษตรวิสัย!M48,เกษตรสุวรรณภูมิ!M48,เกษตรอาจสามารถ!M48,เกษตรพนมไพร!M48,เกษตรเมืองสรวง!M48,เกษตรโพนทราย!M48,เกษตรเมยวดี!M48,เกษตรศรีสมเด็จ!M48,เกษตรจังหาร!M48,เกษตรเชียงขวัญ!M48,เกษตรหนองฮี!M48,เกษตรทุ่งเขาหลวง!M48) -> 0 | N48: =SUM(เกษตรเมืองร้อยเอ็ด!N48,เกษตรธวัชบุรี!N48,เกษตรเสลภูมิ!N48,เกษตรโพนทอง!N48,เกษตรหนองพอก!N48,เกษตรโพธิ์ชัย!N48,เกษตรจตุรพักตรพิมาน!N48,เกษตรปทุมรัตต์!N48,เกษตรเกษตรวิสัย!N48,เกษตรสุวรรณภูมิ!N48,เกษตรอาจสามารถ!N48,เกษตรพนมไพร!N48,เกษตรเมืองสรวง!N48,เกษตรโพนทราย!N48,เกษตรเมยวดี!N48,เกษตรศรีสมเด็จ!N48,เกษตรจังหาร!N48,เกษตรเชียงขวัญ!N48,เกษตรหนองฮี!N48,เกษตรทุ่งเขาหลวง!N48) -> 0 | O48: =SUM(เกษตรเมืองร้อยเอ็ด!O48,เกษตรธวัชบุรี!O48,เกษตรเสลภูมิ!O48,เกษตรโพนทอง!O48,เกษตรหนองพอก!O48,เกษตรโพธิ์ชัย!O48,เกษตรจตุรพักตรพิมาน!O48,เกษตรปทุมรัตต์!O48,เกษตรเกษตรวิสัย!O48,เกษตรสุวรรณภูมิ!O48,เกษตรอาจสามารถ!O48,เกษตรพนมไพร!O48,เกษตรเมืองสรวง!O48,เกษตรโพนทราย!O48,เกษตรเมยวดี!O48,เกษตรศรีสมเด็จ!O48,เกษตรจังหาร!O48,เกษตรเชียงขวัญ!O48,เกษตรหนองฮี!O48,เกษตรทุ่งเขาหลวง!O48) -> 0 | P48: =SUM(เกษตรเมืองร้อยเอ็ด!P48,เกษตรธวัชบุรี!P48,เกษตรเสลภูมิ!P48,เกษตรโพนทอง!P48,เกษตรหนองพอก!P48,เกษตรโพธิ์ชัย!P48,เกษตรจตุรพักตรพิมาน!P48,เกษตรปทุมรัตต์!P48,เกษตรเกษตรวิสัย!P48,เกษตรสุวรรณภูมิ!P48,เกษตรอาจสามารถ!P48,เกษตรพนมไพร!P48,เกษตรเมืองสรวง!P48,เกษตรโพนทราย!P48,เกษตรเมยวดี!P48,เกษตรศรีสมเด็จ!P48,เกษตรจังหาร!P48,เกษตรเชียงขวัญ!P48,เกษตรหนองฮี!P48,เกษตรทุ่งเขาหลวง!P48) -> 0 | Q48: =SUM(เกษตรเมืองร้อยเอ็ด!Q48,เกษตรธวัชบุรี!Q48,เกษตรเสลภูมิ!Q48,เกษตรโพนทอง!Q48,เกษตรหนองพอก!Q48,เกษตรโพธิ์ชัย!Q48,เกษตรจตุรพักตรพิมาน!Q48,เกษตรปทุมรัตต์!Q48,เกษตรเกษตรวิสัย!Q48,เกษตรสุวรรณภูมิ!Q48,เกษตรอาจสามารถ!Q48,เกษตรพนมไพร!Q48,เกษตรเมืองสรวง!Q48,เกษตรโพนทราย!Q48,เกษตรเมยวดี!Q48,เกษตรศรีสมเด็จ!Q48,เกษตรจังหาร!Q48,เกษตรเชียงขวัญ!Q48,เกษตรหนองฮี!Q48,เกษตรทุ่งเขาหลวง!Q48) -> 0 | R48: =SUM(เกษตรเมืองร้อยเอ็ด!R48,เกษตรธวัชบุรี!R48,เกษตรเสลภูมิ!R48,เกษตรโพนทอง!R48,เกษตรหนองพอก!R48,เกษตรโพธิ์ชัย!R48,เกษตรจตุรพักตรพิมาน!R48,เกษตรปทุมรัตต์!R48,เกษตรเกษตรวิสัย!R48,เกษตรสุวรรณภูมิ!R48,เกษตรอาจสามารถ!R48,เกษตรพนมไพร!R48,เกษตรเมืองสรวง!R48,เกษตรโพนทราย!R48,เกษตรเมยวดี!R48,เกษตรศรีสมเด็จ!R48,เกษตรจังหาร!R48,เกษตรเชียงขวัญ!R48,เกษตรหนองฮี!R48,เกษตรทุ่งเขาหลวง!R48) -> 0 | S48: =SUM(D48:R48) -> 6 | T48: =AVERAGE(D48:R48) -> 0.66666667
B49: 5 | C49: จำนวนการดำเนินคดีที่เกี่ยวข้องกับการออกใบอนุญาต | D49: - | E49: - | F49: - | G49: - | H49: - | I49: - | J49: =SUM(เกษตรเมืองร้อยเอ็ด!J49,เกษตรธวัชบุรี!J49,เกษตรเสลภูมิ!J49,เกษตรโพนทอง!J49,เกษตรหนองพอก!J49,เกษตรโพธิ์ชัย!J49,เกษตรจตุรพักตรพิมาน!J49,เกษตรปทุมรัตต์!J49,เกษตรเกษตรวิสัย!J49,เกษตรสุวรรณภูมิ!J49,เกษตรอาจสามารถ!J49,เกษตรพนมไพร!J49,เกษตรเมืองสรวง!J49,เกษตรโพนทราย!J49,เกษตรเมยวดี!J49,เกษตรศรีสมเด็จ!J49,เกษตรจังหาร!J49,เกษตรเชียงขวัญ!J49,เกษตรหนองฮี!J49,เกษตรทุ่งเขาหลวง!J49) -> 0 | K49: =SUM(เกษตรเมืองร้อยเอ็ด!K49,เกษตรธวัชบุรี!K49,เกษตรเสลภูมิ!K49,เกษตรโพนทอง!K49,เกษตรหนองพอก!K49,เกษตรโพธิ์ชัย!K49,เกษตรจตุรพักตรพิมาน!K49,เกษตรปทุมรัตต์!K49,เกษตรเกษตรวิสัย!K49,เกษตรสุวรรณภูมิ!K49,เกษตรอาจสามารถ!K49,เกษตรพนมไพร!K49,เกษตรเมืองสรวง!K49,เกษตรโพนทราย!K49,เกษตรเมยวดี!K49,เกษตรศรีสมเด็จ!K49,เกษตรจังหาร!K49,เกษตรเชียงขวัญ!K49,เกษตรหนองฮี!K49,เกษตรทุ่งเขาหลวง!K49) -> 0 | L49: =SUM(เกษตรเมืองร้อยเอ็ด!L49,เกษตรธวัชบุรี!L49,เกษตรเสลภูมิ!L49,เกษตรโพนทอง!L49,เกษตรหนองพอก!L49,เกษตรโพธิ์ชัย!L49,เกษตรจตุรพักตรพิมาน!L49,เกษตรปทุมรัตต์!L49,เกษตรเกษตรวิสัย!L49,เกษตรสุวรรณภูมิ!L49,เกษตรอาจสามารถ!L49,เกษตรพนมไพร!L49,เกษตรเมืองสรวง!L49,เกษตรโพนทราย!L49,เกษตรเมยวดี!L49,เกษตรศรีสมเด็จ!L49,เกษตรจังหาร!L49,เกษตรเชียงขวัญ!L49,เกษตรหนองฮี!L49,เกษตรทุ่งเขาหลวง!L49) -> 0 | M49: =SUM(เกษตรเมืองร้อยเอ็ด!M49,เกษตรธวัชบุรี!M49,เกษตรเสลภูมิ!M49,เกษตรโพนทอง!M49,เกษตรหนองพอก!M49,เกษตรโพธิ์ชัย!M49,เกษตรจตุรพักตรพิมาน!M49,เกษตรปทุมรัตต์!M49,เกษตรเกษตรวิสัย!M49,เกษตรสุวรรณภูมิ!M49,เกษตรอาจสามารถ!M49,เกษตรพนมไพร!M49,เกษตรเมืองสรวง!M49,เกษตรโพนทราย!M49,เกษตรเมยวดี!M49,เกษตรศรีสมเด็จ!M49,เกษตรจังหาร!M49,เกษตรเชียงขวัญ!M49,เกษตรหนองฮี!M49,เกษตรทุ่งเขาหลวง!M49) -> 0 | N49: =SUM(เกษตรเมืองร้อยเอ็ด!N49,เกษตรธวัชบุรี!N49,เกษตรเสลภูมิ!N49,เกษตรโพนทอง!N49,เกษตรหนองพอก!N49,เกษตรโพธิ์ชัย!N49,เกษตรจตุรพักตรพิมาน!N49,เกษตรปทุมรัตต์!N49,เกษตรเกษตรวิสัย!N49,เกษตรสุวรรณภูมิ!N49,เกษตรอาจสามารถ!N49,เกษตรพนมไพร!N49,เกษตรเมืองสรวง!N49,เกษตรโพนทราย!N49,เกษตรเมยวดี!N49,เกษตรศรีสมเด็จ!N49,เกษตรจังหาร!N49,เกษตรเชียงขวัญ!N49,เกษตรหนองฮี!N49,เกษตรทุ่งเขาหลวง!N49) -> 0 | O49: =SUM(เกษตรเมืองร้อยเอ็ด!O49,เกษตรธวัชบุรี!O49,เกษตรเสลภูมิ!O49,เกษตรโพนทอง!O49,เกษตรหนองพอก!O49,เกษตรโพธิ์ชัย!O49,เกษตรจตุรพักตรพิมาน!O49,เกษตรปทุมรัตต์!O49,เกษตรเกษตรวิสัย!O49,เกษตรสุวรรณภูมิ!O49,เกษตรอาจสามารถ!O49,เกษตรพนมไพร!O49,เกษตรเมืองสรวง!O49,เกษตรโพนทราย!O49,เกษตรเมยวดี!O49,เกษตรศรีสมเด็จ!O49,เกษตรจังหาร!O49,เกษตรเชียงขวัญ!O49,เกษตรหนองฮี!O49,เกษตรทุ่งเขาหลวง!O49) -> 0 | P49: =SUM(เกษตรเมืองร้อยเอ็ด!P49,เกษตรธวัชบุรี!P49,เกษตรเสลภูมิ!P49,เกษตรโพนทอง!P49,เกษตรหนองพอก!P49,เกษตรโพธิ์ชัย!P49,เกษตรจตุรพักตรพิมาน!P49,เกษตรปทุมรัตต์!P49,เกษตรเกษตรวิสัย!P49,เกษตรสุวรรณภูมิ!P49,เกษตรอาจสามารถ!P49,เกษตรพนมไพร!P49,เกษตรเมืองสรวง!P49,เกษตรโพนทราย!P49,เกษตรเมยวดี!P49,เกษตรศรีสมเด็จ!P49,เกษตรจังหาร!P49,เกษตรเชียงขวัญ!P49,เกษตรหนองฮี!P49,เกษตรทุ่งเขาหลวง!P49) -> 0 | Q49: =SUM(เกษตรเมืองร้อยเอ็ด!Q49,เกษตรธวัชบุรี!Q49,เกษตรเสลภูมิ!Q49,เกษตรโพนทอง!Q49,เกษตรหนองพอก!Q49,เกษตรโพธิ์ชัย!Q49,เกษตรจตุรพักตรพิมาน!Q49,เกษตรปทุมรัตต์!Q49,เกษตรเกษตรวิสัย!Q49,เกษตรสุวรรณภูมิ!Q49,เกษตรอาจสามารถ!Q49,เกษตรพนมไพร!Q49,เกษตรเมืองสรวง!Q49,เกษตรโพนทราย!Q49,เกษตรเมยวดี!Q49,เกษตรศรีสมเด็จ!Q49,เกษตรจังหาร!Q49,เกษตรเชียงขวัญ!Q49,เกษตรหนองฮี!Q49,เกษตรทุ่งเขาหลวง!Q49) -> 0 | R49: =SUM(เกษตรเมืองร้อยเอ็ด!R49,เกษตรธวัชบุรี!R49,เกษตรเสลภูมิ!R49,เกษตรโพนทอง!R49,เกษตรหนองพอก!R49,เกษตรโพธิ์ชัย!R49,เกษตรจตุรพักตรพิมาน!R49,เกษตรปทุมรัตต์!R49,เกษตรเกษตรวิสัย!R49,เกษตรสุวรรณภูมิ!R49,เกษตรอาจสามารถ!R49,เกษตรพนมไพร!R49,เกษตรเมืองสรวง!R49,เกษตรโพนทราย!R49,เกษตรเมยวดี!R49,เกษตรศรีสมเด็จ!R49,เกษตรจังหาร!R49,เกษตรเชียงขวัญ!R49,เกษตรหนองฮี!R49,เกษตรทุ่งเขาหลวง!R49) -> 0 | S49: =SUM(D49:R49) -> 0 | T49: =AVERAGE(D49:R49) -> 0
C50: จำนวนหน่ายงานที่รายงาน | J50: =COUNT(เกษตรเมืองร้อยเอ็ด!J45,เกษตรธวัชบุรี!J45,เกษตรเสลภูมิ!J45,เกษตรโพนทอง!J45,เกษตรหนองพอก!J45,เกษตรโพธิ์ชัย!J45,เกษตรจตุรพักตรพิมาน!J45,เกษตรปทุมรัตต์!J45,เกษตรเกษตรวิสัย!J45,เกษตรสุวรรณภูมิ!J45,เกษตรอาจสามารถ!J45,เกษตรพนมไพร!J45,เกษตรเมืองสรวง!J45,เกษตรโพนทราย!J45,เกษตรเมยวดี!J45,เกษตรศรีสมเด็จ!J45,เกษตรจังหาร!J45,เกษตรเชียงขวัญ!J45,เกษตรหนองฮี!J45,เกษตรทุ่งเขาหลวง!J45) -> 20 | K50: =COUNT(เกษตรเมืองร้อยเอ็ด!K45,เกษตรธวัชบุรี!K45,เกษตรเสลภูมิ!K45,เกษตรโพนทอง!K45,เกษตรหนองพอก!K45,เกษตรโพธิ์ชัย!K45,เกษตรจตุรพักตรพิมาน!K45,เกษตรปทุมรัตต์!K45,เกษตรเกษตรวิสัย!K45,เกษตรสุวรรณภูมิ!K45,เกษตรอาจสามารถ!K45,เกษตรพนมไพร!K45,เกษตรเมืองสรวง!K45,เกษตรโพนทราย!K45,เกษตรเมยวดี!K45,เกษตรศรีสมเด็จ!K45,เกษตรจังหาร!K45,เกษตรเชียงขวัญ!K45,เกษตรหนองฮี!K45,เกษตรทุ่งเขาหลวง!K45) -> 20 | L50: =COUNT(เกษตรเมืองร้อยเอ็ด!L45,เกษตรธวัชบุรี!L45,เกษตรเสลภูมิ!L45,เกษตรโพนทอง!L45,เกษตรหนองพอก!L45,เกษตรโพธิ์ชัย!L45,เกษตรจตุรพักตรพิมาน!L45,เกษตรปทุมรัตต์!L45,เกษตรเกษตรวิสัย!L45,เกษตรสุวรรณภูมิ!L45,เกษตรอาจสามารถ!L45,เกษตรพนมไพร!L45,เกษตรเมืองสรวง!L45,เกษตรโพนทราย!L45,เกษตรเมยวดี!L45,เกษตรศรีสมเด็จ!L45,เกษตรจังหาร!L45,เกษตรเชียงขวัญ!L45,เกษตรหนองฮี!L45,เกษตรทุ่งเขาหลวง!L45) -> 20 | M50: =COUNT(เกษตรเมืองร้อยเอ็ด!M45,เกษตรธวัชบุรี!M45,เกษตรเสลภูมิ!M45,เกษตรโพนทอง!M45,เกษตรหนองพอก!M45,เกษตรโพธิ์ชัย!M45,เกษตรจตุรพักตรพิมาน!M45,เกษตรปทุมรัตต์!M45,เกษตรเกษตรวิสัย!M45,เกษตรสุวรรณภูมิ!M45,เกษตรอาจสามารถ!M45,เกษตรพนมไพร!M45,เกษตรเมืองสรวง!M45,เกษตรโพนทราย!M45,เกษตรเมยวดี!M45,เกษตรศรีสมเด็จ!M45,เกษตรจังหาร!M45,เกษตรเชียงขวัญ!M45,เกษตรหนองฮี!M45,เกษตรทุ่งเขาหลวง!M45) -> 20 | N50: =COUNT(เกษตรเมืองร้อยเอ็ด!N45,เกษตรธวัชบุรี!N45,เกษตรเสลภูมิ!N45,เกษตรโพนทอง!N45,เกษตรหนองพอก!N45,เกษตรโพธิ์ชัย!N45,เกษตรจตุรพักตรพิมาน!N45,เกษตรปทุมรัตต์!N45,เกษตรเกษตรวิสัย!N45,เกษตรสุวรรณภูมิ!N45,เกษตรอาจสามารถ!N45,เกษตรพนมไพร!N45,เกษตรเมืองสรวง!N45,เกษตรโพนทราย!N45,เกษตรเมยวดี!N45,เกษตรศรีสมเด็จ!N45,เกษตรจังหาร!N45,เกษตรเชียงขวัญ!N45,เกษตรหนองฮี!N45,เกษตรทุ่งเขาหลวง!N45) -> 20 | O50: =COUNT(เกษตรเมืองร้อยเอ็ด!O45,เกษตรธวัชบุรี!O45,เกษตรเสลภูมิ!O45,เกษตรโพนทอง!O45,เกษตรหนองพอก!O45,เกษตรโพธิ์ชัย!O45,เกษตรจตุรพักตรพิมาน!O45,เกษตรปทุมรัตต์!O45,เกษตรเกษตรวิสัย!O45,เกษตรสุวรรณภูมิ!O45,เกษตรอาจสามารถ!O45,เกษตรพนมไพร!O45,เกษตรเมืองสรวง!O45,เกษตรโพนทราย!O45,เกษตรเมยวดี!O45,เกษตรศรีสมเด็จ!O45,เกษตรจังหาร!O45,เกษตรเชียงขวัญ!O45,เกษตรหนองฮี!O45,เกษตรทุ่งเขาหลวง!O45) -> 20 | P50: =COUNT(เกษตรเมืองร้อยเอ็ด!P45,เกษตรธวัชบุรี!P45,เกษตรเสลภูมิ!P45,เกษตรโพนทอง!P45,เกษตรหนองพอก!P45,เกษตรโพธิ์ชัย!P45,เกษตรจตุรพักตรพิมาน!P45,เกษตรปทุมรัตต์!P45,เกษตรเกษตรวิสัย!P45,เกษตรสุวรรณภูมิ!P45,เกษตรอาจสามารถ!P45,เกษตรพนมไพร!P45,เกษตรเมืองสรวง!P45,เกษตรโพนทราย!P45,เกษตรเมยวดี!P45,เกษตรศรีสมเด็จ!P45,เกษตรจังหาร!P45,เกษตรเชียงขวัญ!P45,เกษตรหนองฮี!P45,เกษตรทุ่งเขาหลวง!P45) -> 20 | Q50: =COUNT(เกษตรเมืองร้อยเอ็ด!Q45,เกษตรธวัชบุรี!Q45,เกษตรเสลภูมิ!Q45,เกษตรโพนทอง!Q45,เกษตรหนองพอก!Q45,เกษตรโพธิ์ชัย!Q45,เกษตรจตุรพักตรพิมาน!Q45,เกษตรปทุมรัตต์!Q45,เกษตรเกษตรวิสัย!Q45,เกษตรสุวรรณภูมิ!Q45,เกษตรอาจสามารถ!Q45,เกษตรพนมไพร!Q45,เกษตรเมืองสรวง!Q45,เกษตรโพนทราย!Q45,เกษตรเมยวดี!Q45,เกษตรศรีสมเด็จ!Q45,เกษตรจังหาร!Q45,เกษตรเชียงขวัญ!Q45,เกษตรหนองฮี!Q45,เกษตรทุ่งเขาหลวง!Q45) -> 20 | R50: =COUNT(เกษตรเมืองร้อยเอ็ด!R45,เกษตรธวัชบุรี!R45,เกษตรเสลภูมิ!R45,เกษตรโพนทอง!R45,เกษตรหนองพอก!R45,เกษตรโพธิ์ชัย!R45,เกษตรจตุรพักตรพิมาน!R45,เกษตรปทุมรัตต์!R45,เกษตรเกษตรวิสัย!R45,เกษตรสุวรรณภูมิ!R45,เกษตรอาจสามารถ!R45,เกษตรพนมไพร!R45,เกษตรเมืองสรวง!R45,เกษตรโพนทราย!R45,เกษตรเมยวดี!R45,เกษตรศรีสมเด็จ!R45,เกษตรจังหาร!R45,เกษตรเชียงขวัญ!R45,เกษตรหนองฮี!R45,เกษตรทุ่งเขาหลวง!R45) -> 20
C51: ร้อยละของการรายงาน | J51: =(COUNT(เกษตรเมืองร้อยเอ็ด!J45:J49,เกษตรธวัชบุรี!J45:J49,เกษตรเสลภูมิ!J45:J49,เกษตรโพนทอง!J45:J49,เกษตรหนองพอก!J45:J49,เกษตรโพธิ์ชัย!J45:J49,เกษตรจตุรพักตรพิมาน!J45:J49,เกษตรปทุมรัตต์!J45:J49,เกษตรเกษตรวิสัย!J45:J49,เกษตรสุวรรณภูมิ!J45:J49,เกษตรอาจสามารถ!J45:J49,เกษตรพนมไพร!J45:J49,เกษตรเมืองสรวง!J45:J49,เกษตรโพนทราย!J45:J49,เกษตรเมยวดี!J45:J49,เกษตรศรีสมเด็จ!J45:J49,เกษตรจังหาร!J45:J49,เกษตรเชียงขวัญ!J45:J49,เกษตรหนองฮี!J45:J49,เกษตรทุ่งเขาหลวง!J45:J49)*100/100) -> 100 | K51: =(COUNT(เกษตรเมืองร้อยเอ็ด!K45:K49,เกษตรธวัชบุรี!K45:K49,เกษตรเสลภูมิ!K45:K49,เกษตรโพนทอง!K45:K49,เกษตรหนองพอก!K45:K49,เกษตรโพธิ์ชัย!K45:K49,เกษตรจตุรพักตรพิมาน!K45:K49,เกษตรปทุมรัตต์!K45:K49,เกษตรเกษตรวิสัย!K45:K49,เกษตรสุวรรณภูมิ!K45:K49,เกษตรอาจสามารถ!K45:K49,เกษตรพนมไพร!K45:K49,เกษตรเมืองสรวง!K45:K49,เกษตรโพนทราย!K45:K49,เกษตรเมยวดี!K45:K49,เกษตรศรีสมเด็จ!K45:K49,เกษตรจังหาร!K45:K49,เกษตรเชียงขวัญ!K45:K49,เกษตรหนองฮี!K45:K49,เกษตรทุ่งเขาหลวง!K45:K49)*100/100) -> 100 | L51: =(COUNT(เกษตรเมืองร้อยเอ็ด!L45:L49,เกษตรธวัชบุรี!L45:L49,เกษตรเสลภูมิ!L45:L49,เกษตรโพนทอง!L45:L49,เกษตรหนองพอก!L45:L49,เกษตรโพธิ์ชัย!L45:L49,เกษตรจตุรพักตรพิมาน!L45:L49,เกษตรปทุมรัตต์!L45:L49,เกษตรเกษตรวิสัย!L45:L49,เกษตรสุวรรณภูมิ!L45:L49,เกษตรอาจสามารถ!L45:L49,เกษตรพนมไพร!L45:L49,เกษตรเมืองสรวง!L45:L49,เกษตรโพนทราย!L45:L49,เกษตรเมยวดี!L45:L49,เกษตรศรีสมเด็จ!L45:L49,เกษตรจังหาร!L45:L49,เกษตรเชียงขวัญ!L45:L49,เกษตรหนองฮี!L45:L49,เกษตรทุ่งเขาหลวง!L45:L49)*100/100) -> 100 | M51: =(COUNT(เกษตรเมืองร้อยเอ็ด!M45:M49,เกษตรธวัชบุรี!M45:M49,เกษตรเสลภูมิ!M45:M49,เกษตรโพนทอง!M45:M49,เกษตรหนองพอก!M45:M49,เกษตรโพธิ์ชัย!M45:M49,เกษตรจตุรพักตรพิมาน!M45:M49,เกษตรปทุมรัตต์!M45:M49,เกษตรเกษตรวิสัย!M45:M49,เกษตรสุวรรณภูมิ!M45:M49,เกษตรอาจสามารถ!M45:M49,เกษตรพนมไพร!M45:M49,เกษตรเมืองสรวง!M45:M49,เกษตรโพนทราย!M45:M49,เกษตรเมยวดี!M45:M49,เกษตรศรีสมเด็จ!M45:M49,เกษตรจังหาร!M45:M49,เกษตรเชียงขวัญ!M45:M49,เกษตรหนองฮี!M45:M49,เกษตรทุ่งเขาหลวง!M45:M49)*100/100) -> 100 | N51: =(COUNT(เกษตรเมืองร้อยเอ็ด!N45:N49,เกษตรธวัชบุรี!N45:N49,เกษตรเสลภูมิ!N45:N49,เกษตรโพนทอง!N45:N49,เกษตรหนองพอก!N45:N49,เกษตรโพธิ์ชัย!N45:N49,เกษตรจตุรพักตรพิมาน!N45:N49,เกษตรปทุมรัตต์!N45:N49,เกษตรเกษตรวิสัย!N45:N49,เกษตรสุวรรณภูมิ!N45:N49,เกษตรอาจสามารถ!N45:N49,เกษตรพนมไพร!N45:N49,เกษตรเมืองสรวง!N45:N49,เกษตรโพนทราย!N45:N49,เกษตรเมยวดี!N45:N49,เกษตรศรีสมเด็จ!N45:N49,เกษตรจังหาร!N45:N49,เกษตรเชียงขวัญ!N45:N49,เกษตรหนองฮี!N45:N49,เกษตรทุ่งเขาหลวง!N45:N49)*100/100) -> 100 | O51: =(COUNT(เกษตรเมืองร้อยเอ็ด!O45:O49,เกษตรธวัชบุรี!O45:O49,เกษตรเสลภูมิ!O45:O49,เกษตรโพนทอง!O45:O49,เกษตรหนองพอก!O45:O49,เกษตรโพธิ์ชัย!O45:O49,เกษตรจตุรพักตรพิมาน!O45:O49,เกษตรปทุมรัตต์!O45:O49,เกษตรเกษตรวิสัย!O45:O49,เกษตรสุวรรณภูมิ!O45:O49,เกษตรอาจสามารถ!O45:O49,เกษตรพนมไพร!O45:O49,เกษตรเมืองสรวง!O45:O49,เกษตรโพนทราย!O45:O49,เกษตรเมยวดี!O45:O49,เกษตรศรีสมเด็จ!O45:O49,เกษตรจังหาร!O45:O49,เกษตรเชียงขวัญ!O45:O49,เกษตรหนองฮี!O45:O49,เกษตรทุ่งเขาหลวง!O45:O49)*100/100) -> 100 | P51: =(COUNT(เกษตรเมืองร้อยเอ็ด!P45:P49,เกษตรธวัชบุรี!P45:P49,เกษตรเสลภูมิ!P45:P49,เกษตรโพนทอง!P45:P49,เกษตรหนองพอก!P45:P49,เกษตรโพธิ์ชัย!P45:P49,เกษตรจตุรพักตรพิมาน!P45:P49,เกษตรปทุมรัตต์!P45:P49,เกษตรเกษตรวิสัย!P45:P49,เกษตรสุวรรณภูมิ!P45:P49,เกษตรอาจสามารถ!P45:P49,เกษตรพนมไพร!P45:P49,เกษตรเมืองสรวง!P45:P49,เกษตรโพนทราย!P45:P49,เกษตรเมยวดี!P45:P49,เกษตรศรีสมเด็จ!P45:P49,เกษตรจังหาร!P45:P49,เกษตรเชียงขวัญ!P45:P49,เกษตรหนองฮี!P45:P49,เกษตรทุ่งเขาหลวง!P45:P49)*100/100) -> 100 | Q51: =(COUNT(เกษตรเมืองร้อยเอ็ด!Q45:Q49,เกษตรธวัชบุรี!Q45:Q49,เกษตรเสลภูมิ!Q45:Q49,เกษตรโพนทอง!Q45:Q49,เกษตรหนองพอก!Q45:Q49,เกษตรโพธิ์ชัย!Q45:Q49,เกษตรจตุรพักตรพิมาน!Q45:Q49,เกษตรปทุมรัตต์!Q45:Q49,เกษตรเกษตรวิสัย!Q45:Q49,เกษตรสุวรรณภูมิ!Q45:Q49,เกษตรอาจสามารถ!Q45:Q49,เกษตรพนมไพร!Q45:Q49,เกษตรเมืองสรวง!Q45:Q49,เกษตรโพนทราย!Q45:Q49,เกษตรเมยวดี!Q45:Q49,เกษตรศรีสมเด็จ!Q45:Q49,เกษตรจังหาร!Q45:Q49,เกษตรเชียงขวัญ!Q45:Q49,เกษตรหนองฮี!Q45:Q49,เกษตรทุ่งเขาหลวง!Q45:Q49)*100/100) -> 100 | R51: =(COUNT(เกษตรเมืองร้อยเอ็ด!R45:R49,เกษตรธวัชบุรี!R45:R49,เกษตรเสลภูมิ!R45:R49,เกษตรโพนทอง!R45:R49,เกษตรหนองพอก!R45:R49,เกษตรโพธิ์ชัย!R45:R49,เกษตรจตุรพักตรพิมาน!R45:R49,เกษตรปทุมรัตต์!R45:R49,เกษตรเกษตรวิสัย!R45:R49,เกษตรสุวรรณภูมิ!R45:R49,เกษตรอาจสามารถ!R45:R49,เกษตรพนมไพร!R45:R49,เกษตรเมืองสรวง!R45:R49,เกษตรโพนทราย!R45:R49,เกษตรเมยวดี!R45:R49,เกษตรศรีสมเด็จ!R45:R49,เกษตรจังหาร!R45:R49,เกษตรเชียงขวัญ!R45:R49,เกษตรหนองฮี!R45:R49,เกษตรทุ่งเขาหลวง!R45:R49)*100/100) -> 100

Sheet เกษตรเมืองร้อยเอ็ด
B2: รายงานผลการออกใบอนุญาต ตามคู่มือบริการประชาชน
B3: หน่วยงาน สำนักงานเกษตรอำเภอเมืองร้อยเอ็ด จังหวัดร้อยเอ็ด
B5: งานบริการ การจดทะเบียนวิสาหกิจชุมชนและเครือข่ายวิสาหกิจชุมชน กรณีจดทะเบียน ณ ศูนย์บริการและถ่ายทอดเทคโนโลยีการเกษตรประจำตำบล/แขวง (กทม.)
B6: ลำดับที่ | C6: รายการ | D6: ปี 2563 | G6: ปีงบประมาณ 2564
D7: ไตรมาส 1/63 | G7: ไตรมาส 1/64 | J7: ไตรมาส 2/64 | M7: ไตรมาส 3/64 | P7: ไตรมาส 4/64 | S7: รวม | T7: เฉลี่ย
D8: ก.ค. | E8: ส.ค. | F8: ก.ย. | G8: ต.ค. | H8: พ.ย. | I8: ธ.ค. | J8: ม.ค. | K8: ก.พ. | L8: มี.ค. | M8: เม.ย. | N8: พ.ค. | O8: มิ.ค. | P8: ก.ค. | Q8: ส.ค. | R8: ก.ย.
B9: 1 | C9: จำนวนคำขอที่ได้รับการอนุมัติ | D9: - | E9: - | F9: - | G9: - | H9: - | I9: - | J9: 0 | K9: 0 | L9: 0 | M9: 0 | N9: 0 | O9: 0 | P9: 0 | Q9: 0 | R9: 0 | S9: =SUM(D9:R9) -> 0 | T9: =AVERAGE(D9:R9) -> 0
B10: 2 | C10: จำนวนคำขอที่ไม่ได้รับการอนุมัติ | D10: - | E10: - | F10: - | G10: - | H10: - | I10: - | J10: 0 | K10: 0 | L10: 0 | M10: 0 | N10: 0 | O10: 0 | P10: 0 | Q10: 0 | R10: 0 | S10: =SUM(D10:R10) -> 0 | T10: =AVERAGE(D10:R10) -> 0
B11: 3 | C11: จำนวนคำขอที่ดำเนินการล่าช้ากว่ากำหนด | D11: - | E11: - | F11: - | G11: - | H11: - | I11: - | J11: 0 | K11: 0 | L11: 0 | M11: 0 | N11: 0 | O11: 0 | P11: 0 | Q11: 0 | R11: 0 | S11: =SUM(D11:R11) -> 0 | T11: =AVERAGE(D11:R11) -> 0
B12: 4 | C12: จำนวนเรื่องร้องเรียนจากประชาชน | D12: - | E12: - | F12: - | G12: - | H12: - | I12: - | J12: 0 | K12: 0 | L12: 0 | M12: 0 | N12: 0 | O12: 0 | P12: 0 | Q12: 0 | R12: 0 | S12: =SUM(D12:R12) -> 0 | T12: =AVERAGE(D12:R12) -> 0
B13: 5 | C13: จำนวนการดำเนินคดีที่เกี่ยวข้องกับการออกใบอนุญาต | D13: - | E13: - | F13: - | G13: - | H13: - | I13: - | J13: 0 | K13: 0 | L13: 0 | M13: 0 | N13: 0 | O13: 0 | P13: 0 | Q13: 0 | R13: 0 | S13: =SUM(D13:R13) -> 0 | T13: =AVERAGE(D13:R13) -> 0
B14: หมายเหตุ ให้รายงานทุกรายไตรมาส (โดยแยกเป็นรายเดือน) ภายใน 5 วัน หลักจากสิ้นไตรมาส
B17: งานบริการ การจดทะเบียนวิสาหกิจชุมชนและเครือข่ายวิสาหกิจชุมชน กรณีจดทะเบียน ณ สำนักงานเกษตรอำเภอ/กิ่งอำเภอ/สำนักงานเกษตรพื้นที่ (กทม.)
B18: ลำดับที่ | C18: รายการ | D18: ปี 2563 | G18: ปีงบประมาณ 2564
D19: ไตรมาส 1/63 | G19: ไตรมาส 1/64 | J19: ไตรมาส 2/64 | M19: ไตรมาส 3/64 | P19: ไตรมาส 4/64 | S19: รวม | T19: เฉลี่ย
D20: ก.ค. | E20: ส.ค. | F20: ก.ย. | G20: ต.ค. | H20: พ.ย. | I20: ธ.ค. | J20: ม.ค. | K20: ก.พ. | L20: มี.ค. | M20: เม.ย. | N20: พ.ค. | O20: มิ.ค. | P20: ก.ค. | Q20: ส.ค. | R20: ก.ย.
B21: 1 | C21: จำนวนคำขอที่ได้รับการอนุมัติ | D21: - | E21: - | F21: - | G21: - | H21: - | I21: - | J21: 2 | K21: 8 | L21: 6 | M21: 8 | N21: 12 | O21: 2 | P21: 1 | Q21: 6 | R21: 1 | S21: =SUM(D21:R21) -> 46 | T21: =AVERAGE(D21:R21) -> 5.1111111
B22: 2 | C22: จำนวนคำขอที่ไม่ได้รับการอนุมัติ | D22: - | E22: - | F22: - | G22: - | H22: - | I22: - | J22: 0 | K22: 0 | L22: 0 | M22: 0 | N22: 0 | O22: 0 | P22: 0 | Q22: 0 | R22: 0 | S22: =SUM(D22:R22) -> 0 | T22: =AVERAGE(D22:R22) -> 0
B23: 3 | C23: จำนวนคำขอที่ดำเนินการล่าช้ากว่ากำหนด | D23: - | E23: - | F23: - | G23: - | H23: - | I23: - | J23: 0 | K23: 0 | L23: 0 | M23: 0 | N23: 0 | O23: 0 | P23: 0 | Q23: 0 | R23: 0 | S23: =SUM(D23:R23) -> 0 | T23: =AVERAGE(D23:R23) -> 0
B24: 4 | C24: จำนวนเรื่องร้องเรียนจากประชาชน | D24: - | E24: - | F24: - | G24: - | H24: - | I24: - | J24: 0 | K24: 0 | L24: 0 | M24: 0 | N24: 0 | O24: 0 | P24: 0 | Q24: 0 | R24: 0 | S24: =SUM(D24:R24) -> 0 | T24: =AVERAGE(D24:R24) -> 0
B25: 5 | C25: จำนวนการดำเนินคดีที่เกี่ยวข้องกับการออกใบอนุญาต | D25: - | E25: - | F25: - | G25: - | H25: - | I25: - | J25: 0 | K25: 0 | L25: 0 | M25: 0 | N25: 0 | O25: 0 | P25: 0 | Q25: 0 | R25: 0 | S25: =SUM(D25:R25) -> 0 | T25: =AVERAGE(D25:R25) -> 0
B26: หมายเหตุ ให้รายงานทุกรายไตรมาส (โดยแยกเป็นรายเดือน) ภายใน 5 วัน หลักจากสิ้นไตรมาส
B29: งานบริการ การขึ้นทะเบียนเกษตรกร กรณีเกษตรกรนำแปลงใหม่มาขึ้นทะเบียนด้วยตนเอง ณ สำนักงานเกษตรอำเภอ/สำนักงานเกษตรพื้นที่ (กทม.)
B30: ลำดับที่ | C30: รายการ | D30: ปี 2563 | G30: ปีงบประมาณ 2564
D31: ไตรมาส 1/63 | G31: ไตรมาส 1/64 | J31: ไตรมาส 2/64 | M31: ไตรมาส 3/64 | P31: ไตรมาส 4/64 | S31: รวม | T31: เฉลี่ย
D32: ก.ค. | E32: ส.ค. | F32: ก.ย. | G32: ต.ค. | H32: พ.ย. | I32: ธ.ค. | J32: ม.ค. | K32: ก.พ. | L32: มี.ค. | M32: เม.ย. | N32: พ.ค. | O32: มิ.ค. | P32: ก.ค. | Q32: ส.ค. | R32: ก.ย.
B33: 1 | C33: จำนวนคำขอที่ได้รับการอนุมัติ | D33: - | E33: - | F33: - | G33: - | H33: - | I33: - | J33: 0 | K33: 0 | L33: 0 | M33: 0 | N33: 10 | O33: 84 | P33: 12 | Q33: 75 | R33: 0 | S33: =SUM(D33:R33) -> 181 | T33: =AVERAGE(D33:R33) -> 20.111111
B34: 2 | C34: จำนวนคำขอที่ไม่ได้รับการอนุมัติ | D34: - | E34: - | F34: - | G34: - | H34: - | I34: - | J34: 0 | K34: 0 | L34: 0 | M34: 0 | N34: 0 | O34: 0 | P34: 0 | Q34: 0 | R34: 0 | S34: =SUM(D34:R34) -> 0 | T34: =AVERAGE(D34:R34) -> 0
B35: 3 | C35: จำนวนคำขอที่ดำเนินการล่าช้ากว่ากำหนด | D35: - | E35: - | F35: - | G35: - | H35: - | I35: - | J35: 0 | K35: 0 | L35: 0 | M35: 0 | N35: 0 | O35: 0 | P35: 0 | Q35: 0 | R35: 0 | S35: =SUM(D35:R35) -> 0 | T35: =AVERAGE(D35:R35) -> 0
B36: 4 | C36: จำนวนเรื่องร้องเรียนจากประชาชน | D36: - | E36: - | F36: - | G36: - | H36: - | I36: - | J36: 0 | K36: 0 | L36: 0 | M36: 0 | N36: 0 | O36: 0 | P36: 0 | Q36: 0 | R36: 0 | S36: =SUM(D36:R36) -> 0 | T36: =AVERAGE(D36:R36) -> 0
B37: 5 | C37: จำนวนการดำเนินคดีที่เกี่ยวข้องกับการออกใบอนุญาต | D37: - | E37: - | F37: - | G37: - | H37: - | I37: - | J37: 0 | K37: 0 | L37: 0 | M37: 0 | N37: 0 | O37: 0 | P37: 0 | Q37: 0 | R37: 0 | S37: =SUM(D37:R37) -> 0 | T37: =AVERAGE(D37:R37) -> 0
B38: หมายเหตุ ให้รายงานทุกรายไตรมาส (โดยแยกเป็นรายเดือน) ภายใน 5 วัน หลักจากสิ้นไตรมาส
B41: งานบริการ การขึ้นทะเบียนเกษตรกร กรณีเกษตรกรนำแปลงเดิมมาขึ้นทะเบียนด้วยตนเอง ณ สำนักงานเกษตรอำเภอ/สำนักงานเกษตรพื้นที่ (กทม.)
B42: ลำดับที่ | C42: รายการ | D42: ปี 2563 | G42: ปีงบประมาณ 2564
D43: ไตรมาส 1/63 | G43: ไตรมาส 1/64 | J43: ไตรมาส 2/64 | M43: ไตรมาส 3/64 | P43: ไตรมาส 4/64 | S43: รวม | T43: เฉลี่ย
D44: ก.ค. | E44: ส.ค. | F44: ก.ย. | G44: ต.ค. | H44: พ.ย. | I44: ธ.ค. | J44: ม.ค. | K44: ก.พ. | L44: มี.ค. | M44: เม.ย. | N44: พ.ค. | O44: มิ.ค. | P44: ก.ค. | Q44: ส.ค. | R44: ก.ย.
B45: 1 | C45: จำนวนคำขอที่ได้รับการอนุมัติ | D45: - | E45: - | F45: - | G45: - | H45: - | I45: - | J45: 0 | K45: 590 | L45: 591 | M45: 25 | N45: 11 | O45: 4983 | P45: 8485 | Q45: 3115 | R45: 1035 | S45: =SUM(D45:R45) -> 18835 | T45: =AVERAGE(D45:R45) -> 2092.7778
B46: 2 | C46: จำนวนคำขอที่ไม่ได้รับการอนุมัติ | D46: - | E46: - | F46: - | G46: - | H46: - | I46: - | J46: 0 | K46: 0 | L46: 0 | M46: 0 | N46: 0 | O46: 0 | P46: 0 | Q46: 0 | R46: 0 | S46: =SUM(D46:R46) -> 0 | T46: =AVERAGE(D46:R46) -> 0
B47: 3 | C47: จำนวนคำขอที่ดำเนินการล่าช้ากว่ากำหนด | D47: - | E47: - | F47: - | G47: - | H47: - | I47: - | J47: 0 | K47: 0 | L47: 0 | M47: 0 | N47: 0 | O47: 0 | P47: 0 | Q47: 0 | R47: 0 | S47: =SUM(D47:R47) -> 0 | T47: =AVERAGE(D47:R47) -> 0
B48: 4 | C48: จำนวนเรื่องร้องเรียนจากประชาชน | D48: - | E48: - | F48: - | G48: - | H48: - | I48: - | J48: 0 | K48: 0 | L48: 0 | M48: 0 | N48: 0 | O48: 0 | P48: 0 | Q48: 0 | R48: 0 | S48: =SUM(D48:R48) -> 0 | T48: =AVERAGE(D48:R48) -> 0
B49: 5 | C49: จำนวนการดำเนินคดีที่เกี่ยวข้องกับการออกใบอนุญาต | D49: - | E49: - | F49: - | G49: - | H49: - | I49: - | J49: 0 | K49: 0 | L49: 0 | M49: 0 | N49: 0 | O49: 0 | P49: 0 | Q49: 0 | R49: 0 | S49: =SUM(D49:R49) -> 0 | T49: =AVERAGE(D49:R49) -> 0
B50: หมายเหตุ ให้รายงานทุกรายไตรมาส (โดยแยกเป็นรายเดือน) ภายใน 5 วัน หลักจากสิ้นไตรมาส

Sheet เกษตรธวัชบุรี
B2: รายงานผลการออกใบอนุญาต ตามคู่มือบริการประชาชน
B3: หน่วยงาน สำนักงานเกษตรอำเภอธวัชบุรี จังหวัดร้อยเอ็ด
B5: งานบริการ การจดทะเบียนวิสาหกิจชุมชนและเครือข่ายวิสาหกิจชุมชน กรณีจดทะเบียน ณ ศูนย์บริการและถ่ายทอดเทคโนโลยีการเกษตรประจำตำบล/แขวง (กทม.)
B6: ลำดับที่ | C6: รายการ | D6: ปี 2563 | G6: ปีงบประมาณ 2564
D7: ไตรมาส 1/63 | G7: ไตรมาส 1/64 | J7: ไตรมาส 2/64 | M7: ไตรมาส 3/64 | P7: ไตรมาส 4/64 | S7: รวม | T7: เฉลี่ย
D8: ก.ค. | E8: ส.ค. | F8: ก.ย. | G8: ต.ค. | H8: พ.ย. | I8: ธ.ค. | J8: ม.ค. | K8: ก.พ. | L8: มี.ค. | M8: เม.ย. | N8: พ.ค. | O8: มิ.ค. | P8: ก.ค. | Q8: ส.ค. | R8: ก.ย.
B9: 1 | C9: จำนวนคำขอที่ได้รับการอนุมัติ | D9: - | E9: - | F9: - | G9: - | H9: - | I9: - | J9: 0 | K9: 0 | L9: 0 | M9: 0 | N9: 0 | O9: 0 | P9: 0 | Q9: 0 | R9: 0 | S9: =SUM(D9:R9) -> 0 | T9: =AVERAGE(D9:R9) -> 0
B10: 2 | C10: จำนวนคำขอที่ไม่ได้รับการอนุมัติ | D10: - | E10: - | F10: - | G10: - | H10: - | I10: - | J10: 0 | K10: 0 | L10: 0 | M10: 0 | N10: 0 | O10: 0 | P10: 0 | Q10: 0 | R10: 0 | S10: =SUM(D10:R10) -> 0 | T10: =AVERAGE(D10:R10) -> 0
B11: 3 | C11: จำนวนคำขอที่ดำเนินการล่าช้ากว่ากำหนด | D11: - | E11: - | F11: - | G11: - | H11: - | I11: - | J11: 0 | K11: 0 | L11: 0 | M11: 0 | N11: 0 | O11: 0 | P11: 0 | Q11: 0 | R11: 0 | S11: =SUM(D11:R11) -> 0 | T11: =AVERAGE(D11:R11) -> 0
B12: 4 | C12: จำนวนเรื่องร้องเรียนจากประชาชน | D12: - | E12: - | F12: - | G12: - | H12: - | I12: - | J12: 0 | K12: 0 | L12: 0 | M12: 0 | N12: 0 | O12: 0 | P12: 0 | Q12: 0 | R12: 0 | S12: =SUM(D12:R12) -> 0 | T12: =AVERAGE(D12:R12) -> 0
B13: 5 | C13: จำนวนการดำเนินคดีที่เกี่ยวข้องกับการออกใบอนุญาต | D13: - | E13: - | F13: - | G13: - | H13: - | I13: - | J13: 0 | K13: 0 | L13: 0 | M13: 0 | N13: 0 | O13: 0 | P13: 0 | Q13: 0 | R13: 0 | S13: =SUM(D13:R13) -> 0 | T13: =AVERAGE(D13:R13) -> 0
B14: หมายเหตุ ให้รายงานทุกรายไตรมาส (โดยแยกเป็นรายเดือน) ภายใน 5 วัน หลักจากสิ้นไตรมาส
B17: งานบริการ การจดทะเบียนวิสาหกิจชุมชนและเครือข่ายวิสาหกิจชุมชน กรณีจดทะเบียน ณ สำนักงานเกษตรอำเภอ/กิ่งอำเภอ/สำนักงานเกษตรพื้นที่ (กทม.)
B18: ลำดับที่ | C18: รายการ | D18: ปี 2563 | G18: ปีงบประมาณ 2564
D19: ไตรมาส 1/63 | G19: ไตรมาส 1/64 | J19: ไตรมาส 2/64 | M19: ไตรมาส 3/64 | P19: ไตรมาส 4/64 | S19: รวม | T19: เฉลี่ย
D20: ก.ค. | E20: ส.ค. | F20: ก.ย. | G20: ต.ค. | H20: พ.ย. | I20: ธ.ค. | J20: ม.ค. | K20: ก.พ. | L20: มี.ค. | M20: เม.ย. | N20: พ.ค. | O20: มิ.ค. | P20: ก.ค. | Q20: ส.ค. | R20: ก.ย.
B21: 1 | C21: จำนวนคำขอที่ได้รับการอนุมัติ | D21: - | E21: - | F21: - | G21: - | H21: - | I21: - | J21: 1 | K21: 0 | L21: 0 | M21: 3 | N21: 7 | O21: 3 | P21: 4 | Q21: 0 | R21: 4 | S21: =SUM(D21:R21) -> 22 | T21: =AVERAGE(D21:R21) -> 2.4444444
B22: 2 | C22: จำนวนคำขอที่ไม่ได้รับการอนุมัติ | D22: - | E22: - | F22: - | G22: - | H22: - | I22: - | J22: 0 | K22: 0 | L22: 0 | M22: 0 | N22: 0 | O22: 0 | P22: 0 | Q22: 0 | R22: 0 | S22: =SUM(D22:R22) -> 0 | T22: =AVERAGE(D22:R22) -> 0
B23: 3 | C23: จำนวนคำขอที่ดำเนินการล่าช้ากว่ากำหนด | D23: - | E23: - | F23: - | G23: - | H23: - | I23: - | J23: 0 | K23: 0 | L23: 0 | M23: 0 | N23: 0 | O23: 0 | P23: 0 | Q23: 0 | R23: 0 | S23: =SUM(D23:R23) -> 0 | T23: =AVERAGE(D23:R23) -> 0
B24: 4 | C24: จำนวนเรื่องร้องเรียนจากประชาชน | D24: - | E24: - | F24: - | G24: - | H24: - | I24: - | J24: 0 | K24: 0 | L24: 0 | M24: 0 | N24: 0 | O24: 0 | P24: 0 | Q24: 0 | R24: 0 | S24: =SUM(D24:R24) -> 0 | T24: =AVERAGE(D24:R24) -> 0
B25: 5 | C25: จำนวนการดำเนินคดีที่เกี่ยวข้องกับการออกใบอนุญาต | D25: - | E25: - | F25: - | G25: - | H25: - | I25: - | J25: 0 | K25: 0 | L25: 0 | M25: 0 | N25: 0 | O25: 0 | P25: 0 | Q25: 0 | R25: 0 | S25: =SUM(D25:R25) -> 0 | T25: =AVERAGE(D25:R25) -> 0
B26: หมายเหตุ ให้รายงานทุกรายไตรมาส (โดยแยกเป็นรายเดือน) ภายใน 5 วัน หลักจากสิ้นไตรมาส
B29: งานบริการ การขึ้นทะเบียนเกษตรกร กรณีเกษตรกรนำแปลงใหม่มาขึ้นทะเบียนด้วยตนเอง ณ สำนักงานเกษตรอำเภอ/สำนักงานเกษตรพื้นที่ (กทม.)
B30: ลำดับที่ | C30: รายการ | D30: ปี 2563 | G30: ปีงบประมาณ 2564
D31: ไตรมาส 1/63 | G31: ไตรมาส 1/64 | J31: ไตรมาส 2/64 | M31: ไตรมาส 3/64 | P31: ไตรมาส 4/64 | S31: รวม | T31: เฉลี่ย
D32: ก.ค. | E32: ส.ค. | F32: ก.ย. | G32: ต.ค. | H32: พ.ย. | I32: ธ.ค. | J32: ม.ค. | K32: ก.พ. | L32: มี.ค. | M32: เม.ย. | N32: พ.ค. | O32: มิ.ค. | P32: ก.ค. | Q32: ส.ค. | R32: ก.ย.
B33: 1 | C33: จำนวนคำขอที่ได้รับการอนุมัติ | D33: - | E33: - | F33: - | G33: - | H33: - | I33: - | J33: 0 | K33: 0 | L33: 0 | M33: 0 | N33: 7 | O33: 68 | P33: 13 | Q33: 1 | R33: 9 | S33: =SUM(D33:R33) -> 98 | T33: =AVERAGE(D33:R33) -> 10.888889
B34: 2 | C34: จำนวนคำขอที่ไม่ได้รับการอนุมัติ | D34: - | E34: - | F34: - | G34: - | H34: - | I34: - | J34: 0 | K34: 0 | L34: 0 | M34: 0 | N34: 4 | O34: 0 | P34: 1 | Q34: 0 | R34: 0 | S34: =SUM(D34:R34) -> 5 | T34: =AVERAGE(D34:R34) -> 0.55555556
B35: 3 | C35: จำนวนคำขอที่ดำเนินการล่าช้ากว่ากำหนด | D35: - | E35: - | F35: - | G35: - | H35: - | I35: - | J35: 0 | K35: 0 | L35: 0 | M35: 0 | N35: 0 | O35: 0 | P35: 0 | Q35: 0 | R35: 0 | S35: =SUM(D35:R35) -> 0 | T35: =AVERAGE(D35:R35) -> 0
B36: 4 | C36: จำนวนเรื่องร้องเรียนจากประชาชน | D36: - | E36: - | F36: - | G36: - | H36: - | I36: - | J36: 0 | K36: 0 | L36: 0 | M36: 0 | N36: 0 | O36: 0 | P36: 0 | Q36: 0 | R36: 0 | S36: =SUM(D36:R36) -> 0 | T36: =AVERAGE(D36:R36) -> 0
B37: 5 | C37: จำนวนการดำเนินคดีที่เกี่ยวข้องกับการออกใบอนุญาต | D37: - | E37: - | F37: - | G37: - | H37: - | I37: - | J37: 0 | K37: 0 | L37: 0 | M37: 0 | N37: 0 | O37: 0 | P37: 0 | Q37: 0 | R37: 0 | S37: =SUM(D37:R37) -> 0 | T37: =AVERAGE(D37:R37) -> 0
B38: หมายเหตุ ให้รายงานทุกรายไตรมาส (โดยแยกเป็นรายเดือน) ภายใน 5 วัน หลักจากสิ้นไตรมาส
B41: งานบริการ การขึ้นทะเบียนเกษตรกร กรณีเกษตรกรนำแปลงเดิมมาขึ้นทะเบียนด้วยตนเอง ณ สำนักงานเกษตรอำเภอ/สำนักงานเกษตรพื้นที่ (กทม.)
B42: ลำดับที่ | C42: รายการ | D42: ปี 2563 | G42: ปีงบประมาณ 2564
D43: ไตรมาส 1/63 | G43: ไตรมาส 1/64 | J43: ไตรมาส 2/64 | M43: ไตรมาส 3/64 | P43: ไตรมาส 4/64 | S43: รวม | T43: เฉลี่ย
D44: ก.ค. | E44: ส.ค. | F44: ก.ย. | G44: ต.ค. | H44: พ.ย. | I44: ธ.ค. | J44: ม.ค. | K44: ก.พ. | L44: มี.ค. | M44: เม.ย. | N44: พ.ค. | O44: มิ.ค. | P44: ก.ค. | Q44: ส.ค. | R44: ก.ย.
B45: 1 | C45: จำนวนคำขอที่ได้รับการอนุมัติ | D45: - | E45: - | F45: - | G45: - | H45: - | I45: - | J45: 0 | K45: 180 | L45: 180 | M45: 9 | N45: 7 | O45: 8024 | P45: 3100 | Q45: 590 | R45: 770 | S45: =SUM(D45:R45) -> 12860 | T45: =AVERAGE(D45:R45) -> 1428.8889
B46: 2 | C46: จำนวนคำขอที่ไม่ได้รับการอนุมัติ | D46: - | E46: - | F46: - | G46: - | H46: - | I46: - | J46: 0 | K46: 2 | L46: 2 | M46: 0 | N46: 0 | O46: 0 | P46: 1 | Q46: 0 | R46: 0 | S46: =SUM(D46:R46) -> 5 | T46: =AVERAGE(D46:R46) -> 0.55555556
B47: 3 | C47: จำนวนคำขอที่ดำเนินการล่าช้ากว่ากำหนด | D47: - | E47: - | F47: - | G47: - | H47: - | I47: - | J47: 0 | K47: 0 | L47: 0 | M47: 0 | N47: 0 | O47: 0 | P47: 0 | Q47: 0 | R47: 0 | S47: =SUM(D47:R47) -> 0 | T47: =AVERAGE(D47:R47) -> 0
B48: 4 | C48: จำนวนเรื่องร้องเรียนจากประชาชน | D48: - | E48: - | F48: - | G48: - | H48: - | I48: - | J48: 0 | K48: 0 | L48: 0 | M48: 0 | N48: 0 | O48: 0 | P48: 0 | Q48: 0 | R48: 0 | S48: =SUM(D48:R48) -> 0 | T48: =AVERAGE(D48:R48) -> 0
B49: 5 | C49: จำนวนการดำเนินคดีที่เกี่ยวข้องกับการออกใบอนุญาต | D49: - | E49: - | F49: - | G49: - | H49: - | I49: - | J49: 0 | K49: 0 | L49: 0 | M49: 0 | N49: 0 | O49: 0 | P49: 0 | Q49: 0 | R49: 0 | S49: =SUM(D49:R49) -> 0 | T49: =AVERAGE(D49:R49) -> 0
B50: หมายเหตุ ให้รายงานทุกรายไตรมาส (โดยแยกเป็นรายเดือน) ภายใน 5 วัน หลักจากสิ้นไตรมาส

Sheet เกษตรเสลภูมิ
B2: รายงานผลการออกใบอนุญาต ตามคู่มือบริการประชาชน
B3: หน่วยงาน สำนักงานเกษตรอำเภอเสลภูมิ จังหวัดร้อยเอ็ด
B5: งานบริการ การจดทะเบียนวิสาหกิจชุมชนและเครือข่ายวิสาหกิจชุมชน กรณีจดทะเบียน ณ ศูนย์บริการและถ่ายทอดเทคโนโลยีการเกษตรประจำตำบล/แขวง (กทม.)
B6: ลำดับที่ | C6: รายการ | D6: ปี 2563 | G6: ปีงบประมาณ 2564
D7: ไตรมาส 1/63 | G7: ไตรมาส 1/64 | J7: ไตรมาส 2/64 | M7: ไตรมาส 3/64 | P7: ไตรมาส 4/64 | S7: รวม | T7: เฉลี่ย
D8: ก.ค. | E8: ส.ค. | F8: ก.ย. | G8: ต.ค. | H8: พ.ย. | I8: ธ.ค. | J8: ม.ค. | K8: ก.พ. | L8: มี.ค. | M8: เม.ย. | N8: พ.ค. | O8: มิ.ค. | P8: ก.ค. | Q8: ส.ค. | R8: ก.ย.
B9: 1 | C9: จำนวนคำขอที่ได้รับการอนุมัติ | D9: - | E9: - | F9: - | G9: - | H9: - | I9: - | J9: 0 | K9: 0 | L9: 0 | M9: 0 | N9: 0 | O9: 0 | P9: 0 | Q9: 0 | R9: 0 | S9: =SUM(D9:R9) -> 0 | T9: =AVERAGE(D9:R9) -> 0
B10: 2 | C10: จำนวนคำขอที่ไม่ได้รับการอนุมัติ | D10: - | E10: - | F10: - | G10: - | H10: - | I10: - | J10: 0 | K10: 0 | L10: 0 | M10: 0 | N10: 0 | O10: 0 | P10: 0 | Q10: 0 | R10: 0 | S10: =SUM(D10:R10) -> 0 | T10: =AVERAGE(D10:R10) -> 0
B11: 3 | C11: จำนวนคำขอที่ดำเนินการล่าช้ากว่ากำหนด | D11: - | E11: - | F11: - | G11: - | H11: - | I11: - | J11: 0 | K11: 0 | L11: 0 | M11: 0 | N11: 0 | O11: 0 | P11: 0 | Q11: 0 | R11: 0 | S11: =SUM(D11:R11) -> 0 | T11: =AVERAGE(D11:R11) -> 0
B12: 4 | C12: จำนวนเรื่องร้องเรียนจากประชาชน | D12: - | E12: - | F12: - | G12: - | H12: - | I12: - | J12: 0 | K12: 0 | L12: 0 | M12: 0 | N12: 0 | O12: 0 | P12: 0 | Q12: 0 | R12: 0 | S12: =SUM(D12:R12) -> 0 | T12: =AVERAGE(D12:R12) -> 0
B13: 5 | C13: จำนวนการดำเนินคดีที่เกี่ยวข้องกับการออกใบอนุญาต | D13: - | E13: - | F13: - | G13: - | H13: - | I13: - | J13: 0 | K13: 0 | L13: 0 | M13: 0 | N13: 0 | O13: 0 | P13: 0 | Q13: 0 | R13: 0 | S13: =SUM(D13:R13) -> 0 | T13: =AVERAGE(D13:R13) -> 0
B14: หมายเหตุ ให้รายงานทุกรายไตรมาส (โดยแยกเป็นรายเดือน) ภายใน 5 วัน หลักจากสิ้นไตรมาส
B17: งานบริการ การจดทะเบียนวิสาหกิจชุมชนและเครือข่ายวิสาหกิจชุมชน กรณีจดทะเบียน ณ สำนักงานเกษตรอำเภอ/กิ่งอำเภอ/สำนักงานเกษตรพื้นที่ (กทม.)
B18: ลำดับที่ | C18: รายการ | D18: ปี 2563 | G18: ปีงบประมาณ 2564
D19: ไตรมาส 1/63 | G19: ไตรมาส 1/64 | J19: ไตรมาส 2/64 | M19: ไตรมาส 3/64 | P19: ไตรมาส 4/64 | S19: รวม | T19: เฉลี่ย
D20: ก.ค. | E20: ส.ค. | F20: ก.ย. | G20: ต.ค. | H20: พ.ย. | I20: ธ.ค. | J20: ม.ค. | K20: ก.พ. | L20: มี.ค. | M20: เม.ย. | N20: พ.ค. | O20: มิ.ค. | P20: ก.ค. | Q20: ส.ค. | R20: ก.ย.
B21: 1 | C21: จำนวนคำขอที่ได้รับการอนุมัติ | D21: - | E21: - | F21: - | G21: - | H21: - | I21: - | J21: 0 | K21: 1 | L21: 0 | M21: 2 | N21: 5 | O21: 2 | P21: 1 | Q21: 1 | R21: 0 | S21: =SUM(D21:R21) -> 12 | T21: =AVERAGE(D21:R21) -> 1.3333333
B22: 2 | C22: จำนวนคำขอที่ไม่ได้รับการอนุมัติ | D22: - | E22: - | F22: - | G22: - | H22: - | I22: - | J22: 0 | K22: 0 | L22: 0 | M22: 0 | N22: 0 | O22: 0 | P22: 0 | Q22: 0 | R22: 0 | S22: =SUM(D22:R22) -> 0 | T22: =AVERAGE(D22:R22) -> 0
B23: 3 | C23: จำนวนคำขอที่ดำเนินการล่าช้ากว่ากำหนด | D23: - | E23: - | F23: - | G23: - | H23: - | I23: - | J23: 0 | K23: 0 | L23: 0 | M23: 0 | N23: 0 | O23: 0 | P23: 0 | Q23: 0 | R23: 0 | S23: =SUM(D23:R23) -> 0 | T23: =AVERAGE(D23:R23) -> 0
B24: 4 | C24: จำนวนเรื่องร้องเรียนจากประชาชน | D24: - | E24: - | F24: - | G24: - | H24: - | I24: - | J24: 0 | K24: 0 | L24: 0 | M24: 0 | N24: 0 | O24: 0 | P24: 0 | Q24: 0 | R24: 0 | S24: =SUM(D24:R24) -> 0 | T24: =AVERAGE(D24:R24) -> 0
B25: 5 | C25: จำนวนการดำเนินคดีที่เกี่ยวข้องกับการออกใบอนุญาต | D25: - | E25: - | F25: - | G25: - | H25: - | I25: - | J25: 0 | K25: 0 | L25: 0 | M25: 0 | N25: 0 | O25: 0 | P25: 0 | Q25: 0 | R25: 0 | S25: =SUM(D25:R25) -> 0 | T25: =AVERAGE(D25:R25) -> 0
B26: หมายเหตุ ให้รายงานทุกรายไตรมาส (โดยแยกเป็นรายเดือน) ภายใน 5 วัน หลักจากสิ้นไตรมาส
B29: งานบริการ การขึ้นทะเบียนเกษตรกร กรณีเกษตรกรนำแปลงใหม่มาขึ้นทะเบียนด้วยตนเอง ณ สำนักงานเกษตรอำเภอ/สำนักงานเกษตรพื้นที่ (กทม.)
B30: ลำดับที่ | C30: รายการ | D30: ปี 2563 | G30: ปีงบประมาณ 2564
D31: ไตรมาส 1/63 | G31: ไตรมาส 1/64 | J31: ไตรมาส 2/64 | M31: ไตรมาส 3/64 | P31: ไตรมาส 4/64 | S31: รวม | T31: เฉลี่ย
D32: ก.ค. | E32: ส.ค. | F32: ก.ย. | G32: ต.ค. | H32: พ.ย. | I32: ธ.ค. | J32: ม.ค. | K32: ก.พ. | L32: มี.ค. | M32: เม.ย. | N32: พ.ค. | O32: มิ.ค. | P32: ก.ค. | Q32: ส.ค. | R32: ก.ย.
B33: 1 | C33: จำนวนคำขอที่ได้รับการอนุมัติ | D33: - | E33: - | F33: - | G33: - | H33: - | I33: - | J33: 0 | K33: 0 | L33: 0 | M33: 0 | N33: 20 | O33: 0 | P33: 10 | Q33: 5 | R33: 14 | S33: =SUM(D33:R33) -> 49 | T33: =AVERAGE(D33:R33) -> 5.4444444
B34: 2 | C34: จำนวนคำขอที่ไม่ได้รับการอนุมัติ | D34: - | E34: - | F34: - | G34: - | H34: - | I34: - | J34: 0 | K34: 0 | L34: 0 | M34: 0 | N34: 2 | O34: 0 | P34: 6 | Q34: 0 | R34: 0 | S34: =SUM(D34:R34) -> 8 | T34: =AVERAGE(D34:R34) -> 0.88888889
B35: 3 | C35: จำนวนคำขอที่ดำเนินการล่าช้ากว่ากำหนด | D35: - | E35: - | F35: - | G35: - | H35: - | I35: - | J35: 0 | K35: 0 | L35: 0 | M35: 0 | N35: 0 | O35: 0 | P35: 0 | Q35: 0 | R35: 0 | S35: =SUM(D35:R35) -> 0 | T35: =AVERAGE(D35:R35) -> 0
B36: 4 | C36: จำนวนเรื่องร้องเรียนจากประชาชน | D36: - | E36: - | F36: - | G36: - | H36: - | I36: - | J36: 0 | K36: 0 | L36: 0 | M36: 0 | N36: 0 | O36: 0 | P36: 0 | Q36: 0 | R36: 0 | S36: =SUM(D36:R36) -> 0 | T36: =AVERAGE(D36:R36) -> 0
B37: 5 | C37: จำนวนการดำเนินคดีที่เกี่ยวข้องกับการออกใบอนุญาต | D37: - | E37: - | F37: - | G37: - | H37: - | I37: - | J37: 0 | K37: 0 | L37: 0 | M37: 0 | N37: 0 | O37: 0 | P37: 0 | Q37: 0 | R37: 0 | S37: =SUM(D37:R37) -> 0 | T37: =AVERAGE(D37:R37) -> 0
B38: หมายเหตุ ให้รายงานทุกรายไตรมาส (โดยแยกเป็นรายเดือน) ภายใน 5 วัน หลักจากสิ้นไตรมาส
B41: งานบริการ การขึ้นทะเบียนเกษตรกร กรณีเกษตรกรนำแปลงเดิมมาขึ้นทะเบียนด้วยตนเอง ณ สำนักงานเกษตรอำเภอ/สำนักงานเกษตรพื้นที่ (กทม.)
B42: ลำดับที่ | C42: รายการ | D42: ปี 2563 | G42: ปีงบประมาณ 2564
D43: ไตรมาส 1/63 | G43: ไตรมาส 1/64 | J43: ไตรมาส 2/64 | M43: ไตรมาส 3/64 | P43: ไตรมาส 4/64 | S43: รวม | T43: เฉลี่ย
D44: ก.ค. | E44: ส.ค. | F44: ก.ย. | G44: ต.ค. | H44: พ.ย. | I44: ธ.ค. | J44: ม.ค. | K44: ก.พ. | L44: มี.ค. | M44: เม.ย. | N44: พ.ค. | O44: มิ.ค. | P44: ก.ค. | Q44: ส.ค. | R44: ก.ย.
B45: 1 | C45: จำนวนคำขอที่ได้รับการอนุมัติ | D45: - | E45: - | F45: - | G45: - | H45: - | I45: - | J45: 0 | K45: 310 | L45: 310 | M45: 7 | N45: 56 | O45: 11331 | P45: 7380 | Q45: 1281 | R45: 1400 | S45: =SUM(D45:R45) -> 22075 | T45: =AVERAGE(D45:R45) -> 2452.7778
B46: 2 | C46: จำนวนคำขอที่ไม่ได้รับการอนุมัติ | D46: - | E46: - | F46: - | G46: - | H46: - | I46: - | J46: 0 | K46: 1 | L46: 2 | M46: 0 | N46: 1 | O46: 0 | P46: 5 | Q46: 11 | R46: 0 | S46: =SUM(D46:R46) -> 20 | T46: =AVERAGE(D46:R46) -> 2.2222222
B47: 3 | C47: จำนวนคำขอที่ดำเนินการล่าช้ากว่ากำหนด | D47: - | E47: - | F47: - | G47: - | H47: - | I47: - | J47: 0 | K47: 0 | L47: 0 | M47: 0 | N47: 0 | O47: 0 | P47: 0 | Q47: 0 | R47: 0 | S47: =SUM(D47:R47) -> 0 | T47: =AVERAGE(D47:R47) -> 0
B48: 4 | C48: จำนวนเรื่องร้องเรียนจากประชาชน | D48: - | E48: - | F48: - | G48: - | H48: - | I48: - | J48: 0 | K48: 0 | L48: 0 | M48: 0 | N48: 0 | O48: 0 | P48: 0 | Q48: 0 | R48: 0 | S48: =SUM(D48:R48) -> 0 | T48: =AVERAGE(D48:R48) -> 0
B49: 5 | C49: จำนวนการดำเนินคดีที่เกี่ยวข้องกับการออกใบอนุญาต | D49: - | E49: - | F49: - | G49: - | H49: - | I49: - | J49: 0 | K49: 0 | L49: 0 | M49: 0 | N49: 0 | O49: 0 | P49: 0 | Q49: 0 | R49: 0 | S49: =SUM(D49:R49) -> 0 | T49: =AVERAGE(D49:R49) -> 0
B50: หมายเหตุ ให้รายงานทุกรายไตรมาส (โดยแยกเป็นรายเดือน) ภายใน 5 วัน หลักจากสิ้นไตรมาส

Sheet เกษตรโพนทอง
B2: รายงานผลการออกใบอนุญาต ตามคู่มือบริการประชาชน
B3: หน่วยงาน สำนักงานเกษตรอำเภอโพนทอง จังหวัดร้อยเอ็ด
B5: งานบริการ การจดทะเบียนวิสาหกิจชุมชนและเครือข่ายวิสาหกิจชุมชน กรณีจดทะเบียน ณ ศูนย์บริการและถ่ายทอดเทคโนโลยีการเกษตรประจำตำบล/แขวง (กทม.)
B6: ลำดับที่ | C6: รายการ | D6: ปี 2563 | G6: ปีงบประมาณ 2564
D7: ไตรมาส 1/63 | G7: ไตรมาส 1/64 | J7: ไตรมาส 2/64 | M7: ไตรมาส 3/64 | P7: ไตรมาส 4/64 | S7: รวม | T7: เฉลี่ย
D8: ก.ค. | E8: ส.ค. | F8: ก.ย. | G8: ต.ค. | H8: พ.ย. | I8: ธ.ค. | J8: ม.ค. | K8: ก.พ. | L8: มี.ค. | M8: เม.ย. | N8: พ.ค. | O8: มิ.ค. | P8: ก.ค. | Q8: ส.ค. | R8: ก.ย.
B9: 1 | C9: จำนวนคำขอที่ได้รับการอนุมัติ | D9: - | E9: - | F9: - | G9: - | H9: - | I9: - | J9: 0 | K9: 0 | L9: 0 | M9: 0 | N9: 0 | O9: 0 | P9: 0 | Q9: 0 | R9: 0 | S9: =SUM(D9:R9) -> 0 | T9: =AVERAGE(D9:R9) -> 0
B10: 2 | C10: จำนวนคำขอที่ไม่ได้รับการอนุมัติ | D10: - | E10: - | F10: - | G10: - | H10: - | I10: - | J10: 0 | K10: 0 | L10: 0 | M10: 0 | N10: 0 | O10: 0 | P10: 0 | Q10: 0 | R10: 0 | S10: =SUM(D10:R10) -> 0 | T10: =AVERAGE(D10:R10) -> 0
B11: 3 | C11: จำนวนคำขอที่ดำเนินการล่าช้ากว่ากำหนด | D11: - | E11: - | F11: - | G11: - | H11: - | I11: - | J11: 0 | K11: 0 | L11: 0 | M11: 0 | N11: 0 | O11: 0 | P11: 0 | Q11: 0 | R11: 0 | S11: =SUM(D11:R11) -> 0 | T11: =AVERAGE(D11:R11) -> 0
B12: 4 | C12: จำนวนเรื่องร้องเรียนจากประชาชน | D12: - | E12: - | F12: - | G12: - | H12: - | I12: - | J12: 0 | K12: 0 | L12: 0 | M12: 0 | N12: 0 | O12: 0 | P12: 0 | Q12: 0 | R12: 0 | S12: =SUM(D12:R12) -> 0 | T12: =AVERAGE(D12:R12) -> 0
B13: 5 | C13: จำนวนการดำเนินคดีที่เกี่ยวข้องกับการออกใบอนุญาต | D13: - | E13: - | F13: - | G13: - | H13: - | I13: - | J13: 0 | K13: 0 | L13: 0 | M13: 0 | N13: 0 | O13: 0 | P13: 0 | Q13: 0 | R13: 0 | S13: =SUM(D13:R13) -> 0 | T13: =AVERAGE(D13:R13) -> 0
B14: หมายเหตุ ให้รายงานทุกรายไตรมาส (โดยแยกเป็นรายเดือน) ภายใน 5 วัน หลักจากสิ้นไตรมาส
B17: งานบริการ การจดทะเบียนวิสาหกิจชุมชนและเครือข่ายวิสาหกิจชุมชน กรณีจดทะเบียน ณ สำนักงานเกษตรอำเภอ/กิ่งอำเภอ/สำนักงานเกษตรพื้นที่ (กทม.)
B18: ลำดับที่ | C18: รายการ | D18: ปี 2563 | G18: ปีงบประมาณ 2564
D19: ไตรมาส 1/63 | G19: ไตรมาส 1/64 | J19: ไตรมาส 2/64 | M19: ไตรมาส 3/64 | P19: ไตรมาส 4/64 | S19: รวม | T19: เฉลี่ย
D20: ก.ค. | E20: ส.ค. | F20: ก.ย. | G20: ต.ค. | H20: พ.ย. | I20: ธ.ค. | J20: ม.ค. | K20: ก.พ. | L20: มี.ค. | M20: เม.ย. | N20: พ.ค. | O20: มิ.ค. | P20: ก.ค. | Q20: ส.ค. | R20: ก.ย.
B21: 1 | C21: จำนวนคำขอที่ได้รับการอนุมัติ | D21: - | E21: - | F21: - | G21: - | H21: - | I21: - | J21: 2 | K21: 1 | L21: 2 | M21: 11 | N21: 1 | O21: 0 | P21: 4 | Q21: 1 | R21: 0 | S21: =SUM(D21:R21) -> 22 | T21: =AVERAGE(D21:R21) -> 2.4444444
B22: 2 | C22: จำนวนคำขอที่ไม่ได้รับการอนุมัติ | D22: - | E22: - | F22: - | G22: - | H22: - | I22: - | J22: 0 | K22: 0 | L22: 0 | M22: 0 | N22: 0 | O22: 0 | P22: 0 | Q22: 0 | R22: 0 | S22: =SUM(D22:R22) -> 0 | T22: =AVERAGE(D22:R22) -> 0
B23: 3 | C23: จำนวนคำขอที่ดำเนินการล่าช้ากว่ากำหนด | D23: - | E23: - | F23: - | G23: - | H23: - | I23: - | J23: 0 | K23: 0 | L23: 0 | M23: 0 | N23: 0 | O23: 0 | P23: 0 | Q23: 0 | R23: 0 | S23: =SUM(D23:R23) -> 0 | T23: =AVERAGE(D23:R23) -> 0
B24: 4 | C24: จำนวนเรื่องร้องเรียนจากประชาชน | D24: - | E24: - | F24: - | G24: - | H24: - | I24: - | J24: 0 | K24: 0 | L24: 0 | M24: 0 | N24: 0 | O24: 0 | P24: 0 | Q24: 0 | R24: 0 | S24: =SUM(D24:R24) -> 0 | T24: =AVERAGE(D24:R24) -> 0
B25: 5 | C25: จำนวนการดำเนินคดีที่เกี่ยวข้องกับการออกใบอนุญาต | D25: - | E25: - | F25: - | G25: - | H25: - | I25: - | J25: 0 | K25: 0 | L25: 0 | M25: 0 | N25: 0 | O25: 0 | P25: 0 | Q25: 0 | R25: 0 | S25: =SUM(D25:R25) -> 0 | T25: =AVERAGE(D25:R25) -> 0
B26: หมายเหตุ ให้รายงานทุกรายไตรมาส (โดยแยกเป็นรายเดือน) ภายใน 5 วัน หลักจากสิ้นไตรมาส
B29: งานบริการ การขึ้นทะเบียนเกษตรกร กรณีเกษตรกรนำแปลงใหม่มาขึ้นทะเบียนด้วยตนเอง ณ สำนักงานเกษตรอำเภอ/สำนักงานเกษตรพื้นที่ (กทม.)
B30: ลำดับที่ | C30: รายการ | D30: ปี 2563 | G30: ปีงบประมาณ 2564
D31: ไตรมาส 1/63 | G31: ไตรมาส 1/64 | J31: ไตรมาส 2/64 | M31: ไตรมาส 3/64 | P31: ไตรมาส 4/64 | S31: รวม | T31: เฉลี่ย
D32: ก.ค. | E32: ส.ค. | F32: ก.ย. | G32: ต.ค. | H32: พ.ย. | I32: ธ.ค. | J32: ม.ค. | K32: ก.พ. | L32: มี.ค. | M32: เม.ย. | N32: พ.ค. | O32: มิ.ค. | P32: ก.ค. | Q32: ส.ค. | R32: ก.ย.
B33: 1 | C33: จำนวนคำขอที่ได้รับการอนุมัติ | D33: - | E33: - | F33: - | G33: - | H33: - | I33: - | J33: 0 | K33: 0 | L33: 0 | M33: 0 | N33: 120 | O33: 35 | P33: 16 | Q33: 9 | R33: 44 | S33: =SUM(D33:R33) -> 224 | T33: =AVERAGE(D33:R33) -> 24.888889
B34: 2 | C34: จำนวนคำขอที่ไม่ได้รับการอนุมัติ | D34: - | E34: - | F34: - | G34: - | H34: - | I34: - | J34: 0 | K34: 0 | L34: 0 | M34: 0 | N34: 2 | O34: 0 | P34: 0 | Q34: 1 | R34: 0 | S34: =SUM(D34:R34) -> 3 | T34: =AVERAGE(D34:R34) -> 0.33333333
B35: 3 | C35: จำนวนคำขอที่ดำเนินการล่าช้ากว่ากำหนด | D35: - | E35: - | F35: - | G35: - | H35: - | I35: - | J35: 0 | K35: 0 | L35: 0 | M35: 0 | N35: 0 | O35: 0 | P35: 0 | Q35: 0 | R35: 0 | S35: =SUM(D35:R35) -> 0 | T35: =AVERAGE(D35:R35) -> 0
B36: 4 | C36: จำนวนเรื่องร้องเรียนจากประชาชน | D36: - | E36: - | F36: - | G36: - | H36: - | I36: - | J36: 0 | K36: 0 | L36: 0 | M36: 0 | N36: 0 | O36: 0 | P36: 0 | Q36: 0 | R36: 0 | S36: =SUM(D36:R36) -> 0 | T36: =AVERAGE(D36:R36) -> 0
B37: 5 | C37: จำนวนการดำเนินคดีที่เกี่ยวข้องกับการออกใบอนุญาต | D37: - | E37: - | F37: - | G37: - | H37: - | I37: - | J37: 0 | K37: 0 | L37: 0 | M37: 0 | N37: 0 | O37: 0 | P37: 0 | Q37: 0 | R37: 0 | S37: =SUM(D37:R37) -> 0 | T37: =AVERAGE(D37:R37) -> 0
B38: หมายเหตุ ให้รายงานทุกรายไตรมาส (โดยแยกเป็นรายเดือน) ภายใน 5 วัน หลักจากสิ้นไตรมาส
B41: งานบริการ การขึ้นทะเบียนเกษตรกร กรณีเกษตรกรนำแปลงเดิมมาขึ้นทะเบียนด้วยตนเอง ณ สำนักงานเกษตรอำเภอ/สำนักงานเกษตรพื้นที่ (กทม.)
B42: ลำดับที่ | C42: รายการ | D42: ปี 2563 | G42: ปีงบประมาณ 2564
D43: ไตรมาส 1/63 | G43: ไตรมาส 1/64 | J43: ไตรมาส 2/64 | M43: ไตรมาส 3/64 | P43: ไตรมาส 4/64 | S43: รวม | T43: เฉลี่ย
D44: ก.ค. | E44: ส.ค. | F44: ก.ย. | G44: ต.ค. | H44: พ.ย. | I44: ธ.ค. | J44: ม.ค. | K44: ก.พ. | L44: มี.ค. | M44: เม.ย. | N44: พ.ค. | O44: มิ.ค. | P44: ก.ค. | Q44: ส.ค. | R44: ก.ย.
B45: 1 | C45: จำนวนคำขอที่ได้รับการอนุมัติ | D45: - | E45: - | F45: - | G45: - | H45: - | I45: - | J45: 0 | K45: 1000 | L45: 2009 | M45: 159 | N45: 385 | O45: 11147 | P45: 1600 | Q45: 1260 | R45: 1900 | S45: =SUM(D45:R45) -> 19460 | T45: =AVERAGE(D45:R45) -> 2162.2222
B46: 2 | C46: จำนวนคำขอที่ไม่ได้รับการอนุมัติ | D46: - | E46: - | F46: - | G46: - | H46: - | I46: - | J46: 0 | K46: 0 | L46: 3 | M46: 0 | N46: 1 | O46: 0 | P46: 0 | Q46: 0 | R46: 0 | S46: =SUM(D46:R46) -> 4 | T46: =AVERAGE(D46:R46) -> 0.44444444
B47: 3 | C47: จำนวนคำขอที่ดำเนินการล่าช้ากว่ากำหนด | D47: - | E47: - | F47: - | G47: - | H47: - | I47: - | J47: 0 | K47: 0 | L47: 0 | M47: 0 | N47: 0 | O47: 0 | P47: 0 | Q47: 0 | R47: 0 | S47: =SUM(D47:R47) -> 0 | T47: =AVERAGE(D47:R47) -> 0
B48: 4 | C48: จำนวนเรื่องร้องเรียนจากประชาชน | D48: - | E48: - | F48: - | G48: - | H48: - | I48: - | J48: 0 | K48: 0 | L48: 0 | M48: 0 | N48: 0 | O48: 0 | P48: 0 | Q48: 0 | R48: 0 | S48: =SUM(D48:R48) -> 0 | T48: =AVERAGE(D48:R48) -> 0
B49: 5 | C49: จำนวนการดำเนินคดีที่เกี่ยวข้องกับการออกใบอนุญาต | D49: - | E49: - | F49: - | G49: - | H49: - | I49: - | J49: 0 | K49: 0 | L49: 0 | M49: 0 | N49: 0 | O49: 0 | P49: 0 | Q49: 0 | R49: 0 | S49: =SUM(D49:R49) -> 0 | T49: =AVERAGE(D49:R49) -> 0
B50: หมายเหตุ ให้รายงานทุกรายไตรมาส (โดยแยกเป็นรายเดือน) ภายใน 5 วัน หลักจากสิ้นไตรมาส

Sheet เกษตรหนองพอก
B2: รายงานผลการออกใบอนุญาต ตามคู่มือบริการประชาชน
B3: หน่วยงาน สำนักงานเกษตรอำเภอหนองพอก จังหวัดร้อยเอ็ด
B5: งานบริการ การจดทะเบียนวิสาหกิจชุมชนและเครือข่ายวิสาหกิจชุมชน กรณีจดทะเบียน ณ ศูนย์บริการและถ่ายทอดเทคโนโลยีการเกษตรประจำตำบล/แขวง (กทม.)
B6: ลำดับที่ | C6: รายการ | D6: ปี 2563 | G6: ปีงบประมาณ 2564
D7: ไตรมาส 1/63 | G7: ไตรมาส 1/64 | J7: ไตรมาส 2/64 | M7: ไตรมาส 3/64 | P7: ไตรมาส 4/64 | S7: รวม | T7: เฉลี่ย
D8: ก.ค. | E8: ส.ค. | F8: ก.ย. | G8: ต.ค. | H8: พ.ย. | I8: ธ.ค. | J8: ม.ค. | K8: ก.พ. | L8: มี.ค. | M8: เม.ย. | N8: พ.ค. | O8: มิ.ค. | P8: ก.ค. | Q8: ส.ค. | R8: ก.ย.
B9: 1 | C9: จำนวนคำขอที่ได้รับการอนุมัติ | D9: - | E9: - | F9: - | G9: - | H9: - | I9: - | J9: 0 | K9: 0 | L9: 0 | M9: 0 | N9: 0 | O9: 0 | P9: 0 | Q9: 0 | R9: 0 | S9: =SUM(D9:R9) -> 0 | T9: =AVERAGE(D9:R9) -> 0
B10: 2 | C10: จำนวนคำขอที่ไม่ได้รับการอนุมัติ | D10: - | E10: - | F10: - | G10: - | H10: - | I10: - | J10: 0 | K10: 0 | L10: 0 | M10: 0 | N10: 0 | O10: 0 | P10: 0 | Q10: 0 | R10: 0 | S10: =SUM(D10:R10) -> 0 | T10: =AVERAGE(D10:R10) -> 0
B11: 3 | C11: จำนวนคำขอที่ดำเนินการล่าช้ากว่ากำหนด | D11: - | E11: - | F11: - | G11: - | H11: - | I11: - | J11: 0 | K11: 0 | L11: 0 | M11: 0 | N11: 0 | O11: 0 | P11: 0 | Q11: 0 | R11: 0 | S11: =SUM(D11:R11) -> 0 | T11: =AVERAGE(D11:R11) -> 0
B12: 4 | C12: จำนวนเรื่องร้องเรียนจากประชาชน | D12: - | E12: - | F12: - | G12: - | H12: - | I12: - | J12: 0 | K12: 0 | L12: 0 | M12: 0 | N12: 0 | O12: 0 | P12: 0 | Q12: 0 | R12: 0 | S12: =SUM(D12:R12) -> 0 | T12: =AVERAGE(D12:R12) -> 0
B13: 5 | C13: จำนวนการดำเนินคดีที่เกี่ยวข้องกับการออกใบอนุญาต | D13: - | E13: - | F13: - | G13: - | H13: - | I13: - | J13: 0 | K13: 0 | L13: 0 | M13: 0 | N13: 0 | O13: 0 | P13: 0 | Q13: 0 | R13: 0 | S13: =SUM(D13:R13) -> 0 | T13: =AVERAGE(D13:R13) -> 0
B14: หมายเหตุ ให้รายงานทุกรายไตรมาส (โดยแยกเป็นรายเดือน) ภายใน 5 วัน หลักจากสิ้นไตรมาส
B17: งานบริการ การจดทะเบียนวิสาหกิจชุมชนและเครือข่ายวิสาหกิจชุมชน กรณีจดทะเบียน ณ สำนักงานเกษตรอำเภอ/กิ่งอำเภอ/สำนักงานเกษตรพื้นที่ (กทม.)
B18: ลำดับที่ | C18: รายการ | D18: ปี 2563 | G18: ปีงบประมาณ 2564
D19: ไตรมาส 1/63 | G19: ไตรมาส 1/64 | J19: ไตรมาส 2/64 | M19: ไตรมาส 3/64 | P19: ไตรมาส 4/64 | S19: รวม | T19: เฉลี่ย
D20: ก.ค. | E20: ส.ค. | F20: ก.ย. | G20: ต.ค. | H20: พ.ย. | I20: ธ.ค. | J20: ม.ค. | K20: ก.พ. | L20: มี.ค. | M20: เม.ย. | N20: พ.ค. | O20: มิ.ค. | P20: ก.ค. | Q20: ส.ค. | R20: ก.ย.
B21: 1 | C21: จำนวนคำขอที่ได้รับการอนุมัติ | D21: - | E21: - | F21: - | G21: - | H21: - | I21: - | J21: 1 | K21: 1 | L21: 0 | M21: 0 | N21: 1 | O21: 1 | P21: 0 | Q21: 0 | R21: 1 | S21: =SUM(D21:R21) -> 5 | T21: =AVERAGE(D21:R21) -> 0.55555556
B22: 2 | C22: จำนวนคำขอที่ไม่ได้รับการอนุมัติ | D22: - | E22: - | F22: - | G22: - | H22: - | I22: - | J22: 0 | K22: 0 | L22: 0 | M22: 0 | N22: 0 | O22: 0 | P22: 0 | Q22: 0 | R22: 0 | S22: =SUM(D22:R22) -> 0 | T22: =AVERAGE(D22:R22) -> 0
B23: 3 | C23: จำนวนคำขอที่ดำเนินการล่าช้ากว่ากำหนด | D23: - | E23: - | F23: - | G23: - | H23: - | I23: - | J23: 0 | K23: 0 | L23: 0 | M23: 0 | N23: 0 | O23: 0 | P23: 0 | Q23: 0 | R23: 0 | S23: =SUM(D23:R23) -> 0 | T23: =AVERAGE(D23:R23) -> 0
B24: 4 | C24: จำนวนเรื่องร้องเรียนจากประชาชน | D24: - | E24: - | F24: - | G24: - | H24: - | I24: - | J24: 0 | K24: 0 | L24: 0 | M24: 0 | N24: 0 | O24: 0 | P24: 0 | Q24: 0 | R24: 0 | S24: =SUM(D24:R24) -> 0 | T24: =AVERAGE(D24:R24) -> 0
B25: 5 | C25: จำนวนการดำเนินคดีที่เกี่ยวข้องกับการออกใบอนุญาต | D25: - | E25: - | F25: - | G25: - | H25: - | I25: - | J25: 0 | K25: 0 | L25: 0 | M25: 0 | N25: 0 | O25: 0 | P25: 0 | Q25: 0 | R25: 0 | S25: =SUM(D25:R25) -> 0 | T25: =AVERAGE(D25:R25) -> 0
B26: หมายเหตุ ให้รายงานทุกรายไตรมาส (โดยแยกเป็นรายเดือน) ภายใน 5 วัน หลักจากสิ้นไตรมาส
B29: งานบริการ การขึ้นทะเบียนเกษตรกร กรณีเกษตรกรนำแปลงใหม่มาขึ้นทะเบียนด้วยตนเอง ณ สำนักงานเกษตรอำเภอ/สำนักงานเกษตรพื้นที่ (กทม.)
B30: ลำดับที่ | C30: รายการ | D30: ปี 2563 | G30: ปีงบประมาณ 2564
D31: ไตรมาส 1/63 | G31: ไตรมาส 1/64 | J31: ไตรมาส 2/64 | M31: ไตรมาส 3/64 | P31: ไตรมาส 4/64 | S31: รวม | T31: เฉลี่ย
D32: ก.ค. | E32: ส.ค. | F32: ก.ย. | G32: ต.ค. | H32: พ.ย. | I32: ธ.ค. | J32: ม.ค. | K32: ก.พ. | L32: มี.ค. | M32: เม.ย. | N32: พ.ค. | O32: มิ.ค. | P32: ก.ค. | Q32: ส.ค. | R32: ก.ย.
B33: 1 | C33: จำนวนคำขอที่ได้รับการอนุมัติ | D33: - | E33: - | F33: - | G33: - | H33: - | I33: - | J33: 0 | K33: 0 | L33: 0 | M33: 0 | N33: 3 | O33: 94 | P33: 33 | Q33: 5 | R33: 3 | S33: =SUM(D33:R33) -> 138 | T33: =AVERAGE(D33:R33) -> 15.333333
B34: 2 | C34: จำนวนคำขอที่ไม่ได้รับการอนุมัติ | D34: - | E34: - | F34: - | G34: - | H34: - | I34: - | J34: 0 | K34: 0 | L34: 0 | M34: 0 | N34: 0 | O34: 0 | P34: 0 | Q34: 0 | R34: 0 | S34: =SUM(D34:R34) -> 0 | T34: =AVERAGE(D34:R34) -> 0
B35: 3 | C35: จำนวนคำขอที่ดำเนินการล่าช้ากว่ากำหนด | D35: - | E35: - | F35: - | G35: - | H35: - | I35: - | J35: 0 | K35: 0 | L35: 0 | M35: 0 | N35: 0 | O35: 0 | P35: 0 | Q35: 0 | R35: 0 | S35: =SUM(D35:R35) -> 0 | T35: =AVERAGE(D35:R35) -> 0
B36: 4 | C36: จำนวนเรื่องร้องเรียนจากประชาชน | D36: - | E36: - | F36: - | G36: - | H36: - | I36: - | J36: 0 | K36: 0 | L36: 0 | M36: 0 | N36: 0 | O36: 0 | P36: 0 | Q36: 0 | R36: 0 | S36: =SUM(D36:R36) -> 0 | T36: =AVERAGE(D36:R36) -> 0
B37: 5 | C37: จำนวนการดำเนินคดีที่เกี่ยวข้องกับการออกใบอนุญาต | D37: - | E37: - | F37: - | G37: - | H37: - | I37: - | J37: 0 | K37: 0 | L37: 0 | M37: 0 | N37: 0 | O37: 0 | P37: 0 | Q37: 0 | R37: 0 | S37: =SUM(D37:R37) -> 0 | T37: =AVERAGE(D37:R37) -> 0
B38: หมายเหตุ ให้รายงานทุกรายไตรมาส (โดยแยกเป็นรายเดือน) ภายใน 5 วัน หลักจากสิ้นไตรมาส
B41: งานบริการ การขึ้นทะเบียนเกษตรกร กรณีเกษตรกรนำแปลงเดิมมาขึ้นทะเบียนด้วยตนเอง ณ สำนักงานเกษตรอำเภอ/สำนักงานเกษตรพื้นที่ (กทม.)
B42: ลำดับที่ | C42: รายการ | D42: ปี 2563 | G42: ปีงบประมาณ 2564
D43: ไตรมาส 1/63 | G43: ไตรมาส 1/64 | J43: ไตรมาส 2/64 | M43: ไตรมาส 3/64 | P43: ไตรมาส 4/64 | S43: รวม | T43: เฉลี่ย
D44: ก.ค. | E44: ส.ค. | F44: ก.ย. | G44: ต.ค. | H44: พ.ย. | I44: ธ.ค. | J44: ม.ค. | K44: ก.พ. | L44: มี.ค. | M44: เม.ย. | N44: พ.ค. | O44: มิ.ค. | P44: ก.ค. | Q44: ส.ค. | R44: ก.ย.
B45: 1 | C45: จำนวนคำขอที่ได้รับการอนุมัติ | D45: - | E45: - | F45: - | G45: - | H45: - | I45: - | J45: 0 | K45: 416 | L45: 1000 | M45: 390 | N45: 150 | O45: 4244 | P45: 2500 | Q45: 1150 | R45: 990 | S45: =SUM(D45:R45) -> 10840 | T45: =AVERAGE(D45:R45) -> 1204.4444
B46: 2 | C46: จำนวนคำขอที่ไม่ได้รับการอนุมัติ | D46: - | E46: - | F46: - | G46: - | H46: - | I46: - | J46: 0 | K46: 2 | L46: 1 | M46: 1 | N46: 4 | O46: 0 | P46: 0 | Q46: 0 | R46: 0 | S46: =SUM(D46:R46) -> 8 | T46: =AVERAGE(D46:R46) -> 0.88888889
B47: 3 | C47: จำนวนคำขอที่ดำเนินการล่าช้ากว่ากำหนด | D47: - | E47: - | F47: - | G47: - | H47: - | I47: - | J47: 0 | K47: 0 | L47: 0 | M47: 0 | N47: 0 | O47: 0 | P47: 0 | Q47: 0 | R47: 0 | S47: =SUM(D47:R47) -> 0 | T47: =AVERAGE(D47:R47) -> 0
B48: 4 | C48: จำนวนเรื่องร้องเรียนจากประชาชน | D48: - | E48: - | F48: - | G48: - | H48: - | I48: - | J48: 1 | K48: 0 | L48: 0 | M48: 0 | N48: 0 | O48: 0 | P48: 0 | Q48: 0 | R48: 0 | S48: =SUM(D48:R48) -> 1 | T48: =AVERAGE(D48:R48) -> 0.11111111
B49: 5 | C49: จำนวนการดำเนินคดีที่เกี่ยวข้องกับการออกใบอนุญาต | D49: - | E49: - | F49: - | G49: - | H49: - | I49: - | J49: 0 | K49: 0 | L49: 0 | M49: 0 | N49: 0 | O49: 0 | P49: 0 | Q49: 0 | R49: 0 | S49: =SUM(D49:R49) -> 0 | T49: =AVERAGE(D49:R49) -> 0
B50: หมายเหตุ ให้รายงานทุกรายไตรมาส (โดยแยกเป็นรายเดือน) ภายใน 5 วัน หลักจากสิ้นไตรมาส

Sheet เกษตรโพธิ์ชัย
B2: รายงานผลการออกใบอนุญาต ตามคู่มือบริการประชาชน
B3: หน่วยงาน สำนักงานเกษตรอำเภอโพธิ์ชัย จังหวัดร้อยเอ็ด
B5: งานบริการ การจดทะเบียนวิสาหกิจชุมชนและเครือข่ายวิสาหกิจชุมชน กรณีจดทะเบียน ณ ศูนย์บริการและถ่ายทอดเทคโนโลยีการเกษตรประจำตำบล/แขวง (กทม.)
B6: ลำดับที่ | C6: รายการ | D6: ปี 2563 | G6: ปีงบประมาณ 2564
D7: ไตรมาส 1/63 | G7: ไตรมาส 1/64 | J7: ไตรมาส 2/64 | M7: ไตรมาส 3/64 | P7: ไตรมาส 4/64 | S7: รวม | T7: เฉลี่ย
D8: ก.ค. | E8: ส.ค. | F8: ก.ย. | G8: ต.ค. | H8: พ.ย. | I8: ธ.ค. | J8: ม.ค. | K8: ก.พ. | L8: มี.ค. | M8: เม.ย. | N8: พ.ค. | O8: มิ.ค. | P8: ก.ค. | Q8: ส.ค. | R8: ก.ย.
B9: 1 | C9: จำนวนคำขอที่ได้รับการอนุมัติ | D9: - | E9: - | F9: - | G9: - | H9: - | I9: - | J9: 0 | K9: 0 | L9: 0 | M9: 0 | N9: 0 | O9: 0 | P9: 0 | Q9: 0 | R9: 0 | S9: =SUM(D9:R9) -> 0 | T9: =AVERAGE(D9:R9) -> 0
B10: 2 | C10: จำนวนคำขอที่ไม่ได้รับการอนุมัติ | D10: - | E10: - | F10: - | G10: - | H10: - | I10: - | J10: 0 | K10: 0 | L10: 0 | M10: 0 | N10: 0 | O10: 0 | P10: 0 | Q10: 0 | R10: 0 | S10: =SUM(D10:R10) -> 0 | T10: =AVERAGE(D10:R10) -> 0
B11: 3 | C11: จำนวนคำขอที่ดำเนินการล่าช้ากว่ากำหนด | D11: - | E11: - | F11: - | G11: - | H11: - | I11: - | J11: 0 | K11: 0 | L11: 0 | M11: 0 | N11: 0 | O11: 0 | P11: 0 | Q11: 0 | R11: 0 | S11: =SUM(D11:R11) -> 0 | T11: =AVERAGE(D11:R11) -> 0
B12: 4 | C12: จำนวนเรื่องร้องเรียนจากประชาชน | D12: - | E12: - | F12: - | G12: - | H12: - | I12: - | J12: 0 | K12: 0 | L12: 0 | M12: 0 | N12: 0 | O12: 0 | P12: 0 | Q12: 0 | R12: 0 | S12: =SUM(D12:R12) -> 0 | T12: =AVERAGE(D12:R12) -> 0
B13: 5 | C13: จำนวนการดำเนินคดีที่เกี่ยวข้องกับการออกใบอนุญาต | D13: - | E13: - | F13: - | G13: - | H13: - | I13: - | J13: 0 | K13: 0 | L13: 0 | M13: 0 | N13: 0 | O13: 0 | P13: 0 | Q13: 0 | R13: 0 | S13: =SUM(D13:R13) -> 0 | T13: =AVERAGE(D13:R13) -> 0
B14: หมายเหตุ ให้รายงานทุกรายไตรมาส (โดยแยกเป็นรายเดือน) ภายใน 5 วัน หลักจากสิ้นไตรมาส
B17: งานบริการ การจดทะเบียนวิสาหกิจชุมชนและเครือข่ายวิสาหกิจชุมชน กรณีจดทะเบียน ณ สำนักงานเกษตรอำเภอ/กิ่งอำเภอ/สำนักงานเกษตรพื้นที่ (กทม.)
B18: ลำดับที่ | C18: รายการ | D18: ปี 2563 | G18: ปีงบประมาณ 2564
D19: ไตรมาส 1/63 | G19: ไตรมาส 1/64 | J19: ไตรมาส 2/64 | M19: ไตรมาส 3/64 | P19: ไตรมาส 4/64 | S19: รวม | T19: เฉลี่ย
D20: ก.ค. | E20: ส.ค. | F20: ก.ย. | G20: ต.ค. | H20: พ.ย. | I20: ธ.ค. | J20: ม.ค. | K20: ก.พ. | L20: มี.ค. | M20: เม.ย. | N20: พ.ค. | O20: มิ.ค. | P20: ก.ค. | Q20: ส.ค. | R20: ก.ย.
B21: 1 | C21: จำนวนคำขอที่ได้รับการอนุมัติ | D21: - | E21: - | F21: - | G21: - | H21: - | I21: - | J21: 1 | K21: 3 | L21: 8 | M21: 15 | N21: 2 | O21: 3 | P21: 0 | Q21: 0 | R21: 3 | S21: =SUM(D21:R21) -> 35 | T21: =AVERAGE(D21:R21) -> 3.8888889
B22: 2 | C22: จำนวนคำขอที่ไม่ได้รับการอนุมัติ | D22: - | E22: - | F22: - | G22: - | H22: - | I22: - | J22: 0 | K22: 0 | L22: 0 | M22: 0 | N22: 0 | O22: 0 | P22: 0 | Q22: 0 | R22: 0 | S22: =SUM(D22:R22) -> 0 | T22: =AVERAGE(D22:R22) -> 0
B23: 3 | C23: จำนวนคำขอที่ดำเนินการล่าช้ากว่ากำหนด | D23: - | E23: - | F23: - | G23: - | H23: - | I23: - | J23: 0 | K23: 0 | L23: 0 | M23: 0 | N23: 0 | O23: 0 | P23: 0 | Q23: 0 | R23: 0 | S23: =SUM(D23:R23) -> 0 | T23: =AVERAGE(D23:R23) -> 0
B24: 4 | C24: จำนวนเรื่องร้องเรียนจากประชาชน | D24: - | E24: - | F24: - | G24: - | H24: - | I24: - | J24: 0 | K24: 0 | L24: 0 | M24: 0 | N24: 0 | O24: 0 | P24: 0 | Q24: 0 | R24: 0 | S24: =SUM(D24:R24) -> 0 | T24: =AVERAGE(D24:R24) -> 0
B25: 5 | C25: จำนวนการดำเนินคดีที่เกี่ยวข้องกับการออกใบอนุญาต | D25: - | E25: - | F25: - | G25: - | H25: - | I25: - | J25: 0 | K25: 0 | L25: 0 | M25: 0 | N25: 0 | O25: 0 | P25: 0 | Q25: 0 | R25: 0 | S25: =SUM(D25:R25) -> 0 | T25: =AVERAGE(D25:R25) -> 0
B26: หมายเหตุ ให้รายงานทุกรายไตรมาส (โดยแยกเป็นรายเดือน) ภายใน 5 วัน หลักจากสิ้นไตรมาส
B29: งานบริการ การขึ้นทะเบียนเกษตรกร กรณีเกษตรกรนำแปลงใหม่มาขึ้นทะเบียนด้วยตนเอง ณ สำนักงานเกษตรอำเภอ/สำนักงานเกษตรพื้นที่ (กทม.)
B30: ลำดับที่ | C30: รายการ | D30: ปี 2563 | G30: ปีงบประมาณ 2564
D31: ไตรมาส 1/63 | G31: ไตรมาส 1/64 | J31: ไตรมาส 2/64 | M31: ไตรมาส 3/64 | P31: ไตรมาส 4/64 | S31: รวม | T31: เฉลี่ย
D32: ก.ค. | E32: ส.ค. | F32: ก.ย. | G32: ต.ค. | H32: พ.ย. | I32: ธ.ค. | J32: ม.ค. | K32: ก.พ. | L32: มี.ค. | M32: เม.ย. | N32: พ.ค. | O32: มิ.ค. | P32: ก.ค. | Q32: ส.ค. | R32: ก.ย.
B33: 1 | C33: จำนวนคำขอที่ได้รับการอนุมัติ | D33: - | E33: - | F33: - | G33: - | H33: - | I33: - | J33: 0 | K33: 0 | L33: 0 | M33: 0 | N33: 50 | O33: 24 | P33: 2 | Q33: 7 | R33: 6 | S33: =SUM(D33:R33) -> 89 | T33: =AVERAGE(D33:R33) -> 9.8888889
B34: 2 | C34: จำนวนคำขอที่ไม่ได้รับการอนุมัติ | D34: - | E34: - | F34: - | G34: - | H34: - | I34: - | J34: 0 | K34: 0 | L34: 0 | M34: 0 | N34: 0 | O34: 0 | P34: 1 | Q34: 1 | R34: 0 | S34: =SUM(D34:R34) -> 2 | T34: =AVERAGE(D34:R34) -> 0.22222222
B35: 3 | C35: จำนวนคำขอที่ดำเนินการล่าช้ากว่ากำหนด | D35: - | E35: - | F35: - | G35: - | H35: - | I35: - | J35: 0 | K35: 0 | L35: 0 | M35: 0 | N35: 0 | O35: 0 | P35: 0 | Q35: 0 | R35: 0 | S35: =SUM(D35:R35) -> 0 | T35: =AVERAGE(D35:R35) -> 0
B36: 4 | C36: จำนวนเรื่องร้องเรียนจากประชาชน | D36: - | E36: - | F36: - | G36: - | H36: - | I36: - | J36: 0 | K36: 0 | L36: 0 | M36: 0 | N36: 0 | O36: 0 | P36: 0 | Q36: 0 | R36: 0 | S36: =SUM(D36:R36) -> 0 | T36: =AVERAGE(D36:R36) -> 0
B37: 5 | C37: จำนวนการดำเนินคดีที่เกี่ยวข้องกับการออกใบอนุญาต | D37: - | E37: - | F37: - | G37: - | H37: - | I37: - | J37: 0 | K37: 0 | L37: 0 | M37: 0 | N37: 0 | O37: 0 | P37: 0 | Q37: 0 | R37: 0 | S37: =SUM(D37:R37) -> 0 | T37: =AVERAGE(D37:R37) -> 0
B38: หมายเหตุ ให้รายงานทุกรายไตรมาส (โดยแยกเป็นรายเดือน) ภายใน 5 วัน หลักจากสิ้นไตรมาส
B41: งานบริการ การขึ้นทะเบียนเกษตรกร กรณีเกษตรกรนำแปลงเดิมมาขึ้นทะเบียนด้วยตนเอง ณ สำนักงานเกษตรอำเภอ/สำนักงานเกษตรพื้นที่ (กทม.)
B42: ลำดับที่ | C42: รายการ | D42: ปี 2563 | G42: ปีงบประมาณ 2564
D43: ไตรมาส 1/63 | G43: ไตรมาส 1/64 | J43: ไตรมาส 2/64 | M43: ไตรมาส 3/64 | P43: ไตรมาส 4/64 | S43: รวม | T43: เฉลี่ย
D44: ก.ค. | E44: ส.ค. | F44: ก.ย. | G44: ต.ค. | H44: พ.ย. | I44: ธ.ค. | J44: ม.ค. | K44: ก.พ. | L44: มี.ค. | M44: เม.ย. | N44: พ.ค. | O44: มิ.ค. | P44: ก.ค. | Q44: ส.ค. | R44: ก.ย.
B45: 1 | C45: จำนวนคำขอที่ได้รับการอนุมัติ | D45: - | E45: - | F45: - | G45: - | H45: - | I45: - | J45: 0 | K45: 2079 | L45: 2079 | M45: 11 | N45: 215 | O45: 4416 | P45: 1450 | Q45: 370 | R45: 680 | S45: =SUM(D45:R45) -> 11300 | T45: =AVERAGE(D45:R45) -> 1255.5556
B46: 2 | C46: จำนวนคำขอที่ไม่ได้รับการอนุมัติ | D46: - | E46: - | F46: - | G46: - | H46: - | I46: - | J46: 0 | K46: 0 | L46: 0 | M46: 0 | N46: 0 | O46: 0 | P46: 2 | Q46: 0 | R46: 0 | S46: =SUM(D46:R46) -> 2 | T46: =AVERAGE(D46:R46) -> 0.22222222
B47: 3 | C47: จำนวนคำขอที่ดำเนินการล่าช้ากว่ากำหนด | D47: - | E47: - | F47: - | G47: - | H47: - | I47: - | J47: 0 | K47: 0 | L47: 0 | M47: 0 | N47: 0 | O47: 0 | P47: 0 | Q47: 0 | R47: 0 | S47: =SUM(D47:R47) -> 0 | T47: =AVERAGE(D47:R47) -> 0
B48: 4 | C48: จำนวนเรื่องร้องเรียนจากประชาชน | D48: - | E48: - | F48: - | G48: - | H48: - | I48: - | J48: 0 | K48: 0 | L48: 0 | M48: 0 | N48: 0 | O48: 0 | P48: 0 | Q48: 0 | R48: 0 | S48: =SUM(D48:R48) -> 0 | T48: =AVERAGE(D48:R48) -> 0
B49: 5 | C49: จำนวนการดำเนินคดีที่เกี่ยวข้องกับการออกใบอนุญาต | D49: - | E49: - | F49: - | G49: - | H49: - | I49: - | J49: 0 | K49: 0 | L49: 0 | M49: 0 | N49: 0 | O49: 0 | P49: 0 | Q49: 0 | R49: 0 | S49: =SUM(D49:R49) -> 0 | T49: =AVERAGE(D49:R49) -> 0
B50: หมายเหตุ ให้รายงานทุกรายไตรมาส (โดยแยกเป็นรายเดือน) ภายใน 5 วัน หลักจากสิ้นไตรมาส

Sheet เกษตรจตุรพักตรพิมาน
B2: รายงานผลการออกใบอนุญาต ตามคู่มือบริการประชาชน
B3: หน่วยงาน สำนักงานเกษตรอำเภอจตุรพักตรพิมาน จังหวัดร้อยเอ็ด
B5: งานบริการ การจดทะเบียนวิสาหกิจชุมชนและเครือข่ายวิสาหกิจชุมชน กรณีจดทะเบียน ณ ศูนย์บริการและถ่ายทอดเทคโนโลยีการเกษตรประจำตำบล/แขวง (กทม.)
B6: ลำดับที่ | C6: รายการ | D6: ปี 2563 | G6: ปีงบประมาณ 2564
D7: ไตรมาส 1/63 | G7: ไตรมาส 1/64 | J7: ไตรมาส 2/64 | M7: ไตรมาส 3/64 | P7: ไตรมาส 4/64 | S7: รวม | T7: เฉลี่ย
D8: ก.ค. | E8: ส.ค. | F8: ก.ย. | G8: ต.ค. | H8: พ.ย. | I8: ธ.ค. | J8: ม.ค. | K8: ก.พ. | L8: มี.ค. | M8: เม.ย. | N8: พ.ค. | O8: มิ.ค. | P8: ก.ค. | Q8: ส.ค. | R8: ก.ย.
B9: 1 | C9: จำนวนคำขอที่ได้รับการอนุมัติ | D9: - | E9: - | F9: - | G9: - | H9: - | I9: - | J9: 0 | K9: 0 | L9: 0 | M9: 0 | N9: 0 | O9: 0 | P9: 0 | Q9: 0 | R9: 0 | S9: =SUM(D9:R9) -> 0 | T9: =AVERAGE(D9:R9) -> 0
B10: 2 | C10: จำนวนคำขอที่ไม่ได้รับการอนุมัติ | D10: - | E10: - | F10: - | G10: - | H10: - | I10: - | J10: 0 | K10: 0 | L10: 0 | M10: 0 | N10: 0 | O10: 0 | P10: 0 | Q10: 0 | R10: 0 | S10: =SUM(D10:R10) -> 0 | T10: =AVERAGE(D10:R10) -> 0
B11: 3 | C11: จำนวนคำขอที่ดำเนินการล่าช้ากว่ากำหนด | D11: - | E11: - | F11: - | G11: - | H11: - | I11: - | J11: 0 | K11: 0 | L11: 0 | M11: 0 | N11: 0 | O11: 0 | P11: 0 | Q11: 0 | R11: 0 | S11: =SUM(D11:R11) -> 0 | T11: =AVERAGE(D11:R11) -> 0
B12: 4 | C12: จำนวนเรื่องร้องเรียนจากประชาชน | D12: - | E12: - | F12: - | G12: - | H12: - | I12: - | J12: 0 | K12: 0 | L12: 0 | M12: 0 | N12: 0 | O12: 0 | P12: 0 | Q12: 0 | R12: 0 | S12: =SUM(D12:R12) -> 0 | T12: =AVERAGE(D12:R12) -> 0
B13: 5 | C13: จำนวนการดำเนินคดีที่เกี่ยวข้องกับการออกใบอนุญาต | D13: - | E13: - | F13: - | G13: - | H13: - | I13: - | J13: 0 | K13: 0 | L13: 0 | M13: 0 | N13: 0 | O13: 0 | P13: 0 | Q13: 0 | R13: 0 | S13: =SUM(D13:R13) -> 0 | T13: =AVERAGE(D13:R13) -> 0
B14: หมายเหตุ ให้รายงานทุกรายไตรมาส (โดยแยกเป็นรายเดือน) ภายใน 5 วัน หลักจากสิ้นไตรมาส
B17: งานบริการ การจดทะเบียนวิสาหกิจชุมชนและเครือข่ายวิสาหกิจชุมชน กรณีจดทะเบียน ณ สำนักงานเกษตรอำเภอ/กิ่งอำเภอ/สำนักงานเกษตรพื้นที่ (กทม.)
B18: ลำดับที่ | C18: รายการ | D18: ปี 2563 | G18: ปีงบประมาณ 2564
D19: ไตรมาส 1/63 | G19: ไตรมาส 1/64 | J19: ไตรมาส 2/64 | M19: ไตรมาส 3/64 | P19: ไตรมาส 4/64 | S19: รวม | T19: เฉลี่ย
D20: ก.ค. | E20: ส.ค. | F20: ก.ย. | G20: ต.ค. | H20: พ.ย. | I20: ธ.ค. | J20: ม.ค. | K20: ก.พ. | L20: มี.ค. | M20: เม.ย. | N20: พ.ค. | O20: มิ.ค. | P20: ก.ค. | Q20: ส.ค. | R20: ก.ย.
B21: 1 | C21: จำนวนคำขอที่ได้รับการอนุมัติ | D21: - | E21: - | F21: - | G21: - | H21: - | I21: - | J21: 4 | K21: 2 | L21: 0 | M21: 2 | N21: 1 | O21: 0 | P21: 0 | Q21: 2 | R21: 0 | S21: =SUM(D21:R21) -> 11 | T21: =AVERAGE(D21:R21) -> 1.2222222
B22: 2 | C22: จำนวนคำขอที่ไม่ได้รับการอนุมัติ | D22: - | E22: - | F22: - | G22: - | H22: - | I22: - | J22: 0 | K22: 0 | L22: 0 | M22: 0 | N22: 0 | O22: 0 | P22: 0 | Q22: 0 | R22: 0 | S22: =SUM(D22:R22) -> 0 | T22: =AVERAGE(D22:R22) -> 0
B23: 3 | C23: จำนวนคำขอที่ดำเนินการล่าช้ากว่ากำหนด | D23: - | E23: - | F23: - | G23: - | H23: - | I23: - | J23: 0 | K23: 0 | L23: 0 | M23: 0 | N23: 0 | O23: 0 | P23: 0 | Q23: 0 | R23: 0 | S23: =SUM(D23:R23) -> 0 | T23: =AVERAGE(D23:R23) -> 0
B24: 4 | C24: จำนวนเรื่องร้องเรียนจากประชาชน | D24: - | E24: - | F24: - | G24: - | H24: - | I24: - | J24: 0 | K24: 0 | L24: 0 | M24: 0 | N24: 0 | O24: 0 | P24: 0 | Q24: 0 | R24: 0 | S24: =SUM(D24:R24) -> 0 | T24: =AVERAGE(D24:R24) -> 0
B25: 5 | C25: จำนวนการดำเนินคดีที่เกี่ยวข้องกับการออกใบอนุญาต | D25: - | E25: - | F25: - | G25: - | H25: - | I25: - | J25: 0 | K25: 0 | L25: 0 | M25: 0 | N25: 0 | O25: 0 | P25: 0 | Q25: 0 | R25: 0 | S25: =SUM(D25:R25) -> 0 | T25: =AVERAGE(D25:R25) -> 0
B26: หมายเหตุ ให้รายงานทุกรายไตรมาส (โดยแยกเป็นรายเดือน) ภายใน 5 วัน หลักจากสิ้นไตรมาส
B29: งานบริการ การขึ้นทะเบียนเกษตรกร กรณีเกษตรกรนำแปลงใหม่มาขึ้นทะเบียนด้วยตนเอง ณ สำนักงานเกษตรอำเภอ/สำนักงานเกษตรพื้นที่ (กทม.)
B30: ลำดับที่ | C30: รายการ | D30: ปี 2563 | G30: ปีงบประมาณ 2564
D31: ไตรมาส 1/63 | G31: ไตรมาส 1/64 | J31: ไตรมาส 2/64 | M31: ไตรมาส 3/64 | P31: ไตรมาส 4/64 | S31: รวม | T31: เฉลี่ย
D32: ก.ค. | E32: ส.ค. | F32: ก.ย. | G32: ต.ค. | H32: พ.ย. | I32: ธ.ค. | J32: ม.ค. | K32: ก.พ. | L32: มี.ค. | M32: เม.ย. | N32: พ.ค. | O32: มิ.ค. | P32: ก.ค. | Q32: ส.ค. | R32: ก.ย.
B33: 1 | C33: จำนวนคำขอที่ได้รับการอนุมัติ | D33: - | E33: - | F33: - | G33: - | H33: - | I33: - | J33: 0 | K33: 0 | L33: 0 | M33: 0 | N33: 0 | O33: 90 | P33: 8 | Q33: 9 | R33: 4 | S33: =SUM(D33:R33) -> 111 | T33: =AVERAGE(D33:R33) -> 12.333333
B34: 2 | C34: จำนวนคำขอที่ไม่ได้รับการอนุมัติ | D34: - | E34: - | F34: - | G34: - | H34: - | I34: - | J34: 0 | K34: 0 | L34: 0 | M34: 0 | N34: 0 | O34: 0 | P34: 4 | Q34: 2 | R34: 0 | S34: =SUM(D34:R34) -> 6 | T34: =AVERAGE(D34:R34) -> 0.66666667
B35: 3 | C35: จำนวนคำขอที่ดำเนินการล่าช้ากว่ากำหนด | D35: - | E35: - | F35: - | G35: - | H35: - | I35: - | J35: 0 | K35: 0 | L35: 0 | M35: 0 | N35: 0 | O35: 0 | P35: 0 | Q35: 0 | R35: 0 | S35: =SUM(D35:R35) -> 0 | T35: =AVERAGE(D35:R35) -> 0
B36: 4 | C36: จำนวนเรื่องร้องเรียนจากประชาชน | D36: - | E36: - | F36: - | G36: - | H36: - | I36: - | J36: 0 | K36: 0 | L36: 0 | M36: 0 | N36: 0 | O36: 0 | P36: 0 | Q36: 0 | R36: 0 | S36: =SUM(D36:R36) -> 0 | T36: =AVERAGE(D36:R36) -> 0
B37: 5 | C37: จำนวนการดำเนินคดีที่เกี่ยวข้องกับการออกใบอนุญาต | D37: - | E37: - | F37: - | G37: - | H37: - | I37: - | J37: 0 | K37: 0 | L37: 0 | M37: 0 | N37: 0 | O37: 0 | P37: 0 | Q37: 0 | R37: 0 | S37: =SUM(D37:R37) -> 0 | T37: =AVERAGE(D37:R37) -> 0
B38: หมายเหตุ ให้รายงานทุกรายไตรมาส (โดยแยกเป็นรายเดือน) ภายใน 5 วัน หลักจากสิ้นไตรมาส
B41: งานบริการ การขึ้นทะเบียนเกษตรกร กรณีเกษตรกรนำแปลงเดิมมาขึ้นทะเบียนด้วยตนเอง ณ สำนักงานเกษตรอำเภอ/สำนักงานเกษตรพื้นที่ (กทม.)
B42: ลำดับที่ | C42: รายการ | D42: ปี 2563 | G42: ปีงบประมาณ 2564
D43: ไตรมาส 1/63 | G43: ไตรมาส 1/64 | J43: ไตรมาส 2/64 | M43: ไตรมาส 3/64 | P43: ไตรมาส 4/64 | S43: รวม | T43: เฉลี่ย
D44: ก.ค. | E44: ส.ค. | F44: ก.ย. | G44: ต.ค. | H44: พ.ย. | I44: ธ.ค. | J44: ม.ค. | K44: ก.พ. | L44: มี.ค. | M44: เม.ย. | N44: พ.ค. | O44: มิ.ค. | P44: ก.ค. | Q44: ส.ค. | R44: ก.ย.
B45: 1 | C45: จำนวนคำขอที่ได้รับการอนุมัติ | D45: - | E45: - | F45: - | G45: - | H45: - | I45: - | J45: 0 | K45: 62 | L45: 100 | M45: 1644 | N45: 1 | O45: 12493 | P45: 610 | Q45: 790 | R45: 640 | S45: =SUM(D45:R45) -> 16340 | T45: =AVERAGE(D45:R45) -> 1815.5556
B46: 2 | C46: จำนวนคำขอที่ไม่ได้รับการอนุมัติ | D46: - | E46: - | F46: - | G46: - | H46: - | I46: - | J46: 0 | K46: 1 | L46: 1 | M46: 2 | N46: 0 | O46: 0 | P46: 4 | Q46: 8 | R46: 0 | S46: =SUM(D46:R46) -> 16 | T46: =AVERAGE(D46:R46) -> 1.7777778
B47: 3 | C47: จำนวนคำขอที่ดำเนินการล่าช้ากว่ากำหนด | D47: - | E47: - | F47: - | G47: - | H47: - | I47: - | J47: 0 | K47: 0 | L47: 0 | M47: 0 | N47: 0 | O47: 0 | P47: 0 | Q47: 0 | R47: 0 | S47: =SUM(D47:R47) -> 0 | T47: =AVERAGE(D47:R47) -> 0
B48: 4 | C48: จำนวนเรื่องร้องเรียนจากประชาชน | D48: - | E48: - | F48: - | G48: - | H48: - | I48: - | J48: 0 | K48: 0 | L48: 0 | M48: 0 | N48: 0 | O48: 0 | P48: 0 | Q48: 0 | R48: 0 | S48: =SUM(D48:R48) -> 0 | T48: =AVERAGE(D48:R48) -> 0
B49: 5 | C49: จำนวนการดำเนินคดีที่เกี่ยวข้องกับการออกใบอนุญาต | D49: - | E49: - | F49: - | G49: - | H49: - | I49: - | J49: 0 | K49: 0 | L49: 0 | M49: 0 | N49: 0 | O49: 0 | P49: 0 | Q49: 0 | R49: 0 | S49: =SUM(D49:R49) -> 0 | T49: =AVERAGE(D49:R49) -> 0
B50: หมายเหตุ ให้รายงานทุกรายไตรมาส (โดยแยกเป็นรายเดือน) ภายใน 5 วัน หลักจากสิ้นไตรมาส

Sheet เกษตรปทุมรัตต์
B2: รายงานผลการออกใบอนุญาต ตามคู่มือบริการประชาชน
B3: หน่วยงาน สำนักงานเกษตรอำเภอปทุมรัตต์ จังหวัดร้อยเอ็ด
B5: งานบริการ การจดทะเบียนวิสาหกิจชุมชนและเครือข่ายวิสาหกิจชุมชน กรณีจดทะเบียน ณ ศูนย์บริการและถ่ายทอดเทคโนโลยีการเกษตรประจำตำบล/แขวง (กทม.)
B6: ลำดับที่ | C6: รายการ | D6: ปี 2563 | G6: ปีงบประมาณ 2564
D7: ไตรมาส 1/63 | G7: ไตรมาส 1/64 | J7: ไตรมาส 2/64 | M7: ไตรมาส 3/64 | P7: ไตรมาส 4/64 | S7: รวม | T7: เฉลี่ย
D8: ก.ค. | E8: ส.ค. | F8: ก.ย. | G8: ต.ค. | H8: พ.ย. | I8: ธ.ค. | J8: ม.ค. | K8: ก.พ. | L8: มี.ค. | M8: เม.ย. | N8: พ.ค. | O8: มิ.ค. | P8: ก.ค. | Q8: ส.ค. | R8: ก.ย.
B9: 1 | C9: จำนวนคำขอที่ได้รับการอนุมัติ | D9: - | E9: - | F9: - | G9: - | H9: - | I9: - | J9: 0 | K9: 0 | L9: 0 | M9: 0 | N9: 0 | O9: 0 | P9: 0 | Q9: 0 | R9: 0 | S9: =SUM(D9:R9) -> 0 | T9: =AVERAGE(D9:R9) -> 0
B10: 2 | C10: จำนวนคำขอที่ไม่ได้รับการอนุมัติ | D10: - | E10: - | F10: - | G10: - | H10: - | I10: - | J10: 0 | K10: 0 | L10: 0 | M10: 0 | N10: 0 | O10: 0 | P10: 0 | Q10: 0 | R10: 0 | S10: =SUM(D10:R10) -> 0 | T10: =AVERAGE(D10:R10) -> 0
B11: 3 | C11: จำนวนคำขอที่ดำเนินการล่าช้ากว่ากำหนด | D11: - | E11: - | F11: - | G11: - | H11: - | I11: - | J11: 0 | K11: 0 | L11: 0 | M11: 0 | N11: 0 | O11: 0 | P11: 0 | Q11: 0 | R11: 0 | S11: =SUM(D11:R11) -> 0 | T11: =AVERAGE(D11:R11) -> 0
B12: 4 | C12: จำนวนเรื่องร้องเรียนจากประชาชน | D12: - | E12: - | F12: - | G12: - | H12: - | I12: - | J12: 0 | K12: 0 | L12: 0 | M12: 0 | N12: 0 | O12: 0 | P12: 0 | Q12: 0 | R12: 0 | S12: =SUM(D12:R12) -> 0 | T12: =AVERAGE(D12:R12) -> 0
B13: 5 | C13: จำนวนการดำเนินคดีที่เกี่ยวข้องกับการออกใบอนุญาต | D13: - | E13: - | F13: - | G13: - | H13: - | I13: - | J13: 0 | K13: 0 | L13: 0 | M13: 0 | N13: 0 | O13: 0 | P13: 0 | Q13: 0 | R13: 0 | S13: =SUM(D13:R13) -> 0 | T13: =AVERAGE(D13:R13) -> 0
B14: หมายเหตุ ให้รายงานทุกรายไตรมาส (โดยแยกเป็นรายเดือน) ภายใน 5 วัน หลักจากสิ้นไตรมาส
B17: งานบริการ การจดทะเบียนวิสาหกิจชุมชนและเครือข่ายวิสาหกิจชุมชน กรณีจดทะเบียน ณ สำนักงานเกษตรอำเภอ/กิ่งอำเภอ/สำนักงานเกษตรพื้นที่ (กทม.)
B18: ลำดับที่ | C18: รายการ | D18: ปี 2563 | G18: ปีงบประมาณ 2564
D19: ไตรมาส 1/63 | G19: ไตรมาส 1/64 | J19: ไตรมาส 2/64 | M19: ไตรมาส 3/64 | P19: ไตรมาส 4/64 | S19: รวม | T19: เฉลี่ย
D20: ก.ค. | E20: ส.ค. | F20: ก.ย. | G20: ต.ค. | H20: พ.ย. | I20: ธ.ค. | J20: ม.ค. | K20: ก.พ. | L20: มี.ค. | M20: เม.ย. | N20: พ.ค. | O20: มิ.ค. | P20: ก.ค. | Q20: ส.ค. | R20: ก.ย.
B21: 1 | C21: จำนวนคำขอที่ได้รับการอนุมัติ | D21: - | E21: - | F21: - | G21: - | H21: - | I21: - | J21: 0 | K21: 0 | L21: 2 | M21: 2 | N21: 1 | O21: 0 | P21: 0 | Q21: 2 | R21: 0 | S21: =SUM(D21:R21) -> 7 | T21: =AVERAGE(D21:R21) -> 0.77777778
B22: 2 | C22: จำนวนคำขอที่ไม่ได้รับการอนุมัติ | D22: - | E22: - | F22: - | G22: - | H22: - | I22: - | J22: 0 | K22: 0 | L22: 0 | M22: 0 | N22: 0 | O22: 0 | P22: 0 | Q22: 0 | R22: 0 | S22: =SUM(D22:R22) -> 0 | T22: =AVERAGE(D22:R22) -> 0
B23: 3 | C23: จำนวนคำขอที่ดำเนินการล่าช้ากว่ากำหนด | D23: - | E23: - | F23: - | G23: - | H23: - | I23: - | J23: 0 | K23: 0 | L23: 0 | M23: 0 | N23: 0 | O23: 0 | P23: 0 | Q23: 0 | R23: 0 | S23: =SUM(D23:R23) -> 0 | T23: =AVERAGE(D23:R23) -> 0
B24: 4 | C24: จำนวนเรื่องร้องเรียนจากประชาชน | D24: - | E24: - | F24: - | G24: - | H24: - | I24: - | J24: 0 | K24: 0 | L24: 0 | M24: 0 | N24: 0 | O24: 0 | P24: 0 | Q24: 0 | R24: 0 | S24: =SUM(D24:R24) -> 0 | T24: =AVERAGE(D24:R24) -> 0
B25: 5 | C25: จำนวนการดำเนินคดีที่เกี่ยวข้องกับการออกใบอนุญาต | D25: - | E25: - | F25: - | G25: - | H25: - | I25: - | J25: 0 | K25: 0 | L25: 0 | M25: 0 | N25: 0 | O25: 0 | P25: 0 | Q25: 0 | R25: 0 | S25: =SUM(D25:R25) -> 0 | T25: =AVERAGE(D25:R25) -> 0
B26: หมายเหตุ ให้รายงานทุกรายไตรมาส (โดยแยกเป็นรายเดือน) ภายใน 5 วัน หลักจากสิ้นไตรมาส
B29: งานบริการ การขึ้นทะเบียนเกษตรกร กรณีเกษตรกรนำแปลงใหม่มาขึ้นทะเบียนด้วยตนเอง ณ สำนักงานเกษตรอำเภอ/สำนักงานเกษตรพื้นที่ (กทม.)
B30: ลำดับที่ | C30: รายการ | D30: ปี 2563 | G30: ปีงบประมาณ 2564
D31: ไตรมาส 1/63 | G31: ไตรมาส 1/64 | J31: ไตรมาส 2/64 | M31: ไตรมาส 3/64 | P31: ไตรมาส 4/64 | S31: รวม | T31: เฉลี่ย
D32: ก.ค. | E32: ส.ค. | F32: ก.ย. | G32: ต.ค. | H32: พ.ย. | I32: ธ.ค. | J32: ม.ค. | K32: ก.พ. | L32: มี.ค. | M32: เม.ย. | N32: พ.ค. | O32: มิ.ค. | P32: ก.ค. | Q32: ส.ค. | R32: ก.ย.
B33: 1 | C33: จำนวนคำขอที่ได้รับการอนุมัติ | D33: - | E33: - | F33: - | G33: - | H33: - | I33: - | J33: 0 | K33: 0 | L33: 0 | M33: 0 | N33: 40 | O33: 65 | P33: 0 | Q33: 5 | R33: 6 | S33: =SUM(D33:R33) -> 116 | T33: =AVERAGE(D33:R33) -> 12.888889
B34: 2 | C34: จำนวนคำขอที่ไม่ได้รับการอนุมัติ | D34: - | E34: - | F34: - | G34: - | H34: - | I34: - | J34: 0 | K34: 0 | L34: 0 | M34: 0 | N34: 0 | O34: 0 | P34: 0 | Q34: 2 | R34: 0 | S34: =SUM(D34:R34) -> 2 | T34: =AVERAGE(D34:R34) -> 0.22222222
B35: 3 | C35: จำนวนคำขอที่ดำเนินการล่าช้ากว่ากำหนด | D35: - | E35: - | F35: - | G35: - | H35: - | I35: - | J35: 0 | K35: 0 | L35: 0 | M35: 0 | N35: 0 | O35: 0 | P35: 0 | Q35: 0 | R35: 0 | S35: =SUM(D35:R35) -> 0 | T35: =AVERAGE(D35:R35) -> 0
B36: 4 | C36: จำนวนเรื่องร้องเรียนจากประชาชน | D36: - | E36: - | F36: - | G36: - | H36: - | I36: - | J36: 0 | K36: 0 | L36: 0 | M36: 0 | N36: 0 | O36: 0 | P36: 0 | Q36: 0 | R36: 0 | S36: =SUM(D36:R36) -> 0 | T36: =AVERAGE(D36:R36) -> 0
B37: 5 | C37: จำนวนการดำเนินคดีที่เกี่ยวข้องกับการออกใบอนุญาต | D37: - | E37: - | F37: - | G37: - | H37: - | I37: - | J37: 0 | K37: 0 | L37: 0 | M37: 0 | N37: 0 | O37: 0 | P37: 0 | Q37: 0 | R37: 0 | S37: =SUM(D37:R37) -> 0 | T37: =AVERAGE(D37:R37) -> 0
B38: หมายเหตุ ให้รายงานทุกรายไตรมาส (โดยแยกเป็นรายเดือน) ภายใน 5 วัน หลักจากสิ้นไตรมาส
B41: งานบริการ การขึ้นทะเบียนเกษตรกร กรณีเกษตรกรนำแปลงเดิมมาขึ้นทะเบียนด้วยตนเอง ณ สำนักงานเกษตรอำเภอ/สำนักงานเกษตรพื้นที่ (กทม.)
B42: ลำดับที่ | C42: รายการ | D42: ปี 2563 | G42: ปีงบประมาณ 2564
D43: ไตรมาส 1/63 | G43: ไตรมาส 1/64 | J43: ไตรมาส 2/64 | M43: ไตรมาส 3/64 | P43: ไตรมาส 4/64 | S43: รวม | T43: เฉลี่ย
D44: ก.ค. | E44: ส.ค. | F44: ก.ย. | G44: ต.ค. | H44: พ.ย. | I44: ธ.ค. | J44: ม.ค. | K44: ก.พ. | L44: มี.ค. | M44: เม.ย. | N44: พ.ค. | O44: มิ.ค. | P44: ก.ค. | Q44: ส.ค. | R44: ก.ย.
B45: 1 | C45: จำนวนคำขอที่ได้รับการอนุมัติ | D45: - | E45: - | F45: - | G45: - | H45: - | I45: - | J45: 0 | K45: 100 | L45: 53 | M45: 0 | N45: 3137 | O45: 6410 | P45: 402 | Q45: 558 | R45: 340 | S45: =SUM(D45:R45) -> 11000 | T45: =AVERAGE(D45:R45) -> 1222.2222
B46: 2 | C46: จำนวนคำขอที่ไม่ได้รับการอนุมัติ | D46: - | E46: - | F46: - | G46: - | H46: - | I46: - | J46: 0 | K46: 1 | L46: 1 | M46: 0 | N46: 2 | O46: 0 | P46: 0 | Q46: 0 | R46: 0 | S46: =SUM(D46:R46) -> 4 | T46: =AVERAGE(D46:R46) -> 0.44444444
B47: 3 | C47: จำนวนคำขอที่ดำเนินการล่าช้ากว่ากำหนด | D47: - | E47: - | F47: - | G47: - | H47: - | I47: - | J47: 0 | K47: 0 | L47: 0 | M47: 0 | N47: 0 | O47: 0 | P47: 0 | Q47: 0 | R47: 0 | S47: =SUM(D47:R47) -> 0 | T47: =AVERAGE(D47:R47) -> 0
B48: 4 | C48: จำนวนเรื่องร้องเรียนจากประชาชน | D48: - | E48: - | F48: - | G48: - | H48: - | I48: - | J48: 0 | K48: 0 | L48: 0 | M48: 0 | N48: 0 | O48: 0 | P48: 0 | Q48: 0 | R48: 0 | S48: =SUM(D48:R48) -> 0 | T48: =AVERAGE(D48:R48) -> 0
B49: 5 | C49: จำนวนการดำเนินคดีที่เกี่ยวข้องกับการออกใบอนุญาต | D49: - | E49: - | F49: - | G49: - | H49: - | I49: - | J49: 0 | K49: 0 | L49: 0 | M49: 0 | N49: 0 | O49: 0 | P49: 0 | Q49: 0 | R49: 0 | S49: =SUM(D49:R49) -> 0 | T49: =AVERAGE(D49:R49) -> 0
B50: หมายเหตุ ให้รายงานทุกรายไตรมาส (โดยแยกเป็นรายเดือน) ภายใน 5 วัน หลักจากสิ้นไตรมาส

Sheet เกษตรเกษตรวิสัย
B2: รายงานผลการออกใบอนุญาต ตามคู่มือบริการประชาชน
B3: หน่วยงาน สำนักงานเกษตรอำเภอเกษตรวิสัย จังหวัดร้อยเอ็ด
B5: งานบริการ การจดทะเบียนวิสาหกิจชุมชนและเครือข่ายวิสาหกิจชุมชน กรณีจดทะเบียน ณ ศูนย์บริการและถ่ายทอดเทคโนโลยีการเกษตรประจำตำบล/แขวง (กทม.)
B6: ลำดับที่ | C6: รายการ | D6: ปี 2563 | G6: ปีงบประมาณ 2564
D7: ไตรมาส 1/63 | G7: ไตรมาส 1/64 | J7: ไตรมาส 2/64 | M7: ไตรมาส 3/64 | P7: ไตรมาส 4/64 | S7: รวม | T7: เฉลี่ย
D8: ก.ค. | E8: ส.ค. | F8: ก.ย. | G8: ต.ค. | H8: พ.ย. | I8: ธ.ค. | J8: ม.ค. | K8: ก.พ. | L8: มี.ค. | M8: เม.ย. | N8: พ.ค. | O8: มิ.ค. | P8: ก.ค. | Q8: ส.ค. | R8: ก.ย.
B9: 1 | C9: จำนวนคำขอที่ได้รับการอนุมัติ | D9: - | E9: - | F9: - | G9: - | H9: - | I9: - | J9: 0 | K9: 0 | L9: 0 | M9: 0 | N9: 0 | O9: 0 | P9: 0 | Q9: 0 | R9: 0 | S9: =SUM(D9:R9) -> 0 | T9: =AVERAGE(D9:R9) -> 0
B10: 2 | C10: จำนวนคำขอที่ไม่ได้รับการอนุมัติ | D10: - | E10: - | F10: - | G10: - | H10: - | I10: - | J10: 0 | K10: 0 | L10: 0 | M10: 0 | N10: 0 | O10: 0 | P10: 0 | Q10: 0 | R10: 0 | S10: =SUM(D10:R10) -> 0 | T10: =AVERAGE(D10:R10) -> 0
B11: 3 | C11: จำนวนคำขอที่ดำเนินการล่าช้ากว่ากำหนด | D11: - | E11: - | F11: - | G11: - | H11: - | I11: - | J11: 0 | K11: 0 | L11: 0 | M11: 0 | N11: 0 | O11: 0 | P11: 0 | Q11: 0 | R11: 0 | S11: =SUM(D11:R11) -> 0 | T11: =AVERAGE(D11:R11) -> 0
B12: 4 | C12: จำนวนเรื่องร้องเรียนจากประชาชน | D12: - | E12: - | F12: - | G12: - | H12: - | I12: - | J12: 0 | K12: 0 | L12: 0 | M12: 0 | N12: 0 | O12: 0 | P12: 0 | Q12: 0 | R12: 0 | S12: =SUM(D12:R12) -> 0 | T12: =AVERAGE(D12:R12) -> 0
B13: 5 | C13: จำนวนการดำเนินคดีที่เกี่ยวข้องกับการออกใบอนุญาต | D13: - | E13: - | F13: - | G13: - | H13: - | I13: - | J13: 0 | K13: 0 | L13: 0 | M13: 0 | N13: 0 | O13: 0 | P13: 0 | Q13: 0 | R13: 0 | S13: =SUM(D13:R13) -> 0 | T13: =AVERAGE(D13:R13) -> 0
B14: หมายเหตุ ให้รายงานทุกรายไตรมาส (โดยแยกเป็นรายเดือน) ภายใน 5 วัน หลักจากสิ้นไตรมาส
B17: งานบริการ การจดทะเบียนวิสาหกิจชุมชนและเครือข่ายวิสาหกิจชุมชน กรณีจดทะเบียน ณ สำนักงานเกษตรอำเภอ/กิ่งอำเภอ/สำนักงานเกษตรพื้นที่ (กทม.)
B18: ลำดับที่ | C18: รายการ | D18: ปี 2563 | G18: ปีงบประมาณ 2564
D19: ไตรมาส 1/63 | G19: ไตรมาส 1/64 | J19: ไตรมาส 2/64 | M19: ไตรมาส 3/64 | P19: ไตรมาส 4/64 | S19: รวม | T19: เฉลี่ย
D20: ก.ค. | E20: ส.ค. | F20: ก.ย. | G20: ต.ค. | H20: พ.ย. | I20: ธ.ค. | J20: ม.ค. | K20: ก.พ. | L20: มี.ค. | M20: เม.ย. | N20: พ.ค. | O20: มิ.ค. | P20: ก.ค. | Q20: ส.ค. | R20: ก.ย.
B21: 1 | C21: จำนวนคำขอที่ได้รับการอนุมัติ | D21: - | E21: - | F21: - | G21: - | H21: - | I21: - | J21: 1 | K21: 4 | L21: 3 | M21: 3 | N21: 0 | O21: 2 | P21: 2 | Q21: 5 | R21: 19 | S21: =SUM(D21:R21) -> 39 | T21: =AVERAGE(D21:R21) -> 4.3333333
B22: 2 | C22: จำนวนคำขอที่ไม่ได้รับการอนุมัติ | D22: - | E22: - | F22: - | G22: - | H22: - | I22: - | J22: 0 | K22: 0 | L22: 0 | M22: 0 | N22: 0 | O22: 0 | P22: 0 | Q22: 0 | R22: 0 | S22: =SUM(D22:R22) -> 0 | T22: =AVERAGE(D22:R22) -> 0
B23: 3 | C23: จำนวนคำขอที่ดำเนินการล่าช้ากว่ากำหนด | D23: - | E23: - | F23: - | G23: - | H23: - | I23: - | J23: 0 | K23: 0 | L23: 0 | M23: 0 | N23: 0 | O23: 0 | P23: 0 | Q23: 0 | R23: 0 | S23: =SUM(D23:R23) -> 0 | T23: =AVERAGE(D23:R23) -> 0
B24: 4 | C24: จำนวนเรื่องร้องเรียนจากประชาชน | D24: - | E24: - | F24: - | G24: - | H24: - | I24: - | J24: 0 | K24: 0 | L24: 0 | M24: 0 | N24: 0 | O24: 0 | P24: 0 | Q24: 0 | R24: 0 | S24: =SUM(D24:R24) -> 0 | T24: =AVERAGE(D24:R24) -> 0
B25: 5 | C25: จำนวนการดำเนินคดีที่เกี่ยวข้องกับการออกใบอนุญาต | D25: - | E25: - | F25: - | G25: - | H25: - | I25: - | J25: 0 | K25: 0 | L25: 0 | M25: 0 | N25: 0 | O25: 0 | P25: 0 | Q25: 0 | R25: 0 | S25: =SUM(D25:R25) -> 0 | T25: =AVERAGE(D25:R25) -> 0
B26: หมายเหตุ ให้รายงานทุกรายไตรมาส (โดยแยกเป็นรายเดือน) ภายใน 5 วัน หลักจากสิ้นไตรมาส
B29: งานบริการ การขึ้นทะเบียนเกษตรกร กรณีเกษตรกรนำแปลงใหม่มาขึ้นทะเบียนด้วยตนเอง ณ สำนักงานเกษตรอำเภอ/สำนักงานเกษตรพื้นที่ (กทม.)
B30: ลำดับที่ | C30: รายการ | D30: ปี 2563 | G30: ปีงบประมาณ 2564
D31: ไตรมาส 1/63 | G31: ไตรมาส 1/64 | J31: ไตรมาส 2/64 | M31: ไตรมาส 3/64 | P31: ไตรมาส 4/64 | S31: รวม | T31: เฉลี่ย
D32: ก.ค. | E32: ส.ค. | F32: ก.ย. | G32: ต.ค. | H32: พ.ย. | I32: ธ.ค. | J32: ม.ค. | K32: ก.พ. | L32: มี.ค. | M32: เม.ย. | N32: พ.ค. | O32: มิ.ค. | P32: ก.ค. | Q32: ส.ค. | R32: ก.ย.
B33: 1 | C33: จำนวนคำขอที่ได้รับการอนุมัติ | D33: - | E33: - | F33: - | G33: - | H33: - | I33: - | J33: 0 | K33: 0 | L33: 0 | M33: 0 | N33: 98 | O33: 39 | P33: 0 | Q33: 16 | R33: 8 | S33: =SUM(D33:R33) -> 161 | T33: =AVERAGE(D33:R33) -> 17.888889
B34: 2 | C34: จำนวนคำขอที่ไม่ได้รับการอนุมัติ | D34: - | E34: - | F34: - | G34: - | H34: - | I34: - | J34: 0 | K34: 0 | L34: 0 | M34: 0 | N34: 4 | O34: 0 | P34: 0 | Q34: 2 | R34: 0 | S34: =SUM(D34:R34) -> 6 | T34: =AVERAGE(D34:R34) -> 0.66666667
B35: 3 | C35: จำนวนคำขอที่ดำเนินการล่าช้ากว่ากำหนด | D35: - | E35: - | F35: - | G35: - | H35: - | I35: - | J35: 0 | K35: 0 | L35: 0 | M35: 0 | N35: 0 | O35: 0 | P35: 0 | Q35: 0 | R35: 0 | S35: =SUM(D35:R35) -> 0 | T35: =AVERAGE(D35:R35) -> 0
B36: 4 | C36: จำนวนเรื่องร้องเรียนจากประชาชน | D36: - | E36: - | F36: - | G36: - | H36: - | I36: - | J36: 0 | K36: 0 | L36: 0 | M36: 0 | N36: 0 | O36: 0 | P36: 0 | Q36: 0 | R36: 0 | S36: =SUM(D36:R36) -> 0 | T36: =AVERAGE(D36:R36) -> 0
B37: 5 | C37: จำนวนการดำเนินคดีที่เกี่ยวข้องกับการออกใบอนุญาต | D37: - | E37: - | F37: - | G37: - | H37: - | I37: - | J37: 0 | K37: 0 | L37: 0 | M37: 0 | N37: 0 | O37: 0 | P37: 0 | Q37: 0 | R37: 0 | S37: =SUM(D37:R37) -> 0 | T37: =AVERAGE(D37:R37) -> 0
B38: หมายเหตุ ให้รายงานทุกรายไตรมาส (โดยแยกเป็นรายเดือน) ภายใน 5 วัน หลักจากสิ้นไตรมาส
B41: งานบริการ การขึ้นทะเบียนเกษตรกร กรณีเกษตรกรนำแปลงเดิมมาขึ้นทะเบียนด้วยตนเอง ณ สำนักงานเกษตรอำเภอ/สำนักงานเกษตรพื้นที่ (กทม.)
B42: ลำดับที่ | C42: รายการ | D42: ปี 2563 | G42: ปีงบประมาณ 2564
D43: ไตรมาส 1/63 | G43: ไตรมาส 1/64 | J43: ไตรมาส 2/64 | M43: ไตรมาส 3/64 | P43: ไตรมาส 4/64 | S43: รวม | T43: เฉลี่ย
D44: ก.ค. | E44: ส.ค. | F44: ก.ย. | G44: ต.ค. | H44: พ.ย. | I44: ธ.ค. | J44: ม.ค. | K44: ก.พ. | L44: มี.ค. | M44: เม.ย. | N44: พ.ค. | O44: มิ.ค. | P44: ก.ค. | Q44: ส.ค. | R44: ก.ย.
B45: 1 | C45: จำนวนคำขอที่ได้รับการอนุมัติ | D45: - | E45: - | F45: - | G45: - | H45: - | I45: - | J45: 0 | K45: 200 | L45: 246 | M45: 1 | N45: 7450 | O45: 11103 | P45: 600 | Q45: 800 | R45: 700 | S45: =SUM(D45:R45) -> 21100 | T45: =AVERAGE(D45:R45) -> 2344.4444
B46: 2 | C46: จำนวนคำขอที่ไม่ได้รับการอนุมัติ | D46: - | E46: - | F46: - | G46: - | H46: - | I46: - | J46: 0 | K46: 3 | L46: 4 | M46: 0 | N46: 4 | O46: 0 | P46: 2 | Q46: 0 | R46: 0 | S46: =SUM(D46:R46) -> 13 | T46: =AVERAGE(D46:R46) -> 1.4444444
B47: 3 | C47: จำนวนคำขอที่ดำเนินการล่าช้ากว่ากำหนด | D47: - | E47: - | F47: - | G47: - | H47: - | I47: - | J47: 0 | K47: 0 | L47: 0 | M47: 0 | N47: 0 | O47: 0 | P47: 0 | Q47: 0 | R47: 0 | S47: =SUM(D47:R47) -> 0 | T47: =AVERAGE(D47:R47) -> 0
B48: 4 | C48: จำนวนเรื่องร้องเรียนจากประชาชน | D48: - | E48: - | F48: - | G48: - | H48: - | I48: - | J48: 2 | K48: 2 | L48: 0 | M48: 0 | N48: 0 | O48: 0 | P48: 0 | Q48: 0 | R48: 0 | S48: =SUM(D48:R48) -> 4 | T48: =AVERAGE(D48:R48) -> 0.44444444
B49: 5 | C49: จำนวนการดำเนินคดีที่เกี่ยวข้องกับการออกใบอนุญาต | D49: - | E49: - | F49: - | G49: - | H49: - | I49: - | J49: 0 | K49: 0 | L49: 0 | M49: 0 | N49: 0 | O49: 0 | P49: 0 | Q49: 0 | R49: 0 | S49: =SUM(D49:R49) -> 0 | T49: =AVERAGE(D49:R49) -> 0
B50: หมายเหตุ ให้รายงานทุกรายไตรมาส (โดยแยกเป็นรายเดือน) ภายใน 5 วัน หลักจากสิ้นไตรมาส

Sheet เกษตรสุวรรณภูมิ
B2: รายงานผลการออกใบอนุญาต ตามคู่มือบริการประชาชน
B3: หน่วยงาน สำนักงานเกษตรอำเภอสุวรรณภูมิ จังหวัดร้อยเอ็ด
B5: งานบริการ การจดทะเบียนวิสาหกิจชุมชนและเครือข่ายวิสาหกิจชุมชน กรณีจดทะเบียน ณ ศูนย์บริการและถ่ายทอดเทคโนโลยีการเกษตรประจำตำบล/แขวง (กทม.)
B6: ลำดับที่ | C6: รายการ | D6: ปี 2563 | G6: ปีงบประมาณ 2564
D7: ไตรมาส 1/63 | G7: ไตรมาส 1/64 | J7: ไตรมาส 2/64 | M7: ไตรมาส 3/64 | P7: ไตรมาส 4/64 | S7: รวม | T7: เฉลี่ย
D8: ก.ค. | E8: ส.ค. | F8: ก.ย. | G8: ต.ค. | H8: พ.ย. | I8: ธ.ค. | J8: ม.ค. | K8: ก.พ. | L8: มี.ค. | M8: เม.ย. | N8: พ.ค. | O8: มิ.ค. | P8: ก.ค. | Q8: ส.ค. | R8: ก.ย.
B9: 1 | C9: จำนวนคำขอที่ได้รับการอนุมัติ | D9: - | E9: - | F9: - | G9: - | H9: - | I9: - | J9: 0 | K9: 0 | L9: 0 | M9: 0 | N9: 0 | O9: 0 | P9: 0 | Q9: 0 | R9: 0 | S9: =SUM(D9:R9) -> 0 | T9: =AVERAGE(D9:R9) -> 0
B10: 2 | C10: จำนวนคำขอที่ไม่ได้รับการอนุมัติ | D10: - | E10: - | F10: - | G10: - | H10: - | I10: - | J10: 0 | K10: 0 | L10: 0 | M10: 0 | N10: 0 | O10: 0 | P10: 0 | Q10: 0 | R10: 0 | S10: =SUM(D10:R10) -> 0 | T10: =AVERAGE(D10:R10) -> 0
B11: 3 | C11: จำนวนคำขอที่ดำเนินการล่าช้ากว่ากำหนด | D11: - | E11: - | F11: - | G11: - | H11: - | I11: - | J11: 0 | K11: 0 | L11: 0 | M11: 0 | N11: 0 | O11: 0 | P11: 0 | Q11: 0 | R11: 0 | S11: =SUM(D11:R11) -> 0 | T11: =AVERAGE(D11:R11) -> 0
B12: 4 | C12: จำนวนเรื่องร้องเรียนจากประชาชน | D12: - | E12: - | F12: - | G12: - | H12: - | I12: - | J12: 0 | K12: 0 | L12: 0 | M12: 0 | N12: 0 | O12: 0 | P12: 0 | Q12: 0 | R12: 0 | S12: =SUM(D12:R12) -> 0 | T12: =AVERAGE(D12:R12) -> 0
B13: 5 | C13: จำนวนการดำเนินคดีที่เกี่ยวข้องกับการออกใบอนุญาต | D13: - | E13: - | F13: - | G13: - | H13: - | I13: - | J13: 0 | K13: 0 | L13: 0 | M13: 0 | N13: 0 | O13: 0 | P13: 0 | Q13: 0 | R13: 0 | S13: =SUM(D13:R13) -> 0 | T13: =AVERAGE(D13:R13) -> 0
B14: หมายเหตุ ให้รายงานทุกรายไตรมาส (โดยแยกเป็นรายเดือน) ภายใน 5 วัน หลักจากสิ้นไตรมาส
B17: งานบริการ การจดทะเบียนวิสาหกิจชุมชนและเครือข่ายวิสาหกิจชุมชน กรณีจดทะเบียน ณ สำนักงานเกษตรอำเภอ/กิ่งอำเภอ/สำนักงานเกษตรพื้นที่ (กทม.)
B18: ลำดับที่ | C18: รายการ | D18: ปี 2563 | G18: ปีงบประมาณ 2564
D19: ไตรมาส 1/63 | G19: ไตรมาส 1/64 | J19: ไตรมาส 2/64 | M19: ไตรมาส 3/64 | P19: ไตรมาส 4/64 | S19: รวม | T19: เฉลี่ย
D20: ก.ค. | E20: ส.ค. | F20: ก.ย. | G20: ต.ค. | H20: พ.ย. | I20: ธ.ค. | J20: ม.ค. | K20: ก.พ. | L20: มี.ค. | M20: เม.ย. | N20: พ.ค. | O20: มิ.ค. | P20: ก.ค. | Q20: ส.ค. | R20: ก.ย.
B21: 1 | C21: จำนวนคำขอที่ได้รับการอนุมัติ | D21: - | E21: - | F21: - | G21: - | H21: - | I21: - | J21: 1 | K21: 4 | L21: 10 | M21: 20 | N21: 13 | O21: 0 | P21: 1 | Q21: 0 | R21: 1 | S21: =SUM(D21:R21) -> 50 | T21: =AVERAGE(D21:R21) -> 5.5555556
B22: 2 | C22: จำนวนคำขอที่ไม่ได้รับการอนุมัติ | D22: - | E22: - | F22: - | G22: - | H22: - | I22: - | J22: 0 | K22: 0 | L22: 0 | M22: 0 | N22: 0 | O22: 0 | P22: 0 | Q22: 0 | R22: 0 | S22: =SUM(D22:R22) -> 0 | T22: =AVERAGE(D22:R22) -> 0
B23: 3 | C23: จำนวนคำขอที่ดำเนินการล่าช้ากว่ากำหนด | D23: - | E23: - | F23: - | G23: - | H23: - | I23: - | J23: 0 | K23: 0 | L23: 0 | M23: 0 | N23: 0 | O23: 0 | P23: 0 | Q23: 0 | R23: 0 | S23: =SUM(D23:R23) -> 0 | T23: =AVERAGE(D23:R23) -> 0
B24: 4 | C24: จำนวนเรื่องร้องเรียนจากประชาชน | D24: - | E24: - | F24: - | G24: - | H24: - | I24: - | J24: 0 | K24: 0 | L24: 0 | M24: 0 | N24: 0 | O24: 0 | P24: 0 | Q24: 0 | R24: 0 | S24: =SUM(D24:R24) -> 0 | T24: =AVERAGE(D24:R24) -> 0
B25: 5 | C25: จำนวนการดำเนินคดีที่เกี่ยวข้องกับการออกใบอนุญาต | D25: - | E25: - | F25: - | G25: - | H25: - | I25: - | J25: 0 | K25: 0 | L25: 0 | M25: 0 | N25: 0 | O25: 0 | P25: 0 | Q25: 0 | R25: 0 | S25: =SUM(D25:R25) -> 0 | T25: =AVERAGE(D25:R25) -> 0
B26: หมายเหตุ ให้รายงานทุกรายไตรมาส (โดยแยกเป็นรายเดือน) ภายใน 5 วัน หลักจากสิ้นไตรมาส
B29: งานบริการ การขึ้นทะเบียนเกษตรกร กรณีเกษตรกรนำแปลงใหม่มาขึ้นทะเบียนด้วยตนเอง ณ สำนักงานเกษตรอำเภอ/สำนักงานเกษตรพื้นที่ (กทม.)
B30: ลำดับที่ | C30: รายการ | D30: ปี 2563 | G30: ปีงบประมาณ 2564
D31: ไตรมาส 1/63 | G31: ไตรมาส 1/64 | J31: ไตรมาส 2/64 | M31: ไตรมาส 3/64 | P31: ไตรมาส 4/64 | S31: รวม | T31: เฉลี่ย
D32: ก.ค. | E32: ส.ค. | F32: ก.ย. | G32: ต.ค. | H32: พ.ย. | I32: ธ.ค. | J32: ม.ค. | K32: ก.พ. | L32: มี.ค. | M32: เม.ย. | N32: พ.ค. | O32: มิ.ค. | P32: ก.ค. | Q32: ส.ค. | R32: ก.ย.
B33: 1 | C33: จำนวนคำขอที่ได้รับการอนุมัติ | D33: - | E33: - | F33: - | G33: - | H33: - | I33: - | J33: 0 | K33: 0 | L33: 0 | M33: 0 | N33: 81 | O33: 88 | P33: 8 | Q33: 22 | R33: 6 | S33: =SUM(D33:R33) -> 205 | T33: =AVERAGE(D33:R33) -> 22.777778
B34: 2 | C34: จำนวนคำขอที่ไม่ได้รับการอนุมัติ | D34: - | E34: - | F34: - | G34: - | H34: - | I34: - | J34: 0 | K34: 0 | L34: 0 | M34: 0 | N34: 3 | O34: 0 | P34: 0 | Q34: 3 | R34: 0 | S34: =SUM(D34:R34) -> 6 | T34: =AVERAGE(D34:R34) -> 0.66666667
B35: 3 | C35: จำนวนคำขอที่ดำเนินการล่าช้ากว่ากำหนด | D35: - | E35: - | F35: - | G35: - | H35: - | I35: - | J35: 0 | K35: 0 | L35: 0 | M35: 0 | N35: 0 | O35: 0 | P35: 0 | Q35: 0 | R35: 0 | S35: =SUM(D35:R35) -> 0 | T35: =AVERAGE(D35:R35) -> 0
B36: 4 | C36: จำนวนเรื่องร้องเรียนจากประชาชน | D36: - | E36: - | F36: - | G36: - | H36: - | I36: - | J36: 0 | K36: 0 | L36: 0 | M36: 0 | N36: 0 | O36: 0 | P36: 0 | Q36: 0 | R36: 0 | S36: =SUM(D36:R36) -> 0 | T36: =AVERAGE(D36:R36) -> 0
B37: 5 | C37: จำนวนการดำเนินคดีที่เกี่ยวข้องกับการออกใบอนุญาต | D37: - | E37: - | F37: - | G37: - | H37: - | I37: - | J37: 0 | K37: 0 | L37: 0 | M37: 0 | N37: 0 | O37: 0 | P37: 0 | Q37: 0 | R37: 0 | S37: =SUM(D37:R37) -> 0 | T37: =AVERAGE(D37:R37) -> 0
B38: หมายเหตุ ให้รายงานทุกรายไตรมาส (โดยแยกเป็นรายเดือน) ภายใน 5 วัน หลักจากสิ้นไตรมาส
B41: งานบริการ การขึ้นทะเบียนเกษตรกร กรณีเกษตรกรนำแปลงเดิมมาขึ้นทะเบียนด้วยตนเอง ณ สำนักงานเกษตรอำเภอ/สำนักงานเกษตรพื้นที่ (กทม.)
B42: ลำดับที่ | C42: รายการ | D42: ปี 2563 | G42: ปีงบประมาณ 2564
D43: ไตรมาส 1/63 | G43: ไตรมาส 1/64 | J43: ไตรมาส 2/64 | M43: ไตรมาส 3/64 | P43: ไตรมาส 4/64 | S43: รวม | T43: เฉลี่ย
D44: ก.ค. | E44: ส.ค. | F44: ก.ย. | G44: ต.ค. | H44: พ.ย. | I44: ธ.ค. | J44: ม.ค. | K44: ก.พ. | L44: มี.ค. | M44: เม.ย. | N44: พ.ค. | O44: มิ.ค. | P44: ก.ค. | Q44: ส.ค. | R44: ก.ย.
B45: 1 | C45: จำนวนคำขอที่ได้รับการอนุมัติ | D45: - | E45: - | F45: - | G45: - | H45: - | I45: - | J45: 0 | K45: 381 | L45: 381 | M45: 0 | N45: 4778 | O45: 15748 | P45: 1150 | Q45: 1162 | R45: 930 | S45: =SUM(D45:R45) -> 24530 | T45: =AVERAGE(D45:R45) -> 2725.5556
B46: 2 | C46: จำนวนคำขอที่ไม่ได้รับการอนุมัติ | D46: - | E46: - | F46: - | G46: - | H46: - | I46: - | J46: 0 | K46: 2 | L46: 2 | M46: 0 | N46: 2 | O46: 0 | P46: 0 | Q46: 0 | R46: 0 | S46: =SUM(D46:R46) -> 6 | T46: =AVERAGE(D46:R46) -> 0.66666667
B47: 3 | C47: จำนวนคำขอที่ดำเนินการล่าช้ากว่ากำหนด | D47: - | E47: - | F47: - | G47: - | H47: - | I47: - | J47: 0 | K47: 0 | L47: 0 | M47: 0 | N47: 0 | O47: 0 | P47: 0 | Q47: 0 | R47: 0 | S47: =SUM(D47:R47) -> 0 | T47: =AVERAGE(D47:R47) -> 0
B48: 4 | C48: จำนวนเรื่องร้องเรียนจากประชาชน | D48: - | E48: - | F48: - | G48: - | H48: - | I48: - | J48: 0 | K48: 0 | L48: 0 | M48: 0 | N48: 0 | O48: 0 | P48: 0 | Q48: 0 | R48: 0 | S48: =SUM(D48:R48) -> 0 | T48: =AVERAGE(D48:R48) -> 0
B49: 5 | C49: จำนวนการดำเนินคดีที่เกี่ยวข้องกับการออกใบอนุญาต | D49: - | E49: - | F49: - | G49: - | H49: - | I49: - | J49: 0 | K49: 0 | L49: 0 | M49: 0 | N49: 0 | O49: 0 | P49: 0 | Q49: 0 | R49: 0 | S49: =SUM(D49:R49) -> 0 | T49: =AVERAGE(D49:R49) -> 0
B50: หมายเหตุ ให้รายงานทุกรายไตรมาส (โดยแยกเป็นรายเดือน) ภายใน 5 วัน หลักจากสิ้นไตรมาส

Sheet เกษตรอาจสามารถ
B2: รายงานผลการออกใบอนุญาต ตามคู่มือบริการประชาชน
B3: หน่วยงาน สำนักงานเกษตรอำเภออาจสามารถ จังหวัดร้อยเอ็ด
B5: งานบริการ การจดทะเบียนวิสาหกิจชุมชนและเครือข่ายวิสาหกิจชุมชน กรณีจดทะเบียน ณ ศูนย์บริการและถ่ายทอดเทคโนโลยีการเกษตรประจำตำบล/แขวง (กทม.)
B6: ลำดับที่ | C6: รายการ | D6: ปี 2563 | G6: ปีงบประมาณ 2564
D7: ไตรมาส 1/63 | G7: ไตรมาส 1/64 | J7: ไตรมาส 2/64 | M7: ไตรมาส 3/64 | P7: ไตรมาส 4/64 | S7: รวม | T7: เฉลี่ย
D8: ก.ค. | E8: ส.ค. | F8: ก.ย. | G8: ต.ค. | H8: พ.ย. | I8: ธ.ค. | J8: ม.ค. | K8: ก.พ. | L8: มี.ค. | M8: เม.ย. | N8: พ.ค. | O8: มิ.ค. | P8: ก.ค. | Q8: ส.ค. | R8: ก.ย.
B9: 1 | C9: จำนวนคำขอที่ได้รับการอนุมัติ | D9: - | E9: - | F9: - | G9: - | H9: - | I9: - | J9: 0 | K9: 0 | L9: 0 | M9: 0 | N9: 0 | O9: 0 | P9: 0 | Q9: 0 | R9: 0 | S9: =SUM(D9:R9) -> 0 | T9: =AVERAGE(D9:R9) -> 0
B10: 2 | C10: จำนวนคำขอที่ไม่ได้รับการอนุมัติ | D10: - | E10: - | F10: - | G10: - | H10: - | I10: - | J10: 0 | K10: 0 | L10: 0 | M10: 0 | N10: 0 | O10: 0 | P10: 0 | Q10: 0 | R10: 0 | S10: =SUM(D10:R10) -> 0 | T10: =AVERAGE(D10:R10) -> 0
B11: 3 | C11: จำนวนคำขอที่ดำเนินการล่าช้ากว่ากำหนด | D11: - | E11: - | F11: - | G11: - | H11: - | I11: - | J11: 0 | K11: 0 | L11: 0 | M11: 0 | N11: 0 | O11: 0 | P11: 0 | Q11: 0 | R11: 0 | S11: =SUM(D11:R11) -> 0 | T11: =AVERAGE(D11:R11) -> 0
B12: 4 | C12: จำนวนเรื่องร้องเรียนจากประชาชน | D12: - | E12: - | F12: - | G12: - | H12: - | I12: - | J12: 0 | K12: 0 | L12: 0 | M12: 0 | N12: 0 | O12: 0 | P12: 0 | Q12: 0 | R12: 0 | S12: =SUM(D12:R12) -> 0 | T12: =AVERAGE(D12:R12) -> 0
B13: 5 | C13: จำนวนการดำเนินคดีที่เกี่ยวข้องกับการออกใบอนุญาต | D13: - | E13: - | F13: - | G13: - | H13: - | I13: - | J13: 0 | K13: 0 | L13: 0 | M13: 0 | N13: 0 | O13: 0 | P13: 0 | Q13: 0 | R13: 0 | S13: =SUM(D13:R13) -> 0 | T13: =AVERAGE(D13:R13) -> 0
B14: หมายเหตุ ให้รายงานทุกรายไตรมาส (โดยแยกเป็นรายเดือน) ภายใน 5 วัน หลักจากสิ้นไตรมาส
B17: งานบริการ การจดทะเบียนวิสาหกิจชุมชนและเครือข่ายวิสาหกิจชุมชน กรณีจดทะเบียน ณ สำนักงานเกษตรอำเภอ/กิ่งอำเภอ/สำนักงานเกษตรพื้นที่ (กทม.)
B18: ลำดับที่ | C18: รายการ | D18: ปี 2563 | G18: ปีงบประมาณ 2564
D19: ไตรมาส 1/63 | G19: ไตรมาส 1/64 | J19: ไตรมาส 2/64 | M19: ไตรมาส 3/64 | P19: ไตรมาส 4/64 | S19: รวม | T19: เฉลี่ย
D20: ก.ค. | E20: ส.ค. | F20: ก.ย. | G20: ต.ค. | H20: พ.ย. | I20: ธ.ค. | J20: ม.ค. | K20: ก.พ. | L20: มี.ค. | M20: เม.ย. | N20: พ.ค. | O20: มิ.ค. | P20: ก.ค. | Q20: ส.ค. | R20: ก.ย.
B21: 1 | C21: จำนวนคำขอที่ได้รับการอนุมัติ | D21: - | E21: - | F21: - | G21: - | H21: - | I21: - | J21: 1 | K21: 2 | L21: 0 | M21: 1 | N21: 1 | O21: 1 | P21: 0 | Q21: 1 | R21: 0 | S21: =SUM(D21:R21) -> 7 | T21: =AVERAGE(D21:R21) -> 0.77777778
B22: 2 | C22: จำนวนคำขอที่ไม่ได้รับการอนุมัติ | D22: - | E22: - | F22: - | G22: - | H22: - | I22: - | J22: 0 | K22: 0 | L22: 0 | M22: 0 | N22: 0 | O22: 0 | P22: 0 | Q22: 0 | R22: 0 | S22: =SUM(D22:R22) -> 0 | T22: =AVERAGE(D22:R22) -> 0
B23: 3 | C23: จำนวนคำขอที่ดำเนินการล่าช้ากว่ากำหนด | D23: - | E23: - | F23: - | G23: - | H23: - | I23: - | J23: 0 | K23: 0 | L23: 0 | M23: 0 | N23: 0 | O23: 0 | P23: 0 | Q23: 0 | R23: 0 | S23: =SUM(D23:R23) -> 0 | T23: =AVERAGE(D23:R23) -> 0
B24: 4 | C24: จำนวนเรื่องร้องเรียนจากประชาชน | D24: - | E24: - | F24: - | G24: - | H24: - | I24: - | J24: 0 | K24: 0 | L24: 0 | M24: 0 | N24: 0 | O24: 0 | P24: 0 | Q24: 0 | R24: 0 | S24: =SUM(D24:R24) -> 0 | T24: =AVERAGE(D24:R24) -> 0
B25: 5 | C25: จำนวนการดำเนินคดีที่เกี่ยวข้องกับการออกใบอนุญาต | D25: - | E25: - | F25: - | G25: - | H25: - | I25: - | J25: 0 | K25: 0 | L25: 0 | M25: 0 | N25: 0 | O25: 0 | P25: 0 | Q25: 0 | R25: 0 | S25: =SUM(D25:R25) -> 0 | T25: =AVERAGE(D25:R25) -> 0
B26: หมายเหตุ ให้รายงานทุกรายไตรมาส (โดยแยกเป็นรายเดือน) ภายใน 5 วัน หลักจากสิ้นไตรมาส
B29: งานบริการ การขึ้นทะเบียนเกษตรกร กรณีเกษตรกรนำแปลงใหม่มาขึ้นทะเบียนด้วยตนเอง ณ สำนักงานเกษตรอำเภอ/สำนักงานเกษตรพื้นที่ (กทม.)
B30: ลำดับที่ | C30: รายการ | D30: ปี 2563 | G30: ปีงบประมาณ 2564
D31: ไตรมาส 1/63 | G31: ไตรมาส 1/64 | J31: ไตรมาส 2/64 | M31: ไตรมาส 3/64 | P31: ไตรมาส 4/64 | S31: รวม | T31: เฉลี่ย
D32: ก.ค. | E32: ส.ค. | F32: ก.ย. | G32: ต.ค. | H32: พ.ย. | I32: ธ.ค. | J32: ม.ค. | K32: ก.พ. | L32: มี.ค. | M32: เม.ย. | N32: พ.ค. | O32: มิ.ค. | P32: ก.ค. | Q32: ส.ค. | R32: ก.ย.
B33: 1 | C33: จำนวนคำขอที่ได้รับการอนุมัติ | D33: - | E33: - | F33: - | G33: - | H33: - | I33: - | J33: 0 | K33: 0 | L33: 0 | M33: 0 | N33: 4 | O33: 38 | P33: 7 | Q33: 13 | R33: 1 | S33: =SUM(D33:R33) -> 63 | T33: =AVERAGE(D33:R33) -> 7
B34: 2 | C34: จำนวนคำขอที่ไม่ได้รับการอนุมัติ | D34: - | E34: - | F34: - | G34: - | H34: - | I34: - | J34: 0 | K34: 0 | L34: 0 | M34: 0 | N34: 0 | O34: 0 | P34: 1 | Q34: 7 | R34: 0 | S34: =SUM(D34:R34) -> 8 | T34: =AVERAGE(D34:R34) -> 0.88888889
B35: 3 | C35: จำนวนคำขอที่ดำเนินการล่าช้ากว่ากำหนด | D35: - | E35: - | F35: - | G35: - | H35: - | I35: - | J35: 0 | K35: 0 | L35: 0 | M35: 0 | N35: 0 | O35: 0 | P35: 0 | Q35: 0 | R35: 0 | S35: =SUM(D35:R35) -> 0 | T35: =AVERAGE(D35:R35) -> 0
B36: 4 | C36: จำนวนเรื่องร้องเรียนจากประชาชน | D36: - | E36: - | F36: - | G36: - | H36: - | I36: - | J36: 0 | K36: 0 | L36: 0 | M36: 0 | N36: 0 | O36: 0 | P36: 0 | Q36: 0 | R36: 0 | S36: =SUM(D36:R36) -> 0 | T36: =AVERAGE(D36:R36) -> 0
B37: 5 | C37: จำนวนการดำเนินคดีที่เกี่ยวข้องกับการออกใบอนุญาต | D37: - | E37: - | F37: - | G37: - | H37: - | I37: - | J37: 0 | K37: 0 | L37: 0 | M37: 0 | N37: 0 | O37: 0 | P37: 0 | Q37: 0 | R37: 0 | S37: =SUM(D37:R37) -> 0 | T37: =AVERAGE(D37:R37) -> 0
B38: หมายเหตุ ให้รายงานทุกรายไตรมาส (โดยแยกเป็นรายเดือน) ภายใน 5 วัน หลักจากสิ้นไตรมาส
B41: งานบริการ การขึ้นทะเบียนเกษตรกร กรณีเกษตรกรนำแปลงเดิมมาขึ้นทะเบียนด้วยตนเอง ณ สำนักงานเกษตรอำเภอ/สำนักงานเกษตรพื้นที่ (กทม.)
B42: ลำดับที่ | C42: รายการ | D42: ปี 2563 | G42: ปีงบประมาณ 2564
D43: ไตรมาส 1/63 | G43: ไตรมาส 1/64 | J43: ไตรมาส 2/64 | M43: ไตรมาส 3/64 | P43: ไตรมาส 4/64 | S43: รวม | T43: เฉลี่ย
D44: ก.ค. | E44: ส.ค. | F44: ก.ย. | G44: ต.ค. | H44: พ.ย. | I44: ธ.ค. | J44: ม.ค. | K44: ก.พ. | L44: มี.ค. | M44: เม.ย. | N44: พ.ค. | O44: มิ.ค. | P44: ก.ค. | Q44: ส.ค. | R44: ก.ย.
B45: 1 | C45: จำนวนคำขอที่ได้รับการอนุมัติ | D45: - | E45: - | F45: - | G45: - | H45: - | I45: - | J45: 0 | K45: 1100 | L45: 1103 | M45: 3 | N45: 14 | O45: 10180 | P45: 1710 | Q45: 590 | R45: 640 | S45: =SUM(D45:R45) -> 15340 | T45: =AVERAGE(D45:R45) -> 1704.4444
B46: 2 | C46: จำนวนคำขอที่ไม่ได้รับการอนุมัติ | D46: - | E46: - | F46: - | G46: - | H46: - | I46: - | J46: 0 | K46: 10 | L46: 10 | M46: 0 | N46: 0 | O46: 0 | P46: 3 | Q46: 7 | R46: 0 | S46: =SUM(D46:R46) -> 30 | T46: =AVERAGE(D46:R46) -> 3.3333333
B47: 3 | C47: จำนวนคำขอที่ดำเนินการล่าช้ากว่ากำหนด | D47: - | E47: - | F47: - | G47: - | H47: - | I47: - | J47: 0 | K47: 0 | L47: 0 | M47: 0 | N47: 0 | O47: 0 | P47: 0 | Q47: 0 | R47: 0 | S47: =SUM(D47:R47) -> 0 | T47: =AVERAGE(D47:R47) -> 0
B48: 4 | C48: จำนวนเรื่องร้องเรียนจากประชาชน | D48: - | E48: - | F48: - | G48: - | H48: - | I48: - | J48: 0 | K48: 0 | L48: 0 | M48: 0 | N48: 0 | O48: 0 | P48: 0 | Q48: 0 | R48: 0 | S48: =SUM(D48:R48) -> 0 | T48: =AVERAGE(D48:R48) -> 0
B49: 5 | C49: จำนวนการดำเนินคดีที่เกี่ยวข้องกับการออกใบอนุญาต | D49: - | E49: - | F49: - | G49: - | H49: - | I49: - | J49: 0 | K49: 0 | L49: 0 | M49: 0 | N49: 0 | O49: 0 | P49: 0 | Q49: 0 | R49: 0 | S49: =SUM(D49:R49) -> 0 | T49: =AVERAGE(D49:R49) -> 0
B50: หมายเหตุ ให้รายงานทุกรายไตรมาส (โดยแยกเป็นรายเดือน) ภายใน 5 วัน หลักจากสิ้นไตรมาส

Sheet เกษตรพนมไพร
B2: รายงานผลการออกใบอนุญาต ตามคู่มือบริการประชาชน
B3: หน่วยงาน สำนักงานเกษตรอำเภอพนมไพร จังหวัดร้อยเอ็ด
B5: งานบริการ การจดทะเบียนวิสาหกิจชุมชนและเครือข่ายวิสาหกิจชุมชน กรณีจดทะเบียน ณ ศูนย์บริการและถ่ายทอดเทคโนโลยีการเกษตรประจำตำบล/แขวง (กทม.)
B6: ลำดับที่ | C6: รายการ | D6: ปี 2563 | G6: ปีงบประมาณ 2564
D7: ไตรมาส 1/63 | G7: ไตรมาส 1/64 | J7: ไตรมาส 2/64 | M7: ไตรมาส 3/64 | P7: ไตรมาส 4/64 | S7: รวม | T7: เฉลี่ย
D8: ก.ค. | E8: ส.ค. | F8: ก.ย. | G8: ต.ค. | H8: พ.ย. | I8: ธ.ค. | J8: ม.ค. | K8: ก.พ. | L8: มี.ค. | M8: เม.ย. | N8: พ.ค. | O8: มิ.ค. | P8: ก.ค. | Q8: ส.ค. | R8: ก.ย.
B9: 1 | C9: จำนวนคำขอที่ได้รับการอนุมัติ | D9: - | E9: - | F9: - | G9: - | H9: - | I9: - | J9: 0 | K9: 0 | L9: 0 | M9: 0 | N9: 0 | O9: 0 | P9: 0 | Q9: 0 | R9: 0 | S9: =SUM(D9:R9) -> 0 | T9: =AVERAGE(D9:R9) -> 0
B10: 2 | C10: จำนวนคำขอที่ไม่ได้รับการอนุมัติ | D10: - | E10: - | F10: - | G10: - | H10: - | I10: - | J10: 0 | K10: 0 | L10: 0 | M10: 0 | N10: 0 | O10: 0 | P10: 0 | Q10: 0 | R10: 0 | S10: =SUM(D10:R10) -> 0 | T10: =AVERAGE(D10:R10) -> 0
B11: 3 | C11: จำนวนคำขอที่ดำเนินการล่าช้ากว่ากำหนด | D11: - | E11: - | F11: - | G11: - | H11: - | I11: - | J11: 0 | K11: 0 | L11: 0 | M11: 0 | N11: 0 | O11: 0 | P11: 0 | Q11: 0 | R11: 0 | S11: =SUM(D11:R11) -> 0 | T11: =AVERAGE(D11:R11) -> 0
B12: 4 | C12: จำนวนเรื่องร้องเรียนจากประชาชน | D12: - | E12: - | F12: - | G12: - | H12: - | I12: - | J12: 0 | K12: 0 | L12: 0 | M12: 0 | N12: 0 | O12: 0 | P12: 0 | Q12: 0 | R12: 0 | S12: =SUM(D12:R12) -> 0 | T12: =AVERAGE(D12:R12) -> 0
B13: 5 | C13: จำนวนการดำเนินคดีที่เกี่ยวข้องกับการออกใบอนุญาต | D13: - | E13: - | F13: - | G13: - | H13: - | I13: - | J13: 0 | K13: 0 | L13: 0 | M13: 0 | N13: 0 | O13: 0 | P13: 0 | Q13: 0 | R13: 0 | S13: =SUM(D13:R13) -> 0 | T13: =AVERAGE(D13:R13) -> 0
B14: หมายเหตุ ให้รายงานทุกรายไตรมาส (โดยแยกเป็นรายเดือน) ภายใน 5 วัน หลักจากสิ้นไตรมาส
B17: งานบริการ การจดทะเบียนวิสาหกิจชุมชนและเครือข่ายวิสาหกิจชุมชน กรณีจดทะเบียน ณ สำนักงานเกษตรอำเภอ/กิ่งอำเภอ/สำนักงานเกษตรพื้นที่ (กทม.)
B18: ลำดับที่ | C18: รายการ | D18: ปี 2563 | G18: ปีงบประมาณ 2564
D19: ไตรมาส 1/63 | G19: ไตรมาส 1/64 | J19: ไตรมาส 2/64 | M19: ไตรมาส 3/64 | P19: ไตรมาส 4/64 | S19: รวม | T19: เฉลี่ย
D20: ก.ค. | E20: ส.ค. | F20: ก.ย. | G20: ต.ค. | H20: พ.ย. | I20: ธ.ค. | J20: ม.ค. | K20: ก.พ. | L20: มี.ค. | M20: เม.ย. | N20: พ.ค. | O20: มิ.ค. | P20: ก.ค. | Q20: ส.ค. | R20: ก.ย.
B21: 1 | C21: จำนวนคำขอที่ได้รับการอนุมัติ | D21: - | E21: - | F21: - | G21: - | H21: - | I21: - | J21: 0 | K21: 0 | L21: 0 | M21: 3 | N21: 4 | O21: 1 | P21: 2 | Q21: 1 | R21: 2 | S21: =SUM(D21:R21) -> 13 | T21: =AVERAGE(D21:R21) -> 1.4444444
B22: 2 | C22: จำนวนคำขอที่ไม่ได้รับการอนุมัติ | D22: - | E22: - | F22: - | G22: - | H22: - | I22: - | J22: 0 | K22: 0 | L22: 0 | M22: 0 | N22: 0 | O22: 0 | P22: 0 | Q22: 0 | R22: 0 | S22: =SUM(D22:R22) -> 0 | T22: =AVERAGE(D22:R22) -> 0
B23: 3 | C23: จำนวนคำขอที่ดำเนินการล่าช้ากว่ากำหนด | D23: - | E23: - | F23: - | G23: - | H23: - | I23: - | J23: 0 | K23: 0 | L23: 0 | M23: 0 | N23: 0 | O23: 0 | P23: 0 | Q23: 0 | R23: 0 | S23: =SUM(D23:R23) -> 0 | T23: =AVERAGE(D23:R23) -> 0
B24: 4 | C24: จำนวนเรื่องร้องเรียนจากประชาชน | D24: - | E24: - | F24: - | G24: - | H24: - | I24: - | J24: 0 | K24: 0 | L24: 0 | M24: 0 | N24: 0 | O24: 0 | P24: 0 | Q24: 0 | R24: 0 | S24: =SUM(D24:R24) -> 0 | T24: =AVERAGE(D24:R24) -> 0
B25: 5 | C25: จำนวนการดำเนินคดีที่เกี่ยวข้องกับการออกใบอนุญาต | D25: - | E25: - | F25: - | G25: - | H25: - | I25: - | J25: 0 | K25: 0 | L25: 0 | M25: 0 | N25: 0 | O25: 0 | P25: 0 | Q25: 0 | R25: 0 | S25: =SUM(D25:R25) -> 0 | T25: =AVERAGE(D25:R25) -> 0
B26: หมายเหตุ ให้รายงานทุกรายไตรมาส (โดยแยกเป็นรายเดือน) ภายใน 5 วัน หลักจากสิ้นไตรมาส
B29: งานบริการ การขึ้นทะเบียนเกษตรกร กรณีเกษตรกรนำแปลงใหม่มาขึ้นทะเบียนด้วยตนเอง ณ สำนักงานเกษตรอำเภอ/สำนักงานเกษตรพื้นที่ (กทม.)
B30: ลำดับที่ | C30: รายการ | D30: ปี 2563 | G30: ปีงบประมาณ 2564
D31: ไตรมาส 1/63 | G31: ไตรมาส 1/64 | J31: ไตรมาส 2/64 | M31: ไตรมาส 3/64 | P31: ไตรมาส 4/64 | S31: รวม | T31: เฉลี่ย
D32: ก.ค. | E32: ส.ค. | F32: ก.ย. | G32: ต.ค. | H32: พ.ย. | I32: ธ.ค. | J32: ม.ค. | K32: ก.พ. | L32: มี.ค. | M32: เม.ย. | N32: พ.ค. | O32: มิ.ค. | P32: ก.ค. | Q32: ส.ค. | R32: ก.ย.
B33: 1 | C33: จำนวนคำขอที่ได้รับการอนุมัติ | D33: - | E33: - | F33: - | G33: - | H33: - | I33: - | J33: 0 | K33: 0 | L33: 0 | M33: 0 | N33: 34 | O33: 25 | P33: 3 | Q33: 19 | R33: 14 | S33: =SUM(D33:R33) -> 95 | T33: =AVERAGE(D33:R33) -> 10.555556
B34: 2 | C34: จำนวนคำขอที่ไม่ได้รับการอนุมัติ | D34: - | E34: - | F34: - | G34: - | H34: - | I34: - | J34: 0 | K34: 0 | L34: 0 | M34: 0 | N34: 0 | O34: 0 | P34: 0 | Q34: 0 | R34: 0 | S34: =SUM(D34:R34) -> 0 | T34: =AVERAGE(D34:R34) -> 0
B35: 3 | C35: จำนวนคำขอที่ดำเนินการล่าช้ากว่ากำหนด | D35: - | E35: - | F35: - | G35: - | H35: - | I35: - | J35: 0 | K35: 0 | L35: 0 | M35: 0 | N35: 0 | O35: 0 | P35: 0 | Q35: 0 | R35: 0 | S35: =SUM(D35:R35) -> 0 | T35: =AVERAGE(D35:R35) -> 0
B36: 4 | C36: จำนวนเรื่องร้องเรียนจากประชาชน | D36: - | E36: - | F36: - | G36: - | H36: - | I36: - | J36: 0 | K36: 0 | L36: 0 | M36: 0 | N36: 0 | O36: 0 | P36: 0 | Q36: 0 | R36: 0 | S36: =SUM(D36:R36) -> 0 | T36: =AVERAGE(D36:R36) -> 0
B37: 5 | C37: จำนวนการดำเนินคดีที่เกี่ยวข้องกับการออกใบอนุญาต | D37: - | E37: - | F37: - | G37: - | H37: - | I37: - | J37: 0 | K37: 0 | L37: 0 | M37: 0 | N37: 0 | O37: 0 | P37: 0 | Q37: 0 | R37: 0 | S37: =SUM(D37:R37) -> 0 | T37: =AVERAGE(D37:R37) -> 0
B38: หมายเหตุ ให้รายงานทุกรายไตรมาส (โดยแยกเป็นรายเดือน) ภายใน 5 วัน หลักจากสิ้นไตรมาส
B41: งานบริการ การขึ้นทะเบียนเกษตรกร กรณีเกษตรกรนำแปลงเดิมมาขึ้นทะเบียนด้วยตนเอง ณ สำนักงานเกษตรอำเภอ/สำนักงานเกษตรพื้นที่ (กทม.)
B42: ลำดับที่ | C42: รายการ | D42: ปี 2563 | G42: ปีงบประมาณ 2564
D43: ไตรมาส 1/63 | G43: ไตรมาส 1/64 | J43: ไตรมาส 2/64 | M43: ไตรมาส 3/64 | P43: ไตรมาส 4/64 | S43: รวม | T43: เฉลี่ย
D44: ก.ค. | E44: ส.ค. | F44: ก.ย. | G44: ต.ค. | H44: พ.ย. | I44: ธ.ค. | J44: ม.ค. | K44: ก.พ. | L44: มี.ค. | M44: เม.ย. | N44: พ.ค. | O44: มิ.ค. | P44: ก.ค. | Q44: ส.ค. | R44: ก.ย.
B45: 1 | C45: จำนวนคำขอที่ได้รับการอนุมัติ | D45: - | E45: - | F45: - | G45: - | H45: - | I45: - | J45: 0 | K45: 1000 | L45: 1086 | M45: 120 | N45: 467 | O45: 6852 | P45: 3480 | Q45: 895 | R45: 700 | S45: =SUM(D45:R45) -> 14600 | T45: =AVERAGE(D45:R45) -> 1622.2222
B46: 2 | C46: จำนวนคำขอที่ไม่ได้รับการอนุมัติ | D46: - | E46: - | F46: - | G46: - | H46: - | I46: - | J46: 0 | K46: 2 | L46: 2 | M46: 116 | N46: 0 | O46: 0 | P46: 0 | Q46: 0 | R46: 0 | S46: =SUM(D46:R46) -> 120 | T46: =AVERAGE(D46:R46) -> 13.333333
B47: 3 | C47: จำนวนคำขอที่ดำเนินการล่าช้ากว่ากำหนด | D47: - | E47: - | F47: - | G47: - | H47: - | I47: - | J47: 0 | K47: 0 | L47: 0 | M47: 0 | N47: 0 | O47: 0 | P47: 0 | Q47: 0 | R47: 0 | S47: =SUM(D47:R47) -> 0 | T47: =AVERAGE(D47:R47) -> 0
B48: 4 | C48: จำนวนเรื่องร้องเรียนจากประชาชน | D48: - | E48: - | F48: - | G48: - | H48: - | I48: - | J48: 0 | K48: 1 | L48: 0 | M48: 0 | N48: 0 | O48: 0 | P48: 0 | Q48: 0 | R48: 0 | S48: =SUM(D48:R48) -> 1 | T48: =AVERAGE(D48:R48) -> 0.11111111
B49: 5 | C49: จำนวนการดำเนินคดีที่เกี่ยวข้องกับการออกใบอนุญาต | D49: - | E49: - | F49: - | G49: - | H49: - | I49: - | J49: 0 | K49: 0 | L49: 0 | M49: 0 | N49: 0 | O49: 0 | P49: 0 | Q49: 0 | R49: 0 | S49: =SUM(D49:R49) -> 0 | T49: =AVERAGE(D49:R49) -> 0
B50: หมายเหตุ ให้รายงานทุกรายไตรมาส (โดยแยกเป็นรายเดือน) ภายใน 5 วัน หลักจากสิ้นไตรมาส

Sheet เกษตรเมืองสรวง
B2: รายงานผลการออกใบอนุญาต ตามคู่มือบริการประชาชน
B3: หน่วยงาน สำนักงานเกษตรอำเภอเมืองสรวง จังหวัดร้อยเอ็ด
B5: งานบริการ การจดทะเบียนวิสาหกิจชุมชนและเครือข่ายวิสาหกิจชุมชน กรณีจดทะเบียน ณ ศูนย์บริการและถ่ายทอดเทคโนโลยีการเกษตรประจำตำบล/แขวง (กทม.)
B6: ลำดับที่ | C6: รายการ | D6: ปี 2563 | G6: ปีงบประมาณ 2564
D7: ไตรมาส 1/63 | G7: ไตรมาส 1/64 | J7: ไตรมาส 2/64 | M7: ไตรมาส 3/64 | P7: ไตรมาส 4/64 | S7: รวม | T7: เฉลี่ย
D8: ก.ค. | E8: ส.ค. | F8: ก.ย. | G8: ต.ค. | H8: พ.ย. | I8: ธ.ค. | J8: ม.ค. | K8: ก.พ. | L8: มี.ค. | M8: เม.ย. | N8: พ.ค. | O8: มิ.ค. | P8: ก.ค. | Q8: ส.ค. | R8: ก.ย.
B9: 1 | C9: จำนวนคำขอที่ได้รับการอนุมัติ | D9: - | E9: - | F9: - | G9: - | H9: - | I9: - | J9: 0 | K9: 0 | L9: 0 | M9: 0 | N9: 0 | O9: 0 | P9: 0 | Q9: 0 | R9: 0 | S9: =SUM(D9:R9) -> 0 | T9: =AVERAGE(D9:R9) -> 0
B10: 2 | C10: จำนวนคำขอที่ไม่ได้รับการอนุมัติ | D10: - | E10: - | F10: - | G10: - | H10: - | I10: - | J10: 0 | K10: 0 | L10: 0 | M10: 0 | N10: 0 | O10: 0 | P10: 0 | Q10: 0 | R10: 0 | S10: =SUM(D10:R10) -> 0 | T10: =AVERAGE(D10:R10) -> 0
B11: 3 | C11: จำนวนคำขอที่ดำเนินการล่าช้ากว่ากำหนด | D11: - | E11: - | F11: - | G11: - | H11: - | I11: - | J11: 0 | K11: 0 | L11: 0 | M11: 0 | N11: 0 | O11: 0 | P11: 0 | Q11: 0 | R11: 0 | S11: =SUM(D11:R11) -> 0 | T11: =AVERAGE(D11:R11) -> 0
B12: 4 | C12: จำนวนเรื่องร้องเรียนจากประชาชน | D12: - | E12: - | F12: - | G12: - | H12: - | I12: - | J12: 0 | K12: 0 | L12: 0 | M12: 0 | N12: 0 | O12: 0 | P12: 0 | Q12: 0 | R12: 0 | S12: =SUM(D12:R12) -> 0 | T12: =AVERAGE(D12:R12) -> 0
B13: 5 | C13: จำนวนการดำเนินคดีที่เกี่ยวข้องกับการออกใบอนุญาต | D13: - | E13: - | F13: - | G13: - | H13: - | I13: - | J13: 0 | K13: 0 | L13: 0 | M13: 0 | N13: 0 | O13: 0 | P13: 0 | Q13: 0 | R13: 0 | S13: =SUM(D13:R13) -> 0 | T13: =AVERAGE(D13:R13) -> 0
B14: หมายเหตุ ให้รายงานทุกรายไตรมาส (โดยแยกเป็นรายเดือน) ภายใน 5 วัน หลักจากสิ้นไตรมาส
B17: งานบริการ การจดทะเบียนวิสาหกิจชุมชนและเครือข่ายวิสาหกิจชุมชน กรณีจดทะเบียน ณ สำนักงานเกษตรอำเภอ/กิ่งอำเภอ/สำนักงานเกษตรพื้นที่ (กทม.)
B18: ลำดับที่ | C18: รายการ | D18: ปี 2563 | G18: ปีงบประมาณ 2564
D19: ไตรมาส 1/63 | G19: ไตรมาส 1/64 | J19: ไตรมาส 2/64 | M19: ไตรมาส 3/64 | P19: ไตรมาส 4/64 | S19: รวม | T19: เฉลี่ย
D20: ก.ค. | E20: ส.ค. | F20: ก.ย. | G20: ต.ค. | H20: พ.ย. | I20: ธ.ค. | J20: ม.ค. | K20: ก.พ. | L20: มี.ค. | M20: เม.ย. | N20: พ.ค. | O20: มิ.ค. | P20: ก.ค. | Q20: ส.ค. | R20: ก.ย.
B21: 1 | C21: จำนวนคำขอที่ได้รับการอนุมัติ | D21: - | E21: - | F21: - | G21: - | H21: - | I21: - | J21: 0 | K21: 3 | L21: 0 | M21: 1 | N21: 1 | O21: 0 | P21: 0 | Q21: 3 | R21: 0 | S21: =SUM(D21:R21) -> 8 | T21: =AVERAGE(D21:R21) -> 0.88888889
B22: 2 | C22: จำนวนคำขอที่ไม่ได้รับการอนุมัติ | D22: - | E22: - | F22: - | G22: - | H22: - | I22: - | J22: 0 | K22: 0 | L22: 0 | M22: 0 | N22: 0 | O22: 0 | P22: 0 | Q22: 0 | R22: 0 | S22: =SUM(D22:R22) -> 0 | T22: =AVERAGE(D22:R22) -> 0
B23: 3 | C23: จำนวนคำขอที่ดำเนินการล่าช้ากว่ากำหนด | D23: - | E23: - | F23: - | G23: - | H23: - | I23: - | J23: 0 | K23: 0 | L23: 0 | M23: 0 | N23: 0 | O23: 0 | P23: 0 | Q23: 0 | R23: 0 | S23: =SUM(D23:R23) -> 0 | T23: =AVERAGE(D23:R23) -> 0
B24: 4 | C24: จำนวนเรื่องร้องเรียนจากประชาชน | D24: - | E24: - | F24: - | G24: - | H24: - | I24: - | J24: 0 | K24: 0 | L24: 0 | M24: 0 | N24: 0 | O24: 0 | P24: 0 | Q24: 0 | R24: 0 | S24: =SUM(D24:R24) -> 0 | T24: =AVERAGE(D24:R24) -> 0
B25: 5 | C25: จำนวนการดำเนินคดีที่เกี่ยวข้องกับการออกใบอนุญาต | D25: - | E25: - | F25: - | G25: - | H25: - | I25: - | J25: 0 | K25: 0 | L25: 0 | M25: 0 | N25: 0 | O25: 0 | P25: 0 | Q25: 0 | R25: 0 | S25: =SUM(D25:R25) -> 0 | T25: =AVERAGE(D25:R25) -> 0
B26: หมายเหตุ ให้รายงานทุกรายไตรมาส (โดยแยกเป็นรายเดือน) ภายใน 5 วัน หลักจากสิ้นไตรมาส
B29: งานบริการ การขึ้นทะเบียนเกษตรกร กรณีเกษตรกรนำแปลงใหม่มาขึ้นทะเบียนด้วยตนเอง ณ สำนักงานเกษตรอำเภอ/สำนักงานเกษตรพื้นที่ (กทม.)
B30: ลำดับที่ | C30: รายการ | D30: ปี 2563 | G30: ปีงบประมาณ 2564
D31: ไตรมาส 1/63 | G31: ไตรมาส 1/64 | J31: ไตรมาส 2/64 | M31: ไตรมาส 3/64 | P31: ไตรมาส 4/64 | S31: รวม | T31: เฉลี่ย
D32: ก.ค. | E32: ส.ค. | F32: ก.ย. | G32: ต.ค. | H32: พ.ย. | I32: ธ.ค. | J32: ม.ค. | K32: ก.พ. | L32: มี.ค. | M32: เม.ย. | N32: พ.ค. | O32: มิ.ค. | P32: ก.ค. | Q32: ส.ค. | R32: ก.ย.
B33: 1 | C33: จำนวนคำขอที่ได้รับการอนุมัติ | D33: - | E33: - | F33: - | G33: - | H33: - | I33: - | J33: 0 | K33: 0 | L33: 0 | M33: 0 | N33: 0 | O33: 2 | P33: 5 | Q33: 6 | R33: 5 | S33: =SUM(D33:R33) -> 18 | T33: =AVERAGE(D33:R33) -> 2
B34: 2 | C34: จำนวนคำขอที่ไม่ได้รับการอนุมัติ | D34: - | E34: - | F34: - | G34: - | H34: - | I34: - | J34: 0 | K34: 0 | L34: 0 | M34: 0 | N34: 0 | O34: 0 | P34: 1 | Q34: 1 | R34: 0 | S34: =SUM(D34:R34) -> 2 | T34: =AVERAGE(D34:R34) -> 0.22222222
B35: 3 | C35: จำนวนคำขอที่ดำเนินการล่าช้ากว่ากำหนด | D35: - | E35: - | F35: - | G35: - | H35: - | I35: - | J35: 0 | K35: 0 | L35: 0 | M35: 0 | N35: 0 | O35: 0 | P35: 0 | Q35: 0 | R35: 0 | S35: =SUM(D35:R35) -> 0 | T35: =AVERAGE(D35:R35) -> 0
B36: 4 | C36: จำนวนเรื่องร้องเรียนจากประชาชน | D36: - | E36: - | F36: - | G36: - | H36: - | I36: - | J36: 0 | K36: 0 | L36: 0 | M36: 0 | N36: 0 | O36: 0 | P36: 0 | Q36: 0 | R36: 0 | S36: =SUM(D36:R36) -> 0 | T36: =AVERAGE(D36:R36) -> 0
B37: 5 | C37: จำนวนการดำเนินคดีที่เกี่ยวข้องกับการออกใบอนุญาต | D37: - | E37: - | F37: - | G37: - | H37: - | I37: - | J37: 0 | K37: 0 | L37: 0 | M37: 0 | N37: 0 | O37: 0 | P37: 0 | Q37: 0 | R37: 0 | S37: =SUM(D37:R37) -> 0 | T37: =AVERAGE(D37:R37) -> 0
B38: หมายเหตุ ให้รายงานทุกรายไตรมาส (โดยแยกเป็นรายเดือน) ภายใน 5 วัน หลักจากสิ้นไตรมาส
B41: งานบริการ การขึ้นทะเบียนเกษตรกร กรณีเกษตรกรนำแปลงเดิมมาขึ้นทะเบียนด้วยตนเอง ณ สำนักงานเกษตรอำเภอ/สำนักงานเกษตรพื้นที่ (กทม.)
B42: ลำดับที่ | C42: รายการ | D42: ปี 2563 | G42: ปีงบประมาณ 2564
D43: ไตรมาส 1/63 | G43: ไตรมาส 1/64 | J43: ไตรมาส 2/64 | M43: ไตรมาส 3/64 | P43: ไตรมาส 4/64 | S43: รวม | T43: เฉลี่ย
D44: ก.ค. | E44: ส.ค. | F44: ก.ย. | G44: ต.ค. | H44: พ.ย. | I44: ธ.ค. | J44: ม.ค. | K44: ก.พ. | L44: มี.ค. | M44: เม.ย. | N44: พ.ค. | O44: มิ.ค. | P44: ก.ค. | Q44: ส.ค. | R44: ก.ย.
