Workbook

Sheet ภาพรวม
B2: รายงานผลการออกใบอนุญาต ตามคู่มือบริการประชาชน
B3: หน่วยงาน สำนักงานเกษตรจังหวัดร้อยเอ็ด
B5: งานบริการ การจดทะเบียนวิสาหกิจชุมชนและเครือข่ายวิสาหกิจชุมชน กรณีจดทะเบียน ณ ศูนย์บริการและถ่ายทอดเทคโนโลยีการเกษตรประจำตำบล/แขวง (กทม.)
B6: ลำดับที่ | C6: รายการ | D6: ปี 2563 | G6: ปีงบประมาณ 2564
D7: ไตรมาส 1/63 | G7: ไตรมาส 1/64 | J7: ไตรมาส 2/64 | M7: ไตรมาส 3/64 | P7: ไตรมาส 4/64 | S7: รวม | T7: เฉลี่ย
D8: ก.ค. | E8: ส.ค. | F8: ก.ย. | G8: ต.ค. | H8: พ.ย. | I8: ธ.ค. | J8: ม.ค. | K8: ก.พ. | L8: มี.ค. | M8: เม.ย. | N8: พ.ค. | O8: มิ.ค. | P8: ก.ค. | Q8: ส.ค. | R8: ก.ย.
B9: 1 | C9: จำนวนคำขอที่ได้รับการอนุมัติ | D9: - | E9: - | F9: - | G9: - | H9: - | I9: - | J9: =SUM(เกษตรเมืองร้อยเอ็ด!J9,เกษตรธวัชบุรี!J9,เกษตรเสลภูมิ!J9,เกษตรโพนทอง!J9,เกษตรหนองพอก!J9,เกษตรโพธิ์ชัย!J9,เกษตรจตุรพักตรพิมาน!J9,เกษตรปทุมรัตต์!J9,เกษตรเกษตรวิสัย!J9,เกษตรสุวรรณภูมิ!J9,เกษตรอาจสามารถ!J9,เกษตรพนมไพร!J9,เกษตรเมืองสรวง!J9,เกษตรโพนทราย!J9,เกษตรเมยวดี!J9,เกษตรศรีสมเด็จ!J9,เกษตรจังหาร!J9,เกษตรเชียงขวัญ!J9,เกษตรหนองฮี!J9,เกษตรทุ่งเขาหลวง!J9) -> 0 | K9: =SUM(เกษตรเมืองร้อยเอ็ด!K9,เกษตรธวัชบุรี!K9,เกษตรเสลภูมิ!K9,เกษตรโพนทอง!K9,เกษตรหนองพอก!K9,เกษตรโพธิ์ชัย!K9,เกษตรจตุรพักตรพิมาน!K9,เกษตรปทุมรัตต์!K9,เกษตรเกษตรวิสัย!K9,เกษตรสุวรรณภูมิ!K9,เกษตรอาจสามารถ!K9,เกษตรพนมไพร!K9,เกษตรเมืองสรวง!K9,เกษตรโพนทราย!K9,เกษตรเมยวดี!K9,เกษตรศรีสมเด็จ!K9,เกษตรจังหาร!K9,เกษตรเชียงขวัญ!K9,เกษตรหนองฮี!K9,เกษตรทุ่งเขาหลวง!K9) -> 0 | L9: =SUM(เกษตรเมืองร้อยเอ็ด!L9,เกษตรธวัชบุรี!L9,เกษตรเสลภูมิ!L9,เกษตรโพนทอง!L9,เกษตรหนองพอก!L9,เกษตรโพธิ์ชัย!L9,เกษตรจตุรพักตรพิมาน!L9,เกษตรปทุมรัตต์!L9,เกษตรเกษตรวิสัย!L9,เกษตรสุวรรณภูมิ!L9,เกษตรอาจสามารถ!L9,เกษตรพนมไพร!L9,เกษตรเมืองสรวง!L9,เกษตรโพนทราย!L9,เกษตรเมยวดี!L9,เกษตรศรีสมเด็จ!L9,เกษตรจังหาร!L9,เกษตรเชียงขวัญ!L9,เกษตรหนองฮี!L9,เกษตรทุ่งเขาหลวง!L9) -> 0 | M9: =SUM(เกษตรเมืองร้อยเอ็ด!M9,เกษตรธวัชบุรี!M9,เกษตรเสลภูมิ!M9,เกษตรโพนทอง!M9,เกษตรหนองพอก!M9,เกษตรโพธิ์ชัย!M9,เกษตรจตุรพักตรพิมาน!M9,เกษตรปทุมรัตต์!M9,เกษตรเกษตรวิสัย!M9,เกษตรสุวรรณภูมิ!M9,เกษตรอาจสามารถ!M9,เกษตรพนมไพร!M9,เกษตรเมืองสรวง!M9,เกษตรโพนทราย!M9,เกษตรเมยวดี!M9,เกษตรศรีสมเด็จ!M9,เกษตรจังหาร!M9,เกษตรเชียงขวัญ!M9,เกษตรหนองฮี!M9,เกษตรทุ่งเขาหลวง!M9) -> 0 | N9: =SUM(เกษตรเมืองร้อยเอ็ด!N9,เกษตรธวัชบุรี!N9,เกษตรเสลภูมิ!N9,เกษตรโพนทอง!N9,เกษตรหนองพอก!N9,เกษตรโพธิ์ชัย!N9,เกษตรจตุรพักตรพิมาน!N9,เกษตรปทุมรัตต์!N9,เกษตรเกษตรวิสัย!N9,เกษตรสุวรรณภูมิ!N9,เกษตรอาจสามารถ!N9,เกษตรพนมไพร!N9,เกษตรเมืองสรวง!N9,เกษตรโพนทราย!N9,เกษตรเมยวดี!N9,เกษตรศรีสมเด็จ!N9,เกษตรจังหาร!N9,เกษตรเชียงขวัญ!N9,เกษตรหนองฮี!N9,เกษตรทุ่งเขาหลวง!N9) -> 0 | O9: =SUM(เกษตรเมืองร้อยเอ็ด!O9,เกษตรธวัชบุรี!O9,เกษตรเสลภูมิ!O9,เกษตรโพนทอง!O9,เกษตรหนองพอก!O9,เกษตรโพธิ์ชัย!O9,เกษตรจตุรพักตรพิมาน!O9,เกษตรปทุมรัตต์!O9,เกษตรเกษตรวิสัย!O9,เกษตรสุวรรณภูมิ!O9,เกษตรอาจสามารถ!O9,เกษตรพนมไพร!O9,เกษตรเมืองสรวง!O9,เกษตรโพนทราย!O9,เกษตรเมยวดี!O9,เกษตรศรีสมเด็จ!O9,เกษตรจังหาร!O9,เกษตรเชียงขวัญ!O9,เกษตรหนองฮี!O9,เกษตรทุ่งเขาหลวง!O9) -> 0 | P9: =SUM(เกษตรเมืองร้อยเอ็ด!P9,เกษตรธวัชบุรี!P9,เกษตรเสลภูมิ!P9,เกษตรโพนทอง!P9,เกษตรหนองพอก!P9,เกษตรโพธิ์ชัย!P9,เกษตรจตุรพักตรพิมาน!P9,เกษตรปทุมรัตต์!P9,เกษตรเกษตรวิสัย!P9,เกษตรสุวรรณภูมิ!P9,เกษตรอาจสามารถ!P9,เกษตรพนมไพร!P9,เกษตรเมืองสรวง!P9,เกษตรโพนทราย!P9,เกษตรเมยวดี!P9,เกษตรศรีสมเด็จ!P9,เกษตรจังหาร!P9,เกษตรเชียงขวัญ!P9,เกษตรหนองฮี!P9,เกษตรทุ่งเขาหลวง!P9) -> 0 | Q9: =SUM(เกษตรเมืองร้อยเอ็ด!Q9,เกษตรธวัชบุรี!Q9,เกษตรเสลภูมิ!Q9,เกษตรโพนทอง!Q9,เกษตรหนองพอก!Q9,เกษตรโพธิ์ชัย!Q9,เกษตรจตุรพักตรพิมาน!Q9,เกษตรปทุมรัตต์!Q9,เกษตรเกษตรวิสัย!Q9,เกษตรสุวรรณภูมิ!Q9,เกษตรอาจสามารถ!Q9,เกษตรพนมไพร!Q9,เกษตรเมืองสรวง!Q9,เกษตรโพนทราย!Q9,เกษตรเมยวดี!Q9,เกษตรศรีสมเด็จ!Q9,เกษตรจังหาร!Q9,เกษตรเชียงขวัญ!Q9,เกษตรหนองฮี!Q9,เกษตรทุ่งเขาหลวง!Q9) -> 0 | R9: =SUM(เกษตรเมืองร้อยเอ็ด!R9,เกษตรธวัชบุรี!R9,เกษตรเสลภูมิ!R9,เกษตรโพนทอง!R9,เกษตรหนองพอก!R9,เกษตรโพธิ์ชัย!R9,เกษตรจตุรพักตรพิมาน!R9,เกษตรปทุมรัตต์!R9,เกษตรเกษตรวิสัย!R9,เกษตรสุวรรณภูมิ!R9,เกษตรอาจสามารถ!R9,เกษตรพนมไพร!R9,เกษตรเมืองสรวง!R9,เกษตรโพนทราย!R9,เกษตรเมยวดี!R9,เกษตรศรีสมเด็จ!R9,เกษตรจังหาร!R9,เกษตรเชียงขวัญ!R9,เกษตรหนองฮี!R9,เกษตรทุ่งเขาหลวง!R9) -> 0 | S9: =SUM(D9:R9) -> 0 | T9: =AVERAGE(D9:R9) -> 0
B10: 2 | C10: จำนวนคำขอที่ไม่ได้รับการอนุมัติ | D10: - | E10: - | F10: - | G10: - | H10: - | I10: - | J10: =SUM(เกษตรเมืองร้อยเอ็ด!J10,เกษตรธวัชบุรี!J10,เกษตรเสลภูมิ!J10,เกษตรโพนทอง!J10,เกษตรหนองพอก!J10,เกษตรโพธิ์ชัย!J10,เกษตรจตุรพักตรพิมาน!J10,เกษตรปทุมรัตต์!J10,เกษตรเกษตรวิสัย!J10,เกษตรสุวรรณภูมิ!J10,เกษตรอาจสามารถ!J10,เกษตรพนมไพร!J10,เกษตรเมืองสรวง!J10,เกษตรโพนทราย!J10,เกษตรเมยวดี!J10,เกษตรศรีสมเด็จ!J10,เกษตรจังหาร!J10,เกษตรเชียงขวัญ!J10,เกษตรหนองฮี!J10,เกษตรทุ่งเขาหลวง!J10) -> 0 | K10: =SUM(เกษตรเมืองร้อยเอ็ด!K10,เกษตรธวัชบุรี!K10,เกษตรเสลภูมิ!K10,เกษตรโพนทอง!K10,เกษตรหนองพอก!K10,เกษตรโพธิ์ชัย!K10,เกษตรจตุรพักตรพิมาน!K10,เกษตรปทุมรัตต์!K10,เกษตรเกษตรวิสัย!K10,เกษตรสุวรรณภูมิ!K10,เกษตรอาจสามารถ!K10,เกษตรพนมไพร!K10,เกษตรเมืองสรวง!K10,เกษตรโพนทราย!K10,เกษตรเมยวดี!K10,เกษตรศรีสมเด็จ!K10,เกษตรจังหาร!K10,เกษตรเชียงขวัญ!K10,เกษตรหนองฮี!K10,เกษตรทุ่งเขาหลวง!K10) -> 0 | L10: =SUM(เกษตรเมืองร้อยเอ็ด!L10,เกษตรธวัชบุรี!L10,เกษตรเสลภูมิ!L10,เกษตรโพนทอง!L10,เกษตรหนองพอก!L10,เกษตรโพธิ์ชัย!L10,เกษตรจตุรพักตรพิมาน!L10,เกษตรปทุมรัตต์!L10,เกษตรเกษตรวิสัย!L10,เกษตรสุวรรณภูมิ!L10,เกษตรอาจสามารถ!L10,เกษตรพนมไพร!L10,เกษตรเมืองสรวง!L10,เกษตรโพนทราย!L10,เกษตรเมยวดี!L10,เกษตรศรีสมเด็จ!L10,เกษตรจังหาร!L10,เกษตรเชียงขวัญ!L10,เกษตรหนองฮี!L10,เกษตรทุ่งเขาหลวง!L10) -> 0 | M10: =SUM(เกษตรเมืองร้อยเอ็ด!M10,เกษตรธวัชบุรี!M10,เกษตรเสลภูมิ!M10,เกษตรโพนทอง!M10,เกษตรหนองพอก!M10,เกษตรโพธิ์ชัย!M10,เกษตรจตุรพักตรพิมาน!M10,เกษตรปทุมรัตต์!M10,เกษตรเกษตรวิสัย!M10,เกษตรสุวรรณภูมิ!M10,เกษตรอาจสามารถ!M10,เกษตรพนมไพร!M10,เกษตรเมืองสรวง!M10,เกษตรโพนทราย!M10,เกษตรเมยวดี!M10,เกษตรศรีสมเด็จ!M10,เกษตรจังหาร!M10,เกษตรเชียงขวัญ!M10,เกษตรหนองฮี!M10,เกษตรทุ่งเขาหลวง!M10) -> 0 | N10: =SUM(เกษตรเมืองร้อยเอ็ด!N10,เกษตรธวัชบุรี!N10,เกษตรเสลภูมิ!N10,เกษตรโพนทอง!N10,เกษตรหนองพอก!N10,เกษตรโพธิ์ชัย!N10,เกษตรจตุรพักตรพิมาน!N10,เกษตรปทุมรัตต์!N10,เกษตรเกษตรวิสัย!N10,เกษตรสุวรรณภูมิ!N10,เกษตรอาจสามารถ!N10,เกษตรพนมไพร!N10,เกษตรเมืองสรวง!N10,เกษตรโพนทราย!N10,เกษตรเมยวดี!N10,เกษตรศรีสมเด็จ!N10,เกษตรจังหาร!N10,เกษตรเชียงขวัญ!N10,เกษตรหนองฮี!N10,เกษตรทุ่งเขาหลวง!N10) -> 0 | O10: =SUM(เกษตรเมืองร้อยเอ็ด!O10,เกษตรธวัชบุรี!O10,เกษตรเสลภูมิ!O10,เกษตรโพนทอง!O10,เกษตรหนองพอก!O10,เกษตรโพธิ์ชัย!O10,เกษตรจตุรพักตรพิมาน!O10,เกษตรปทุมรัตต์!O10,เกษตรเกษตรวิสัย!O10,เกษตรสุวรรณภูมิ!O10,เกษตรอาจสามารถ!O10,เกษตรพนมไพร!O10,เกษตรเมืองสรวง!O10,เกษตรโพนทราย!O10,เกษตรเมยวดี!O10,เกษตรศรีสมเด็จ!O10,เกษตรจังหาร!O10,เกษตรเชียงขวัญ!O10,เกษตรหนองฮี!O10,เกษตรทุ่งเขาหลวง!O10) -> 0 | P10: =SUM(เกษตรเมืองร้อยเอ็ด!P10,เกษตรธวัชบุรี!P10,เกษตรเสลภูมิ!P10,เกษตรโพนทอง!P10,เกษตรหนองพอก!P10,เกษตรโพธิ์ชัย!P10,เกษตรจตุรพักตรพิมาน!P10,เกษตรปทุมรัตต์!P10,เกษตรเกษตรวิสัย!P10,เกษตรสุวรรณภูมิ!P10,เกษตรอาจสามารถ!P10,เกษตรพนมไพร!P10,เกษตรเมืองสรวง!P10,เกษตรโพนทราย!P10,เกษตรเมยวดี!P10,เกษตรศรีสมเด็จ!P10,เกษตรจังหาร!P10,เกษตรเชียงขวัญ!P10,เกษตรหนองฮี!P10,เกษตรทุ่งเขาหลวง!P10) -> 0 | Q10: =SUM(เกษตรเมืองร้อยเอ็ด!Q10,เกษตรธวัชบุรี!Q10,เกษตรเสลภูมิ!Q10,เกษตรโพนทอง!Q10,เกษตรหนองพอก!Q10,เกษตรโพธิ์ชัย!Q10,เกษตรจตุรพักตรพิมาน!Q10,เกษตรปทุมรัตต์!Q10,เกษตรเกษตรวิสัย!Q10,เกษตรสุวรรณภูมิ!Q10,เกษตรอาจสามารถ!Q10,เกษตรพนมไพร!Q10,เกษตรเมืองสรวง!Q10,เกษตรโพนทราย!Q10,เกษตรเมยวดี!Q10,เกษตรศรีสมเด็จ!Q10,เกษตรจังหาร!Q10,เกษตรเชียงขวัญ!Q10,เกษตรหนองฮี!Q10,เกษตรทุ่งเขาหลวง!Q10) -> 0 | R10: =SUM(เกษตรเมืองร้อยเอ็ด!R10,เกษตรธวัชบุรี!R10,เกษตรเสลภูมิ!R10,เกษตรโพนทอง!R10,เกษตรหนองพอก!R10,เกษตรโพธิ์ชัย!R10,เกษตรจตุรพักตรพิมาน!R10,เกษตรปทุมรัตต์!R10,เกษตรเกษตรวิสัย!R10,เกษตรสุวรรณภูมิ!R10,เกษตรอาจสามารถ!R10,เกษตรพนมไพร!R10,เกษตรเมืองสรวง!R10,เกษตรโพนทราย!R10,เกษตรเมยวดี!R10,เกษตรศรีสมเด็จ!R10,เกษตรจังหาร!R10,เกษตรเชียงขวัญ!R10,เกษตรหนองฮี!R10,เกษตรทุ่งเขาหลวง!R10) -> 0 | S10: =SUM(D10:R10) -> 0 | T10: =AVERAGE(D10:R10) -> 0
B11: 3 | C11: จำนวนคำขอที่ดำเนินการล่าช้ากว่ากำหนด | D11: - | E11: - | F11: - | G11: - | H11: - | I11: - | J11: =SUM(เกษตรเมืองร้อยเอ็ด!J11,เกษตรธวัชบุรี!J11,เกษตรเสลภูมิ!J11,เกษตรโพนทอง!J11,เกษตรหนองพอก!J11,เกษตรโพธิ์ชัย!J11,เกษตรจตุรพักตรพิมาน!J11,เกษตรปทุมรัตต์!J11,เกษตรเกษตรวิสัย!J11,เกษตรสุวรรณภูมิ!J11,เกษตรอาจสามารถ!J11,เกษตรพนมไพร!J11,เกษตรเมืองสรวง!J11,เกษตรโพนทราย!J11,เกษตรเมยวดี!J11,เกษตรศรีสมเด็จ!J11,เกษตรจังหาร!J11,เกษตรเชียงขวัญ!J11,เกษตรหนองฮี!J11,เกษตรทุ่งเขาหลวง!J11) -> 0 | K11: =SUM(เกษตรเมืองร้อยเอ็ด!K11,เกษตรธวัชบุรี!K11,เกษตรเสลภูมิ!K11,เกษตรโพนทอง!K11,เกษตรหนองพอก!K11,เกษตรโพธิ์ชัย!K11,เกษตรจตุรพักตรพิมาน!K11,เกษตรปทุมรัตต์!K11,เกษตรเกษตรวิสัย!K11,เกษตรสุวรรณภูมิ!K11,เกษตรอาจสามารถ!K11,เกษตรพนมไพร!K11,เกษตรเมืองสรวง!K11,เกษตรโพนทราย!K11,เกษตรเมยวดี!K11,เกษตรศรีสมเด็จ!K11,เกษตรจังหาร!K11,เกษตรเชียงขวัญ!K11,เกษตรหนองฮี!K11,เกษตรทุ่งเขาหลวง!K11) -> 0 | L11: =SUM(เกษตรเมืองร้อยเอ็ด!L11,เกษตรธวัชบุรี!L11,เกษตรเสลภูมิ!L11,เกษตรโพนทอง!L11,เกษตรหนองพอก!L11,เกษตรโพธิ์ชัย!L11,เกษตรจตุรพักตรพิมาน!L11,เกษตรปทุมรัตต์!L11,เกษตรเกษตรวิสัย!L11,เกษตรสุวรรณภูมิ!L11,เกษตรอาจสามารถ!L11,เกษตรพนมไพร!L11,เกษตรเมืองสรวง!L11,เกษตรโพนทราย!L11,เกษตรเมยวดี!L11,เกษตรศรีสมเด็จ!L11,เกษตรจังหาร!L11,เกษตรเชียงขวัญ!L11,เกษตรหนองฮี!L11,เกษตรทุ่งเขาหลวง!L11) -> 0 | M11: =SUM(เกษตรเมืองร้อยเอ็ด!M11,เกษตรธวัชบุรี!M11,เกษตรเสลภูมิ!M11,เกษตรโพนทอง!M11,เกษตรหนองพอก!M11,เกษตรโพธิ์ชัย!M11,เกษตรจตุรพักตรพิมาน!M11,เกษตรปทุมรัตต์!M11,เกษตรเกษตรวิสัย!M11,เกษตรสุวรรณภูมิ!M11,เกษตรอาจสามารถ!M11,เกษตรพนมไพร!M11,เกษตรเมืองสรวง!M11,เกษตรโพนทราย!M11,เกษตรเมยวดี!M11,เกษตรศรีสมเด็จ!M11,เกษตรจังหาร!M11,เกษตรเชียงขวัญ!M11,เกษตรหนองฮี!M11,เกษตรทุ่งเขาหลวง!M11) -> 0 | N11: =SUM(เกษตรเมืองร้อยเอ็ด!N11,เกษตรธวัชบุรี!N11,เกษตรเสลภูมิ!N11,เกษตรโพนทอง!N11,เกษตรหนองพอก!N11,เกษตรโพธิ์ชัย!N11,เกษตรจตุรพักตรพิมาน!N11,เกษตรปทุมรัตต์!N11,เกษตรเกษตรวิสัย!N11,เกษตรสุวรรณภูมิ!N11,เกษตรอาจสามารถ!N11,เกษตรพนมไพร!N11,เกษตรเมืองสรวง!N11,เกษตรโพนทราย!N11,เกษตรเมยวดี!N11,เกษตรศรีสมเด็จ!N11,เกษตรจังหาร!N11,เกษตรเชียงขวัญ!N11,เกษตรหนองฮี!N11,เกษตรทุ่งเขาหลวง!N11) -> 0 | O11: =SUM(เกษตรเมืองร้อยเอ็ด!O11,เกษตรธวัชบุรี!O11,เกษตรเสลภูมิ!O11,เกษตรโพนทอง!O11,เกษตรหนองพอก!O11,เกษตรโพธิ์ชัย!O11,เกษตรจตุรพักตรพิมาน!O11,เกษตรปทุมรัตต์!O11,เกษตรเกษตรวิสัย!O11,เกษตรสุวรรณภูมิ!O11,เกษตรอาจสามารถ!O11,เกษตรพนมไพร!O11,เกษตรเมืองสรวง!O11,เกษตรโพนทราย!O11,เกษตรเมยวดี!O11,เกษตรศรีสมเด็จ!O11,เกษตรจังหาร!O11,เกษตรเชียงขวัญ!O11,เกษตรหนองฮี!O11,เกษตรทุ่งเขาหลวง!O11) -> 0 | P11: =SUM(เกษตรเมืองร้อยเอ็ด!P11,เกษตรธวัชบุรี!P11,เกษตรเสลภูมิ!P11,เกษตรโพนทอง!P11,เกษตรหนองพอก!P11,เกษตรโพธิ์ชัย!P11,เกษตรจตุรพักตรพิมาน!P11,เกษตรปทุมรัตต์!P11,เกษตรเกษตรวิสัย!P11,เกษตรสุวรรณภูมิ!P11,เกษตรอาจสามารถ!P11,เกษตรพนมไพร!P11,เกษตรเมืองสรวง!P11,เกษตรโพนทราย!P11,เกษตรเมยวดี!P11,เกษตรศรีสมเด็จ!P11,เกษตรจังหาร!P11,เกษตรเชียงขวัญ!P11,เกษตรหนองฮี!P11,เกษตรทุ่งเขาหลวง!P11) -> 0 | Q11: =SUM(เกษตรเมืองร้อยเอ็ด!Q11,เกษตรธวัชบุรี!Q11,เกษตรเสลภูมิ!Q11,เกษตรโพนทอง!Q11,เกษตรหนองพอก!Q11,เกษตรโพธิ์ชัย!Q11,เกษตรจตุรพักตรพิมาน!Q11,เกษตรปทุมรัตต์!Q11,เกษตรเกษตรวิสัย!Q11,เกษตรสุวรรณภูมิ!Q11,เกษตรอาจสามารถ!Q11,เกษตรพนมไพร!Q11,เกษตรเมืองสรวง!Q11,เกษตรโพนทราย!Q11,เกษตรเมยวดี!Q11,เกษตรศรีสมเด็จ!Q11,เกษตรจังหาร!Q11,เกษตรเชียงขวัญ!Q11,เกษตรหนองฮี!Q11,เกษตรทุ่งเขาหลวง!Q11) -> 0 | R11: =SUM(เกษตรเมืองร้อยเอ็ด!R11,เกษตรธวัชบุรี!R11,เกษตรเสลภูมิ!R11,เกษตรโพนทอง!R11,เกษตรหนองพอก!R11,เกษตรโพธิ์ชัย!R11,เกษตรจตุรพักตรพิมาน!R11,เกษตรปทุมรัตต์!R11,เกษตรเกษตรวิสัย!R11,เกษตรสุวรรณภูมิ!R11,เกษตรอาจสามารถ!R11,เกษตรพนมไพร!R11,เกษตรเมืองสรวง!R11,เกษตรโพนทราย!R11,เกษตรเมยวดี!R11,เกษตรศรีสมเด็จ!R11,เกษตรจังหาร!R11,เกษตรเชียงขวัญ!R11,เกษตรหนองฮี!R11,เกษตรทุ่งเขาหลวง!R11) -> 0 | S11: =SUM(D11:R11) -> 0 | T11: =AVERAGE(D11:R11) -> 0
B12: 4 | C12: จำนวนเรื่องร้องเรียนจากประชาชน | D12: - | E12: - | F12: - | G12: - | H12: - | I12: - | J12: =SUM(เกษตรเมืองร้อยเอ็ด!J12,เกษตรธวัชบุรี!J12,เกษตรเสลภูมิ!J12,เกษตรโพนทอง!J12,เกษตรหนองพอก!J12,เกษตรโพธิ์ชัย!J12,เกษตรจตุรพักตรพิมาน!J12,เกษตรปทุมรัตต์!J12,เกษตรเกษตรวิสัย!J12,เกษตรสุวรรณภูมิ!J12,เกษตรอาจสามารถ!J12,เกษตรพนมไพร!J12,เกษตรเมืองสรวง!J12,เกษตรโพนทราย!J12,เกษตรเมยวดี!J12,เกษตรศรีสมเด็จ!J12,เกษตรจังหาร!J12,เกษตรเชียงขวัญ!J12,เกษตรหนองฮี!J12,เกษตรทุ่งเขาหลวง!J12) -> 0 | K12: =SUM(เกษตรเมืองร้อยเอ็ด!K12,เกษตรธวัชบุรี!K12,เกษตรเสลภูมิ!K12,เกษตรโพนทอง!K12,เกษตรหนองพอก!K12,เกษตรโพธิ์ชัย!K12,เกษตรจตุรพักตรพิมาน!K12,เกษตรปทุมรัตต์!K12,เกษตรเกษตรวิสัย!K12,เกษตรสุวรรณภูมิ!K12,เกษตรอาจสามารถ!K12,เกษตรพนมไพร!K12,เกษตรเมืองสรวง!K12,เกษตรโพนทราย!K12,เกษตรเมยวดี!K12,เกษตรศรีสมเด็จ!K12,เกษตรจังหาร!K12,เกษตรเชียงขวัญ!K12,เกษตรหนองฮี!K12,เกษตรทุ่งเขาหลวง!K12) -> 0 | L12: =SUM(เกษตรเมืองร้อยเอ็ด!L12,เกษตรธวัชบุรี!L12,เกษตรเสลภูมิ!L12,เกษตรโพนทอง!L12,เกษตรหนองพอก!L12,เกษตรโพธิ์ชัย!L12,เกษตรจตุรพักตรพิมาน!L12,เกษตรปทุมรัตต์!L12,เกษตรเกษตรวิสัย!L12,เกษตรสุวรรณภูมิ!L12,เกษตรอาจสามารถ!L12,เกษตรพนมไพร!L12,เกษตรเมืองสรวง!L12,เกษตรโพนทราย!L12,เกษตรเมยวดี!L12,เกษตรศรีสมเด็จ!L12,เกษตรจังหาร!L12,เกษตรเชียงขวัญ!L12,เกษตรหนองฮี!L12,เกษตรทุ่งเขาหลวง!L12) -> 0 | M12: =SUM(เกษตรเมืองร้อยเอ็ด!M12,เกษตรธวัชบุรี!M12,เกษตรเสลภูมิ!M12,เกษตรโพนทอง!M12,เกษตรหนองพอก!M12,เกษตรโพธิ์ชัย!M12,เกษตรจตุรพักตรพิมาน!M12,เกษตรปทุมรัตต์!M12,เกษตรเกษตรวิสัย!M12,เกษตรสุวรรณภูมิ!M12,เกษตรอาจสามารถ!M12,เกษตรพนมไพร!M12,เกษตรเมืองสรวง!M12,เกษตรโพนทราย!M12,เกษตรเมยวดี!M12,เกษตรศรีสมเด็จ!M12,เกษตรจังหาร!M12,เกษตรเชียงขวัญ!M12,เกษตรหนองฮี!M12,เกษตรทุ่งเขาหลวง!M12) -> 0 | N12: =SUM(เกษตรเมืองร้อยเอ็ด!N12,เกษตรธวัชบุรี!N12,เกษตรเสลภูมิ!N12,เกษตรโพนทอง!N12,เกษตรหนองพอก!N12,เกษตรโพธิ์ชัย!N12,เกษตรจตุรพักตรพิมาน!N12,เกษตรปทุมรัตต์!N12,เกษตรเกษตรวิสัย!N12,เกษตรสุวรรณภูมิ!N12,เกษตรอาจสามารถ!N12,เกษตรพนมไพร!N12,เกษตรเมืองสรวง!N12,เกษตรโพนทราย!N12,เกษตรเมยวดี!N12,เกษตรศรีสมเด็จ!N12,เกษตรจังหาร!N12,เกษตรเชียงขวัญ!N12,เกษตรหนองฮี!N12,เกษตรทุ่งเขาหลวง!N12) -> 0 | O12: =SUM(เกษตรเมืองร้อยเอ็ด!O12,เกษตรธวัชบุรี!O12,เกษตรเสลภูมิ!O12,เกษตรโพนทอง!O12,เกษตรหนองพอก!O12,เกษตรโพธิ์ชัย!O12,เกษตรจตุรพักตรพิมาน!O12,เกษตรปทุมรัตต์!O12,เกษตรเกษตรวิสัย!O12,เกษตรสุวรรณภูมิ!O12,เกษตรอาจสามารถ!O12,เกษตรพนมไพร!O12,เกษตรเมืองสรวง!O12,เกษตรโพนทราย!O12,เกษตรเมยวดี!O12,เกษตรศรีสมเด็จ!O12,เกษตรจังหาร!O12,เกษตรเชียงขวัญ!O12,เกษตรหนองฮี!O12,เกษตรทุ่งเขาหลวง!O12) -> 0 | P12: =SUM(เกษตรเมืองร้อยเอ็ด!P12,เกษตรธวัชบุรี!P12,เกษตรเสลภูมิ!P12,เกษตรโพนทอง!P12,เกษตรหนองพอก!P12,เกษตรโพธิ์ชัย!P12,เกษตรจตุรพักตรพิมาน!P12,เกษตรปทุมรัตต์!P12,เกษตรเกษตรวิสัย!P12,เกษตรสุวรรณภูมิ!P12,เกษตรอาจสามารถ!P12,เกษตรพนมไพร!P12,เกษตรเมืองสรวง!P12,เกษตรโพนทราย!P12,เกษตรเมยวดี!P12,เกษตรศรีสมเด็จ!P12,เกษตรจังหาร!P12,เกษตรเชียงขวัญ!P12,เกษตรหนองฮี!P12,เกษตรทุ่งเขาหลวง!P12) -> 0 | Q12: =SUM(เกษตรเมืองร้อยเอ็ด!Q12,เกษตรธวัชบุรี!Q12,เกษตรเสลภูมิ!Q12,เกษตรโพนทอง!Q12,เกษตรหนองพอก!Q12,เกษตรโพธิ์ชัย!Q12,เกษตรจตุรพักตรพิมาน!Q12,เกษตรปทุมรัตต์!Q12,เกษตรเกษตรวิสัย!Q12,เกษตรสุวรรณภูมิ!Q12,เกษตรอาจสามารถ!Q12,เกษตรพนมไพร!Q12,เกษตรเมืองสรวง!Q12,เกษตรโพนทราย!Q12,เกษตรเมยวดี!Q12,เกษตรศรีสมเด็จ!Q12,เกษตรจังหาร!Q12,เกษตรเชียงขวัญ!Q12,เกษตรหนองฮี!Q12,เกษตรทุ่งเขาหลวง!Q12) -> 0 | R12: =SUM(เกษตรเมืองร้อยเอ็ด!R12,เกษตรธวัชบุรี!R12,เกษตรเสลภูมิ!R12,เกษตรโพนทอง!R12,เกษตรหนองพอก!R12,เกษตรโพธิ์ชัย!R12,เกษตรจตุรพักตรพิมาน!R12,เกษตรปทุมรัตต์!R12,เกษตรเกษตรวิสัย!R12,เกษตรสุวรรณภูมิ!R12,เกษตรอาจสามารถ!R12,เกษตรพนมไพร!R12,เกษตรเมืองสรวง!R12,เกษตรโพนทราย!R12,เกษตรเมยวดี!R12,เกษตรศรีสมเด็จ!R12,เกษตรจังหาร!R12,เกษตรเชียงขวัญ!R12,เกษตรหนองฮี!R12,เกษตรทุ่งเขาหลวง!R12) -> 0 | S12: =SUM(D12:R12) -> 0 | T12: =AVERAGE(D12:R12) -> 0
B13: 5 | C13: จำนวนการดำเนินคดีที่เกี่ยวข้องกับการออกใบอนุญาต | D13: - | E13: - | F13: - | G13: - | H13: - | I13: - | J13: =SUM(เกษตรเมืองร้อยเอ็ด!J13,เกษตรธวัชบุรี!J13,เกษตรเสลภูมิ!J13,เกษตรโพนทอง!J13,เกษตรหนองพอก!J13,เกษตรโพธิ์ชัย!J13,เกษตรจตุรพักตรพิมาน!J13,เกษตรปทุมรัตต์!J13,เกษตรเกษตรวิสัย!J13,เกษตรสุวรรณภูมิ!J13,เกษตรอาจสามารถ!J13,เกษตรพนมไพร!J13,เกษตรเมืองสรวง!J13,เกษตรโพนทราย!J13,เกษตรเมยวดี!J13,เกษตรศรีสมเด็จ!J13,เกษตรจังหาร!J13,เกษตรเชียงขวัญ!J13,เกษตรหนองฮี!J13,เกษตรทุ่งเขาหลวง!J13) -> 0 | K13: =SUM(เกษตรเมืองร้อยเอ็ด!K13,เกษตรธวัชบุรี!K13,เกษตรเสลภูมิ!K13,เกษตรโพนทอง!K13,เกษตรหนองพอก!K13,เกษตรโพธิ์ชัย!K13,เกษตรจตุรพักตรพิมาน!K13,เกษตรปทุมรัตต์!K13,เกษตรเกษตรวิสัย!K13,เกษตรสุวรรณภูมิ!K13,เกษตรอาจสามารถ!K13,เกษตรพนมไพร!K13,เกษตรเมืองสรวง!K13,เกษตรโพนทราย!K13,เกษตรเมยวดี!K13,เกษตรศรีสมเด็จ!K13,เกษตรจังหาร!K13,เกษตรเชียงขวัญ!K13,เกษตรหนองฮี!K13,เกษตรทุ่งเขาหลวง!K13) -> 0 | L13: =SUM(เกษตรเมืองร้อยเอ็ด!L13,เกษตรธวัชบุรี!L13,เกษตรเสลภูมิ!L13,เกษตรโพนทอง!L13,เกษตรหนองพอก!L13,เกษตรโพธิ์ชัย!L13,เกษตรจตุรพักตรพิมาน!L13,เกษตรปทุมรัตต์!L13,เกษตรเกษตรวิสัย!L13,เกษตรสุวรรณภูมิ!L13,เกษตรอาจสามารถ!L13,เกษตรพนมไพร!L13,เกษตรเมืองสรวง!L13,เกษตรโพนทราย!L13,เกษตรเมยวดี!L13,เกษตรศรีสมเด็จ!L13,เกษตรจังหาร!L13,เกษตรเชียงขวัญ!L13,เกษตรหนองฮี!L13,เกษตรทุ่งเขาหลวง!L13) -> 0 | M13: =SUM(เกษตรเมืองร้อยเอ็ด!M13,เกษตรธวัชบุรี!M13,เกษตรเสลภูมิ!M13,เกษตรโพนทอง!M13,เกษตรหนองพอก!M13,เกษตรโพธิ์ชัย!M13,เกษตรจตุรพักตรพิมาน!M13,เกษตรปทุมรัตต์!M13,เกษตรเกษตรวิสัย!M13,เกษตรสุวรรณภูมิ!M13,เกษตรอาจสามารถ!M13,เกษตรพนมไพร!M13,เกษตรเมืองสรวง!M13,เกษตรโพนทราย!M13,เกษตรเมยวดี!M13,เกษตรศรีสมเด็จ!M13,เกษตรจังหาร!M13,เกษตรเชียงขวัญ!M13,เกษตรหนองฮี!M13,เกษตรทุ่งเขาหลวง!M13) -> 0 | N13: =SUM(เกษตรเมืองร้อยเอ็ด!N13,เกษตรธวัชบุรี!N13,เกษตรเสลภูมิ!N13,เกษตรโพนทอง!N13,เกษตรหนองพอก!N13,เกษตรโพธิ์ชัย!N13,เกษตรจตุรพักตรพิมาน!N13,เกษตรปทุมรัตต์!N13,เกษตรเกษตรวิสัย!N13,เกษตรสุวรรณภูมิ!N13,เกษตรอาจสามารถ!N13,เกษตรพนมไพร!N13,เกษตรเมืองสรวง!N13,เกษตรโพนทราย!N13,เกษตรเมยวดี!N13,เกษตรศรีสมเด็จ!N13,เกษตรจังหาร!N13,เกษตรเชียงขวัญ!N13,เกษตรหนองฮี!N13,เกษตรทุ่งเขาหลวง!N13) -> 0 | O13: =SUM(เกษตรเมืองร้อยเอ็ด!O13,เกษตรธวัชบุรี!O13,เกษตรเสลภูมิ!O13,เกษตรโพนทอง!O13,เกษตรหนองพอก!O13,เกษตรโพธิ์ชัย!O13,เกษตรจตุรพักตรพิมาน!O13,เกษตรปทุมรัตต์!O13,เกษตรเกษตรวิสัย!O13,เกษตรสุวรรณภูมิ!O13,เกษตรอาจสามารถ!O13,เกษตรพนมไพร!O13,เกษตรเมืองสรวง!O13,เกษตรโพนทราย!O13,เกษตรเมยวดี!O13,เกษตรศรีสมเด็จ!O13,เกษตรจังหาร!O13,เกษตรเชียงขวัญ!O13,เกษตรหนองฮี!O13,เกษตรทุ่งเขาหลวง!O13) -> 0 | P13: =SUM(เกษตรเมืองร้อยเอ็ด!P13,เกษตรธวัชบุรี!P13,เกษตรเสลภูมิ!P13,เกษตรโพนทอง!P13,เกษตรหนองพอก!P13,เกษตรโพธิ์ชัย!P13,เกษตรจตุรพักตรพิมาน!P13,เกษตรปทุมรัตต์!P13,เกษตรเกษตรวิสัย!P13,เกษตรสุวรรณภูมิ!P13,เกษตรอาจสามารถ!P13,เกษตรพนมไพร!P13,เกษตรเมืองสรวง!P13,เกษตรโพนทราย!P13,เกษตรเมยวดี!P13,เกษตรศรีสมเด็จ!P13,เกษตรจังหาร!P13,เกษตรเชียงขวัญ!P13,เกษตรหนองฮี!P13,เกษตรทุ่งเขาหลวง!P13) -> 0 | Q13: =SUM(เกษตรเมืองร้อยเอ็ด!Q13,เกษตรธวัชบุรี!Q13,เกษตรเสลภูมิ!Q13,เกษตรโพนทอง!Q13,เกษตรหนองพอก!Q13,เกษตรโพธิ์ชัย!Q13,เกษตรจตุรพักตรพิมาน!Q13,เกษตรปทุมรัตต์!Q13,เกษตรเกษตรวิสัย!Q13,เกษตรสุวรรณภูมิ!Q13,เกษตรอาจสามารถ!Q13,เกษตรพนมไพร!Q13,เกษตรเมืองสรวง!Q13,เกษตรโพนทราย!Q13,เกษตรเมยวดี!Q13,เกษตรศรีสมเด็จ!Q13,เกษตรจังหาร!Q13,เกษตรเชียงขวัญ!Q13,เกษตรหนองฮี!Q13,เกษตรทุ่งเขาหลวง!Q13) -> 0 | R13: =SUM(เกษตรเมืองร้อยเอ็ด!R13,เกษตรธวัชบุรี!R13,เกษตรเสลภูมิ!R13,เกษตรโพนทอง!R13,เกษตรหนองพอก!R13,เกษตรโพธิ์ชัย!R13,เกษตรจตุรพักตรพิมาน!R13,เกษตรปทุมรัตต์!R13,เกษตรเกษตรวิสัย!R13,เกษตรสุวรรณภูมิ!R13,เกษตรอาจสามารถ!R13,เกษตรพนมไพร!R13,เกษตรเมืองสรวง!R13,เกษตรโพนทราย!R13,เกษตรเมยวดี!R13,เกษตรศรีสมเด็จ!R13,เกษตรจังหาร!R13,เกษตรเชียงขวัญ!R13,เกษตรหนองฮี!R13,เกษตรทุ่งเขาหลวง!R13) -> 0 | S13: =SUM(D13:R13) -> 0 | T13: =AVERAGE(D13:R13) -> 0
C14: จำนวนหน่ายงานที่รายงาน | J14: =COUNT(เกษตรเมืองร้อยเอ็ด!J9,เกษตรธวัชบุรี!J9,เกษตรเสลภูมิ!J9,เกษตรโพนทอง!J9,เกษตรหนองพอก!J9,เกษตรโพธิ์ชัย!J9,เกษตรจตุรพักตรพิมาน!J9,เกษตรปทุมรัตต์!J9,เกษตรเกษตรวิสัย!J9,เกษตรสุวรรณภูมิ!J9,เกษตรอาจสามารถ!J9,เกษตรพนมไพร!J9,เกษตรเมืองสรวง!J9,เกษตรโพนทราย!J9,เกษตรเมยวดี!J9,เกษตรศรีสมเด็จ!J9,เกษตรจังหาร!J9,เกษตรเชียงขวัญ!J9,เกษตรหนองฮี!J9,เกษตรทุ่งเขาหลวง!J9) -> 20 | K14: =COUNT(เกษตรเมืองร้อยเอ็ด!K9,เกษตรธวัชบุรี!K9,เกษตรเสลภูมิ!K9,เกษตรโพนทอง!K9,เกษตรหนองพอก!K9,เกษตรโพธิ์ชัย!K9,เกษตรจตุรพักตรพิมาน!K9,เกษตรปทุมรัตต์!K9,เกษตรเกษตรวิสัย!K9,เกษตรสุวรรณภูมิ!K9,เกษตรอาจสามารถ!K9,เกษตรพนมไพร!K9,เกษตรเมืองสรวง!K9,เกษตรโพนทราย!K9,เกษตรเมยวดี!K9,เกษตรศรีสมเด็จ!K9,เกษตรจังหาร!K9,เกษตรเชียงขวัญ!K9,เกษตรหนองฮี!K9,เกษตรทุ่งเขาหลวง!K9) -> 20 | L14: =COUNT(เกษตรเมืองร้อยเอ็ด!L9,เกษตรธวัชบุรี!L9,เกษตรเสลภูมิ!L9,เกษตรโพนทอง!L9,เกษตรหนองพอก!L9,เกษตรโพธิ์ชัย!L9,เกษตรจตุรพักตรพิมาน!L9,เกษตรปทุมรัตต์!L9,เกษตรเกษตรวิสัย!L9,เกษตรสุวรรณภูมิ!L9,เกษตรอาจสามารถ!L9,เกษตรพนมไพร!L9,เกษตรเมืองสรวง!L9,เกษตรโพนทราย!L9,เกษตรเมยวดี!L9,เกษตรศรีสมเด็จ!L9,เกษตรจังหาร!L9,เกษตรเชียงขวัญ!L9,เกษตรหนองฮี!L9,เกษตรทุ่งเขาหลวง!L9) -> 20 | M14: =COUNT(เกษตรเมืองร้อยเอ็ด!M9,เกษตรธวัชบุรี!M9,เกษตรเสลภูมิ!M9,เกษตรโพนทอง!M9,เกษตรหนองพอก!M9,เกษตรโพธิ์ชัย!M9,เกษตรจตุรพักตรพิมาน!M9,เกษตรปทุมรัตต์!M9,เกษตรเกษตรวิสัย!M9,เกษตรสุวรรณภูมิ!M9,เกษตรอาจสามารถ!M9,เกษตรพนมไพร!M9,เกษตรเมืองสรวง!M9,เกษตรโพนทราย!M9,เกษตรเมยวดี!M9,เกษตรศรีสมเด็จ!M9,เกษตรจังหาร!M9,เกษตรเชียงขวัญ!M9,เกษตรหนองฮี!M9,เกษตรทุ่งเขาหลวง!M9) -> 20 | N14: =COUNT(เกษตรเมืองร้อยเอ็ด!N9,เกษตรธวัชบุรี!N9,เกษตรเสลภูมิ!N9,เกษตรโพนทอง!N9,เกษตรหนองพอก!N9,เกษตรโพธิ์ชัย!N9,เกษตรจตุรพักตรพิมาน!N9,เกษตรปทุมรัตต์!N9,เกษตรเกษตรวิสัย!N9,เกษตรสุวรรณภูมิ!N9,เกษตรอาจสามารถ!N9,เกษตรพนมไพร!N9,เกษตรเมืองสรวง!N9,เกษตรโพนทราย!N9,เกษตรเมยวดี!N9,เกษตรศรีสมเด็จ!N9,เกษตรจังหาร!N9,เกษตรเชียงขวัญ!N9,เกษตรหนองฮี!N9,เกษตรทุ่งเขาหลวง!N9) -> 20 | O14: =COUNT(เกษตรเมืองร้อยเอ็ด!O9,เกษตรธวัชบุรี!O9,เกษตรเสลภูมิ!O9,เกษตรโพนทอง!O9,เกษตรหนองพอก!O9,เกษตรโพธิ์ชัย!O9,เกษตรจตุรพักตรพิมาน!O9,เกษตรปทุมรัตต์!O9,เกษตรเกษตรวิสัย!O9,เกษตรสุวรรณภูมิ!O9,เกษตรอาจสามารถ!O9,เกษตรพนมไพร!O9,เกษตรเมืองสรวง!O9,เกษตรโพนทราย!O9,เกษตรเมยวดี!O9,เกษตรศรีสมเด็จ!O9,เกษตรจังหาร!O9,เกษตรเชียงขวัญ!O9,เกษตรหนองฮี!O9,เกษตรทุ่งเขาหลวง!O9) -> 20 | P14: =COUNT(เกษตรเมืองร้อยเอ็ด!P9,เกษตรธวัชบุรี!P9,เกษตรเสลภูมิ!P9,เกษตรโพนทอง!P9,เกษตรหนองพอก!P9,เกษตรโพธิ์ชัย!P9,เกษตรจตุรพักตรพิมาน!P9,เกษตรปทุมรัตต์!P9,เกษตรเกษตรวิสัย!P9,เกษตรสุวรรณภูมิ!P9,เกษตรอาจสามารถ!P9,เกษตรพนมไพร!P9,เกษตรเมืองสรวง!P9,เกษตรโพนทราย!P9,เกษตรเมยวดี!P9,เกษตรศรีสมเด็จ!P9,เกษตรจังหาร!P9,เกษตรเชียงขวัญ!P9,เกษตรหนองฮี!P9,เกษตรทุ่งเขาหลวง!P9) -> 20 | Q14: =COUNT(เกษตรเมืองร้อยเอ็ด!Q9,เกษตรธวัชบุรี!Q9,เกษตรเสลภูมิ!Q9,เกษตรโพนทอง!Q9,เกษตรหนองพอก!Q9,เกษตรโพธิ์ชัย!Q9,เกษตรจตุรพักตรพิมาน!Q9,เกษตรปทุมรัตต์!Q9,เกษตรเกษตรวิสัย!Q9,เกษตรสุวรรณภูมิ!Q9,เกษตรอาจสามารถ!Q9,เกษตรพนมไพร!Q9,เกษตรเมืองสรวง!Q9,เกษตรโพนทราย!Q9,เกษตรเมยวดี!Q9,เกษตรศรีสมเด็จ!Q9,เกษตรจังหาร!Q9,เกษตรเชียงขวัญ!Q9,เกษตรหนองฮี!Q9,เกษตรทุ่งเขาหลวง!Q9) -> 20 | R14: =COUNT(เกษตรเมืองร้อยเอ็ด!R9,เกษตรธวัชบุรี!R9,เกษตรเสลภูมิ!R9,เกษตรโพนทอง!R9,เกษตรหนองพอก!R9,เกษตรโพธิ์ชัย!R9,เกษตรจตุรพักตรพิมาน!R9,เกษตรปทุมรัตต์!R9,เกษตรเกษตรวิสัย!R9,เกษตรสุวรรณภูมิ!R9,เกษตรอาจสามารถ!R9,เกษตรพนมไพร!R9,เกษตรเมืองสรวง!R9,เกษตรโพนทราย!R9,เกษตรเมยวดี!R9,เกษตรศรีสมเด็จ!R9,เกษตรจังหาร!R9,เกษตรเชียงขวัญ!R9,เกษตรหนองฮี!R9,เกษตรทุ่งเขาหลวง!R9) -> 20
C15: ร้อยละของการรายงาน | J15: =(COUNT(เกษตรเมืองร้อยเอ็ด!J9:J13,เกษตรธวัชบุรี!J9:J13,เกษตรเสลภูมิ!J9:J13,เกษตรโพนทอง!J9:J13,เกษตรหนองพอก!J9:J13,เกษตรโพธิ์ชัย!J9:J13,เกษตรจตุรพักตรพิมาน!J9:J13,เกษตรปทุมรัตต์!J9:J13,เกษตรเกษตรวิสัย!J9:J13,เกษตรสุวรรณภูมิ!J9:J13,เกษตรอาจสามารถ!J9:J13,เกษตรพนมไพร!J9:J13,เกษตรเมืองสรวง!J9:J13,เกษตรโพนทราย!J9:J13,เกษตรเมยวดี!J9:J13,เกษตรศรีสมเด็จ!J9:J13,เกษตรจังหาร!J9:J13,เกษตรเชียงขวัญ!J9:J13,เกษตรหนองฮี!J9:J13,เกษตรทุ่งเขาหลวง!J9:J13)*100/100) -> 100 | K15: =(COUNT(เกษตรเมืองร้อยเอ็ด!K9:K13,เกษตรธวัชบุรี!K9:K13,เกษตรเสลภูมิ!K9:K13,เกษตรโพนทอง!K9:K13,เกษตรหนองพอก!K9:K13,เกษตรโพธิ์ชัย!K9:K13,เกษตรจตุรพักตรพิมาน!K9:K13,เกษตรปทุมรัตต์!K9:K13,เกษตรเกษตรวิสัย!K9:K13,เกษตรสุวรรณภูมิ!K9:K13,เกษตรอาจสามารถ!K9:K13,เกษตรพนมไพร!K9:K13,เกษตรเมืองสรวง!K9:K13,เกษตรโพนทราย!K9:K13,เกษตรเมยวดี!K9:K13,เกษตรศรีสมเด็จ!K9:K13,เกษตรจังหาร!K9:K13,เกษตรเชียงขวัญ!K9:K13,เกษตรหนองฮี!K9:K13,เกษตรทุ่งเขาหลวง!K9:K13)*100/100) -> 100 | L15: =(COUNT(เกษตรเมืองร้อยเอ็ด!L9:L13,เกษตรธวัชบุรี!L9:L13,เกษตรเสลภูมิ!L9:L13,เกษตรโพนทอง!L9:L13,เกษตรหนองพอก!L9:L13,เกษตรโพธิ์ชัย!L9:L13,เกษตรจตุรพักตรพิมาน!L9:L13,เกษตรปทุมรัตต์!L9:L13,เกษตรเกษตรวิสัย!L9:L13,เกษตรสุวรรณภูมิ!L9:L13,เกษตรอาจสามารถ!L9:L13,เกษตรพนมไพร!L9:L13,เกษตรเมืองสรวง!L9:L13,เกษตรโพนทราย!L9:L13,เกษตรเมยวดี!L9:L13,เกษตรศรีสมเด็จ!L9:L13,เกษตรจังหาร!L9:L13,เกษตรเชียงขวัญ!L9:L13,เกษตรหนองฮี!L9:L13,เกษตรทุ่งเขาหลวง!L9:L13)*100/100) -> 100 | M15: =(COUNT(เกษตรเมืองร้อยเอ็ด!M9:M13,เกษตรธวัชบุรี!M9:M13,เกษตรเสลภูมิ!M9:M13,เกษตรโพนทอง!M9:M13,เกษตรหนองพอก!M9:M13,เกษตรโพธิ์ชัย!M9:M13,เกษตรจตุรพักตรพิมาน!M9:M13,เกษตรปทุมรัตต์!M9:M13,เกษตรเกษตรวิสัย!M9:M13,เกษตรสุวรรณภูมิ!M9:M13,เกษตรอาจสามารถ!M9:M13,เกษตรพนมไพร!M9:M13,เกษตรเมืองสรวง!M9:M13,เกษตรโพนทราย!M9:M13,เกษตรเมยวดี!M9:M13,เกษตรศรีสมเด็จ!M9:M13,เกษตรจังหาร!M9:M13,เกษตรเชียงขวัญ!M9:M13,เกษตรหนองฮี!M9:M13,เกษตรทุ่งเขาหลวง!M9:M13)*100/100) -> 100 | N15: =(COUNT(เกษตรเมืองร้อยเอ็ด!N9:N13,เกษตรธวัชบุรี!N9:N13,เกษตรเสลภูมิ!N9:N13,เกษตรโพนทอง!N9:N13,เกษตรหนองพอก!N9:N13,เกษตรโพธิ์ชัย!N9:N13,เกษตรจตุรพักตรพิมาน!N9:N13,เกษตรปทุมรัตต์!N9:N13,เกษตรเกษตรวิสัย!N9:N13,เกษตรสุวรรณภูมิ!N9:N13,เกษตรอาจสามารถ!N9:N13,เกษตรพนมไพร!N9:N13,เกษตรเมืองสรวง!N9:N13,เกษตรโพนทราย!N9:N13,เกษตรเมยวดี!N9:N13,เกษตรศรีสมเด็จ!N9:N13,เกษตรจังหาร!N9:N13,เกษตรเชียงขวัญ!N9:N13,เกษตรหนองฮี!N9:N13,เกษตรทุ่งเขาหลวง!N9:N13)*100/100) -> 100 | O15: =(COUNT(เกษตรเมืองร้อยเอ็ด!O9:O13,เกษตรธวัชบุรี!O9:O13,เกษตรเสลภูมิ!O9:O13,เกษตรโพนทอง!O9:O13,เกษตรหนองพอก!O9:O13,เกษตรโพธิ์ชัย!O9:O13,เกษตรจตุรพักตรพิมาน!O9:O13,เกษตรปทุมรัตต์!O9:O13,เกษตรเกษตรวิสัย!O9:O13,เกษตรสุวรรณภูมิ!O9:O13,เกษตรอาจสามารถ!O9:O13,เกษตรพนมไพร!O9:O13,เกษตรเมืองสรวง!O9:O13,เกษตรโพนทราย!O9:O13,เกษตรเมยวดี!O9:O13,เกษตรศรีสมเด็จ!O9:O13,เกษตรจังหาร!O9:O13,เกษตรเชียงขวัญ!O9:O13,เกษตรหนองฮี!O9:O13,เกษตรทุ่งเขาหลวง!O9:O13)*100/100) -> 100 | P15: =(COUNT(เกษตรเมืองร้อยเอ็ด!P9:P13,เกษตรธวัชบุรี!P9:P13,เกษตรเสลภูมิ!P9:P13,เกษตรโพนทอง!P9:P13,เกษตรหนองพอก!P9:P13,เกษตรโพธิ์ชัย!P9:P13,เกษตรจตุรพักตรพิมาน!P9:P13,เกษตรปทุมรัตต์!P9:P13,เกษตรเกษตรวิสัย!P9:P13,เกษตรสุวรรณภูมิ!P9:P13,เกษตรอาจสามารถ!P9:P13,เกษตรพนมไพร!P9:P13,เกษตรเมืองสรวง!P9:P13,เกษตรโพนทราย!P9:P13,เกษตรเมยวดี!P9:P13,เกษตรศรีสมเด็จ!P9:P13,เกษตรจังหาร!P9:P13,เกษตรเชียงขวัญ!P9:P13,เกษตรหนองฮี!P9:P13,เกษตรทุ่งเขาหลวง!P9:P13)*100/100) -> 100 | Q15: =(COUNT(เกษตรเมืองร้อยเอ็ด!Q9:Q13,เกษตรธวัชบุรี!Q9:Q13,เกษตรเสลภูมิ!Q9:Q13,เกษตรโพนทอง!Q9:Q13,เกษตรหนองพอก!Q9:Q13,เกษตรโพธิ์ชัย!Q9:Q13,เกษตรจตุรพักตรพิมาน!Q9:Q13,เกษตรปทุมรัตต์!Q9:Q13,เกษตรเกษตรวิสัย!Q9:Q13,เกษตรสุวรรณภูมิ!Q9:Q13,เกษตรอาจสามารถ!Q9:Q13,เกษตรพนมไพร!Q9:Q13,เกษตรเมืองสรวง!Q9:Q13,เกษตรโพนทราย!Q9:Q13,เกษตรเมยวดี!Q9:Q13,เกษตรศรีสมเด็จ!Q9:Q13,เกษตรจังหาร!Q9:Q13,เกษตรเชียงขวัญ!Q9:Q13,เกษตรหนองฮี!Q9:Q13,เกษตรทุ่งเขาหลวง!Q9:Q13)*100/100) -> 100 | R15: =(COUNT(เกษตรเมืองร้อยเอ็ด!R9:R13,เกษตรธวัชบุรี!R9:R13,เกษตรเสลภูมิ!R9:R13,เกษตรโพนทอง!R9:R13,เกษตรหนองพอก!R9:R13,เกษตรโพธิ์ชัย!R9:R13,เกษตรจตุรพักตรพิมาน!R9:R13,เกษตรปทุมรัตต์!R9:R13,เกษตรเกษตรวิสัย!R9:R13,เกษตรสุวรรณภูมิ!R9:R13,เกษตรอาจสามารถ!R9:R13,เกษตรพนมไพร!R9:R13,เกษตรเมืองสรวง!R9:R13,เกษตรโพนทราย!R9:R13,เกษตรเมยวดี!R9:R13,เกษตรศรีสมเด็จ!R9:R13,เกษตรจังหาร!R9:R13,เกษตรเชียงขวัญ!R9:R13,เกษตรหนองฮี!R9:R13,เกษตรทุ่งเขาหลวง!R9:R13)*100/100) -> 100
B17: งานบริการ การจดทะเบียนวิสาหกิจชุมชนและเครือข่ายวิสาหกิจชุมชน กรณีจดทะเบียน ณ สำนักงานเกษตรอำเภอ/กิ่งอำเภอ/สำนักงานเกษตรพื้นที่ (กทม.)
B18: ลำดับที่ | C18: รายการ | D18: ปี 2563 | G18: ปีงบประมาณ 2564
D19: ไตรมาส 1/63 | G19: ไตรมาส 1/64 | J19: ไตรมาส 2/64 | M19: ไตรมาส 3/64 | P19: ไตรมาส 4/64 | S19: รวม | T19: เฉลี่ย
D20: ก.ค. | E20: ส.ค. | F20: ก.ย. | G20: ต.ค. | H20: พ.ย. | I20: ธ.ค. | J20: ม.ค. | K20: ก.พ. | L20: มี.ค. | M20: เม.ย. | N20: พ.ค. | O20: มิ.ค. | P20: ก.ค. | Q20: ส.ค. | R20: ก.ย.
B21: 1 | C21: จำนวนคำขอที่ได้รับการอนุมัติ | D21: - | E21: - | F21: - | G21: - | H21: - | I21: - | J21: =SUM(เกษตรเมืองร้อยเอ็ด!J21,เกษตรธวัชบุรี!J21,เกษตรเสลภูมิ!J21,เกษตรโพนทอง!J21,เกษตรหนองพอก!J21,เกษตรโพธิ์ชัย!J21,เกษตรจตุรพักตรพิมาน!J21,เกษตรปทุมรัตต์!J21,เกษตรเกษตรวิสัย!J21,เกษตรสุวรรณภูมิ!J21,เกษตรอาจสามารถ!J21,เกษตรพนมไพร!J21,เกษตรเมืองสรวง!J21,เกษตรโพนทราย!J21,เกษตรเมยวดี!J21,เกษตรศรีสมเด็จ!J21,เกษตรจังหาร!J21,เกษตรเชียงขวัญ!J21,เกษตรหนองฮี!J21,เกษตรทุ่งเขาหลวง!J21) -> 25 | K21: =SUM(เกษตรเมืองร้อยเอ็ด!K21,เกษตรธวัชบุรี!K21,เกษตรเสลภูมิ!K21,เกษตรโพนทอง!K21,เกษตรหนองพอก!K21,เกษตรโพธิ์ชัย!K21,เกษตรจตุรพักตรพิมาน!K21,เกษตรปทุมรัตต์!K21,เกษตรเกษตรวิสัย!K21,เกษตรสุวรรณภูมิ!K21,เกษตรอาจสามารถ!K21,เกษตรพนมไพร!K21,เกษตรเมืองสรวง!K21,เกษตรโพนทราย!K21,เกษตรเมยวดี!K21,เกษตรศรีสมเด็จ!K21,เกษตรจังหาร!K21,เกษตรเชียงขวัญ!K21,เกษตรหนองฮี!K21,เกษตรทุ่งเขาหลวง!K21) -> 29 | L21: =SUM(เกษตรเมืองร้อยเอ็ด!L21,เกษตรธวัชบุรี!L21,เกษตรเสลภูมิ!L21,เกษตรโพนทอง!L21,เกษตรหนองพอก!L21,เกษตรโพธิ์ชัย!L21,เกษตรจตุรพักตรพิมาน!L21,เกษตรปทุมรัตต์!L21,เกษตรเกษตรวิสัย!L21,เกษตรสุวรรณภูมิ!L21,เกษตรอาจสามารถ!L21,เกษตรพนมไพร!L21,เกษตรเมืองสรวง!L21,เกษตรโพนทราย!L21,เกษตรเมยวดี!L21,เกษตรศรีสมเด็จ!L21,เกษตรจังหาร!L21,เกษตรเชียงขวัญ!L21,เกษตรหนองฮี!L21,เกษตรทุ่งเขาหลวง!L21) -> 38 | M21: =SUM(เกษตรเมืองร้อยเอ็ด!M21,เกษตรธวัชบุรี!M21,เกษตรเสลภูมิ!M21,เกษตรโพนทอง!M21,เกษตรหนองพอก!M21,เกษตรโพธิ์ชัย!M21,เกษตรจตุรพักตรพิมาน!M21,เกษตรปทุมรัตต์!M21,เกษตรเกษตรวิสัย!M21,เกษตรสุวรรณภูมิ!M21,เกษตรอาจสามารถ!M21,เกษตรพนมไพร!M21,เกษตรเมืองสรวง!M21,เกษตรโพนทราย!M21,เกษตรเมยวดี!M21,เกษตรศรีสมเด็จ!M21,เกษตรจังหาร!M21,เกษตรเชียงขวัญ!M21,เกษตรหนองฮี!M21,เกษตรทุ่งเขาหลวง!M21) -> 89 | N21: =SUM(เกษตรเมืองร้อยเอ็ด!N21,เกษตรธวัชบุรี!N21,เกษตรเสลภูมิ!N21,เกษตรโพนทอง!N21,เกษตรหนองพอก!N21,เกษตรโพธิ์ชัย!N21,เกษตรจตุรพักตรพิมาน!N21,เกษตรปทุมรัตต์!N21,เกษตรเกษตรวิสัย!N21,เกษตรสุวรรณภูมิ!N21,เกษตรอาจสามารถ!N21,เกษตรพนมไพร!N21,เกษตรเมืองสรวง!N21,เกษตรโพนทราย!N21,เกษตรเมยวดี!N21,เกษตรศรีสมเด็จ!N21,เกษตรจังหาร!N21,เกษตรเชียงขวัญ!N21,เกษตรหนองฮี!N21,เกษตรทุ่งเขาหลวง!N21) -> 65 | O21: =SUM(เกษตรเมืองร้อยเอ็ด!O21,เกษตรธวัชบุรี!O21,เกษตรเสลภูมิ!O21,เกษตรโพนทอง!O21,เกษตรหนองพอก!O21,เกษตรโพธิ์ชัย!O21,เกษตรจตุรพักตรพิมาน!O21,เกษตรปทุมรัตต์!O21,เกษตรเกษตรวิสัย!O21,เกษตรสุวรรณภูมิ!O21,เกษตรอาจสามารถ!O21,เกษตรพนมไพร!O21,เกษตรเมืองสรวง!O21,เกษตรโพนทราย!O21,เกษตรเมยวดี!O21,เกษตรศรีสมเด็จ!O21,เกษตรจังหาร!O21,เกษตรเชียงขวัญ!O21,เกษตรหนองฮี!O21,เกษตรทุ่งเขาหลวง!O21) -> 24 | P21: =SUM(เกษตรเมืองร้อยเอ็ด!P21,เกษตรธวัชบุรี!P21,เกษตรเสลภูมิ!P21,เกษตรโพนทอง!P21,เกษตรหนองพอก!P21,เกษตรโพธิ์ชัย!P21,เกษตรจตุรพักตรพิมาน!P21,เกษตรปทุมรัตต์!P21,เกษตรเกษตรวิสัย!P21,เกษตรสุวรรณภูมิ!P21,เกษตรอาจสามารถ!P21,เกษตรพนมไพร!P21,เกษตรเมืองสรวง!P21,เกษตรโพนทราย!P21,เกษตรเมยวดี!P21,เกษตรศรีสมเด็จ!P21,เกษตรจังหาร!P21,เกษตรเชียงขวัญ!P21,เกษตรหนองฮี!P21,เกษตรทุ่งเขาหลวง!P21) -> 21 | Q21: =SUM(เกษตรเมืองร้อยเอ็ด!Q21,เกษตรธวัชบุรี!Q21,เกษตรเสลภูมิ!Q21,เกษตรโพนทอง!Q21,เกษตรหนองพอก!Q21,เกษตรโพธิ์ชัย!Q21,เกษตรจตุรพักตรพิมาน!Q21,เกษตรปทุมรัตต์!Q21,เกษตรเกษตรวิสัย!Q21,เกษตรสุวรรณภูมิ!Q21,เกษตรอาจสามารถ!Q21,เกษตรพนมไพร!Q21,เกษตรเมืองสรวง!Q21,เกษตรโพนทราย!Q21,เกษตรเมยวดี!Q21,เกษตรศรีสมเด็จ!Q21,เกษตรจังหาร!Q21,เกษตรเชียงขวัญ!Q21,เกษตรหนองฮี!Q21,เกษตรทุ่งเขาหลวง!Q21) -> 24 | R21: =SUM(เกษตรเมืองร้อยเอ็ด!R21,เกษตรธวัชบุรี!R21,เกษตรเสลภูมิ!R21,เกษตรโพนทอง!R21,เกษตรหนองพอก!R21,เกษตรโพธิ์ชัย!R21,เกษตรจตุรพักตรพิมาน!R21,เกษตรปทุมรัตต์!R21,เกษตรเกษตรวิสัย!R21,เกษตรสุวรรณภูมิ!R21,เกษตรอาจสามารถ!R21,เกษตรพนมไพร!R21,เกษตรเมืองสรวง!R21,เกษตรโพนทราย!R21,เกษตรเมยวดี!R21,เกษตรศรีสมเด็จ!R21,เกษตรจังหาร!R21,เกษตรเชียงขวัญ!R21,เกษตรหนองฮี!R21,เกษตรทุ่งเขาหลวง!R21) -> 32 | S21: =SUM(D21:R21) -> 347 | T21: =AVERAGE(D21:R21) -> 38.555556
B22: 2 | C22: จำนวนคำขอที่ไม่ได้รับการอนุมัติ | D22: - | E22: - | F22: - | G22: - | H22: - | I22: - | J22: =SUM(เกษตรเมืองร้อยเอ็ด!J22,เกษตรธวัชบุรี!J22,เกษตรเสลภูมิ!J22,เกษตรโพนทอง!J22,เกษตรหนองพอก!J22,เกษตรโพธิ์ชัย!J22,เกษตรจตุรพักตรพิมาน!J22,เกษตรปทุมรัตต์!J22,เกษตรเกษตรวิสัย!J22,เกษตรสุวรรณภูมิ!J22,เกษตรอาจสามารถ!J22,เกษตรพนมไพร!J22,เกษตรเมืองสรวง!J22,เกษตรโพนทราย!J22,เกษตรเมยวดี!J22,เกษตรศรีสมเด็จ!J22,เกษตรจังหาร!J22,เกษตรเชียงขวัญ!J22,เกษตรหนองฮี!J22,เกษตรทุ่งเขาหลวง!J22) -> 0 | K22: =SUM(เกษตรเมืองร้อยเอ็ด!K22,เกษตรธวัชบุรี!K22,เกษตรเสลภูมิ!K22,เกษตรโพนทอง!K22,เกษตรหนองพอก!K22,เกษตรโพธิ์ชัย!K22,เกษตรจตุรพักตรพิมาน!K22,เกษตรปทุมรัตต์!K22,เกษตรเกษตรวิสัย!K22,เกษตรสุวรรณภูมิ!K22,เกษตรอาจสามารถ!K22,เกษตรพนมไพร!K22,เกษตรเมืองสรวง!K22,เกษตรโพนทราย!K22,เกษตรเมยวดี!K22,เกษตรศรีสมเด็จ!K22,เกษตรจังหาร!K22,เกษตรเชียงขวัญ!K22,เกษตรหนองฮี!K22,เกษตรทุ่งเขาหลวง!K22) -> 0 | L22: =SUM(เกษตรเมืองร้อยเอ็ด!L22,เกษตรธวัชบุรี!L22,เกษตรเสลภูมิ!L22,เกษตรโพนทอง!L22,เกษตรหนองพอก!L22,เกษตรโพธิ์ชัย!L22,เกษตรจตุรพักตรพิมาน!L22,เกษตรปทุมรัตต์!L22,เกษตรเกษตรวิสัย!L22,เกษตรสุวรรณภูมิ!L22,เกษตรอาจสามารถ!L22,เกษตรพนมไพร!L22,เกษตรเมืองสรวง!L22,เกษตรโพนทราย!L22,เกษตรเมยวดี!L22,เกษตรศรีสมเด็จ!L22,เกษตรจังหาร!L22,เกษตรเชียงขวัญ!L22,เกษตรหนองฮี!L22,เกษตรทุ่งเขาหลวง!L22) -> 0 | M22: =SUM(เกษตรเมืองร้อยเอ็ด!M22,เกษตรธวัชบุรี!M22,เกษตรเสลภูมิ!M22,เกษตรโพนทอง!M22,เกษตรหนองพอก!M22,เกษตรโพธิ์ชัย!M22,เกษตรจตุรพักตรพิมาน!M22,เกษตรปทุมรัตต์!M22,เกษตรเกษตรวิสัย!M22,เกษตรสุวรรณภูมิ!M22,เกษตรอาจสามารถ!M22,เกษตรพนมไพร!M22,เกษตรเมืองสรวง!M22,เกษตรโพนทราย!M22,เกษตรเมยวดี!M22,เกษตรศรีสมเด็จ!M22,เกษตรจังหาร!M22,เกษตรเชียงขวัญ!M22,เกษตรหนองฮี!M22,เกษตรทุ่งเขาหลวง!M22) -> 0 | N22: =SUM(เกษตรเมืองร้อยเอ็ด!N22,เกษตรธวัชบุรี!N22,เกษตรเสลภูมิ!N22,เกษตรโพนทอง!N22,เกษตรหนองพอก!N22,เกษตรโพธิ์ชัย!N22,เกษตรจตุรพักตรพิมาน!N22,เกษตรปทุมรัตต์!N22,เกษตรเกษตรวิสัย!N22,เกษตรสุวรรณภูมิ!N22,เกษตรอาจสามารถ!N22,เกษตรพนมไพร!N22,เกษตรเมืองสรวง!N22,เกษตรโพนทราย!N22,เกษตรเมยวดี!N22,เกษตรศรีสมเด็จ!N22,เกษตรจังหาร!N22,เกษตรเชียงขวัญ!N22,เกษตรหนองฮี!N22,เกษตรทุ่งเขาหลวง!N22) -> 0 | O22: =SUM(เกษตรเมืองร้อยเอ็ด!O22,เกษตรธวัชบุรี!O22,เกษตรเสลภูมิ!O22,เกษตรโพนทอง!O22,เกษตรหนองพอก!O22,เกษตรโพธิ์ชัย!O22,เกษตรจตุรพักตรพิมาน!O22,เกษตรปทุมรัตต์!O22,เกษตรเกษตรวิสัย!O22,เกษตรสุวรรณภูมิ!O22,เกษตรอาจสามารถ!O22,เกษตรพนมไพร!O22,เกษตรเมืองสรวง!O22,เกษตรโพนทราย!O22,เกษตรเมยวดี!O22,เกษตรศรีสมเด็จ!O22,เกษตรจังหาร!O22,เกษตรเชียงขวัญ!O22,เกษตรหนองฮี!O22,เกษตรทุ่งเขาหลวง!O22) -> 0 | P22: =SUM(เกษตรเมืองร้อยเอ็ด!P22,เกษตรธวัชบุรี!P22,เกษตรเสลภูมิ!P22,เกษตรโพนทอง!P22,เกษตรหนองพอก!P22,เกษตรโพธิ์ชัย!P22,เกษตรจตุรพักตรพิมาน!P22,เกษตรปทุมรัตต์!P22,เกษตรเกษตรวิสัย!P22,เกษตรสุวรรณภูมิ!P22,เกษตรอาจสามารถ!P22,เกษตรพนมไพร!P22,เกษตรเมืองสรวง!P22,เกษตรโพนทราย!P22,เกษตรเมยวดี!P22,เกษตรศรีสมเด็จ!P22,เกษตรจังหาร!P22,เกษตรเชียงขวัญ!P22,เกษตรหนองฮี!P22,เกษตรทุ่งเขาหลวง!P22) -> 0 | Q22: =SUM(เกษตรเมืองร้อยเอ็ด!Q22,เกษตรธวัชบุรี!Q22,เกษตรเสลภูมิ!Q22,เกษตรโพนทอง!Q22,เกษตรหนองพอก!Q22,เกษตรโพธิ์ชัย!Q22,เกษตรจตุรพักตรพิมาน!Q22,เกษตรปทุมรัตต์!Q22,เกษตรเกษตรวิสัย!Q22,เกษตรสุวรรณภูมิ!Q22,เกษตรอาจสามารถ!Q22,เกษตรพนมไพร!Q22,เกษตรเมืองสรวง!Q22,เกษตรโพนทราย!Q22,เกษตรเมยวดี!Q22,เกษตรศรีสมเด็จ!Q22,เกษตรจังหาร!Q22,เกษตรเชียงขวัญ!Q22,เกษตรหนองฮี!Q22,เกษตรทุ่งเขาหลวง!Q22) -> 0 | R22: =SUM(เกษตรเมืองร้อยเอ็ด!R22,เกษตรธวัชบุรี!R22,เกษตรเสลภูมิ!R22,เกษตรโพนทอง!R22,เกษตรหนองพอก!R22,เกษตรโพธิ์ชัย!R22,เกษตรจตุรพักตรพิมาน!R22,เกษตรปทุมรัตต์!R22,เกษตรเกษตรวิสัย!R22,เกษตรสุวรรณภูมิ!R22,เกษตรอาจสามารถ!R22,เกษตรพนมไพร!R22,เกษตรเมืองสรวง!R22,เกษตรโพนทราย!R22,เกษตรเมยวดี!R22,เกษตรศรีสมเด็จ!R22,เกษตรจังหาร!R22,เกษตรเชียงขวัญ!R22,เกษตรหนองฮี!R22,เกษตรทุ่งเขาหลวง!R22) -> 0 | S22: =SUM(D22:R22) -> 0 | T22: =AVERAGE(D22:R22) -> 0
B23: 3 | C23: จำนวนคำขอที่ดำเนินการล่าช้ากว่ากำหนด | D23: - | E23: - | F23: - | G23: - | H23: - | I23: - | J23: =SUM(เกษตรเมืองร้อยเอ็ด!J23,เกษตรธวัชบุรี!J23,เกษตรเสลภูมิ!J23,เกษตรโพนทอง!J23,เกษตรหนองพอก!J23,เกษตรโพธิ์ชัย!J23,เกษตรจตุรพักตรพิมาน!J23,เกษตรปทุมรัตต์!J23,เกษตรเกษตรวิสัย!J23,เกษตรสุวรรณภูมิ!J23,เกษตรอาจสามารถ!J23,เกษตรพนมไพร!J23,เกษตรเมืองสรวง!J23,เกษตรโพนทราย!J23,เกษตรเมยวดี!J23,เกษตรศรีสมเด็จ!J23,เกษตรจังหาร!J23,เกษตรเชียงขวัญ!J23,เกษตรหนองฮี!J23,เกษตรทุ่งเขาหลวง!J23) -> 0 | K23: =SUM(เกษตรเมืองร้อยเอ็ด!K23,เกษตรธวัชบุรี!K23,เกษตรเสลภูมิ!K23,เกษตรโพนทอง!K23,เกษตรหนองพอก!K23,เกษตรโพธิ์ชัย!K23,เกษตรจตุรพักตรพิมาน!K23,เกษตรปทุมรัตต์!K23,เกษตรเกษตรวิสัย!K23,เกษตรสุวรรณภูมิ!K23,เกษตรอาจสามารถ!K23,เกษตรพนมไพร!K23,เกษตรเมืองสรวง!K23,เกษตรโพนทราย!K23,เกษตรเมยวดี!K23,เกษตรศรีสมเด็จ!K23,เกษตรจังหาร!K23,เกษตรเชียงขวัญ!K23,เกษตรหนองฮี!K23,เกษตรทุ่งเขาหลวง!K23) -> 0 | L23: =SUM(เกษตรเมืองร้อยเอ็ด!L23,เกษตรธวัชบุรี!L23,เกษตรเสลภูมิ!L23,เกษตรโพนทอง!L23,เกษตรหนองพอก!L23,เกษตรโพธิ์ชัย!L23,เกษตรจตุรพักตรพิมาน!L23,เกษตรปทุมรัตต์!L23,เกษตรเกษตรวิสัย!L23,เกษตรสุวรรณภูมิ!L23,เกษตรอาจสามารถ!L23,เกษตรพนมไพร!L23,เกษตรเมืองสรวง!L23,เกษตรโพนทราย!L23,เกษตรเมยวดี!L23,เกษตรศรีสมเด็จ!L23,เกษตรจังหาร!L23,เกษตรเชียงขวัญ!L23,เกษตรหนองฮี!L23,เกษตรทุ่งเขาหลวง!L23) -> 0 | M23: =SUM(เกษตรเมืองร้อยเอ็ด!M23,เกษตรธวัชบุรี!M23,เกษตรเสลภูมิ!M23,เกษตรโพนทอง!M23,เกษตรหนองพอก!M23,เกษตรโพธิ์ชัย!M23,เกษตรจตุรพักตรพิมาน!M23,เกษตรปทุมรัตต์!M23,เกษตรเกษตรวิสัย!M23,เกษตรสุวรรณภูมิ!M23,เกษตรอาจสามารถ!M23,เกษตรพนมไพร!M23,เกษตรเมืองสรวง!M23,เกษตรโพนทราย!M23,เกษตรเมยวดี!M23,เกษตรศรีสมเด็จ!M23,เกษตรจังหาร!M23,เกษตรเชียงขวัญ!M23,เกษตรหนองฮี!M23,เกษตรทุ่งเขาหลวง!M23) -> 0 | N23: =SUM(เกษตรเมืองร้อยเอ็ด!N23,เกษตรธวัชบุรี!N23,เกษตรเสลภูมิ!N23,เกษตรโพนทอง!N23,เกษตรหนองพอก!N23,เกษตรโพธิ์ชัย!N23,เกษตรจตุรพักตรพิมาน!N23,เกษตรปทุมรัตต์!N23,เกษตรเกษตรวิสัย!N23,เกษตรสุวรรณภูมิ!N23,เกษตรอาจสามารถ!N23,เกษตรพนมไพร!N23,เกษตรเมืองสรวง!N23,เกษตรโพนทราย!N23,เกษตรเมยวดี!N23,เกษตรศรีสมเด็จ!N23,เกษตรจังหาร!N23,เกษตรเชียงขวัญ!N23,เกษตรหนองฮี!N23,เกษตรทุ่งเขาหลวง!N23) -> 0 | O23: =SUM(เกษตรเมืองร้อยเอ็ด!O23,เกษตรธวัชบุรี!O23,เกษตรเสลภูมิ!O23,เกษตรโพนทอง!O23,เกษตรหนองพอก!O23,เกษตรโพธิ์ชัย!O23,เกษตรจตุรพักตรพิมาน!O23,เกษตรปทุมรัตต์!O23,เกษตรเกษตรวิสัย!O23,เกษตรสุวรรณภูมิ!O23,เกษตรอาจสามารถ!O23,เกษตรพนมไพร!O23,เกษตรเมืองสรวง!O23,เกษตรโพนทราย!O23,เกษตรเมยวดี!O23,เกษตรศรีสมเด็จ!O23,เกษตรจังหาร!O23,เกษตรเชียงขวัญ!O23,เกษตรหนองฮี!O23,เกษตรทุ่งเขาหลวง!O23) -> 0 | P23: =SUM(เกษตรเมืองร้อยเอ็ด!P23,เกษตรธวัชบุรี!P23,เกษตรเสลภูมิ!P23,เกษตรโพนทอง!P23,เกษตรหนองพอก!P23,เกษตรโพธิ์ชัย!P23,เกษตรจตุรพักตรพิมาน!P23,เกษตรปทุมรัตต์!P23,เกษตรเกษตรวิสัย!P23,เกษตรสุวรรณภูมิ!P23,เกษตรอาจสามารถ!P23,เกษตรพนมไพร!P23,เกษตรเมืองสรวง!P23,เกษตรโพนทราย!P23,เกษตรเมยวดี!P23,เกษตรศรีสมเด็จ!P23,เกษตรจังหาร!P23,เกษตรเชียงขวัญ!P23,เกษตรหนองฮี!P23,เกษตรทุ่งเขาหลวง!P23) -> 0 | Q23: =SUM(เกษตรเมืองร้อยเอ็ด!Q23,เกษตรธวัชบุรี!Q23,เกษตรเสลภูมิ!Q23,เกษตรโพนทอง!Q23,เกษตรหนองพอก!Q23,เกษตรโพธิ์ชัย!Q23,เกษตรจตุรพักตรพิมาน!Q23,เกษตรปทุมรัตต์!Q23,เกษตรเกษตรวิสัย!Q23,เกษตรสุวรรณภูมิ!Q23,เกษตรอาจสามารถ!Q23,เกษตรพนมไพร!Q23,เกษตรเมืองสรวง!Q23,เกษตรโพนทราย!Q23,เกษตรเมยวดี!Q23,เกษตรศรีสมเด็จ!Q23,เกษตรจังหาร!Q23,เกษตรเชียงขวัญ!Q23,เกษตรหนองฮี!Q23,เกษตรทุ่งเขาหลวง!Q23) -> 0 | R23: =SUM(เกษตรเมืองร้อยเอ็ด!R23,เกษตรธวัชบุรี!R23,เกษตรเสลภูมิ!R23,เกษตรโพนทอง!R23,เกษตรหนองพอก!R23,เกษตรโพธิ์ชัย!R23,เกษตรจตุรพักตรพิมาน!R23,เกษตรปทุมรัตต์!R23,เกษตรเกษตรวิสัย!R23,เกษตรสุวรรณภูมิ!R23,เกษตรอาจสามารถ!R23,เกษตรพนมไพร!R23,เกษตรเมืองสรวง!R23,เกษตรโพนทราย!R23,เกษตรเมยวดี!R23,เกษตรศรีสมเด็จ!R23,เกษตรจังหาร!R23,เกษตรเชียงขวัญ!R23,เกษตรหนองฮี!R23,เกษตรทุ่งเขาหลวง!R23) -> 0 | S23: =SUM(D23:R23) -> 0 | T23: =AVERAGE(D23:R23) -> 0
B24: 4 | C24: จำนวนเรื่องร้องเรียนจากประชาชน | D24: - | E24: - | F24: - | G24: - | H24: - | I24: - | J24: =SUM(เกษตรเมืองร้อยเอ็ด!J24,เกษตรธวัชบุรี!J24,เกษตรเสลภูมิ!J24,เกษตรโพนทอง!J24,เกษตรหนองพอก!J24,เกษตรโพธิ์ชัย!J24,เกษตรจตุรพักตรพิมาน!J24,เกษตรปทุมรัตต์!J24,เกษตรเกษตรวิสัย!J24,เกษตรสุวรรณภูมิ!J24,เกษตรอาจสามารถ!J24,เกษตรพนมไพร!J24,เกษตรเมืองสรวง!J24,เกษตรโพนทราย!J24,เกษตรเมยวดี!J24,เกษตรศรีสมเด็จ!J24,เกษตรจังหาร!J24,เกษตรเชียงขวัญ!J24,เกษตรหนองฮี!J24,เกษตรทุ่งเขาหลวง!J24) -> 0 | K24: =SUM(เกษตรเมืองร้อยเอ็ด!K24,เกษตรธวัชบุรี!K24,เกษตรเสลภูมิ!K24,เกษตรโพนทอง!K24,เกษตรหนองพอก!K24,เกษตรโพธิ์ชัย!K24,เกษตรจตุรพักตรพิมาน!K24,เกษตรปทุมรัตต์!K24,เกษตรเกษตรวิสัย!K24,เกษตรสุวรรณภูมิ!K24,เกษตรอาจสามารถ!K24,เกษตรพนมไพร!K24,เกษตรเมืองสรวง!K24,เกษตรโพนทราย!K24,เกษตรเมยวดี!K24,เกษตรศรีสมเด็จ!K24,เกษตรจังหาร!K24,เกษตรเชียงขวัญ!K24,เกษตรหนองฮี!K24,เกษตรทุ่งเขาหลวง!K24) -> 0 | L24: =SUM(เกษตรเมืองร้อยเอ็ด!L24,เกษตรธวัชบุรี!L24,เกษตรเสลภูมิ!L24,เกษตรโพนทอง!L24,เกษตรหนองพอก!L24,เกษตรโพธิ์ชัย!L24,เกษตรจตุรพักตรพิมาน!L24,เกษตรปทุมรัตต์!L24,เกษตรเกษตรวิสัย!L24,เกษตรสุวรรณภูมิ!L24,เกษตรอาจสามารถ!L24,เกษตรพนมไพร!L24,เกษตรเมืองสรวง!L24,เกษตรโพนทราย!L24,เกษตรเมยวดี!L24,เกษตรศรีสมเด็จ!L24,เกษตรจังหาร!L24,เกษตรเชียงขวัญ!L24,เกษตรหนองฮี!L24,เกษตรทุ่งเขาหลวง!L24) -> 0 | M24: =SUM(เกษตรเมืองร้อยเอ็ด!M24,เกษตรธวัชบุรี!M24,เกษตรเสลภูมิ!M24,เกษตรโพนทอง!M24,เกษตรหนองพอก!M24,เกษตรโพธิ์ชัย!M24,เกษตรจตุรพักตรพิมาน!M24,เกษตรปทุมรัตต์!M24,เกษตรเกษตรวิสัย!M24,เกษตรสุวรรณภูมิ!M24,เกษตรอาจสามารถ!M24,เกษตรพนมไพร!M24,เกษตรเมืองสรวง!M24,เกษตรโพนทราย!M24,เกษตรเมยวดี!M24,เกษตรศรีสมเด็จ!M24,เกษตรจังหาร!M24,เกษตรเชียงขวัญ!M24,เกษตรหนองฮี!M24,เกษตรทุ่งเขาหลวง!M24) -> 0 | N24: =SUM(เกษตรเมืองร้อยเอ็ด!N24,เกษตรธวัชบุรี!N24,เกษตรเสลภูมิ!N24,เกษตรโพนทอง!N24,เกษตรหนองพอก!N24,เกษตรโพธิ์ชัย!N24,เกษตรจตุรพักตรพิมาน!N24,เกษตรปทุมรัตต์!N24,เกษตรเกษตรวิสัย!N24,เกษตรสุวรรณภูมิ!N24,เกษตรอาจสามารถ!N24,เกษตรพนมไพร!N24,เกษตรเมืองสรวง!N24,เกษตรโพนทราย!N24,เกษตรเมยวดี!N24,เกษตรศรีสมเด็จ!N24,เกษตรจังหาร!N24,เกษตรเชียงขวัญ!N24,เกษตรหนองฮี!N24,เกษตรทุ่งเขาหลวง!N24) -> 0 | O24: =SUM(เกษตรเมืองร้อยเอ็ด!O24,เกษตรธวัชบุรี!O24,เกษตรเสลภูมิ!O24,เกษตรโพนทอง!O24,เกษตรหนองพอก!O24,เกษตรโพธิ์ชัย!O24,เกษตรจตุรพักตรพิมาน!O24,เกษตรปทุมรัตต์!O24,เกษตรเกษตรวิสัย!O24,เกษตรสุวรรณภูมิ!O24,เกษตรอาจสามารถ!O24,เกษตรพนมไพร!O24,เกษตรเมืองสรวง!O24,เกษตรโพนทราย!O24,เกษตรเมยวดี!O24,เกษตรศรีสมเด็จ!O24,เกษตรจังหาร!O24,เกษตรเชียงขวัญ!O24,เกษตรหนองฮี!O24,เกษตรทุ่งเขาหลวง!O24) -> 0 | P24: =SUM(เกษตรเมืองร้อยเอ็ด!P24,เกษตรธวัชบุรี!P24,เกษตรเสลภูมิ!P24,เกษตรโพนทอง!P24,เกษตรหนองพอก!P24,เกษตรโพธิ์ชัย!P24,เกษตรจตุรพักตรพิมาน!P24,เกษตรปทุมรัตต์!P24,เกษตรเกษตรวิสัย!P24,เกษตรสุวรรณภูมิ!P24,เกษตรอาจสามารถ!P24,เกษตรพนมไพร!P24,เกษตรเมืองสรวง!P24,เกษตรโพนทราย!P24,เกษตรเมยวดี!P24,เกษตรศรีสมเด็จ!P24,เกษตรจังหาร!P24,เกษตรเชียงขวัญ!P24,เกษตรหนองฮี!P24,เกษตรทุ่งเขาหลวง!P24) -> 0 | Q24: =SUM(เกษตรเมืองร้อยเอ็ด!Q24,เกษตรธวัชบุรี!Q24,เกษตรเสลภูมิ!Q24,เกษตรโพนทอง!Q24,เกษตรหนองพอก!Q24,เกษตรโพธิ์ชัย!Q24,เกษตรจตุรพักตรพิมาน!Q24,เกษตรปทุมรัตต์!Q24,เกษตรเกษตรวิสัย!Q24,เกษตรสุวรรณภูมิ!Q24,เกษตรอาจสามารถ!Q24,เกษตรพนมไพร!Q24,เกษตรเมืองสรวง!Q24,เกษตรโพนทราย!Q24,เกษตรเมยวดี!Q24,เกษตรศรีสมเด็จ!Q24,เกษตรจังหาร!Q24,เกษตรเชียงขวัญ!Q24,เกษตรหนองฮี!Q24,เกษตรทุ่งเขาหลวง!Q24) -> 0 | R24: =SUM(เกษตรเมืองร้อยเอ็ด!R24,เกษตรธวัชบุรี!R24,เกษตรเสลภูมิ!R24,เกษตรโพนทอง!R24,เกษตรหนองพอก!R24,เกษตรโพธิ์ชัย!R24,เกษตรจตุรพักตรพิมาน!R24,เกษตรปทุมรัตต์!R24,เกษตรเกษตรวิสัย!R24,เกษตรสุวรรณภูมิ!R24,เกษตรอาจสามารถ!R24,เกษตรพนมไพร!R24,เกษตรเมืองสรวง!R24,เกษตรโพนทราย!R24,เกษตรเมยวดี!R24,เกษตรศรีสมเด็จ!R24,เกษตรจังหาร!R24,เกษตรเชียงขวัญ!R24,เกษตรหนองฮี!R24,เกษตรทุ่งเขาหลวง!R24) -> 0 | S24: =SUM(D24:R24) -> 0 | T24: =AVERAGE(D24:R24) -> 0
B25: 5 | C25: จำนวนการดำเนินคดีที่เกี่ยวข้องกับการออกใบอนุญาต | D25: - | E25: - | F25: - | G25: - | H25: - | I25: - | J25: =SUM(เกษตรเมืองร้อยเอ็ด!J25,เกษตรธวัชบุรี!J25,เกษตรเสลภูมิ!J25,เกษตรโพนทอง!J25,เกษตรหนองพอก!J25,เกษตรโพธิ์ชัย!J25,เกษตรจตุรพักตรพิมาน!J25,เกษตรปทุมรัตต์!J25,เกษตรเกษตรวิสัย!J25,เกษตรสุวรรณภูมิ!J25,เกษตรอาจสามารถ!J25,เกษตรพนมไพร!J25,เกษตรเมืองสรวง!J25,เกษตรโพนทราย!J25,เกษตรเมยวดี!J25,เกษตรศรีสมเด็จ!J25,เกษตรจังหาร!J25,เกษตรเชียงขวัญ!J25,เกษตรหนองฮี!J25,เกษตรทุ่งเขาหลวง!J25) -> 0 | K25: =SUM(เกษตรเมืองร้อยเอ็ด!K25,เกษตรธวัชบุรี!K25,เกษตรเสลภูมิ!K25,เกษตรโพนทอง!K25,เกษตรหนองพอก!K25,เกษตรโพธิ์ชัย!K25,เกษตรจตุรพักตรพิมาน!K25,เกษตรปทุมรัตต์!K25,เกษตรเกษตรวิสัย!K25,เกษตรสุวรรณภูมิ!K25,เกษตรอาจสามารถ!K25,เกษตรพนมไพร!K25,เกษตรเมืองสรวง!K25,เกษตรโพนทราย!K25,เกษตรเมยวดี!K25,เกษตรศรีสมเด็จ!K25,เกษตรจังหาร!K25,เกษตรเชียงขวัญ!K25,เกษตรหนองฮี!K25,เกษตรทุ่งเขาหลวง!K25) -> 0 | L25: =SUM(เกษตรเมืองร้อยเอ็ด!L25,เกษตรธวัชบุรี!L25,เกษตรเสลภูมิ!L25,เกษตรโพนทอง!L25,เกษตรหนองพอก!L25,เกษตรโพธิ์ชัย!L25,เกษตรจตุรพักตรพิมาน!L25,เกษตรปทุมรัตต์!L25,เกษตรเกษตรวิสัย!L25,เกษตรสุวรรณภูมิ!L25,เกษตรอาจสามารถ!L25,เกษตรพนมไพร!L25,เกษตรเมืองสรวง!L25,เกษตรโพนทราย!L25,เกษตรเมยวดี!L25,เกษตรศรีสมเด็จ!L25,เกษตรจังหาร!L25,เกษตรเชียงขวัญ!L25,เกษตรหนองฮี!L25,เกษตรทุ่งเขาหลวง!L25) -> 0 | M25: =SUM(เกษตรเมืองร้อยเอ็ด!M25,เกษตรธวัชบุรี!M25,เกษตรเสลภูมิ!M25,เกษตรโพนทอง!M25,เกษตรหนองพอก!M25,เกษตรโพธิ์ชัย!M25,เกษตรจตุรพักตรพิมาน!M25,เกษตรปทุมรัตต์!M25,เกษตรเกษตรวิสัย!M25,เกษตรสุวรรณภูมิ!M25,เกษตรอาจสามารถ!M25,เกษตรพนมไพร!M25,เกษตรเมืองสรวง!M25,เกษตรโพนทราย!M25,เกษตรเมยวดี!M25,เกษตรศรีสมเด็จ!M25,เกษตรจังหาร!M25,เกษตรเชียงขวัญ!M25,เกษตรหนองฮี!M25,เกษตรทุ่งเขาหลวง!M25) -> 0 | N25: =SUM(เกษตรเมืองร้อยเอ็ด!N25,เกษตรธวัชบุรี!N25,เกษตรเสลภูมิ!N25,เกษตรโพนทอง!N25,เกษตรหนองพอก!N25,เกษตรโพธิ์ชัย!N25,เกษตรจตุรพักตรพิมาน!N25,เกษตรปทุมรัตต์!N25,เกษตรเกษตรวิสัย!N25,เกษตรสุวรรณภูมิ!N25,เกษตรอาจสามารถ!N25,เกษตรพนมไพร!N25,เกษตรเมืองสรวง!N25,เกษตรโพนทราย!N25,เกษตรเมยวดี!N25,เกษตรศรีสมเด็จ!N25,เกษตรจังหาร!N25,เกษตรเชียงขวัญ!N25,เกษตรหนองฮี!N25,เกษตรทุ่งเขาหลวง!N25) -> 0 | O25: =SUM(เกษตรเมืองร้อยเอ็ด!O25,เกษตรธวัชบุรี!O25,เกษตรเสลภูมิ!O25,เกษตรโพนทอง!O25,เกษตรหนองพอก!O25,เกษตรโพธิ์ชัย!O25,เกษตรจตุรพักตรพิมาน!O25,เกษตรปทุมรัตต์!O25,เกษตรเกษตรวิสัย!O25,เกษตรสุวรรณภูมิ!O25,เกษตรอาจสามารถ!O25,เกษตรพนมไพร!O25,เกษตรเมืองสรวง!O25,เกษตรโพนทราย!O25,เกษตรเมยวดี!O25,เกษตรศรีสมเด็จ!O25,เกษตรจังหาร!O25,เกษตรเชียงขวัญ!O25,เกษตรหนองฮี!O25,เกษตรทุ่งเขาหลวง!O25) -> 0 | P25: =SUM(เกษตรเมืองร้อยเอ็ด!P25,เกษตรธวัชบุรี!P25,เกษตรเสลภูมิ!P25,เกษตรโพนทอง!P25,เกษตรหนองพอก!P25,เกษตรโพธิ์ชัย!P25,เกษตรจตุรพักตรพิมาน!P25,เกษตรปทุมรัตต์!P25,เกษตรเกษตรวิสัย!P25,เกษตรสุวรรณภูมิ!P25,เกษตรอาจสามารถ!P25,เกษตรพนมไพร!P25,เกษตรเมืองสรวง!P25,เกษตรโพนทราย!P25,เกษตรเมยวดี!P25,เกษตรศรีสมเด็จ!P25,เกษตรจังหาร!P25,เกษตรเชียงขวัญ!P25,เกษตรหนองฮี!P25,เกษตรทุ่งเขาหลวง!P25) -> 0 | Q25: =SUM(เกษตรเมืองร้อยเอ็ด!Q25,เกษตรธวัชบุรี!Q25,เกษตรเสลภูมิ!Q25,เกษตรโพนทอง!Q25,เกษตรหนองพอก!Q25,เกษตรโพธิ์ชัย!Q25,เกษตรจตุรพักตรพิมาน!Q25,เกษตรปทุมรัตต์!Q25,เกษตรเกษตรวิสัย!Q25,เกษตรสุวรรณภูมิ!Q25,เกษตรอาจสามารถ!Q25,เกษตรพนมไพร!Q25,เกษตรเมืองสรวง!Q25,เกษตรโพนทราย!Q25,เกษตรเมยวดี!Q25,เกษตรศรีสมเด็จ!Q25,เกษตรจังหาร!Q25,เกษตรเชียงขวัญ!Q25,เกษตรหนองฮี!Q25,เกษตรทุ่งเขาหลวง!Q25) -> 0 | R25: =SUM(เกษตรเมืองร้อยเอ็ด!R25,เกษตรธวัชบุรี!R25,เกษตรเสลภูมิ!R25,เกษตรโพนทอง!R25,เกษตรหนองพอก!R25,เกษตรโพธิ์ชัย!R25,เกษตรจตุรพักตรพิมาน!R25,เกษตรปทุมรัตต์!R25,เกษตรเกษตรวิสัย!R25,เกษตรสุวรรณภูมิ!R25,เกษตรอาจสามารถ!R25,เกษตรพนมไพร!R25,เกษตรเมืองสรวง!R25,เกษตรโพนทราย!R25,เกษตรเมยวดี!R25,เกษตรศรีสมเด็จ!R25,เกษตรจังหาร!R25,เกษตรเชียงขวัญ!R25,เกษตรหนองฮี!R25,เกษตรทุ่งเขาหลวง!R25) -> 0 | S25: =SUM(D25:R25) -> 0 | T25: =AVERAGE(D25:R25) -> 0
C26: จำนวนหน่ายงานที่รายงาน | J26: =COUNT(เกษตรเมืองร้อยเอ็ด!J21,เกษตรธวัชบุรี!J21,เกษตรเสลภูมิ!J21,เกษตรโพนทอง!J21,เกษตรหนองพอก!J21,เกษตรโพธิ์ชัย!J21,เกษตรจตุรพักตรพิมาน!J21,เกษตรปทุมรัตต์!J21,เกษตรเกษตรวิสัย!J21,เกษตรสุวรรณภูมิ!J21,เกษตรอาจสามารถ!J21,เกษตรพนมไพร!J21,เกษตรเมืองสรวง!J21,เกษตรโพนทราย!J21,เกษตรเมยวดี!J21,เกษตรศรีสมเด็จ!J21,เกษตรจังหาร!J21,เกษตรเชียงขวัญ!J21,เกษตรหนองฮี!J21,เกษตรทุ่งเขาหลวง!J21) -> 20 | K26: =COUNT(เกษตรเมืองร้อยเอ็ด!K21,เกษตรธวัชบุรี!K21,เกษตรเสลภูมิ!K21,เกษตรโพนทอง!K21,เกษตรหนองพอก!K21,เกษตรโพธิ์ชัย!K21,เกษตรจตุรพักตรพิมาน!K21,เกษตรปทุมรัตต์!K21,เกษตรเกษตรวิสัย!K21,เกษตรสุวรรณภูมิ!K21,เกษตรอาจสามารถ!K21,เกษตรพนมไพร!K21,เกษตรเมืองสรวง!K21,เกษตรโพนทราย!K21,เกษตรเมยวดี!K21,เกษตรศรีสมเด็จ!K21,เกษตรจังหาร!K21,เกษตรเชียงขวัญ!K21,เกษตรหนองฮี!K21,เกษตรทุ่งเขาหลวง!K21) -> 20 | L26: =COUNT(เกษตรเมืองร้อยเอ็ด!L21,เกษตรธวัชบุรี!L21,เกษตรเสลภูมิ!L21,เกษตรโพนทอง!L21,เกษตรหนองพอก!L21,เกษตรโพธิ์ชัย!L21,เกษตรจตุรพักตรพิมาน!L21,เกษตรปทุมรัตต์!L21,เกษตรเกษตรวิสัย!L21,เกษตรสุวรรณภูมิ!L21,เกษตรอาจสามารถ!L21,เกษตรพนมไพร!L21,เกษตรเมืองสรวง!L21,เกษตรโพนทราย!L21,เกษตรเมยวดี!L21,เกษตรศรีสมเด็จ!L21,เกษตรจังหาร!L21,เกษตรเชียงขวัญ!L21,เกษตรหนองฮี!L21,เกษตรทุ่งเขาหลวง!L21) -> 20 | M26: =COUNT(เกษตรเมืองร้อยเอ็ด!M21,เกษตรธวัชบุรี!M21,เกษตรเสลภูมิ!M21,เกษตรโพนทอง!M21,เกษตรหนองพอก!M21,เกษตรโพธิ์ชัย!M21,เกษตรจตุรพักตรพิมาน!M21,เกษตรปทุมรัตต์!M21,เกษตรเกษตรวิสัย!M21,เกษตรสุวรรณภูมิ!M21,เกษตรอาจสามารถ!M21,เกษตรพนมไพร!M21,เกษตรเมืองสรวง!M21,เกษตรโพนทราย!M21,เกษตรเมยวดี!M21,เกษตรศรีสมเด็จ!M21,เกษตรจังหาร!M21,เกษตรเชียงขวัญ!M21,เกษตรหนองฮี!M21,เกษตรทุ่งเขาหลวง!M21) -> 20 | N26: =COUNT(เกษตรเมืองร้อยเอ็ด!N21,เกษตรธวัชบุรี!N21,เกษตรเสลภูมิ!N21,เกษตรโพนทอง!N21,เกษตรหนองพอก!N21,เกษตรโพธิ์ชัย!N21,เกษตรจตุรพักตรพิมาน!N21,เกษตรปทุมรัตต์!N21,เกษตรเกษตรวิสัย!N21,เกษตรสุวรรณภูมิ!N21,เกษตรอาจสามารถ!N21,เกษตรพนมไพร!N21,เกษตรเมืองสรวง!N21,เกษตรโพนทราย!N21,เกษตรเมยวดี!N21,เกษตรศรีสมเด็จ!N21,เกษตรจังหาร!N21,เกษตรเชียงขวัญ!N21,เกษตรหนองฮี!N21,เกษตรทุ่งเขาหลวง!N21) -> 20 | O26: =COUNT(เกษตรเมืองร้อยเอ็ด!O21,เกษตรธวัชบุรี!O21,เกษตรเสลภูมิ!O21,เกษตรโพนทอง!O21,เกษตรหนองพอก!O21,เกษตรโพธิ์ชัย!O21,เกษตรจตุรพักตรพิมาน!O21,เกษตรปทุมรัตต์!O21,เกษตรเกษตรวิสัย!O21,เกษตรสุวรรณภูมิ!O21,เกษตรอาจสามารถ!O21,เกษตรพนมไพร!O21,เกษตรเมืองสรวง!O21,เกษตรโพนทราย!O21,เกษตรเมยวดี!O21,เกษตรศรีสมเด็จ!O21,เกษตรจังหาร!O21,เกษตรเชียงขวัญ!O21,เกษตรหนองฮี!O21,เกษตรทุ่งเขาหลวง!O21) -> 20 | P26: =COUNT(เกษตรเมืองร้อยเอ็ด!P21,เกษตรธวัชบุรี!P21,เกษตรเสลภูมิ!P21,เกษตรโพนทอง!P21,เกษตรหนองพอก!P21,เกษตรโพธิ์ชัย!P21,เกษตรจตุรพักตรพิมาน!P21,เกษตรปทุมรัตต์!P21,เกษตรเกษตรวิสัย!P21,เกษตรสุวรรณภูมิ!P21,เกษตรอาจสามารถ!P21,เกษตรพนมไพร!P21,เกษตรเมืองสรวง!P21,เกษตรโพนทราย!P21,เกษตรเมยวดี!P21,เกษตรศรีสมเด็จ!P21,เกษตรจังหาร!P21,เกษตรเชียงขวัญ!P21,เกษตรหนองฮี!P21,เกษตรทุ่งเขาหลวง!P21) -> 20 | Q26: =COUNT(เกษตรเมืองร้อยเอ็ด!Q21,เกษตรธวัชบุรี!Q21,เกษตรเสลภูมิ!Q21,เกษตรโพนทอง!Q21,เกษตรหนองพอก!Q21,เกษตรโพธิ์ชัย!Q21,เกษตรจตุรพักตรพิมาน!Q21,เกษตรปทุมรัตต์!Q21,เกษตรเกษตรวิสัย!Q21,เกษตรสุวรรณภูมิ!Q21,เกษตรอาจสามารถ!Q21,เกษตรพนมไพร!Q21,เกษตรเมืองสรวง!Q21,เกษตรโพนทราย!Q21,เกษตรเมยวดี!Q21,เกษตรศรีสมเด็จ!Q21,เกษตรจังหาร!Q21,เกษตรเชียงขวัญ!Q21,เกษตรหนองฮี!Q21,เกษตรทุ่งเขาหลวง!Q21) -> 20 | R26: =COUNT(เกษตรเมืองร้อยเอ็ด!R21,เกษตรธวัชบุรี!R21,เกษตรเสลภูมิ!R21,เกษตรโพนทอง!R21,เกษตรหนองพอก!R21,เกษตรโพธิ์ชัย!R21,เกษตรจตุรพักตรพิมาน!R21,เกษตรปทุมรัตต์!R21,เกษตรเกษตรวิสัย!R21,เกษตรสุวรรณภูมิ!R21,เกษตรอาจสามารถ!R21,เกษตรพนมไพร!R21,เกษตรเมืองสรวง!R21,เกษตรโพนทราย!R21,เกษตรเมยวดี!R21,เกษตรศรีสมเด็จ!R21,เกษตรจังหาร!R21,เกษตรเชียงขวัญ!R21,เกษตรหนองฮี!R21,เกษตรทุ่งเขาหลวง!R21) -> 20
C27: ร้อยละของการรายงาน | J27: =(COUNT(เกษตรเมืองร้อยเอ็ด!J21:J25,เกษตรธวัชบุรี!J21:J25,เกษตรเสลภูมิ!J21:J25,เกษตรโพนทอง!J21:J25,เกษตรหนองพอก!J21:J25,เกษตรโพธิ์ชัย!J21:J25,เกษตรจตุรพักตรพิมาน!J21:J25,เกษตรปทุมรัตต์!J21:J25,เกษตรเกษตรวิสัย!J21:J25,เกษตรสุวรรณภูมิ!J21:J25,เกษตรอาจสามารถ!J21:J25,เกษตรพนมไพร!J21:J25,เกษตรเมืองสรวง!J21:J25,เกษตรโพนทราย!J21:J25,เกษตรเมยวดี!J21:J25,เกษตรศรีสมเด็จ!J21:J25,เกษตรจังหาร!J21:J25,เกษตรเชียงขวัญ!J21:J25,เกษตรหนองฮี!J21:J25,เกษตรทุ่งเขาหลวง!J21:J25)*100/100) -> 100 | K27: =(COUNT(เกษตรเมืองร้อยเอ็ด!K21:K25,เกษตรธวัชบุรี!K21:K25,เกษตรเสลภูมิ!K21:K25,เกษตรโพนทอง!K21:K25,เกษตรหนองพอก!K21:K25,เกษตรโพธิ์ชัย!K21:K25,เกษตรจตุรพักตรพิมาน!K21:K25,เกษตรปทุมรัตต์!K21:K25,เกษตรเกษตรวิสัย!K21:K25,เกษตรสุวรรณภูมิ!K21:K25,เกษตรอาจสามารถ!K21:K25,เกษตรพนมไพร!K21:K25,เกษตรเมืองสรวง!K21:K25,เกษตรโพนทราย!K21:K25,เกษตรเมยวดี!K21:K25,เกษตรศรีสมเด็จ!K21:K25,เกษตรจังหาร!K21:K25,เกษตรเชียงขวัญ!K21:K25,เกษตรหนองฮี!K21:K25,เกษตรทุ่งเขาหลวง!K21:K25)*100/100) -> 100 | L27: =(COUNT(เกษตรเมืองร้อยเอ็ด!L21:L25,เกษตรธวัชบุรี!L21:L25,เกษตรเสลภูมิ!L21:L25,เกษตรโพนทอง!L21:L25,เกษตรหนองพอก!L21:L25,เกษตรโพธิ์ชัย!L21:L25,เกษตรจตุรพักตรพิมาน!L21:L25,เกษตรปทุมรัตต์!L21:L25,เกษตรเกษตรวิสัย!L21:L25,เกษตรสุวรรณภูมิ!L21:L25,เกษตรอาจสามารถ!L21:L25,เกษตรพนมไพร!L21:L25,เกษตรเมืองสรวง!L21:L25,เกษตรโพนทราย!L21:L25,เกษตรเมยวดี!L21:L25,เกษตรศรีสมเด็จ!L21:L25,เกษตรจังหาร!L21:L25,เกษตรเชียงขวัญ!L21:L25,เกษตรหนองฮี!L21:L25,เกษตรทุ่งเขาหลวง!L21:L25)*100/100) -> 100 | M27: =(COUNT(เกษตรเมืองร้อยเอ็ด!M21:M25,เกษตรธวัชบุรี!M21:M25,เกษตรเสลภูมิ!M21:M25,เกษตรโพนทอง!M21:M25,เกษตรหนองพอก!M21:M25,เกษตรโพธิ์ชัย!M21:M25,เกษตรจตุรพักตรพิมาน!M21:M25,เกษตรปทุมรัตต์!M21:M25,เกษตรเกษตรวิสัย!M21:M25,เกษตรสุวรรณภูมิ!M21:M25,เกษตรอาจสามารถ!M21:M25,เกษตรพนมไพร!M21:M25,เกษตรเมืองสรวง!M21:M25,เกษตรโพนทราย!M21:M25,เกษตรเมยวดี!M21:M25,เกษตรศรีสมเด็จ!M21:M25,เกษตรจังหาร!M21:M25,เกษตรเชียงขวัญ!M21:M25,เกษตรหนองฮี!M21:M25,เกษตรทุ่งเขาหลวง!M21:M25)*100/100) -> 100 | N27: =(COUNT(เกษตรเมืองร้อยเอ็ด!N21:N25,เกษตรธวัชบุรี!N21:N25,เกษตรเสลภูมิ!N21:N25,เกษตรโพนทอง!N21:N25,เกษตรหนองพอก!N21:N25,เกษตรโพธิ์ชัย!N21:N25,เกษตรจตุรพักตรพิมาน!N21:N25,เกษตรปทุมรัตต์!N21:N25,เกษตรเกษตรวิสัย!N21:N25,เกษตรสุวรรณภูมิ!N21:N25,เกษตรอาจสามารถ!N21:N25,เกษตรพนมไพร!N21:N25,เกษตรเมืองสรวง!N21:N25,เกษตรโพนทราย!N21:N25,เกษตรเมยวดี!N21:N25,เกษตรศรีสมเด็จ!N21:N25,เกษตรจังหาร!N21:N25,เกษตรเชียงขวัญ!N21:N25,เกษตรหนองฮี!N21:N25,เกษตรทุ่งเขาหลวง!N21:N25)*100/100) -> 100 | O27: =(COUNT(เกษตรเมืองร้อยเอ็ด!O21:O25,เกษตรธวัชบุรี!O21:O25,เกษตรเสลภูมิ!O21:O25,เกษตรโพนทอง!O21:O25,เกษตรหนองพอก!O21:O25,เกษตรโพธิ์ชัย!O21:O25,เกษตรจตุรพักตรพิมาน!O21:O25,เกษตรปทุมรัตต์!O21:O25,เกษตรเกษตรวิสัย!O21:O25,เกษตรสุวรรณภูมิ!O21:O25,เกษตรอาจสามารถ!O21:O25,เกษตรพนมไพร!O21:O25,เกษตรเมืองสรวง!O21:O25,เกษตรโพนทราย!O21:O25,เกษตรเมยวดี!O21:O25,เกษตรศรีสมเด็จ!O21:O25,เกษตรจังหาร!O21:O25,เกษตรเชียงขวัญ!O21:O25,เกษตรหนองฮี!O21:O25,เกษตรทุ่งเขาหลวง!O21:O25)*100/100) -> 100 | P27: =(COUNT(เกษตรเมืองร้อยเอ็ด!P21:P25,เกษตรธวัชบุรี!P21:P25,เกษตรเสลภูมิ!P21:P25,เกษตรโพนทอง!P21:P25,เกษตรหนองพอก!P21:P25,เกษตรโพธิ์ชัย!P21:P25,เกษตรจตุรพักตรพิมาน!P21:P25,เกษตรปทุมรัตต์!P21:P25,เกษตรเกษตรวิสัย!P21:P25,เกษตรสุวรรณภูมิ!P21:P25,เกษตรอาจสามารถ!P21:P25,เกษตรพนมไพร!P21:P25,เกษตรเมืองสรวง!P21:P25,เกษตรโพนทราย!P21:P25,เกษตรเมยวดี!P21:P25,เกษตรศรีสมเด็จ!P21:P25,เกษตรจังหาร!P21:P25,เกษตรเชียงขวัญ!P21:P25,เกษตรหนองฮี!P21:P25,เกษตรทุ่งเขาหลวง!P21:P25)*100/100) -> 100 | Q27: =(COUNT(เกษตรเมืองร้อยเอ็ด!Q21:Q25,เกษตรธวัชบุรี!Q21:Q25,เกษตรเสลภูมิ!Q21:Q25,เกษตรโพนทอง!Q21:Q25,เกษตรหนองพอก!Q21:Q25,เกษตรโพธิ์ชัย!Q21:Q25,เกษตรจตุรพักตรพิมาน!Q21:Q25,เกษตรปทุมรัตต์!Q21:Q25,เกษตรเกษตรวิสัย!Q21:Q25,เกษตรสุวรรณภูมิ!Q21:Q25,เกษตรอาจสามารถ!Q21:Q25,เกษตรพนมไพร!Q21:Q25,เกษตรเมืองสรวง!Q21:Q25,เกษตรโพนทราย!Q21:Q25,เกษตรเมยวดี!Q21:Q25,เกษตรศรีสมเด็จ!Q21:Q25,เกษตรจังหาร!Q21:Q25,เกษตรเชียงขวัญ!Q21:Q25,เกษตรหนองฮี!Q21:Q25,เกษตรทุ่งเขาหลวง!Q21:Q25)*100/100) -> 100 | R27: =(COUNT(เกษตรเมืองร้อยเอ็ด!R21:R25,เกษตรธวัชบุรี!R21:R25,เกษตรเสลภูมิ!R21:R25,เกษตรโพนทอง!R21:R25,เกษตรหนองพอก!R21:R25,เกษตรโพธิ์ชัย!R21:R25,เกษตรจตุรพักตรพิมาน!R21:R25,เกษตรปทุมรัตต์!R21:R25,เกษตรเกษตรวิสัย!R21:R25,เกษตรสุวรรณภูมิ!R21:R25,เกษตรอาจสามารถ!R21:R25,เกษตรพนมไพร!R21:R25,เกษตรเมืองสรวง!R21:R25,เกษตรโพนทราย!R21:R25,เกษตรเมยวดี!R21:R25,เกษตรศรีสมเด็จ!R21:R25,เกษตรจังหาร!R21:R25,เกษตรเชียงขวัญ!R21:R25,เกษตรหนองฮี!R21:R25,เกษตรทุ่งเขาหลวง!R21:R25)*100/100) -> 100
B29: งานบริการ การขึ้นทะเบียนเกษตรกร กรณีเกษตรกรนำแปลงใหม่มาขึ้นทะเบียนด้วยตนเอง ณ สำนักงานเกษตรอำเภอ/สำนักงานเกษตรพื้นที่ (กทม.)
B30: ลำดับที่ | C30: รายการ | D30: ปี 2563 | G30: ปีงบประมาณ 2564
D31: ไตรมาส 1/63 | G31: ไตรมาส 1/64 | J31: ไตรมาส 2/64 | M31: ไตรมาส 3/64 | P31: ไตรมาส 4/64 | S31: รวม | T31: เฉลี่ย
D32: ก.ค. | E32: ส.ค. | F32: ก.ย. | G32: ต.ค. | H32: พ.ย. | I32: ธ.ค. | J32: ม.ค. | K32: ก.พ. | L32: มี.ค. | M32: เม.ย. | N32: พ.ค. | O32: มิ.ค. | P32: ก.ค. | Q32: ส.ค. | R32: ก.ย.
B33: 1 | C33: จำนวนคำขอที่ได้รับการอนุมัติ | D33: - | E33: - | F33: - | G33: - | H33: - | I33: - | J33: =SUM(เกษตรเมืองร้อยเอ็ด!J33,เกษตรธวัชบุรี!J33,เกษตรเสลภูมิ!J33,เกษตรโพนทอง!J33,เกษตรหนองพอก!J33,เกษตรโพธิ์ชัย!J33,เกษตรจตุรพักตรพิมาน!J33,เกษตรปทุมรัตต์!J33,เกษตรเกษตรวิสัย!J33,เกษตรสุวรรณภูมิ!J33,เกษตรอาจสามารถ!J33,เกษตรพนมไพร!J33,เกษตรเมืองสรวง!J33,เกษตรโพนทราย!J33,เกษตรเมยวดี!J33,เกษตรศรีสมเด็จ!J33,เกษตรจังหาร!J33,เกษตรเชียงขวัญ!J33,เกษตรหนองฮี!J33,เกษตรทุ่งเขาหลวง!J33) -> 0 | K33: =SUM(เกษตรเมืองร้อยเอ็ด!K33,เกษตรธวัชบุรี!K33,เกษตรเสลภูมิ!K33,เกษตรโพนทอง!K33,เกษตรหนองพอก!K33,เกษตรโพธิ์ชัย!K33,เกษตรจตุรพักตรพิมาน!K33,เกษตรปทุมรัตต์!K33,เกษตรเกษตรวิสัย!K33,เกษตรสุวรรณภูมิ!K33,เกษตรอาจสามารถ!K33,เกษตรพนมไพร!K33,เกษตรเมืองสรวง!K33,เกษตรโพนทราย!K33,เกษตรเมยวดี!K33,เกษตรศรีสมเด็จ!K33,เกษตรจังหาร!K33,เกษตรเชียงขวัญ!K33,เกษตรหนองฮี!K33,เกษตรทุ่งเขาหลวง!K33) -> 0 | L33: =SUM(เกษตรเมืองร้อยเอ็ด!L33,เกษตรธวัชบุรี!L33,เกษตรเสลภูมิ!L33,เกษตรโพนทอง!L33,เกษตรหนองพอก!L33,เกษตรโพธิ์ชัย!L33,เกษตรจตุรพักตรพิมาน!L33,เกษตรปทุมรัตต์!L33,เกษตรเกษตรวิสัย!L33,เกษตรสุวรรณภูมิ!L33,เกษตรอาจสามารถ!L33,เกษตรพนมไพร!L33,เกษตรเมืองสรวง!L33,เกษตรโพนทราย!L33,เกษตรเมยวดี!L33,เกษตรศรีสมเด็จ!L33,เกษตรจังหาร!L33,เกษตรเชียงขวัญ!L33,เกษตรหนองฮี!L33,เกษตรทุ่งเขาหลวง!L33) -> 0 | M33: =SUM(เกษตรเมืองร้อยเอ็ด!M33,เกษตรธวัชบุรี!M33,เกษตรเสลภูมิ!M33,เกษตรโพนทอง!M33,เกษตรหนองพอก!M33,เกษตรโพธิ์ชัย!M33,เกษตรจตุรพักตรพิมาน!M33,เกษตรปทุมรัตต์!M33,เกษตรเกษตรวิสัย!M33,เกษตรสุวรรณภูมิ!M33,เกษตรอาจสามารถ!M33,เกษตรพนมไพร!M33,เกษตรเมืองสรวง!M33,เกษตรโพนทราย!M33,เกษตรเมยวดี!M33,เกษตรศรีสมเด็จ!M33,เกษตรจังหาร!M33,เกษตรเชียงขวัญ!M33,เกษตรหนองฮี!M33,เกษตรทุ่งเขาหลวง!M33) -> 0 | N33: =SUM(เกษตรเมืองร้อยเอ็ด!N33,เกษตรธวัชบุรี!N33,เกษตรเสลภูมิ!N33,เกษตรโพนทอง!N33,เกษตรหนองพอก!N33,เกษตรโพธิ์ชัย!N33,เกษตรจตุรพักตรพิมาน!N33,เกษตรปทุมรัตต์!N33,เกษตรเกษตรวิสัย!N33,เกษตรสุวรรณภูมิ!N33,เกษตรอาจสามารถ!N33,เกษตรพนมไพร!N33,เกษตรเมืองสรวง!N33,เกษตรโพนทราย!N33,เกษตรเมยวดี!N33,เกษตรศรีสมเด็จ!N33,เกษตรจังหาร!N33,เกษตรเชียงขวัญ!N33,เกษตรหนองฮี!N33,เกษตรทุ่งเขาหลวง!N33) -> 541 | O33: =SUM(เกษตรเมืองร้อยเอ็ด!O33,เกษตรธวัชบุรี!O33,เกษตรเสลภูมิ!O33,เกษตรโพนทอง!O33,เกษตรหนองพอก!O33,เกษตรโพธิ์ชัย!O33,เกษตรจตุรพักตรพิมาน!O33,เกษตรปทุมรัตต์!O33,เกษตรเกษตรวิสัย!O33,เกษตรสุวรรณภูมิ!O33,เกษตรอาจสามารถ!O33,เกษตรพนมไพร!O33,เกษตรเมืองสรวง!O33,เกษตรโพนทราย!O33,เกษตรเมยวดี!O33,เกษตรศรีสมเด็จ!O33,เกษตรจังหาร!O33,เกษตรเชียงขวัญ!O33,เกษตรหนองฮี!O33,เกษตรทุ่งเขาหลวง!O33) -> 840 | P33: =SUM(เกษตรเมืองร้อยเอ็ด!P33,เกษตรธวัชบุรี!P33,เกษตรเสลภูมิ!P33,เกษตรโพนทอง!P33,เกษตรหนองพอก!P33,เกษตรโพธิ์ชัย!P33,เกษตรจตุรพักตรพิมาน!P33,เกษตรปทุมรัตต์!P33,เกษตรเกษตรวิสัย!P33,เกษตรสุวรรณภูมิ!P33,เกษตรอาจสามารถ!P33,เกษตรพนมไพร!P33,เกษตรเมืองสรวง!P33,เกษตรโพนทราย!P33,เกษตรเมยวดี!P33,เกษตรศรีสมเด็จ!P33,เกษตรจังหาร!P33,เกษตรเชียงขวัญ!P33,เกษตรหนองฮี!P33,เกษตรทุ่งเขาหลวง!P33) -> 142 | Q33: =SUM(เกษตรเมืองร้อยเอ็ด!Q33,เกษตรธวัชบุรี!Q33,เกษตรเสลภูมิ!Q33,เกษตรโพนทอง!Q33,เกษตรหนองพอก!Q33,เกษตรโพธิ์ชัย!Q33,เกษตรจตุรพักตรพิมาน!Q33,เกษตรปทุมรัตต์!Q33,เกษตรเกษตรวิสัย!Q33,เกษตรสุวรรณภูมิ!Q33,เกษตรอาจสามารถ!Q33,เกษตรพนมไพร!Q33,เกษตรเมืองสรวง!Q33,เกษตรโพนทราย!Q33,เกษตรเมยวดี!Q33,เกษตรศรีสมเด็จ!Q33,เกษตรจังหาร!Q33,เกษตรเชียงขวัญ!Q33,เกษตรหนองฮี!Q33,เกษตรทุ่งเขาหลวง!Q33) -> 466 | R33: =SUM(เกษตรเมืองร้อยเอ็ด!R33,เกษตรธวัชบุรี!R33,เกษตรเสลภูมิ!R33,เกษตรโพนทอง!R33,เกษตรหนองพอก!R33,เกษตรโพธิ์ชัย!R33,เกษตรจตุรพักตรพิมาน!R33,เกษตรปทุมรัตต์!R33,เกษตรเกษตรวิสัย!R33,เกษตรสุวรรณภูมิ!R33,เกษตรอาจสามารถ!R33,เกษตรพนมไพร!R33,เกษตรเมืองสรวง!R33,เกษตรโพนทราย!R33,เกษตรเมยวดี!R33,เกษตรศรีสมเด็จ!R33,เกษตรจังหาร!R33,เกษตรเชียงขวัญ!R33,เกษตรหนองฮี!R33,เกษตรทุ่งเขาหลวง!R33) -> 152 | S33: =SUM(D33:R33) -> 2141 | T33: =AVERAGE(D33:R33) -> 237.88889
