Workbook

Sheet ภาพรวม
A1: ผลการเบิกจ่ายงบประมาณ ปี 2564 (ภาพรวม)
A2: กระทรวงทรัพยากรธรรมชาติและสิ่งแวดล้อม
O3: ข้อมูลจากระบบ GFMIS ณ วันที่ 30 กันยายน 2564
A18: ลำดับที่ | C18: 1 | D18: 2 | E18: 3 | F18: 4 | G18: 5 | H18: 6 | I18: 7 | J18: 8 | K18: 9 | L18: 10 | M18: 11 | N18: 12 | O18: 13 | P18: 14 | Q18: 15
A19: หน่วยงาน | C19: ออป. | D19: ทบ. | E19: ปม. | F19: อส. | G19: อสพ. | H19: สส. | I19: อบก. | J19: ทช. | K19: สป.ทส. | L19: ทธ. | M19: อสส. | N19: สพภ. | O19: ทน. | P19: คพ. | Q19: สผ. | R19: รวมทั้งสิ้น
A20: แผนการเบิกจ่ายไตรมาสที่ 1 | B20: ร้อยละ | C20: =SUM(#REF!) -> #REF! | D20: =SUM(#REF!) -> #REF! | E20: =SUM(#REF!) -> #REF! | F20: =SUM(#REF!) -> #REF! | G20: =SUM(#REF!) -> #REF! | H20: =SUM(#REF!) -> #REF! | I20: =SUM(#REF!) -> #REF! | J20: =SUM(#REF!) -> #REF! | ... R20: =SUM(#REF!) -> #REF!
A21: งบประมาณ 62 ไปพลางก่อน | B21: ล้านบาท | C21: =SUM([1]ภาพรวม!F44) -> 239.1521 | D21: =SUM([1]ภาพรวม!F13) -> 2026.615 | E21: =SUM([1]ภาพรวม!F16) -> 5148.8923 | F21: =SUM([1]ภาพรวม!F19) -> 10916.142 | G21: =SUM([1]ภาพรวม!F47) -> 160.1806 | H21: =SUM([1]ภาพรวม!F22) -> 553.69085 | I21: =SUM([1]ภาพรวม!F54) -> 141.0907 | J21: =SUM([1]ภาพรวม!F25) -> 1455.8416 | K21: =SUM([1]ภาพรวม!F28) -> 1697.0671 | L21: =SUM([1]ภาพรวม!F31) -> 582.33139 | M21: =SUM([1]ภาพรวม!F50) -> 806.313 | N21: =SUM([1]ภาพรวม!F57) -> 157.0388 | O21: =SUM([1]ภาพรวม!F34) -> 4927.7767 | P21: =SUM([1]ภาพรวม!F37) -> 634.3169 | Q21: =SUM([1]ภาพรวม!F40) -> 1169.4281 | R21: =SUM([1]ภาพรวม!F60) -> 30615.877
A22: งบประมาณที่ได้รับจัดสรร | B22: ล้านบาท | C22: =SUM([1]ภาพรวม!F44) -> 239.1521 | D22: =SUM([1]ภาพรวม!F13) -> 2026.615 | E22: =SUM([1]ภาพรวม!F16) -> 5148.8923 | F22: =SUM([1]ภาพรวม!F19) -> 10916.142 | G22: =SUM([1]ภาพรวม!F47) -> 160.1806 | H22: =SUM([1]ภาพรวม!F22) -> 553.69085 | I22: =SUM([1]ภาพรวม!F54) -> 141.0907 | J22: =SUM([1]ภาพรวม!F25) -> 1455.8416 | K22: =SUM([1]ภาพรวม!F28) -> 1697.0671 | L22: =SUM([1]ภาพรวม!F31) -> 582.33139 | M22: =SUM([1]ภาพรวม!F50) -> 806.313 | N22: =SUM([1]ภาพรวม!F57) -> 157.0388 | O22: =SUM([1]ภาพรวม!F34) -> 4927.7767 | P22: =SUM([1]ภาพรวม!F37) -> 634.3169 | Q22: =SUM([1]ภาพรวม!F40) -> 1169.4281 | R22: =SUM(G22+M22+Q22+C22+D22+N22+I22+O22+J22+F22+K22+E22+L22+H22+P22) -> 30615.877
A23: ผลเบิกจ่าย | B23: ล้านบาท | C23: =SUM([1]ภาพรวม!K44) -> 236.83559 | D23: =SUM([1]ภาพรวม!K13) -> 1997.6128 | E23: =SUM([1]ภาพรวม!K16) -> 4893.2143 | F23: =SUM([1]ภาพรวม!K19) -> 10357.558 | G23: =SUM([1]ภาพรวม!K47) -> 149.7188 | H23: =SUM([1]ภาพรวม!K22) -> 496.73393 | I23: =SUM([1]ภาพรวม!K54) -> 124.23859 | J23: =SUM([1]ภาพรวม!K25) -> 1242.0629 | K23: =SUM([1]ภาพรวม!K28) -> 1370.2618 | L23: =SUM([1]ภาพรวม!K31) -> 462.67898 | M23: =SUM([1]ภาพรวม!K50) -> 640.08248 | N23: =SUM([1]ภาพรวม!K57) -> 120.57299 | O23: =SUM([1]ภาพรวม!K34) -> 3339.1773 | P23: =SUM([1]ภาพรวม!K37) -> 416.09182 | Q23: =SUM([1]ภาพรวม!K40) -> 601.74795 | R23: =SUM(G23+M23+Q23+C23+D23+N23+I23+O23+J23+F23+K23+E23+L23+H23+P23) -> 26448.588
B24: ร้อยละ | C24: =SUM(C23/C22) -> 0.99031365 | D24: =SUM(D23/D22) -> 0.98568932 | E24: =SUM(E23/E22) -> 0.9503431 | F24: =SUM(F23/F22) -> 0.94882951 | G24: =SUM(G23/G22) -> 0.93468749 | H24: =SUM(H23/H22) -> 0.89713228 | I24: =SUM(I23/I22) -> 0.8805583 | J24: =SUM(J23/J22) -> 0.85315802 | ... R24: =SUM(R23/R22) -> 0.8638847
A25: รายงานโดย ส่วนงบประมาณ กองยุทธศาสตร์และแผนงาน สำนักงานปลัดกระทรวงทรัพยากรธรรมชาติและสิ่งแวดล้อม

Sheet รายจ่ายประจำ
A1: ผลการเบิกจ่ายงบประมาณ ปี 2564 (รายจ่ายประจำ)
A2: กระทรวงทรัพยากรธรรมชาติและสิ่งแวดล้อม
O3: ข้อมูลจากระบบ GFMIS ณ วันที่ 30 กันยายน 2564
A18: ลำดับที่ | C18: 1 | D18: 2 | E18: 3 | F18: 4 | G18: 5 | H18: 6 | I18: 7 | J18: 8 | K18: 9 | L18: 10 | M18: 11 | N18: 12 | O18: 13 | P18: 14 | Q18: 15
A19: หน่วยงาน | C19: อสส. | D19: อส. | E19: ทบ. | F19: คพ. | G19: ออป. | H19: ปม. | I19: สป.ทส. | J19: ทช. | K19: สผ. | L19: ทน. | M19: ทธ. | N19: อสพ. | O19: สส. | P19: อบก. | Q19: สพภ. | R19: รวมทั้งสิ้น
A20: งบประมาณ 62 พลางก่อน | B20: ล้านบาท | C20: =SUM([1]ภาพรวม!F51) -> 491.6703 | D20: =SUM([1]ภาพรวม!F20) -> 8357.7437 | E20: =SUM([1]ภาพรวม!F14) -> 473.0498 | F20: =SUM([1]ภาพรวม!F38) -> 356.27223 | G20: =SUM([1]ภาพรวม!F45) -> 117.45729 | H20: =SUM([1]ภาพรวม!F17) -> 3425.7734 | I20: =SUM([1]ภาพรวม!F29) -> 1312.4301 | J20: =SUM([1]ภาพรวม!F26) -> 875.62223 | K20: =SUM([1]ภาพรวม!F41) -> 426.14837 | L20: =SUM([1]ภาพรวม!F35) -> 971.81623 | M20: =SUM([1]ภาพรวม!F32) -> 419.82131 | N20: =SUM([1]ภาพรวม!F48) -> 160.1806 | O20: =SUM([1]ภาพรวม!F23) -> 510.01935 | P20: =SUM([1]ภาพรวม!F55) -> 139.6208 | Q20: =SUM([1]ภาพรวม!F58) -> 153.769 | R20: =SUM(C20:Q20) -> 18191.395
A21: งบประมาณที่ได้รับจัดสรร | B21: ล้านบาท | C21: =SUM([1]ภาพรวม!F51) -> 491.6703 | D21: =SUM([1]ภาพรวม!F20) -> 8357.7437 | E21: =SUM([1]ภาพรวม!F14) -> 473.0498 | F21: =SUM([1]ภาพรวม!F38) -> 356.27223 | G21: =SUM([1]ภาพรวม!F45) -> 117.45729 | H21: =SUM([1]ภาพรวม!F17) -> 3425.7734 | I21: =SUM([1]ภาพรวม!F29) -> 1312.4301 | J21: =SUM([1]ภาพรวม!F26) -> 875.62223 | K21: =SUM([1]ภาพรวม!F41) -> 426.14837 | L21: =SUM([1]ภาพรวม!F35) -> 971.81623 | M21: =SUM([1]ภาพรวม!F32) -> 419.82131 | N21: =SUM([1]ภาพรวม!F48) -> 160.1806 | O21: =SUM([1]ภาพรวม!F23) -> 510.01935 | P21: =SUM([1]ภาพรวม!F55) -> 139.6208 | Q21: =SUM([1]ภาพรวม!F58) -> 153.769 | R21: =SUM(N21+C21+F21+G21+P21+I21+Q21+E21+L21+D21+H21+J21+M21+O21+K21) -> 18191.395
A22: ผลเบิกจ่าย | B22: ล้านบาท | C22: =SUM([1]ภาพรวม!K51) -> 491.6703 | D22: =SUM([1]ภาพรวม!K20) -> 8305.2722 | E22: =SUM([1]ภาพรวม!K14) -> 468.93616 | F22: =SUM([1]ภาพรวม!K38) -> 350.32279 | G22: =SUM([1]ภาพรวม!K45) -> 115.17355 | H22: =SUM([1]ภาพรวม!K17) -> 3355.9764 | I22: =SUM([1]ภาพรวม!K29) -> 1281.2297 | J22: =SUM([1]ภาพรวม!K26) -> 855.38102 | K22: =SUM([1]ภาพรวม!K41) -> 413.49983 | L22: =SUM([1]ภาพรวม!K35) -> 913.24581 | M22: =SUM([1]ภาพรวม!K32) -> 393.1084 | N22: =SUM([1]ภาพรวม!K48) -> 149.7188 | O22: =SUM([1]ภาพรวม!K23) -> 467.09648 | P22: =SUM([1]ภาพรวม!K55) -> 122.76869 | Q22: =SUM([1]ภาพรวม!K58) -> 117.30319 | R22: =SUM(C22:Q22) -> 17800.703
B23: ร้อยละ | C23: =SUM(C22/C21) -> 1 | D23: =SUM(D22/D21) -> 0.99372181 | E23: =SUM(E22/E21) -> 0.991304 | F23: =SUM(F22/F21) -> 0.98330086 | G23: =SUM(G22/G21) -> 0.98055688 | H23: =SUM(H22/H21) -> 0.97962591 | I23: =SUM(I22/I21) -> 0.97622702 | J23: =SUM(J22/J21) -> 0.97688363 | ... R23: =SUM(R22/R21) -> 0.97852329
A24: รายงานโดย ส่วนงบประมาณ กองยุทธศาสตร์และแผนงาน สำนักงานปลัดกระทรวงทรัพยากรธรรมชาติและสิ่งแวดล้อม

Sheet งบลงทุน
A1: ผลการเบิกจ่ายงบประมาณ ปี 2564 (รายจ่ายลงทุน)
A2: กระทรวงทรัพยากรธรรมชาติและสิ่งแวดล้อม
N3: ข้อมูลจากระบบ GFMIS ณ วันที่ 30 กันยายน 2564
A19: ลำดับที่ | C19: 1 | D19: 2 | E19: 3 | F19: 4 | G19: 5 | H19: 6 | I19: 7 | J19: 8 | K19: 9 | L19: 10 | M19: 11 | N19: 12 | O19: 13 | P19: 14 | Q19: 6 | R19: 15
A20: หน่วยงาน | C20: อบก. | D20: สพภ. | E20: ออป. | F20: ทบ. | G20: ปม. | H20: อส. | I20: สส. | J20: ทช. | K20: ทน. | L20: อสส. | M20: ทธ. | N20: สผ. | O20: คพ. | P20: สป.ทส. | Q20: อจน. | R20: อสพ. | S20: รวมทั้งสิ้น
A21: งบประมาณ 62 พลางก่อน | B21: ล้านบาท | C21: =SUM([1]ภาพรวม!F56) -> 1.4699 | D21: =SUM([1]ภาพรวม!F59) -> 3.2698 | E21: =SUM([1]ภาพรวม!F46) -> 121.69481 | F21: =SUM([1]ภาพรวม!F15) -> 1553.5652 | G21: =SUM([1]ภาพรวม!F18) -> 1723.1189 | H21: =SUM([1]ภาพรวม!F21) -> 2558.3986 | I21: =SUM([1]ภาพรวม!F24) -> 43.6715 | J21: =SUM([1]ภาพรวม!F27) -> 580.21938 | K21: =SUM([1]ภาพรวม!F36) -> 3955.9605 | L21: =SUM([1]ภาพรวม!F52) -> 314.6427 | M21: =SUM([1]ภาพรวม!F33) -> 162.51008 | N21: =SUM([1]ภาพรวม!F42) -> 743.27969 | O21: =SUM([1]ภาพรวม!F39) -> 278.04467 | P21: =SUM([1]ภาพรวม!F30) -> 384.63696 | Q21: =SUM([1]ภาพรวม!#REF!) -> #REF! | R21: =SUM([1]ภาพรวม!F49) -> 0 | S21: =SUM(N21+E21+F21+K21+C21+O21+L21+P21+G21+H21+R21+J21+D21+I21+M21) -> 12424.483
A22: งบประมาณที่ได้รับจัดสรร | B22: ล้านบาท | C22: =SUM([1]ภาพรวม!F56) -> 1.4699 | D22: =SUM([1]ภาพรวม!F59) -> 3.2698 | E22: =SUM([1]ภาพรวม!F46) -> 121.69481 | F22: =SUM([1]ภาพรวม!F15) -> 1553.5652 | G22: =SUM([1]ภาพรวม!F18) -> 1723.1189 | H22: =SUM([1]ภาพรวม!F21) -> 2558.3986 | I22: =SUM([1]ภาพรวม!F24) -> 43.6715 | J22: =SUM([1]ภาพรวม!F27) -> 580.21938 | K22: =SUM([1]ภาพรวม!F36) -> 3955.9605 | L22: =SUM([1]ภาพรวม!F52) -> 314.6427 | M22: =SUM([1]ภาพรวม!F33) -> 162.51008 | N22: =SUM([1]ภาพรวม!F42) -> 743.27969 | O22: =SUM([1]ภาพรวม!F39) -> 278.04467 | P22: =SUM([1]ภาพรวม!F30) -> 384.63696 | R22: =SUM([1]ภาพรวม!F49) -> 0 | S22: =SUM(C22:R22) -> 12424.483
A23: ผลเบิกจ่าย | B23: ล้านบาท | C23: =SUM([1]ภาพรวม!K56) -> 1.4699 | D23: =SUM([1]ภาพรวม!K59) -> 3.2698 | E23: =SUM([1]ภาพรวม!K46) -> 121.66204 | F23: =SUM([1]ภาพรวม!K15) -> 1528.6766 | G23: =SUM([1]ภาพรวม!K18) -> 1537.2378 | H23: =SUM([1]ภาพรวม!K21) -> 2052.2858 | I23: =SUM([1]ภาพรวม!K24) -> 29.637454 | J23: =SUM([1]ภาพรวม!K27) -> 386.68192 | K23: =SUM([1]ภาพรวม!K36) -> 2425.9315 | L23: =SUM([1]ภาพรวม!K52) -> 148.41218 | M23: =SUM([1]ภาพรวม!K33) -> 69.570574 | N23: =SUM([1]ภาพรวม!K42) -> 188.24812 | O23: =SUM([1]ภาพรวม!K39) -> 65.76903 | P23: =SUM([1]ภาพรวม!K30) -> 89.032032 | Q23: =SUM([1]ภาพรวม!#REF!) -> #REF! | R23: =SUM([1]ภาพรวม!K49) -> 0 | S23: =SUM(N23+J23+E23+H23+F23+K23+C23+O23+L23+P23+G23+R23+D23+I23+M23) -> 8647.8848
B24: ร้อยละ | C24: =SUM(C23/C22) -> 1 | D24: =SUM(D23/D22) -> 1 | E24: =SUM(E23/E22) -> 0.99973068 | F24: =SUM(F23/F22) -> 0.98397968 | G24: =SUM(G23/G22) -> 0.89212524 | H24: =SUM(H23/H22) -> 0.80217595 | I24: =SUM([1]ภาพรวม!L24) -> 0.6786452 | J24: =SUM(J23/J22) -> 0.66644089 | K24: =SUM(K23/K22) -> 0.61323451 | L24: =SUM(L23/L22) -> 0.4716848 | M24: =SUM(M23/M22) -> 0.42810005 | N24: =SUM(N23/N22) -> 0.25326687 | O24: =SUM(O23/O22) -> 0.23654124 | P24: =SUM(P23/P22) -> 0.2314703 | Q24: =SUM(Q23/Q22) -> #REF! | R24: 0 | S24: =SUM(S23/S22) -> 0.69603581
A25: เพิ่มขึ้นจากสัปดาห์ก่อน | B25: ร้อยละ | C25: 0 | D25: 0 | E25: 0.01 | F25: 0.06 | G25: 0.002 | H25: 0.003 | I25: 0.002 | J25: 0 | K25: 0.02 | L25: 0.002 | M25: 0 | N25: 0.003 | O25: 0.07 | P25: 0.1 | Q25: 0.001 | R25: 0.21 | S25: 0.02
A26: รายงานโดย ส่วนงบประมาณ สำนักกองยุทธศาสตร์และแผนงาน สำนักงานปลัดกระทรวงทรัพยากรธรรมชาติและสิ่งแวดล้อม
