Workbook

Sheet ภาพรวม
A1: ผลการเบิกจ่ายงบประมาณ ปี 2564 (ภาพรวม)
A2: กระทรวงทรัพยากรธรรมชาติและสิ่งแวดล้อม
N3: ข้อมูลจากระบบ GFMIS ณ วันที่ 31 ธันวาคม 2563
A18: ลำดับที่ | C18: 1 | D18: 2 | E18: 3 | F18: 4 | G18: 5 | H18: 6 | I18: 7 | J18: 8 | K18: 9 | L18: 10 | M18: 11 | N18: 12 | O18: 13 | P18: 14 | Q18: 15
A19: หน่วยงาน | C19: อบก. | D19: อสพ. | E19: อส. | F19: สป.ทส. | G19: ทบ. | H19: อสส. | I19: สส. | J19: ทธ. | K19: ปม. | L19: ทช. | M19: ออป. | N19: คพ. | O19: สพภ. | P19: สผ. | Q19: ทน. | R19: รวมทั้งสิ้น
A20: แผนการเบิกจ่ายไตรมาสที่ 1 | B20: ร้อยละ | C20: =SUM(#REF!) -> #REF! | D20: =SUM(#REF!) -> #REF! | E20: =SUM(#REF!) -> #REF! | F20: =SUM(#REF!) -> #REF! | G20: =SUM(#REF!) -> #REF! | H20: =SUM(#REF!) -> #REF! | I20: =SUM(#REF!) -> #REF! | J20: =SUM(#REF!) -> #REF! | ... R20: =SUM(#REF!) -> #REF!
A21: งบประมาณ 62 ไปพลางก่อน | B21: ล้านบาท | C21: =SUM([1]ภาพรวม!F54) -> 141.0907 | D21: =SUM([1]ภาพรวม!F44) -> 160.1806 | E21: =SUM([1]ภาพรวม!F13) -> 10915.449 | F21: =SUM([1]ภาพรวม!F16) -> 1638.5896 | G21: =SUM([1]ภาพรวม!F19) -> 2032.5807 | H21: =SUM([1]ภาพรวม!F47) -> 806.313 | I21: =SUM([1]ภาพรวม!F22) -> 547.2615 | J21: =SUM([1]ภาพรวม!F25) -> 581.5959 | K21: =SUM([1]ภาพรวม!F28) -> 5177.3571 | L21: =SUM([1]ภาพรวม!F31) -> 1448.0562 | M21: =SUM([1]ภาพรวม!F50) -> 239.1521 | N21: =SUM([1]ภาพรวม!F34) -> 634.3169 | O21: =SUM([1]ภาพรวม!F57) -> 157.0388 | P21: =SUM([1]ภาพรวม!F37) -> 1179.9487 | Q21: =SUM([1]ภาพรวม!F40) -> 4882.4222 | R21: =SUM([1]ภาพรวม!F60) -> 30541.353
A22: งบประมาณที่ได้รับจัดสรร | B22: ล้านบาท | C22: =SUM([1]ภาพรวม!F54) -> 141.0907 | D22: =SUM([1]ภาพรวม!F44) -> 160.1806 | E22: =SUM([1]ภาพรวม!F13) -> 10915.449 | F22: =SUM([1]ภาพรวม!F16) -> 1638.5896 | G22: =SUM([1]ภาพรวม!F19) -> 2032.5807 | H22: =SUM([1]ภาพรวม!F47) -> 806.313 | I22: =SUM([1]ภาพรวม!F22) -> 547.2615 | J22: =SUM([1]ภาพรวม!F25) -> 581.5959 | K22: =SUM([1]ภาพรวม!F28) -> 5177.3571 | L22: =SUM([1]ภาพรวม!F31) -> 1448.0562 | M22: =SUM([1]ภาพรวม!F50) -> 239.1521 | N22: =SUM([1]ภาพรวม!F34) -> 634.3169 | O22: =SUM([1]ภาพรวม!F57) -> 157.0388 | P22: =SUM([1]ภาพรวม!F37) -> 1179.9487 | Q22: =SUM([1]ภาพรวม!F40) -> 4882.4222 | R22: =SUM(D22+H22+P22+M22+G22+O22+C22+Q22+L22+E22+F22+K22+J22+I22+N22) -> 30541.353
A23: ผลเบิกจ่าย | B23: ล้านบาท | C23: =SUM([1]ภาพรวม!K54) -> 33.343194 | D23: =SUM([1]ภาพรวม!K44) -> 28.858454 | E23: =SUM([1]ภาพรวม!K13) -> 1892.2239 | F23: =SUM([1]ภาพรวม!K16) -> 273.77247 | G23: =SUM([1]ภาพรวม!K19) -> 315.65471 | H23: =SUM([1]ภาพรวม!K47) -> 124.3202 | I23: =SUM([1]ภาพรวม!K22) -> 83.518748 | J23: =SUM([1]ภาพรวม!K25) -> 83.665944 | K23: =SUM([1]ภาพรวม!K28) -> 711.6787 | L23: =SUM([1]ภาพรวม!K31) -> 195.00257 | M23: =SUM([1]ภาพรวม!K50) -> 31.923254 | N23: =SUM([1]ภาพรวม!K34) -> 82.985493 | O23: =SUM([1]ภาพรวม!K57) -> 15.390218 | P23: =SUM([1]ภาพรวม!K37) -> 98.909824 | Q23: =SUM([1]ภาพรวม!K40) -> 252.39895 | R23: =SUM(D23+H23+P23+M23+G23+O23+C23+Q23+L23+E23+F23+K23+J23+I23+N23) -> 4223.6467
B24: ร้อยละ | C24: =SUM(C23/C22) -> 0.23632453 | D24: =SUM(D23/D22) -> 0.18016198 | E24: =SUM(E23/E22) -> 0.17335283 | F24: =SUM(F23/F22) -> 0.16707812 | G24: =SUM(G23/G22) -> 0.1552975 | H24: =SUM(H23/H22) -> 0.15418355 | I24: =SUM(I23/I22) -> 0.15261214 | J24: =SUM(J23/J22) -> 0.1438558 | ... R24: =SUM(R23/R22) -> 0.13829272
A25: รายงานโดย ส่วนงบประมาณ กองยุทธศาสตร์และแผนงาน สำนักงานปลัดกระทรวงทรัพยากรธรรมชาติและสิ่งแวดล้อม

Sheet รายจ่ายประจำ
A1: ผลการเบิกจ่ายงบประมาณ ปี 2564 (รายจ่ายประจำ)
A2: กระทรวงทรัพยากรธรรมชาติและสิ่งแวดล้อม
N3: ข้อมูลจากระบบ GFMIS ณ วันที่ 31 ธันวาคม 2563
A18: ลำดับที่ | C18: 1 | D18: 2 | E18: 3 | F18: 4 | G18: 5 | H18: 6 | I18: 7 | J18: 8 | K18: 9 | L18: 10 | M18: 11 | N18: 12 | O18: 13 | P18: 14 | Q18: 15
A19: หน่วยงาน | C19: อสส. | D19: อบก. | E19: ออป. | F19: ทบ. | G19: คพ. | H19: อส. | I19: สผ. | J19: สป.ทส. | K19: ทน. | L19: ปม. | M19: ทธ. | N19: อสพ. | O19: ทช. | P19: สส. | Q19: สพภ. | R19: รวมทั้งสิ้น
A20: งบประมาณ 62 พลางก่อน | B20: ล้านบาท | C20: =SUM([2]ภาพรวม!F48) -> 491.6703 | D20: =SUM([2]ภาพรวม!F55) -> 139.6208 | E20: =SUM([2]ภาพรวม!F51) -> 116.7381 | F20: =SUM([2]ภาพรวม!F20) -> 475.71166 | G20: =SUM([2]ภาพรวม!F35) -> 360.0726 | H20: =SUM([2]ภาพรวม!F14) -> 8365.0328 | I20: =SUM([2]ภาพรวม!F38) -> 439.6061 | J20: =SUM([2]ภาพรวม!F17) -> 1250.8566 | K20: =SUM([2]ภาพรวม!F41) -> 933.4631 | L20: =SUM([2]ภาพรวม!F29) -> 3461.3984 | M20: =SUM([2]ภาพรวม!F26) -> 426.4201 | N20: =SUM([2]ภาพรวม!F45) -> 160.1806 | O20: =SUM([2]ภาพรวม!F32) -> 874.9289 | P20: =SUM([2]ภาพรวม!F23) -> 503.59 | Q20: =SUM([2]ภาพรวม!F58) -> 153.769 | R20: =SUM(H20:Q20) -> 16569.246
A21: งบประมาณที่ได้รับจัดสรร | B21: ล้านบาท | C21: =SUM([2]ภาพรวม!F48) -> 491.6703 | D21: =SUM([2]ภาพรวม!F55) -> 139.6208 | E21: =SUM([2]ภาพรวม!F51) -> 116.7381 | F21: =SUM([2]ภาพรวม!F20) -> 475.71166 | G21: =SUM([2]ภาพรวม!F35) -> 360.0726 | H21: =SUM([2]ภาพรวม!F14) -> 8365.0328 | I21: =SUM([2]ภาพรวม!F38) -> 439.6061 | J21: =SUM([2]ภาพรวม!F17) -> 1250.8566 | K21: =SUM([2]ภาพรวม!F41) -> 933.4631 | L21: =SUM([2]ภาพรวม!F29) -> 3461.3984 | M21: =SUM([2]ภาพรวม!F26) -> 426.4201 | N21: =SUM([2]ภาพรวม!F45) -> 160.1806 | O21: =SUM([2]ภาพรวม!F32) -> 874.9289 | P21: =SUM([2]ภาพรวม!F23) -> 503.59 | Q21: =SUM([2]ภาพรวม!F58) -> 153.769 | R21: =SUM(N21+C21+G21+E21+D21+J21+Q21+F21+K21+H21+L21+O21+M21+P21+I21) -> 18153.059
A22: ผลเบิกจ่าย | B22: ล้านบาท | C22: =SUM([2]ภาพรวม!K48) -> 120.2177 | D22: =SUM([2]ภาพรวม!K55) -> 33.343194 | E22: =SUM([2]ภาพรวม!K51) -> 27.672454 | F22: =SUM([2]ภาพรวม!K20) -> 112.35256 | G22: =SUM([2]ภาพรวม!K35) -> 82.267897 | H22: =SUM([2]ภาพรวม!K14) -> 1854.6647 | I22: =SUM([2]ภาพรวม!K38) -> 97.276309 | J22: =SUM([2]ภาพรวม!K17) -> 273.19565 | K22: =SUM([2]ภาพรวม!K41) -> 203.57934 | L22: =SUM([2]ภาพรวม!K29) -> 707.83451 | M22: =SUM([2]ภาพรวม!K26) -> 79.346685 | N22: =SUM([2]ภาพรวม!K45) -> 28.858454 | O22: =SUM([2]ภาพรวม!K32) -> 153.07505 | P22: =SUM([2]ภาพรวม!K23) -> 82.95994 | Q22: =SUM([2]ภาพรวม!K58) -> 15.390218 | R22: =SUM(C22:Q22) -> 3872.0346
B23: ร้อยละ | C23: =SUM(C22/C21) -> 0.24450877 | D23: =SUM(D22/D21) -> 0.23881251 | E23: =SUM(E22/E21) -> 0.23704732 | F23: =SUM(F22/F21) -> 0.23617785 | G23: =SUM(G22/G21) -> 0.22847586 | H23: =SUM(H22/H21) -> 0.22171637 | I23: =SUM(I22/I21) -> 0.22128062 | J23: =SUM(J22/J21) -> 0.21840685 | ... R23: =SUM(R22/R21) -> 0.21329929
A24: รายงานโดย ส่วนงบประมาณ กองยุทธศาสตร์และแผนงาน สำนักงานปลัดกระทรวงทรัพยากรธรรมชาติและสิ่งแวดล้อม

Sheet รายจ่ายลงทุน
A1: ผลการเบิกจ่ายงบประมาณ ปี 2564 (รายจ่ายลงทุน)
A2: กระทรวงทรัพยากรธรรมชาติและสิ่งแวดล้อม
N3: ข้อมูลจากระบบ GFMIS ณ วันที่ 31 ธันวาคม 2563
A19: ลำดับที่ | C19: 1 | D19: 2 | E19: 3 | F19: 4 | G19: 5 | H19: 6 | I19: 7 | J19: 8 | K19: 9 | L19: 10 | M19: 11 | N19: 12 | O19: 13 | P19: 6 | Q19: 14 | R19: 15
A20: หน่วยงาน | C20: ทบ. | D20: ทช. | E20: ออป. | F20: ทธ. | G20: อส. | H20: อสส. | I20: สส. | J20: ทน. | K20: คพ. | L20: ปม. | M20: สผ. | N20: สป.ทส. | O20: อบก. | P20: อจน. | Q20: สพภ. | R20: อสพ. | S20: รวมทั้งสิ้น
A21: งบประมาณ 62 พลางก่อน | B21: ล้านบาท | C21: =SUM([1]ภาพรวม!F21) -> 1556.869 | D21: =SUM([1]ภาพรวม!F33) -> 573.1273 | E21: =SUM([1]ภาพรวม!F52) -> 122.414 | F21: =SUM([1]ภาพรวม!F27) -> 155.1758 | G21: =SUM([1]ภาพรวม!F15) -> 2550.4158 | H21: =SUM([1]ภาพรวม!F49) -> 314.6427 | I21: =SUM([1]ภาพรวม!F24) -> 43.6715 | J21: =SUM([1]ภาพรวม!F42) -> 3948.9591 | K21: =SUM([1]ภาพรวม!F36) -> 274.2443 | L21: =SUM([1]ภาพรวม!F30) -> 1715.9587 | M21: =SUM([1]ภาพรวม!F39) -> 740.3426 | N21: =SUM([1]ภาพรวม!F18) -> 387.733 | O21: =SUM([1]ภาพรวม!F56) -> 1.4699 | P21: =SUM([1]ภาพรวม!#REF!) -> #REF! | Q21: =SUM([1]ภาพรวม!F59) -> 3.2698 | R21: =SUM([1]ภาพรวม!F46) -> 0 | S21: =SUM(M21+E21+C21+J21+O21+K21+H21+N21+L21+G21+R21+D21+Q21+I21+F21) -> 12388.294
A22: งบประมาณที่ได้รับจัดสรร | B22: ล้านบาท | C22: =SUM([1]ภาพรวม!F21) -> 1556.869 | D22: =SUM([1]ภาพรวม!F33) -> 573.1273 | E22: =SUM([1]ภาพรวม!F52) -> 122.414 | F22: =SUM([1]ภาพรวม!F27) -> 155.1758 | G22: =SUM([1]ภาพรวม!F15) -> 2550.4158 | H22: =SUM([1]ภาพรวม!F49) -> 314.6427 | I22: =SUM([1]ภาพรวม!F24) -> 43.6715 | J22: =SUM([1]ภาพรวม!F42) -> 3948.9591 | K22: =SUM([1]ภาพรวม!F36) -> 274.2443 | L22: =SUM([1]ภาพรวม!F30) -> 1715.9587 | M22: =SUM([1]ภาพรวม!F39) -> 740.3426 | N22: =SUM([1]ภาพรวม!F18) -> 387.733 | O22: =SUM([1]ภาพรวม!F56) -> 1.4699 | Q22: =SUM([1]ภาพรวม!F59) -> 3.2698 | R22: =SUM([1]ภาพรวม!F46) -> 0 | S22: =SUM(C22:R22) -> 12388.294
A23: ผลเบิกจ่าย | B23: ล้านบาท | C23: =SUM([1]ภาพรวม!K21) -> 203.30215 | D23: =SUM([1]ภาพรวม!K33) -> 41.927524 | E23: =SUM([1]ภาพรวม!K52) -> 4.2508 | F23: =SUM([1]ภาพรวม!K27) -> 4.319259 | G23: =SUM([1]ภาพรวม!K15) -> 37.559253 | H23: =SUM([1]ภาพรวม!K49) -> 4.1025 | I23: =SUM([1]ภาพรวม!K24) -> 0.558808 | J23: =SUM([1]ภาพรวม!K42) -> 48.819611 | K23: =SUM([1]ภาพรวม!K36) -> 0.717596 | L23: =SUM([1]ภาพรวม!K30) -> 3.844189 | M23: =SUM([1]ภาพรวม!K39) -> 1.633515 | N23: =SUM([1]ภาพรวม!K18) -> 0.576823 | O23: =SUM([1]ภาพรวม!K56) -> 0 | P23: =SUM([1]ภาพรวม!#REF!) -> #REF! | Q23: =SUM([1]ภาพรวม!K59) -> 0 | R23: =SUM([1]ภาพรวม!K46) -> 0 | S23: =SUM(M23+D23+E23+G23+C23+J23+O23+K23+H23+N23+L23+R23+Q23+I23+F23) -> 351.61203
B24: ร้อยละ | C24: =SUM(C23/C22) -> 0.13058398 | D24: =SUM(D23/D22) -> 0.073155692 | E24: =SUM(E23/E22) -> 0.034724786 | F24: =SUM(F23/F22) -> 0.027834617 | G24: =SUM(G23/G22) -> 0.014726718 | H24: =SUM(H23/H22) -> 0.013038599 | I24: =SUM([1]ภาพรวม!L24) -> 0.012795713 | J24: =SUM(J23/J22) -> 0.012362653 | K24: =SUM(K23/K22) -> 0.0026166305 | L24: =SUM(L23/L22) -> 0.0022402573 | M24: =SUM(M23/M22) -> 0.0022064312 | N24: =SUM(N23/N22) -> 0.001487681 | O24: 0 | P24: =SUM(P23/P22) -> #REF! | Q24: 0 | R24: 0 | S24: =SUM(S23/S22) -> 0.028382604
A25: เพิ่มขึ้นจากสัปดาห์ก่อน | B25: ร้อยละ | C25: 0.06 | D25: 0 | E25: 0.01 | F25: 0 | G25: 0.003 | H25: 0.002 | I25: 0.002 | J25: 0.02 | K25: 0.07 | L25: 0.002 | M25: 0.003 | N25: 0.1 | O25: 0 | P25: 0.001 | Q25: 0 | R25: 0.21 | S25: 0.02
A26: รายงานโดย ส่วนงบประมาณ สำนักนโยบายและยุทธศาสตร์ สำนักงานปลัดกระทรวงทรัพยากรธรรมชาติและสิ่งแวดล้อม
