Workbook

Sheet รายเดือน
A1: สรุปปริมาณงานและรายได้ของสำนักงานที่ดินทั่วประเทศ ประจำปีงบประมาณ พ.ศ. 2561
A3: ปีงบฯ 2561 | C3: ปริมาณงานทั้งหมด | E3: รวมงานไม่มีรายได้ | G3: รวมงาน ทบ. | H3: รวมงาน รว. | I3: งานตรวจสอบหลักทรัพย์ (งานเสร็จ) | K3: ค่าธรรมเนียม | N3: ภาษีธุรกิจเฉพาะ | R3: ภาษีเงินได้ | U3: อากร | V3: รวมรายได้ทุกประเภท
C4: งานเกิด | D4: งานเสร็จ | E4: รวมงานเกิด | F4: รวมงานเสร็จ | G4: งานเสร็จ | H4: งานเสร็จ | I4: มีค่า ธน. | J4: ไม่มีค่า ธน. | K4: รายได้เข้ารัฐ | L4: รายได้ อปท. | M4: รวม | N4: ภาษีธุรกิจเฉพาะเรียกเก็บเพื่อกรมสรรพากร (3%) | O4: ภาษีธุรกิจเฉพาะเพื่อรายได้ส่วนท้องถิ่น (97% ของ0.3%) | P4: ค่าใช้จ่ายในการจัดเก็บภาษีอากรให้แก่ราชการส่วนท้องถิ่น (3%ของ0.3) | Q4: รวม | R4: บุคคล | S4: นิติบุคคล | T4: รวม
A5: ตุลาคม | B5: 60 | C5: 964677 | D5: 963449 | E5: 358698 | F5: 357364 | G5: 931626 | H5: 31823 | I5: 17466 | J5: 357364 | K5: 38346832 | L5: 2920367357 | M5: =K5+L5 -> 2958714189 | N5: 2281985577 | O5: 2.2138728e+08 | P5: 6749186.4 | Q5: =N5+O5+P5 -> 2.510122e+09 | R5: 1385012461 | S5: 527159398 | T5: =R5+S5 -> 1912171859 | U5: 363728294 | V5: =M5+Q5+T5+U5 -> 7.7447364e+09
A6: พฤศจิกายน | B6: 60 | C6: 1154016 | D6: 1155187 | E6: 471518 | F6: 471369 | G6: 1120063 | H6: 35124 | I6: 17020 | J6: 471369 | K6: 45078462 | L6: 3400264676 | M6: =K6+L6 -> 3445343138 | N6: 2582661343 | O6: 2.506501e+08 | P6: 7623541.8 | Q6: =N6+O6+P6 -> 2840934986 | R6: 1667487258 | S6: 649349924 | T6: =R6+S6 -> 2316837182 | U6: 430556776 | V6: =M6+Q6+T6+U6 -> 9033672082
A7: ธันวาคม | B7: 60 | C7: 967633 | D7: 965786 | E7: 310596 | F7: 310501 | G7: 936109 | H7: 29677 | I7: 12959 | J7: 310501 | K7: 42469931 | L7: 4342084677 | M7: =K7+L7 -> 4384554608 | N7: 3892293609 | O7: 3.775319e+08 | P7: 11672345 | Q7: =N7+O7+P7 -> 4281497855 | R7: 1704263348 | S7: 1044036851 | T7: =R7+S7 -> 2748300199 | U7: 506240042 | V7: =M7+Q7+T7+U7 -> 11920592704
A8: มกราคม | B8: 61 | C8: 1014146 | D8: 1003707 | E8: 361003 | F8: 360583 | G8: 969946 | H8: 33761 | I8: 16547 | J8: 360583 | K8: 39468838 | L8: 2732807139 | M8: =K8+L8 -> 2772275977 | N8: 1.7947488e+09 | O8: 1.6925584e+08 | P8: 10220719 | Q8: =N8+O8+P8 -> 1.9742254e+09 | R8: 1490982978 | S8: 418241157 | T8: =R8+S8 -> 1909224135 | U8: 4.0048372e+08 | V8: =M8+Q8+T8+U8 -> 7.0562092e+09
A9: กุมภาพันธ์ | B9: 61 | C9: 1071534 | D9: 1064601 | E9: 415714 | F9: 415542 | G9: 1031793 | H9: 32808 | I9: 16562 | J9: 415542 | K9: 41439880 | L9: 2716751479 | M9: =K9+L9 -> 2758191359 | N9: 1.9159777e+09 | O9: 1.859514e+08 | P9: 5667789.6 | Q9: =N9+O9+P9 -> 2.1075969e+09 | R9: 1538181980 | S9: 446542137 | T9: =R9+S9 -> 1984724117 | U9: 417541382 | V9: =M9+Q9+T9+U9 -> 7268053773
A10: มีนาคม | B10: 61 | C10: 1122970 | D10: 1117257 | E10: 345085 | F10: 345054 | G10: 1082505 | H10: 34752 | I10: 18996 | J10: 345054 | K10: 48210936 | L10: 3805642659 | M10: =K10+L10 -> 3853853595 | N10: 3105609244 | O10: 3.0140377e+08 | P10: 9192418.7 | Q10: =N10+O10+P10 -> 3416205430 | R10: 1917472745 | S10: 761792531 | T10: =R10+S10 -> 2679265276 | U10: 451201747 | V10: =M10+Q10+T10+U10 -> 10400526048
A11: เมษายน | B11: 61 | C11: 1069961 | D11: 1057256 | E11: 462798 | F11: 461996 | G11: 1027897 | H11: 29359 | I11: 16658 | J11: 461996 | K11: 37013777 | L11: 2789727114 | M11: =K11+L11 -> 2826740891 | N11: 2178723152 | O11: 2.1132752e+08 | P11: 6553347.9 | Q11: =N11+O11+P11 -> 2396604021 | R11: 1508411184 | S11: 531575012 | T11: =R11+S11 -> 2039986196 | U11: 402828676 | V11: =M11+Q11+T11+U11 -> 7666159784
A12: พฤษภาคม | B12: 61 | C12: 1248866 | D12: 1246973 | E12: 474582 | F12: 474849 | G12: 1206774 | H12: 40199 | I12: 20510 | J12: 474849 | K12: 53182174 | L12: 3296440584 | M12: =K12+L12 -> 3349622758 | N12: 2456405600 | O12: 2.3817866e+08 | P12: 7463583.9 | Q12: =N12+O12+P12 -> 2702047846 | R12: 1768836367 | S12: 578899501 | T12: =R12+S12 -> 2347735868 | U12: 460343050 | V12: =M12+Q12+T12+U12 -> 8859749522
A13: มิถุนายน | B13: 61 | C13: 1211003 | D13: 1221375 | E13: 444656 | F13: 444802 | G13: 1178090 | H13: 43285 | I13: 21369 | J13: 444802 | K13: 49954318 | L13: 4206671942 | M13: =K13+L13 -> 4256626260 | N13: 3496167181 | O13: 3.3936965e+08 | P13: 10365739 | Q13: =N13+O13+P13 -> 3845902572 | R13: 1690651037 | S13: 924134893 | T13: =R13+S13 -> 2614785930 | U13: 459360160 | V13: =M13+Q13+T13+U13 -> 11176674922
A14: กรกฎาคม | B14: 61 | C14: 1136823 | D14: 1140142 | E14: 475229 | F14: 475351 | G14: 1107273 | H14: 32869 | I14: 19928 | J14: 475351 | K14: 44524004 | L14: 3065837862 | M14: =K14+L14 -> 3110361866 | N14: 2437678101 | O14: 2.3650961e+08 | P14: 7331289.4 | Q14: =N14+O14+P14 -> 2681519001 | R14: 1464845916 | S14: 608482254 | T14: =R14+S14 -> 2073328170 | U14: 389686024 | V14: =M14+Q14+T14+U14 -> 8254895061
A15: สิงหาคม | B15: 61 | C15: 1272159 | D15: 1273378 | E15: 518369 | F15: 518159 | G15: 1236461 | H15: 36917 | I15: 20955 | J15: 518153 | K15: 50647206 | L15: 3530877055 | M15: =K15+L15 -> 3581524261 | N15: 2743259709 | O15: 2.6619556e+08 | P15: 8132716.3 | Q15: =N15+O15+P15 -> 3.017588e+09 | R15: 1965614040 | S15: 683631735 | T15: =R15+S15 -> 2649245775 | U15: 476312291 | V15: =M15+Q15+T15+U15 -> 9.7246703e+09
A16: กันยายน | B16: 61 | C16: 1188496 | D16: 1193589 | E16: 502805 | F16: 502790 | G16: 1156803 | H16: 36786 | I16: 22697 | J16: 502786 | K16: 48250292 | L16: 3456583197 | M16: =K16+L16 -> 3504833489 | N16: 2819504091 | O16: 2.7359373e+08 | P16: 8358159.5 | Q16: =N16+O16+P16 -> 3101455985 | R16: 1537595495 | S16: 733423330 | T16: =R16+S16 -> 2271018825 | U16: 416805701 | V16: =M16+Q16+T16+U16 -> 9294114000
A17: รวม | C17: =SUM(C5:C16) -> 13422284 | D17: =SUM(D5:D16) -> 13402700 | E17: =SUM(E5:E16) -> 5141053 | F17: =SUM(F5:F16) -> 5138360 | G17: =SUM(G5:G16) -> 12985340 | H17: =SUM(H5:H16) -> 417360 | I17: =SUM(I5:I16) -> 221667 | J17: =SUM(J5:J16) -> 5138350 | ... L17: =SUM(L5:L16) -> 40264055741 | M17: =K17+L17 -> 40802642391 | N17: =SUM(N5:N16) -> 3.1705014e+10 | O17: =SUM(O5:O16) -> 3.071355e+09 | P17: =SUM(P5:P16) -> 99330837 | Q17: =SUM(Q5:Q16) -> 3.48757e+10 | R17: =SUM(R5:R16) -> 19639354809 | S17: =SUM(S5:S16) -> 7907268723 | T17: =R17+S17 -> 27546623532 | U17: =SUM(U5:U16) -> 5.1750879e+09 | V17: =SUM(V5:V16) -> 1.0840005e+11
A18: เฉลี่ยต่อเดือน | C18: =C17/12 -> 1118523.7 | D18: =D17/12 -> 1116891.7 | E18: =E17/12 -> 428421.08 | F18: =F17/12 -> 428196.67 | G18: =G17/12 -> 1082111.7 | H18: =H17/12 -> 34780 | I18: =I17/12 -> 18472.25 | J18: =J17/12 -> 428195.83 | ... V18: =V17/12 -> 9.0333378e+09
U19: ข้อมูล ณ 9 พฤศจิกายน 2561 (ปิดงบ)

Sheet สรุปรายได้ปี61(งานเกิด-เสร็จ)
B1: สถิติปริมาณงาน และการจัดเก็บรายได้ของกรมที่ดิน
B2: ปีงบประมาณ 2561 ตั้งแต่ 1 ตุลาคม 2560 - 30 กันยายน 2561
B3: ประเภทรายได้ | C3: ปริมาณงานและรายได้
C5: ปริมาณงาน (ราย) | E5: บาท
C6: งานเกิด | D6: งานเสร็จ
B7: 1. ค่าธรรมเนียม | C7: =รายเดือน!C17 -> 13422284 | D7: =รายเดือน!D17 -> 13402700 | E7: =E8+E9 -> 40802642391
B8: 1.1 รายได้เข้ารัฐ | E8: =รายเดือน!K17 -> 538586650
B9: 1.2 รายได้ค่าธรรมเนียมที่ดินและค่าจดทะเบียนอสังหาริมทรัพย์ที่จัดเก็บ เพื่อองค์กรปกครองส่วนท้องถิ่น | E9: =รายเดือน!L17 -> 40264055741
B10: 2. ค่าภาษีเงินได้หัก ณ ที่จ่าย | E10: =รายเดือน!T17 -> 27546623532
B11: 3. ค่าภาษีธุรกิจเฉพาะ | E11: =E12+E13+E14 -> 3.48757e+10
B12: 3.1ภาษีธุรกิจเฉพาะเรียกเก็บเพื่อกรมสรรพากร (3%) | E12: =รายเดือน!N17 -> 3.1705014e+10
B13: 3.2 ภาษีธุรกิจเฉพาะเพื่อรายได้ส่วนท้องถิ่น (97%ของ0.3) | E13: =รายเดือน!O17 -> 3.071355e+09
B14: 3.3 ค่าใช้จ่ายในการจัดเก็บภาษีอากรให้แก่ราชการส่วนท้องถิ่น (3%ของ0.3) | E14: =รายเดือน!P17 -> 99330837
B15: 4. ค่าอากร | E15: =รายเดือน!U17 -> 5.1750879e+09
B16: รวม | E16: =E7+E10+E11+E15 -> 1.0840005e+11
E17: กองแผนงาน กลุ่มข้อมูลและสถิติ
E18: ข้อมูล ณ วันที่ 9 พฤศจิกายน 2561 (ปิดงบ)

Sheet สรุปรายได้ปี61 (งานทบ.-รว.)
B1: สถิติปริมาณงาน และการจัดเก็บรายได้ของกรมที่ดิน
B2: ='สรุปรายได้ปี61(งานเกิด-เสร็จ)'!B2:F2 -> ปีงบประมาณ 2561 ตั้งแต่ 1 ตุลาคม 2560 - 30 กันยายน 2561
B3: ประเภทรายได้ | C3: ปริมาณงานและรายได้
C5: ปริมาณงาน (เสร็จ) | E5: บาท
C6: งานทะเบียน (ราย) | D6: งานรังวัด (ราย)
B7: 1. ค่าธรรมเนียม | C7: =รายเดือน!G17 -> 12985340 | D7: =รายเดือน!H17 -> 417360 | E7: =E8+E9 -> 40802642391
B8: 1.1 รายได้เข้ารัฐ | E8: =รายเดือน!K17 -> 538586650
B9: 1.2 รายได้ค่าธรรมเนียมที่ดินและค่าจดทะเบียนอสังหาริมทรัพย์ที่จัดเก็บ เพื่อองค์กรปกครองส่วนท้องถิ่น | E9: =รายเดือน!L17 -> 40264055741
B10: 2. ค่าภาษีเงินได้หัก ณ ที่จ่าย | E10: =รายเดือน!T17 -> 27546623532
B11: 3. ค่าภาษีธุรกิจเฉพาะ | E11: =E12+E13+E14 -> 3.48757e+10
B12: 3.1ภาษีธุรกิจเฉพาะเรียกเก็บเพื่อกรมสรรพากร (3%) | E12: =รายเดือน!N17 -> 3.1705014e+10
B13: 3.2 ภาษีธุรกิจเฉพาะเพื่อรายได้ส่วนท้องถิ่น (97%ของ0.3) | E13: =รายเดือน!O17 -> 3.071355e+09
B14: 3.3 ค่าใช้จ่ายในการจัดเก็บภาษีอากรให้แก่ราชการส่วนท้องถิ่น (3%ของ0.3) | E14: =รายเดือน!P17 -> 99330837
B15: 4. ค่าอากร | E15: =รายเดือน!U17 -> 5.1750879e+09
B16: รวม | C16: =C7+D7 -> 13402700 | E16: =E7+E10+E11+E15 -> 1.0840005e+11
E17: กองแผนงาน กลุ่มข้อมูลและสถิติ
B18: หมายเหตุ : ปริมาณด้านงานทะเบียน มีจำนวน | C18: =C7 -> 12985340 | D18: ราย | E18: ='สรุปรายได้ปี61(งานเกิด-เสร็จ)'!E18 -> ข้อมูล ณ วันที่ 9 พฤศจิกายน 2561 (ปิดงบ)
B19: ได้รวมงานตรวจสอบหลักทรัพย์ - มี่ค่าธรรเนียม จำนวน | C19: =รายเดือน!I17 -> 221667 | D19: ราย
B20: - ไม่มีค่าธรรมเนียม จำนวน | C20: =รายเดือน!J17 -> 5138350 | D20: ราย

Sheet สรุปปี61(ทบ.-รว.ไม่แตกปภ.รายได้
B1: ปริมาณงาน และการจัดเก็บรายได้ของสำนักงานที่ดิน
B2: ปีงบประมาณ พ.ศ. 2561
B4: ประเภทรายได้ | D4: ปริมาณงาน (งานเสร็จ) | F4: รายได้
D5: งานทะเบียน | E5: งานรังวัด | F5: บาท
C6: 1. ค่าธรรมเนียม | D6: =รายเดือน!G17 -> 12985340 | E6: =รายเดือน!H17 -> 417360 | F6: =F7+F9 -> 40802642391
C7: 1.1 รายได้เข้ารัฐ | F7: =รายเดือน!K17 -> 538586650
C8: 1.2 เงินสนับสนุนงบประมาณ | F8: 0
C9: 1.3 รายได้นำส่งท้องถิ่น | F9: =รายเดือน!L17 -> 40264055741
C10: 2. ค่าภาษีเงินได้หัก ณ ที่จ่าย | F10: =รายเดือน!T17 -> 27546623532
C11: 3. ค่าภาษีธุรกิจเฉพาะ | F11: =รายเดือน!Q17 -> 3.48757e+10
C12: 4. ค่าอากรแสตมป์ | F12: =รายเดือน!U17 -> 5.1750879e+09
B14: รวม | D14: =SUM(D6+E6) -> 13402700 | F14: =SUM(F6+F10+F11+F12) -> 1.0840005e+11
B16: หมายเหตุ : ภาษีธุรกิจเฉพาะเริ่มจัดเก็บ ตั้งแต่กุมภาพันธ์ 2542
C17: : รายได้องค์กรปกครองส่วนท้องถิ่น ( อบต.,เทศบาล,เมืองพัทยา,กรุงเทพมหานคร) เริ่มจัดเก็บตั้งแต่มิถุนายน 2543
