Workbook

Sheet สรุป ชน.(1)
A1: สรุปข้อมูลหน่วยโครงการในความรับผิดชอบและข้อมูลประชากร ฝ่าย ชน. (ณ วันที่ 12 พฤษภาคม 2566)
A3: ลำดับ | B3: หน่วยงาน/สังกัด | C3: จำนวนโครงการ | D3: จำนวนหน่วยตามประเภทโครงการ (ไม่รวมเช่าจัดประโยชน์) | G3: ประเภทโครงการ | I3: จำนวนหน่วยตามสัญญา | Q3: อาคารคงเหลือ | U3: ข้อมูลประชากร | V3: หมายเหตุ
D4: หน่วยก่อสร้าง | E4: โครงการเพื่อเช่า | F4: โครงการเพื่อขาย | G4: เชิงสังคม | H4: เชิงพาณิชย์ | I4: เช่า | J4: เช่าเหมา | K4: เช่าจัดประโยชน์ | L4: เช่าซื้อ | M4: จะซื้อจะขาย | N4: ติดค้ำประกัน | O4: รอโอนกรรมสิทธิ์ | P4: โอนกรรมสิทธิ์ | Q4: ว่างพร้อมขาย | R4: ว่างไม่พร้อมขาย | S4: บ้านพักพนักงาน | T4: รวม | U4: จำนวนผู้อยู่อาศัยในชุมชน
B5: กอง ภน.1
A6: 1 | B6: สคจ.เชียงใหม่ สาขา 1 | C6: ='สรุป ชน.(2)'!D23 -> 15 | D6: ='สรุป ชน.(2)'!F23 -> 6968 | E6: ='สรุป ชน.(2)'!G23 -> 324 | F6: ='สรุป ชน.(2)'!H23 -> 6644 | G6: ='สรุป ชน.(2)'!I23 -> 6803 | H6: ='สรุป ชน.(2)'!J23 -> 165 | I6: ='สรุป ชน.(2)'!K23 -> 16 | J6: ='สรุป ชน.(2)'!L23 -> 0 | K6: ='สรุป ชน.(2)'!M23 -> 0 | ... U6: ='สรุป ชน.(2)'!W23 -> 22043
A7: 2 | B7: สคจ.เชียงใหม่ สาขา 2 | C7: ='สรุป ชน.(2)'!D48 -> 20 | D7: ='สรุป ชน.(2)'!F48 -> 7057 | E7: ='สรุป ชน.(2)'!G48 -> 188 | F7: ='สรุป ชน.(2)'!H48 -> 6869 | G7: ='สรุป ชน.(2)'!I48 -> 7057 | H7: ='สรุป ชน.(2)'!J48 -> 0 | I7: ='สรุป ชน.(2)'!K48 -> 116 | J7: ='สรุป ชน.(2)'!L48 -> 75 | K7: ='สรุป ชน.(2)'!M48 -> 0 | ... U7: ='สรุป ชน.(2)'!W48 -> 8090
A8: 3 | B8: สคจ.เชียงราย | C8: ='สรุป ชน.(2)'!D64 -> 11 | D8: ='สรุป ชน.(2)'!F64 -> 3359 | E8: ='สรุป ชน.(2)'!G64 -> 398 | F8: ='สรุป ชน.(2)'!H64 -> 2961 | G8: ='สรุป ชน.(2)'!I64 -> 3319 | H8: ='สรุป ชน.(2)'!J64 -> 40 | I8: ='สรุป ชน.(2)'!K64 -> 306 | J8: ='สรุป ชน.(2)'!L64 -> 0 | K8: ='สรุป ชน.(2)'!M64 -> 2 | ... U8: ='สรุป ชน.(2)'!W64 -> 10076
A9: 4 | B9: สคจ.ลำปาง | C9: ='สรุป ชน.(2)'!D93 -> 11 | D9: ='สรุป ชน.(2)'!F93 -> 3604 | E9: ='สรุป ชน.(2)'!G93 -> 364 | F9: ='สรุป ชน.(2)'!H93 -> 3240 | G9: ='สรุป ชน.(2)'!I93 -> 3604 | H9: ='สรุป ชน.(2)'!J93 -> 0 | I9: ='สรุป ชน.(2)'!K93 -> 142 | J9: ='สรุป ชน.(2)'!L93 -> 0 | K9: ='สรุป ชน.(2)'!M93 -> 0 | ... U9: ='สรุป ชน.(2)'!W93 -> 8370
A10: 5 | B10: สคจ.อุตรดิตถ์ | C10: ='สรุป ชน.(2)'!D102 -> 6 | D10: ='สรุป ชน.(2)'!F102 -> 1711 | E10: ='สรุป ชน.(2)'!G102 -> 1 | F10: ='สรุป ชน.(2)'!H102 -> 1710 | G10: ='สรุป ชน.(2)'!I102 -> 1711 | H10: ='สรุป ชน.(2)'!J102 -> 0 | I10: ='สรุป ชน.(2)'!K102 -> 12 | J10: ='สรุป ชน.(2)'!L102 -> 0 | K10: ='สรุป ชน.(2)'!M102 -> 0 | ... U10: ='สรุป ชน.(2)'!W102 -> 1095
B11: รวม กอง ภน.1 | C11: 63 | D11: =SUM(D6:D10) -> 22699 | E11: =SUM(E6:E10) -> 1275 | F11: =SUM(F6:F10) -> 21424 | G11: =SUM(G6:G10) -> 22494 | H11: =SUM(H6:H10) -> 205 | I11: =SUM(I6:I10) -> 592 | J11: =SUM(J6:J10) -> 75 | K11: =SUM(K6:K10) -> 2 | ... U11: =SUM(U6:U10) -> 49674
B12: กอง ภน.2
A13: 1 | B13: สคจ.ลพบุรี | C13: ='สรุป ชน.(2)'!D118 -> 10 | D13: ='สรุป ชน.(2)'!F118 -> 3221 | E13: ='สรุป ชน.(2)'!G118 -> 355 | F13: ='สรุป ชน.(2)'!H118 -> 2866 | G13: ='สรุป ชน.(2)'!I118 -> 3221 | H13: ='สรุป ชน.(2)'!J118 -> 0 | I13: ='สรุป ชน.(2)'!K118 -> 355 | J13: ='สรุป ชน.(2)'!L118 -> 0 | K13: ='สรุป ชน.(2)'!M118 -> 0 | ... U13: ='สรุป ชน.(2)'!W118 -> 11136
A14: 2 | B14: สคจ.นครสวรรค์ | C14: ='สรุป ชน.(2)'!D135 -> 12 | D14: ='สรุป ชน.(2)'!F135 -> 3373 | E14: ='สรุป ชน.(2)'!G135 -> 475 | F14: ='สรุป ชน.(2)'!H135 -> 2898 | G14: ='สรุป ชน.(2)'!I135 -> 3355 | H14: ='สรุป ชน.(2)'!J135 -> 18 | I14: ='สรุป ชน.(2)'!K135 -> 213 | J14: ='สรุป ชน.(2)'!L135 -> 0 | K14: ='สรุป ชน.(2)'!M135 -> 0 | ... U14: ='สรุป ชน.(2)'!W135 -> 8256
A15: 3 | B15: สคจ.เพชรบูรณ์ | C15: ='สรุป ชน.(2)'!D152 -> 10 | D15: ='สรุป ชน.(2)'!F152 -> 2043 | E15: ='สรุป ชน.(2)'!G152 -> 70 | F15: ='สรุป ชน.(2)'!H152 -> 1973 | G15: ='สรุป ชน.(2)'!I152 -> 1970 | H15: ='สรุป ชน.(2)'!J152 -> 72 | I15: ='สรุป ชน.(2)'!K152 -> 29 | J15: ='สรุป ชน.(2)'!L152 -> 0 | K15: ='สรุป ชน.(2)'!M152 -> 1 | ... U15: ='สรุป ชน.(2)'!W152 -> 3690
A16: 4 | B16: สคจ.พิษณุโลก | C16: ='สรุป ชน.(2)'!D171 -> 14 | D16: ='สรุป ชน.(2)'!F171 -> 3116 | E16: ='สรุป ชน.(2)'!G171 -> 223 | F16: ='สรุป ชน.(2)'!H171 -> 2893 | G16: ='สรุป ชน.(2)'!I171 -> 3116 | H16: ='สรุป ชน.(2)'!J171 -> 0 | I16: ='สรุป ชน.(2)'!K171 -> 143 | J16: ='สรุป ชน.(2)'!L171 -> 78 | K16: ='สรุป ชน.(2)'!M171 -> 0 | ... U16: ='สรุป ชน.(2)'!W171 -> 7960
A17: 5 | B17: สคจ.สระบุรี | C17: ='สรุป ชน.(2)'!D189 -> 13 | D17: ='สรุป ชน.(2)'!F189 -> 3075 | E17: ='สรุป ชน.(2)'!G189 -> 56 | F17: ='สรุป ชน.(2)'!H189 -> 3019 | G17: ='สรุป ชน.(2)'!I189 -> 3075 | H17: ='สรุป ชน.(2)'!J189 -> 0 | I17: ='สรุป ชน.(2)'!K189 -> 292 | J17: ='สรุป ชน.(2)'!L189 -> 0 | K17: ='สรุป ชน.(2)'!M189 -> 0 | ... U17: ='สรุป ชน.(2)'!W189 -> 5280
A18: 6 | B18: สคจ.กำแพงเพชร | C18: ='สรุป ชน.(2)'!D204 -> 10 | D18: ='สรุป ชน.(2)'!F204 -> 2001 | E18: ='สรุป ชน.(2)'!G204 -> 155 | F18: ='สรุป ชน.(2)'!H204 -> 1846 | G18: ='สรุป ชน.(2)'!I204 -> 1975 | H18: ='สรุป ชน.(2)'!J204 -> 26 | I18: ='สรุป ชน.(2)'!K204 -> 61 | J18: ='สรุป ชน.(2)'!L204 -> 79 | K18: ='สรุป ชน.(2)'!M204 -> 0 | ... U18: ='สรุป ชน.(2)'!W204 -> 6343
B19: กอง ภน.2 | C19: 69 | D19: =SUM(D13:D18) -> 16829 | E19: =SUM(E13:E18) -> 1334 | F19: =SUM(F13:F18) -> 15495 | G19: =SUM(G13:G18) -> 16712 | H19: =SUM(H13:H18) -> 116 | I19: =SUM(I13:I18) -> 1093 | J19: =SUM(J13:J18) -> 157 | K19: =SUM(K13:K18) -> 1 | ... U19: =SUM(U13:U18) -> 42665
B20: รวม ฝ่าย ชน. | C20: =SUM(C19+C11) -> 132 | D20: =SUM(D19+D11) -> 39528 | E20: =SUM(E19+E11) -> 2609 | F20: =SUM(F19+F11) -> 36919 | G20: =SUM(G19+G11) -> 39206 | H20: =SUM(H19+H11) -> 321 | I20: =SUM(I19+I11) -> 1685 | J20: =SUM(J19+J11) -> 232 | ... U20: =SUM(U19+U11) -> 92339

Sheet สรุป ชน.(2)
A1: ข้อมูลหน่วยโครงการในความรับผิดชอบและข้อมูลประชากร ฝ่าย ชน.
A2: ลำดับ | B2: หน่วยงาน/สังกัด | C2: ชื่อโครงการ | D2: รหัสโครงการ | E2: ลักษณะอาคาร | F2: จำนวนหน่วยตามประเภทโครงการ (ไม่รวมเช่าจัดประโยชน์) | I2: ประเภทโครงการ | K2: จำนวนหน่วยตามสัญญา | S2: อาคารคงเหลือ | W2: ข้อมูลประชากร | X2: หมายเหตุ
F3: หน่วยก่อสร้าง | G3: โครงการเพื่อเช่า | H3: โครงการเพื่อขาย | I3: เชิงสังคม | J3: เชิงพาณิชย์ | K3: เช่า | L3: เช่าเหมา | M3: เช่าจัดประโยชน์ | N3: เช่าซื้อ | O3: จะซื้อจะขาย | P3: ติดค้ำประกัน | Q3: รอโอนกรรมสิทธิ์ | R3: โอนกรรมสิทธิ์ | S3: ว่างพร้อมขาย | T3: ว่างไม่พร้อมขาย | U3: บ้านพักพนักงาน | V3: รวม | W3: จำนวนผู้อยู่อาศัยในชุมชน
A4: 1 | B4: สคจ.เชียงใหม่ สาขา 1 | C4: โครงการเคหะชุมชน
C5: โครงการเชียงใหม่ ระยะ 1 | D5: I00095 | E5: บ้านเดี่ยว/ บ้านแฝด 2 ชั้น | F5: 209 | H5: 209 | I5: 209 | K5: - | L5: - | M5: - | N5: - | O5: - | P5: - | Q5: - | R5: 209 | S5: - | T5: - | U5: - | V5: =SUM(S5:U5) -> 0 | W5: 836
C6: โครงการเชียงใหม่ ระยะ 2 | D6: I00096 | E6: บ้านแถวชั้นเดียว/ บ้านแฝดชั้นเดียว/ บ้านพร้อมส้วม | F6: 869 | H6: 869 | I6: 869 | K6: - | L6: - | M6: - | N6: 1 | O6: - | P6: - | Q6: 1 | R6: 867 | S6: - | T6: - | U6: - | V6: =SUM(S6:U6) -> 0 | W6: 3476
C7: โครงการอาคารเช่า
C8: เคหะชุมชนเชียงใหม่ ระยะ 3 | D8: I39020 | E8: อาคารชุด 5 ชั้น | F8: 324 | G8: 324 | I8: 324 | K8: 15 | L8: - | M8: - | N8: - | O8: - | P8: - | Q8: - | R8: - | S8: 104 | T8: 190 | U8: 15 | V8: =SUM(S8:U8) -> 309 | W8: 380
C9: โครงการบ้านเอื้ออาทร
C10: เชียงใหม่ (สันกำแพง) | D10: I46030 | E10: บ้านเดี่ยว/ บ้านแฝด 2 ชั้น | F10: 1327 | H10: 1327 | I10: 1327 | K10: - | L10: - | M10: - | N10: 59 | O10: - | P10: - | Q10: 34 | R10: 1233 | S10: 1 | T10: - | U10: - | V10: =SUM(S10:U10) -> 1 | W10: 5388
C11: เชียงใหม่ (หนองหอย 1) | D11: I46029 | E11: อาคารชุด 5 ชั้น | F11: 596 | H11: 596 | I11: 596 | K11: 1 | L11: - | M11: - | N11: 8 | O11: - | P11: - | Q11: 1 | R11: 586 | S11: - | T11: - | U11: - | V11: =SUM(S11:U11) -> 0
C12: เชียงใหม่ (สันผีเสื้อ) | D12: I49274 | E12: อาคารชุด 4 ชั้น | F12: 746 | H12: 746 | I12: 746 | K12: - | L12: - | M12: - | N12: 30 | O12: - | P12: - | Q12: 41 | R12: 673 | S12: - | T12: 2 | U12: - | V12: =SUM(S12:U12) -> 2 | W12: 2238
C13: เชียงใหม่ (หนองหอย 2) | D13: I46031 | E13: อาคารชุด 5 ชั้น | F13: 1140 | H13: 1140 | I13: 1140 | K13: - | L13: - | M13: - | N13: 18 | O13: - | P13: - | Q13: 27 | R13: 1095 | S13: - | T13: - | U13: - | V13: =SUM(S13:U13) -> 0 | W13: 4560
C14: เชียงใหม่ (สันผีเสื้อ) เฟส 2 | D14: I53008 | E14: อาคารชุด 4 ชั้น | F14: 306 | H14: 306 | I14: 306 | K14: - | L14: - | M14: - | N14: 11 | O14: - | P14: - | Q14: 34 | R14: 261 | S14: - | T14: - | U14: - | V14: =SUM(S14:U14) -> 0 | W14: 1224
C15: เชียงใหม่ (ซ.เจ้าแม่กวนอิม) | D15: I50006 | E15: อาคารชุด 5 ชั้น | F15: 582 | H15: 582 | I15: 582 | K15: - | L15: - | M15: - | N15: 14 | O15: - | P15: - | Q15: 5 | R15: 563 | S15: - | T15: - | U15: - | V15: =SUM(S15:U15) -> 0 | W15: 1746
C16: โครงการเคหะชุมชนและบริการชุมชน (Pack)
C17: จ.เชียงใหม่ (สันผีเสื้อ) ส่วนที่ 2 | D17: I58012 | E17: อาคารชุด 4 ชั้น | F17: 528 | H17: 528 | I17: 528 | K17: - | L17: - | M17: - | N17: 220 | O17: 1 | P17: - | Q17: 3 | R17: 304 | S17: - | T17: - | U17: - | V17: =SUM(S17:U17) -> 0 | W17: 1584
C18: จ.เชียงใหม่ (สันผีเสื้อ) ส่วนที่ 1 | D18: I58016 | E18: อาคารชุด 4 ชั้น | F18: 176 | H18: 176 | I18: 176 | K18: - | L18: - | M18: - | N18: 83 | O18: - | P18: - | Q18: 1 | R18: 92 | S18: - | T18: - | U18: - | V18: =SUM(S18:U18) -> 0 | W18: 528
C19: จ.เชียงใหม่-สันกำแพง ระยะ 1 ส่วนที่ 1 | D19: I59035 | E19: บ้านเดี่ยว 2 ชั้น | F19: 53 | H19: 53 | J19: 53 | K19: - | L19: - | M19: - | N19: 4 | O19: 1 | P19: - | Q19: - | R19: 13 | S19: 33 | T19: 2 | U19: - | V19: =SUM(S19:U19) -> 35 | W19: 51
C20: จ.เชียงใหม่-สันกำแพง ระยะ 1 ส่วนที่ 2 | D20: I59036 | E20: บ้านเดี่ยว 2 ชั้น | F20: 45 | H20: 45 | J20: 45 | K20: - | L20: - | M20: - | N20: 3 | O20: - | P20: - | Q20: - | R20: 2 | S20: 40 | T20: - | U20: - | V20: =SUM(S20:U20) -> 40 | W20: 12
C21: จ.เชียงใหม่-สันกำแพง ระยะ 1 ส่วนที่ 3 | D21: I59037 | E21: บ้านเดี่ยว 2 ชั้น | F21: 34 | H21: 34 | J21: 34 | K21: - | L21: - | M21: - | N21: 1 | O21: - | P21: - | Q21: - | R21: 6 | S21: 26 | T21: 1 | U21: - | V21: =SUM(S21:U21) -> 27 | W21: 14
C22: จ.เชียงใหม่-สันกำแพง ระยะ 1 ส่วนที่ 4 | D22: I59038 | E22: บ้านเดี่ยว 2 ชั้น | F22: 33 | H22: 33 | J22: 33 | K22: - | L22: - | M22: - | N22: 1 | O22: - | P22: - | Q22: - | R22: 3 | S22: 29 | T22: - | U22: - | V22: =SUM(S22:U22) -> 29 | W22: 6
C23: รวม สคจ.เชียงใหม่ สาขา 1 | D23: =COUNTA(D5:D22) -> 15 | F23: =SUM(F4:F22) -> 6968 | G23: =SUM(G4:G22) -> 324 | H23: =SUM(H4:H22) -> 6644 | I23: =SUM(I4:I22) -> 6803 | J23: =SUM(J4:J22) -> 165 | K23: =SUM(K4:K22) -> 16 | L23: =SUM(L4:L22) -> 0 | M23: =SUM(M4:M22) -> 0 | ... W23: =SUM(W4:W22) -> 22043
A24: 2 | B24: สคจ.เชียงใหม่ สาขา 2 | C24: โครงการปรับปรุงชุมชน
C25: ที่ดินแปลงโล่งสันติธรรม 2 | D25: I40003 | E25: ที่ดิน | F25: 162 | H25: 162 | I25: 162 | K25: - | L25: - | M25: - | N25: 2 | O25: - | P25: - | Q25: 5 | R25: 155 | S25: - | T25: - | U25: - | V25: =SUM(S25:U25) -> 0 | W25: 220
C26: ที่ดินแปลงโล่งร่วมใจสามัคคี | D26: I46074 | E26: ที่ดิน | F26: 110 | H26: 110 | I26: 110 | K26: - | L26: - | M26: - | N26: 1 | O26: - | P26: - | Q26: 8 | R26: 98 | S26: - | T26: 3 | U26: - | V26: =SUM(S26:U26) -> 3 | W26: 200
C27: โครงการอาคารเช่า
C28: โครงการอาคารเช่าสงเคราะห์ช้างคลาน | D28: I00094 | F28: 44 | G28: 44 | I28: 44 | K28: 42 | L28: - | M28: - | N28: - | O28: - | P28: - | Q28: - | R28: - | S28: 2 | T28: - | U28: - | V28: =SUM(S28:U28) -> 2 | W28: 60
C29: โครงการอาคารเช่าสงเคราะห์ จ. ลำพูน | D29: I00098 | F29: 3 | G29: 3 | I29: 3 | K29: - | L29: 3 | M29: - | N29: - | O29: - | P29: - | Q29: - | R29: - | S29: - | T29: - | U29: - | V29: =SUM(S29:U29) -> 0 | W29: 0 | X29: เป็นศูนย์อนุรักษ์เมืองเก่า
C30: โครงการอาคารเช่าสงเคราะห์ จ. แม่ฮ่องสอน | D30: I00097 | F30: 69 | G30: 69 | I30: 69 | K30: 68 | L30: - | M30: - | N30: - | O30: - | P30: - | Q30: - | R30: - | S30: - | T30: 1 | U30: - | V30: =SUM(S30:U30) -> 1 | W30: 80
C31: บ้านพักข้าราชการ จ.ลำพูน | D31: I49113 | F31: 72 | G31: 72 | I31: 72 | K31: - | L31: 72 | M31: - | N31: - | O31: - | P31: - | Q31: - | R31: - | S31: - | T31: - | U31: - | V31: =SUM(S31:U31) -> 0 | W31: 30
C32: โครงการบ้านเอื้ออาทร
C33: เชียงใหม่ (สันป่าตอง) | D33: I46078 | F33: 636 | H33: 636 | I33: 636 | K33: - | L33: - | M33: - | N33: 107 | O33: 2 | P33: 4 | Q33: 54 | R33: 462 | S33: 5 | T33: 2 | U33: - | V33: =SUM(S33:U33) -> 7 | W33: 1000
C34: เชียงใหม่ (ไนท์ซาฟารี) | D34: I49266 | F34: 878 | H34: 878 | I34: 878 | K34: 3 | L34: - | M34: - | N34: 24 | O34: 2 | P34: 1 | Q34: 54 | R34: 793 | S34: - | T34: 1 | U34: - | V34: =SUM(S34:U34) -> 1 | W34: 1000
C35: เชียงใหม่ (หนองหาร) | D35: I50005 | F35: 616 | H35: 616 | I35: 616 | K35: - | L35: - | M35: - | N35: 24 | O35: - | P35: 1 | Q35: 38 | R35: 552 | S35: - | T35: 1 | U35: - | V35: =SUM(S35:U35) -> 1 | W35: 1000
C36: เชียงใหม่ (ป่าตัน) | D36: I49168 | F36: 1391 | H36: 1391 | I36: 1391 | K36: 2 | L36: - | M36: - | N36: 35 | O36: 1 | P36: 1 | Q36: 70 | R36: 1267 | S36: 12 | T36: 3 | U36: - | V36: =SUM(S36:U36) -> 15 | W36: 1400
C37: ลำพูน (ป่าสัก) | D37: I49245 | F37: 360 | H37: 360 | I37: 360 | K37: - | L37: - | M37: - | N37: 55 | O37: - | P37: - | Q37: 16 | R37: 289 | S37: - | T37: - | U37: - | V37: =SUM(S37:U37) -> 0 | W37: 500
C38: ลำพูน (เหมืองง่า) | D38: I46124 | F38: 878 | H38: 878 | I38: 878 | K38: 1 | L38: - | M38: - | N38: 59 | O38: - | P38: - | Q38: 123 | R38: 693 | S38: 1 | T38: 1 | U38: - | V38: =SUM(S38:U38) -> 2 | W38: 1000
C39: โครงการเคหะชุมชนและบริการชุมชน (Pack)
C40: จ.เชียงใหม่ (ไนท์ซาฟารี) ระยะ 1 ส่วนที่ 1 | D40: I58024 | F40: 220 | H40: 220 | I40: 220 | K40: - | L40: - | M40: - | N40: 55 | O40: 2 | P40: - | Q40: - | R40: 113 | S40: 49 | T40: 1 | U40: - | V40: =SUM(S40:U40) -> 50 | W40: 140
C41: จ.เชียงใหม่ (ไนท์ซาฟารี) ระยะ 1 ส่วนที่ 2 | D41: I58025 | F41: 262 | H41: 262 | I41: 262 | K41: - | L41: - | M41: - | N41: 49 | O41: - | P41: - | Q41: - | R41: 183 | S41: 29 | T41: 1 | U41: - | V41: =SUM(S41:U41) -> 30 | W41: 200
C42: จ.เชียงใหม่ (หนองหาร) ระยะ 1 ส่วนที่ 1 | D42: I58026 | F42: 156 | H42: 156 | I42: 156 | K42: - | L42: - | M42: - | N42: 88 | O42: 3 | P42: - | Q42: 2 | R42: 130 | S42: 41 | T42: - | U42: - | V42: =SUM(S42:U42) -> 41 | W42: 200
C43: จ.เชียงใหม่ (หนองหาร) ระยะ 1 ส่วนที่ 2 | D43: I58027 | F43: 238 | H43: 238 | I43: 238 | K43: - | L43: - | M43: - | N43: 90 | O43: 5 | P43: - | Q43: - | R43: 194 | S43: 18 | T43: 1 | U43: - | V43: =SUM(S43:U43) -> 19 | W43: 250
C44: จ.เชียงใหม่ (หนองหาร) ระยะ 2 ส่วนที่ 1 | D44: I59056 | F44: 192 | H44: 192 | I44: 192 | K44: - | L44: - | M44: - | N44: 47 | O44: - | P44: - | Q44: 1 | R44: 108 | S44: - | T44: - | U44: - | V44: =SUM(S44:U44) -> 0 | W44: 150
C45: จ.เชียงใหม่ (หนองหาร) ระยะ 2 ส่วนที่ 2 | D45: I59057 | F45: 198 | H45: 198 | I45: 198 | K45: - | L45: - | M45: - | N45: 32 | O45: - | P45: - | Q45: - | R45: 206 | S45: - | T45: - | U45: - | V45: =SUM(S45:U45) -> 0 | W45: 300
C46: จ.เชียงใหม่ (ไนท์ซาฟารี) ระยะ 2 ส่วนที่ 1 | D46: I59063 | F46: 264 | H46: 264 | I46: 264 | K46: - | L46: - | M46: - | N46: 26 | O46: - | P46: - | Q46: - | R46: 166 | S46: - | T46: - | U46: - | V46: =SUM(S46:U46) -> 0 | W46: 180
C47: จ.เชียงใหม่ (ไนท์ซาฟารี) ระยะ 2 ส่วนที่ 2 | D47: I59064 | F47: 308 | H47: 308 | I47: 308 | K47: - | L47: - | M47: - | N47: 32 | O47: - | P47: - | Q47: - | R47: 166 | S47: - | T47: - | U47: - | V47: =SUM(S47:U47) -> 0 | W47: 180
C48: รวม สคจ.เชียงใหม่ สาขา 2 | D48: =COUNTA(D25:D47) -> 20 | F48: =SUM(F24:F47) -> 7057 | G48: =SUM(G24:G47) -> 188 | H48: =SUM(H24:H47) -> 6869 | I48: =SUM(I24:I47) -> 7057 | J48: =SUM(J24:J47) -> 0 | K48: =SUM(K24:K47) -> 116 | L48: =SUM(L24:L47) -> 75 | M48: =SUM(M24:M47) -> 0 | ... W48: =SUM(W24:W47) -> 8090
A49: 3 | B49: สคจ.เชียงราย | C49: โครงการเคหะชุมชน
C50: โครงการเชียงราย 1 ระยะ 1 | D50: I39026 | F50: 281 | H50: 281 | I50: 271 | J50: 10 | K50: - | L50: - | M50: - | N50: 5 | O50: - | P50: - | Q50: - | R50: 276 | S50: - | T50: - | U50: - | V50: =SUM(S50:U50) -> 0 | W50: 850
C51: โครงการอาคารเช่า
C52: โครงการอาคารสงเคราะห์ (จ.พะเยา) | D52: I00106 | F52: 64 | G52: 64 | I52: 64 | K52: 39 | L52: - | M52: 0 | N52: - | O52: - | P52: - | Q52: - | R52: - | S52: 25 | T52: - | U52: - | V52: =SUM(S52:U52) -> 25 | W52: 630
C53: โครงการเชียงราย 2 ระยะ 1 | D53: I00110 | F53: 156 | G53: 156 | I53: =156-29 -> 127 | J53: =4+1+4+20 -> 29 | K53: 155 | L53: - | M53: 1 | N53: - | O53: - | P53: - | Q53: - | R53: - | S53: - | T53: - | U53: - | V53: =SUM(S53:U53) -> 0 | W53: 356
C54: โครงการเชียงราย 2 ระยะ 2 | D54: I39025 | F54: 178 | G54: 178 | I54: 177 | J54: 1 | K54: 112 | L54: - | M54: 1 | N54: - | O54: - | P54: - | Q54: - | R54: - | S54: 64 | T54: 1 | U54: - | V54: =SUM(S54:U54) -> 65 | W54: 474
C55: โครงการบ้านเอื้ออาทร
C56: เชียงราย (เดิม) | D56: I47089 | F56: 204 | H56: 204 | I56: 204 | K56: - | L56: - | M56: - | N56: 7 | O56: - | Q56: 4 | R56: 193 | S56: - | T56: - | U56: - | V56: =SUM(S56:U56) -> 0 | W56: 1941
C57: เชียงราย (ริมกก) | D57: I49148 | F57: 562 | H57: 562 | I57: 562 | K57: - | L57: - | M57: - | N57: 46 | O57: - | P57: - | Q57: 17 | R57: 499 | S57: - | T57: - | U57: - | V57: =SUM(S57:U57) -> 0 | W57: 1488
C58: เชียงราย (แม่สาย 1) | D58: I49097 | F58: 647 | H58: 647 | I58: 647 | K58: - | L58: - | M58: - | N58: 135 | O58: - | P58: 7 | Q58: 63 | R58: 439 | S58: - | T58: 3 | U58: - | V58: =SUM(S58:U58) -> 3 | W58: 1686
C59: เชียงราย (แม่สาย 2) | D59: I49250 | F59: 496 | H59: 496 | I59: 496 | K59: - | L59: - | M59: - | N59: 129 | O59: - | P59: - | Q59: 0 | R59: 332 | S59: 27 | T59: 8 | U59: - | V59: =SUM(S59:U59) -> 35 | W59: 612
C60: พะเยา 1 | D60: I46033 | F60: 156 | H60: 156 | I60: 156 | K60: - | L60: - | M60: - | N60: 14 | O60: - | P60: - | Q60: 13 | R60: 129 | S60: - | T60: - | U60: - | V60: =SUM(S60:U60) -> 0 | W60: 468
C61: พะเยา 2 | D61: I49252 | F61: 457 | H61: 457 | I61: 457 | K61: - | L61: - | M61: - | N61: 52 | O61: - | P61: 4 | Q61: 17 | R61: 384 | S61: - | T61: - | U61: - | V61: =SUM(S61:U61) -> 0 | W61: 1371
C62: โครงการเคหะชุมชนและบริการชุมชน (Pack)
C63: จ.พะเยา | D63: I58004 | F63: 158 | H63: 158 | I63: 158 | K63: - | L63: - | M63: - | N63: 32 | O63: - | P63: - | Q63: - | R63: 126 | S63: - | T63: - | U63: - | V63: =SUM(S63:U63) -> 0 | W63: 200
C64: รวม สคจ.เชียงราย | D64: =COUNTA(D50:D63) -> 11 | F64: =SUM(F49:F63) -> 3359 | G64: =SUM(G49:G63) -> 398 | H64: =SUM(H49:H63) -> 2961 | I64: =SUM(I49:I63) -> 3319 | J64: =SUM(J49:J63) -> 40 | K64: =SUM(K49:K63) -> 306 | L64: =SUM(L49:L63) -> 0 | M64: =SUM(M49:M63) -> 2 | ... W64: =SUM(W49:W63) -> 10076
A65: 4 | B65: สคจ.ลำปาง | C65: โครงการเคหะชุมชน
C66: โครงการลำปาง ระยะ 1 | D66: I00105 | E66: บ้านแถวชั้นเดียว แบบ เอ | F66: 333 | H66: 333 | I66: 333 | K66: - | L66: - | M66: - | N66: 6 | O66: - | P66: - | Q66: - | R66: 327 | S66: - | T66: - | U66: - | V66: =SUM(S66:U66) -> 0 | W66: 899
E67: บ้านแถวชั้นเดียว แบบ บี | K67: - | L67: - | M67: - | N67: - | O67: - | P67: - | Q67: - | R67: - | S67: - | T67: - | U67: - | V67: =SUM(S67:U67) -> 0
E68: บ้านแถวชั้นเดียว แบบ ซี | K68: - | L68: - | M68: - | N68: - | O68: - | P68: - | Q68: - | R68: - | S68: - | T68: - | U68: - | V68: =SUM(S68:U68) -> 0
E69: บ้านแถวสองชั้น แบบ ดี | K69: - | L69: - | M69: - | N69: - | O69: - | P69: - | Q69: - | R69: - | S69: - | T69: - | U69: - | V69: =SUM(S69:U69) -> 0
E70: บ้านเดี่ยวชั้นเดียว แบบ อี | K70: - | L70: - | M70: - | N70: - | O70: - | P70: - | Q70: - | R70: - | S70: - | T70: - | U70: - | V70: =SUM(S70:U70) -> 0
E71: บ้านเดี่ยวสองชั้น แบบ อี 2 | K71: - | L71: - | M71: - | N71: - | O71: - | P71: - | Q71: - | R71: - | S71: - | T71: - | U71: - | V71: =SUM(S71:U71) -> 0
C72: โครงการลำปาง ระยะ 2 | D72: I39022 | E72: ทาวน์เฮ้าส์ชั้นเดียว แบบ เอ | F72: 250 | H72: 250 | I72: 250 | K72: - | L72: - | M72: - | N72: 5 | O72: - | P72: - | Q72: - | R72: 245 | S72: - | T72: - | U72: - | V72: =SUM(S72:U72) -> 0 | W72: 675
E73: ทาวน์เฮ้าส์ชั้นเดียว แบบ บี | K73: - | L73: - | M73: - | N73: - | O73: - | P73: - | Q73: - | R73: - | S73: - | T73: - | U73: - | V73: =SUM(S73:U73) -> 0
E74: ทาวน์เฮ้าส์ชั้นเดียว แบบ ซี | K74: - | L74: - | M74: - | N74: - | O74: - | P74: - | Q74: - | R74: - | S74: - | T74: - | U74: - | V74: =SUM(S74:U74) -> 0
E75: ทาวน์เฮ้าส์สองชั้น แบบ ดี | K75: - | L75: - | M75: - | N75: - | O75: - | P75: - | Q75: - | R75: - | S75: - | T75: - | U75: - | V75: =SUM(S75:U75) -> 0
E76: บ้านเดี่ยวชั้นเดียว แบบ อี1 | K76: - | L76: - | M76: - | N76: - | O76: - | P76: - | Q76: - | R76: - | S76: - | T76: - | U76: - | V76: =SUM(S76:U76) -> 0
E77: บ้านเดี่ยวสองชั้น แบบ อี2 | K77: - | L77: - | M77: - | N77: - | O77: - | P77: - | Q77: - | R77: - | S77: - | T77: - | U77: - | V77: =SUM(S77:U77) -> 0
C78: โครงการลำปาง ระยะ 3 | D78: I43004 | E78: บ้านแถวชั้นเดียว แบบ บี | F78: 281 | H78: 281 | I78: 281 | K78: - | L78: - | M78: - | N78: - | O78: - | P78: - | Q78: - | R78: 281 | S78: - | T78: - | U78: - | V78: =SUM(S78:U78) -> 0 | W78: 758
E79: บ้านแถวชั้นเดียว แบบ ซี | K79: - | L79: - | M79: - | N79: - | O79: - | P79: - | Q79: - | R79: - | S79: - | T79: - | U79: - | V79: =SUM(S79:U79) -> 0
E80: บ้านแถว 2 ชั้น | K80: - | L80: - | M80: - | N80: - | O80: - | P80: - | Q80: - | R80: - | S80: - | T80: - | U80: - | V80: =SUM(S80:U80) -> 0
E81: บ้านแฝด 2 ชั้น | K81: - | L81: - | M81: - | N81: - | O81: - | P81: - | Q81: - | R81: - | S81: - | T81: - | U81: - | V81: =SUM(S81:U81) -> 0
C82: โครงการอาคารเช่า
C83: โครงการอาคารเช่า (ข้าราชการ จ.ลำปาง) | D83: I48013 | E83: แฟลต 1 ห้องนอน | F83: 135 | G83: 135 | I83: 135 | K83: 74 | L83: - | M83: - | N83: - | O83: - | P83: - | Q83: - | R83: - | S83: 60 | T83: 1 | U83: - | V83: =SUM(S83:U83) -> 61 | W83: 111
C84: อาคารเช่าผู้มีรายได้น้อย จ.ลำปาง | D84: I62002 | E84: แฟลตห้องเอนกประสงค์ | F84: 229 | G84: 229 | I84: 229 | K84: 65 | L84: - | M84: - | N84: - | O84: - | P84: - | Q84: - | R84: - | S84: 163 | T84: - | U84: 1 | V84: =SUM(S84:U84) -> 164 | W84: 100
C85: โครงการบ้านเอื้ออาทร
C86: ลำปาง (ต้นธงชัย) | D86: I47181 | E86: บ้านเดี่ยว 2 ชั้น | F86: 467 | H86: 467 | I86: 467 | K86: 2 | L86: - | N86: 11 | O86: - | P86: 1 | Q86: 7 | R86: 445 | S86: - | T86: 1 | U86: - | V86: =SUM(S86:U86) -> 1 | W86: 1100
C87: ลำปาง (พิชัย) | D87: I49152 | E87: บ้านแฝด 2 ชั้น | F87: 600 | H87: 600 | I87: 600 | K87: 1 | L87: - | N87: 59 | O87: 1 | P87: 9 | Q87: 27 | R87: 501 | S87: 1 | T87: 1 | U87: - | V87: =SUM(S87:U87) -> 2 | W87: 1440
C88: แพร่ | D88: I47088 | E88: บ้านเดี่ยว 2 ชั้น | F88: 406 | H88: 406 | I88: 406 | K88: - | L88: - | N88: 37 | O88: 1 | P88: 38 | Q88: 37 | R88: 290 | T88: 3 | U88: - | V88: =SUM(S88:U88) -> 3 | W88: 974
C89: น่าน | D89: I46034 | E89: บ้านเดี่ยว 2 ชั้น | F89: 494 | H89: 494 | I89: 494 | K89: - | L89: - | M89: - | N89: 10 | O89: - | P89: - | Q89: 3 | R89: 481 | S89: - | T89: - | U89: - | V89: =SUM(S89:U89) -> 0 | W89: 1333
C90: โครงการเคหะชุมชนและบริการชุมชน (Pack)
C91: จ.ลำปาง (ต้นธงชัย) ส่วนที่ 1 | D91: I58022 | E91: บ้านเดี่ยว 2 ชั้น | F91: 172 | H91: 172 | I91: 172 | K91: - | L91: - | M91: - | N91: 39 | O91: 1 | P91: - | Q91: - | R91: 132 | S91: - | T91: - | U91: - | V91: =SUM(S91:U91) -> 0 | W91: 412
C92: จ.ลำปาง (ต้นธงชัย) ส่วนที่ 2 | D92: I58023 | E92: บ้านเดี่ยว 2 ชั้น | F92: 237 | H92: 237 | I92: 237 | K92: - | L92: - | M92: - | N92: 66 | O92: - | P92: - | Q92: - | R92: 171 | S92: - | T92: - | U92: - | V92: =SUM(S92:U92) -> 0 | W92: 568
C93: รวม สคจ.ลำปาง | D93: =COUNTA(D66:D92) -> 11 | F93: =SUM(F65:F92) -> 3604 | G93: =SUM(G65:G92) -> 364 | H93: =SUM(H65:H92) -> 3240 | I93: =SUM(I65:I92) -> 3604 | J93: =SUM(J65:J92) -> 0 | K93: =SUM(K65:K92) -> 142 | L93: =SUM(L65:L92) -> 0 | M93: =SUM(M65:M92) -> 0 | ... W93: =SUM(W65:W92) -> 8370
A94: 5 | B94: สคจ.อุตรดิตถ์ | C94: โครงการอาคารเช่า
C95: โครงการเช่าสวรรคโลก | F95: 1 | G95: 1 | I95: 1 | K95: 1 | V95: =SUM(S95:U95) -> 0
C96: โครงการบ้านเอื้ออาทร | V96: =SUM(S96:U96) -> 0
C97: สุโขทัย (อ.เมือง) | D97: I47080 | F97: 411 | H97: 411 | I97: 411 | N97: 22 | P97: 3 | Q97: 25 | R97: 358 | S97: 3 | V97: =SUM(S97:U97) -> 3 | W97: 313
C98: สุโขทัย (สวรรคโลก) | D98: I49211 | F98: 210 | H98: 210 | I98: 210 | N98: 17 | O98: 1 | P98: 2 | Q98: 17 | R98: 163 | S98: 10 | V98: =SUM(S98:U98) -> 10 | W98: 155
C99: อุตรดิตถ์ (ลับแล) | D99: I49126 | F99: 495 | H99: 495 | I99: 495 | K99: 2 | N99: 51 | O99: 2 | P99: 43 | Q99: 103 | R99: 282 | S99: 3 | T99: 5 | U99: 4 | V99: =SUM(S99:U99) -> 12 | W99: 351
C100: อุตรดิตถ์ (พิชัย) | D100: I49192 | F100: 290 | H100: 290 | I100: 290 | K100: 7 | N100: 14 | O100: 1 | P100: 18 | Q100: 20 | R100: 43 | S100: 186 | T100: 1 | V100: =SUM(S100:U100) -> 187 | W100: 65
...

Sheet เชียงใหม่ สาขา 1
A1: ข้อมูลหน่วยโครงการในความรับผิดชอบและข้อมูลประชากร สคจ.เชียงใหม่ สาขา 1
A2: ลำดับ | B2: หน่วยงาน/สังกัด | C2: ชื่อโครงการ | D2: รหัสโครงการ | E2: ลักษณะอาคาร | F2: จำนวนหน่วยตามประเภทโครงการ (ไม่รวมเช่าจัดประโยชน์) | I2: ประเภทโครงการ | K2: จำนวนหน่วยตามสัญญา | S2: อาคารคงเหลือ | W2: ข้อมูลประชากร | X2: หมายเหตุ
F3: หน่วยก่อสร้าง | G3: โครงการเพื่อเช่า | H3: โครงการเพื่อขาย | I3: เชิงสังคม | J3: เชิงพาณิชย์ | K3: เช่า | L3: เช่าเหมา | M3: เช่าจัดประโยชน์ | N3: เช่าซื้อ | O3: จะซื้อจะขาย | P3: ติดค้ำประกัน | Q3: รอโอนกรรมสิทธิ์ | R3: โอนกรรมสิทธิ์ | S3: ว่างพร้อมขาย | T3: ว่างไม่พร้อมขาย | U3: บ้านพักพนักงาน | V3: รวม | W3: จำนวนผู้อยู่อาศัยในชุมชน
A4: 1 | B4: สคจ.เชียงใหม่ สาขา 1 | C4: โครงการเคหะชุมชน | Z4: อัตรากำลัง
C5: โครงการเชียงใหม่ ระยะ 1 | D5: I00095 | E5: บ้านเดี่ยว/ บ้านแฝด 2 ชั้น | F5: 209 | H5: 209 | I5: 209 | K5: - | L5: - | M5: - | N5: - | O5: - | P5: - | Q5: - | R5: 209 | S5: - | T5: - | U5: - | V5: =SUM(S5:U5) -> 0 | W5: 836 | Z5: - พนักงาน = 7 คน
C6: โครงการเชียงใหม่ ระยะ 2 | D6: I00096 | E6: บ้านแถวชั้นเดียว/ บ้านแฝดชั้นเดียว /บ้านพร้อมส้วม | F6: 869 | H6: 869 | I6: 869 | K6: - | L6: - | M6: - | N6: 1 | O6: - | P6: - | Q6: 1 | R6: 867 | S6: - | T6: - | U6: - | V6: =SUM(S6:U6) -> 0 | W6: 3476 | Z6: 1. นางสาวกัญชัช ทองดีแท้ คจ.เชียงใหม่ สาขา 1
C7: โครงการอาคารเช่า | Z7: 2. นางพัชรินทร์ ตั๋นกำเลิศ พ.จัดการฯ 6
C8: เคหะชุมชนเชียงใหม่ ระยะ 3 | D8: I39020 | E8: อาคารชุด 5 ชั้น | F8: 324 | G8: 324 | I8: 324 | K8: 15 | L8: - | M8: - | N8: - | O8: - | P8: - | Q8: - | R8: - | S8: 104 | T8: 190 | U8: 15 | V8: =SUM(S8:U8) -> 309 | W8: 380 | Z8: 3. นายไชยา คำภีระ พ.จัดการฯ 6
C9: โครงการบ้านเอื้ออาทร | Z9: 4. นางสาววิภารัตน์ สุนันตา พ.จัดการฯ 6
C10: เชียงใหม่ (สันกำแพง) | D10: I46030 | E10: บ้านเดี่ยว/ บ้านแฝด 2 ชั้น | F10: 1327 | H10: 1327 | I10: 1327 | K10: - | L10: - | M10: - | N10: 59 | O10: - | P10: - | Q10: 34 | R10: 1233 | S10: 1 | T10: - | U10: - | V10: =SUM(S10:U10) -> 1 | W10: 5388 | Z10: 5. นางสาวจิราพร บัวศรี พ.จัดการฯ 6
C11: เชียงใหม่ (หนองหอย 1) | D11: I46029 | E11: อาคารชุด 5 ชั้น | F11: 596 | H11: 596 | I11: 596 | K11: 1 | L11: - | M11: - | N11: 8 | O11: - | P11: - | Q11: 1 | R11: 586 | S11: - | T11: - | U11: - | V11: =SUM(S11:U11) -> 0 | W11: 1788 | Z11: 6. นางสาวชุติกาญจน์ วงศ์บาตร พ.จัดการฯ 6
C12: เชียงใหม่ (สันผีเสื้อ) | D12: I49274 | E12: อาคารชุด 4 ชั้น | F12: 746 | H12: 746 | I12: 746 | K12: - | L12: - | M12: - | N12: 30 | O12: - | P12: - | Q12: 41 | R12: 673 | S12: - | T12: 2 | U12: - | V12: =SUM(S12:U12) -> 2 | W12: 2238 | Z12: 7. นายนราวิชญ์ ปัญญาแดง ช่างเทคนิค 2
C13: เชียงใหม่ (หนองหอย 2) | D13: I46031 | E13: อาคารชุด 5 ชั้น | F13: 1140 | H13: 1140 | I13: 1140 | K13: - | L13: - | M13: - | N13: 18 | O13: - | P13: - | Q13: 27 | R13: 1095 | S13: - | T13: - | U13: - | V13: =SUM(S13:U13) -> 0 | W13: 4560 | Z13: - ลูกจ้าง = 1 คน
C14: เชียงใหม่ (สันผีเสื้อ) เฟส 2 | D14: I53008 | E14: อาคารชุด 4 ชั้น | F14: 306 | H14: 306 | I14: 306 | K14: - | L14: - | M14: - | N14: 11 | O14: - | P14: - | Q14: 34 | R14: 261 | S14: - | T14: - | U14: - | V14: =SUM(S14:U14) -> 0 | W14: 1224 | Z14: 1. นางสาววลัยพร แสนนวล ธุรการฯ
C15: เชียงใหม่ (ซ.เจ้าแม่กวนอิม) | D15: I50006 | E15: อาคารชุด 5 ชั้น | F15: 582 | H15: 582 | I15: 582 | K15: - | L15: - | M15: - | N15: 14 | O15: - | P15: - | Q15: 5 | R15: 563 | S15: - | T15: - | U15: - | V15: =SUM(S15:U15) -> 0 | W15: 1746 | Z15: - แม่บ้าน = 1 คน
C16: โครงการเคหะชุมชนและบริการชุมชน (Pack 1) | Z16: 1. นางอรุณี ไชยวงค์ แม่บ้าน
C17: จ.เชียงใหม่ (สันผีเสื้อ) ส่วนที่ 2 | D17: I58012 | E17: อาคารชุด 4 ชั้น | F17: 528 | H17: 528 | I17: 528 | K17: - | L17: - | M17: - | N17: 220 | O17: 1 | P17: - | Q17: 3 | R17: 304 | S17: - | T17: - | U17: - | V17: =SUM(S17:U17) -> 0 | W17: 1584
C18: จ.เชียงใหม่ (สันผีเสื้อ) ส่วนที่ 1 | D18: I58016 | E18: อาคารชุด 4 ชั้น | F18: 176 | H18: 176 | I18: 176 | K18: - | L18: - | M18: - | N18: 83 | O18: - | P18: - | Q18: 1 | R18: 92 | S18: - | T18: - | U18: - | V18: =SUM(S18:U18) -> 0 | W18: 528
C19: จ.เชียงใหม่-สันกำแพง ระยะ 1 ส่วนที่ 1 | D19: I59035 | E19: บ้านเดี่ยว 2 ชั้น | F19: 53 | H19: 53 | J19: 53 | K19: - | L19: - | M19: - | N19: 4 | O19: 1 | P19: - | Q19: - | R19: 13 | S19: 33 | T19: 2 | U19: - | V19: =SUM(S19:U19) -> 35 | W19: 51
C20: จ.เชียงใหม่-สันกำแพง ระยะ 1 ส่วนที่ 2 | D20: I59036 | E20: บ้านเดี่ยว 2 ชั้น | F20: 45 | H20: 45 | J20: 45 | K20: - | L20: - | M20: - | N20: 3 | O20: - | P20: - | Q20: - | R20: 2 | S20: 40 | T20: - | U20: - | V20: =SUM(S20:U20) -> 40 | W20: 12
C21: จ.เชียงใหม่-สันกำแพง ระยะ 1 ส่วนที่ 3 | D21: I59037 | E21: บ้านเดี่ยว 2 ชั้น | F21: 34 | H21: 34 | J21: 34 | K21: - | L21: - | M21: - | N21: 1 | O21: - | P21: - | Q21: - | R21: 6 | S21: 26 | T21: 1 | U21: - | V21: =SUM(S21:U21) -> 27 | W21: 14
C22: จ.เชียงใหม่-สันกำแพง ระยะ 1 ส่วนที่ 4 | D22: I59038 | E22: บ้านเดี่ยว 2 ชั้น | F22: 33 | H22: 33 | J22: 33 | K22: - | L22: - | M22: - | N22: 1 | O22: - | P22: - | Q22: - | R22: 3 | S22: 29 | T22: - | U22: - | V22: =SUM(S22:U22) -> 29 | W22: 6
C23: รวม สคจ.เชียงใหม่ สาขา 1 | D23: =COUNTA(D5:D22) -> 15 | F23: =SUM(F4:F22) -> 6968 | G23: =SUM(G4:G22) -> 324 | H23: =SUM(H4:H22) -> 6644 | I23: =SUM(I4:I22) -> 6803 | J23: =SUM(J4:J22) -> 165 | K23: =SUM(K4:K22) -> 16 | L23: =SUM(L4:L22) -> 0 | M23: =SUM(M4:M22) -> 0 | ... W23: =SUM(W4:W22) -> 23831

Sheet โครงการในความรับผิดชอบ
A1: Division_Office | B1: Provincial_Housing_Office | C1: Project_Name | D1: Project_Code | E1: Building_Type | F1: Construction_Unit | G1: Rental_Project | H1: For-Sale_Project | I1: Social_Housing_Project | J1: Commercial_Project
A2: กองบริหารงานชุมชนภาคเหนือ เขต 1 | B2: สำนักงานเคหะจังหวัดเชียงใหม่ สาขา 1 | C2: โครงการเคหะชุมชนเชียงใหม่ ระยะ 1 | D2: I00095 | E2: บ้านเดี่ยว/ บ้านแฝด 2 ชั้น | F2: 209 | H2: 209 | I2: 209
A3: กองบริหารงานชุมชนภาคเหนือ เขต 1 | B3: สำนักงานเคหะจังหวัดเชียงใหม่ สาขา 1 | C3: โครงการเคหะชุมชนเชียงใหม่ ระยะ 2 | D3: I00096 | E3: บ้านแถวชั้นเดียว/ บ้านแฝดชั้นเดียว/ บ้านพร้อมส้วม | F3: 869 | H3: 869 | I3: 869
A4: กองบริหารงานชุมชนภาคเหนือ เขต 1 | B4: สำนักงานเคหะจังหวัดเชียงใหม่ สาขา 1 | C4: โครงการเคหะชุมชนเชียงใหม่ ระยะ 3 | D4: I39020 | E4: อาคารชุด 5 ชั้น | F4: 324 | G4: 324
A5: กองบริหารงานชุมชนภาคเหนือ เขต 1 | B5: สำนักงานเคหะจังหวัดเชียงใหม่ สาขา 1 | C5: โครงการอาคารเช่า จ.เชียงใหม่ | D5: I61007 | E5: แฟลตห้องเอนกประสงค์ | F5: 102 | G5: 102 | I5: 102
A6: กองบริหารงานชุมชนภาคเหนือ เขต 1 | B6: สำนักงานเคหะจังหวัดเชียงใหม่ สาขา 1 | C6: โครงการบ้านเอื้ออาทรเชียงใหม่ (สันกำแพง) | D6: I46030 | E6: บ้านเดี่ยว/ บ้านแฝด 2 ชั้น | F6: 1327 | H6: 1327 | I6: 1327
A7: กองบริหารงานชุมชนภาคเหนือ เขต 1 | B7: สำนักงานเคหะจังหวัดเชียงใหม่ สาขา 1 | C7: โครงการบ้านเอื้ออาทรเชียงใหม่ (หนองหอย 1) | D7: I46029 | E7: อาคารชุด 5 ชั้น | F7: 596 | H7: 596 | I7: 596
A8: กองบริหารงานชุมชนภาคเหนือ เขต 1 | B8: สำนักงานเคหะจังหวัดเชียงใหม่ สาขา 1 | C8: โครงการบ้านเอื้ออาทรเชียงใหม่ (สันผีเสื้อ) | D8: I49274 | E8: อาคารชุด 4 ชั้น | F8: 746 | H8: 746 | I8: 746
A9: กองบริหารงานชุมชนภาคเหนือ เขต 1 | B9: สำนักงานเคหะจังหวัดเชียงใหม่ สาขา 1 | C9: โครงการบ้านเอื้ออาทรเชียงใหม่ (หนองหอย 2) | D9: I46031 | E9: อาคารชุด 5 ชั้น | F9: 1140 | H9: 1140 | I9: 1140
A10: กองบริหารงานชุมชนภาคเหนือ เขต 1 | B10: สำนักงานเคหะจังหวัดเชียงใหม่ สาขา 1 | C10: โครงการบ้านเอื้ออาทรเชียงใหม่ (สันผีเสื้อ) เฟส 2 | D10: I53008 | E10: อาคารชุด 4 ชั้น | F10: 306 | H10: 306 | I10: 306
A11: กองบริหารงานชุมชนภาคเหนือ เขต 1 | B11: สำนักงานเคหะจังหวัดเชียงใหม่ สาขา 1 | C11: โครงการบ้านเอื้ออาทรเชียงใหม่ (ซ.เจ้าแม่กวนอิม) | D11: I50006 | E11: อาคารชุด 5 ชั้น | F11: 582 | H11: 582 | I11: 582
A12: กองบริหารงานชุมชนภาคเหนือ เขต 1 | B12: สำนักงานเคหะจังหวัดเชียงใหม่ สาขา 1 | C12: โครงการเคหะชุมชนและบริการชุมชน จ.เชียงใหม่ (สันผีเสื้อ) ส่วนที่ 2 | D12: I58012 | E12: อาคารชุด 4 ชั้น | F12: 528 | H12: 528 | I12: 528
A13: กองบริหารงานชุมชนภาคเหนือ เขต 1 | B13: สำนักงานเคหะจังหวัดเชียงใหม่ สาขา 1 | C13: โครงการเคหะชุมชนและบริการชุมชน จ.เชียงใหม่ (สันผีเสื้อ) ส่วนที่ 1 | D13: I58016 | E13: อาคารชุด 4 ชั้น | F13: 176 | H13: 176 | I13: 176
A14: กองบริหารงานชุมชนภาคเหนือ เขต 1 | B14: สำนักงานเคหะจังหวัดเชียงใหม่ สาขา 1 | C14: โครงการเคหะชุมชนและบริการชุมชน จ.เชียงใหม่ (สันกำแพง) ระยะ 1 ส่วนที่ 1 | D14: I59035 | E14: บ้านเดี่ยว 2 ชั้น | F14: 53 | H14: 53 | J14: 53
A15: กองบริหารงานชุมชนภาคเหนือ เขต 1 | B15: สำนักงานเคหะจังหวัดเชียงใหม่ สาขา 1 | C15: โครงการเคหะชุมชนและบริการชุมชน จ.เชียงใหม่ (สันกำแพง) ระยะ 1 ส่วนที่ 2 | D15: I59036 | E15: บ้านเดี่ยว 2 ชั้น | F15: 45 | H15: 45 | J15: 45
A16: กองบริหารงานชุมชนภาคเหนือ เขต 1 | B16: สำนักงานเคหะจังหวัดเชียงใหม่ สาขา 1 | C16: โครงการเคหะชุมชนและบริการชุมชน จ.เชียงใหม่ (สันกำแพง) ระยะ 1 ส่วนที่ 3 | D16: I59037 | E16: บ้านเดี่ยว 2 ชั้น | F16: 34 | H16: 34 | J16: 34
A17: กองบริหารงานชุมชนภาคเหนือ เขต 1 | B17: สำนักงานเคหะจังหวัดเชียงใหม่ สาขา 1 | C17: โครงการเคหะชุมชนและบริการชุมชน จ.เชียงใหม่ (สันกำแพง) ระยะ 1 ส่วนที่ 4 | D17: I59038 | E17: บ้านเดี่ยว 2 ชั้น | F17: 33 | H17: 33 | J17: 33
A18: กองบริหารงานชุมชนภาคเหนือ เขต 1 | B18: สำนักงานเคหะจังหวัดเชียงใหม่ สาขา 2 | C18: โครงการปรับปรุงชุมชนที่ดินแปลงโล่งสันติธรรม 2 | D18: I40003 | E18: ที่ดิน | F18: 162 | H18: 162 | I18: 162
A19: กองบริหารงานชุมชนภาคเหนือ เขต 1 | B19: สำนักงานเคหะจังหวัดเชียงใหม่ สาขา 2 | C19: โครงการปรับปรุงชุมชนที่ดินแปลงโล่งร่วมใจสามัคคี | D19: I46074 | E19: ที่ดิน | F19: 110 | H19: 110 | I19: 110
A20: กองบริหารงานชุมชนภาคเหนือ เขต 1 | B20: สำนักงานเคหะจังหวัดเชียงใหม่ สาขา 2 | C20: โครงการอาคารเช่าสงเคราะห์ช้างคลาน | D20: I00094 | E20: แนวสูง | F20: 45 | G20: 44 | H20: 1 | I20: 44 | J20: 1
A21: กองบริหารงานชุมชนภาคเหนือ เขต 1 | B21: สำนักงานเคหะจังหวัดเชียงใหม่ สาขา 2 | C21: โครงการอาคารเช่าสงเคราะห์ จ. ลำพูน | D21: I00098 | E21: แนวราบ | F21: 3 | G21: 3 | I21: 3
A22: กองบริหารงานชุมชนภาคเหนือ เขต 1 | B22: สำนักงานเคหะจังหวัดเชียงใหม่ สาขา 2 | C22: โครงการอาคารเช่าสงเคราะห์ จ. แม่ฮ่องสอน | D22: I00097 | E22: แนวราบ | F22: 69 | G22: 69 | I22: 69
A23: กองบริหารงานชุมชนภาคเหนือ เขต 1 | B23: สำนักงานเคหะจังหวัดเชียงใหม่ สาขา 2 | C23: โครงการอาคารเช่าบ้านพักข้าราชการ จ.ลำพูน | D23: I49113 | E23: แนวสูง | F23: 72 | G23: 72 | I23: 72
A24: กองบริหารงานชุมชนภาคเหนือ เขต 1 | B24: สำนักงานเคหะจังหวัดเชียงใหม่ สาขา 2 | C24: โครงการบ้านเอื้ออาทรเชียงใหม่ (สันป่าตอง) | D24: I46078 | E24: แนวราบ | F24: 636 | H24: 636 | I24: 636
A25: กองบริหารงานชุมชนภาคเหนือ เขต 1 | B25: สำนักงานเคหะจังหวัดเชียงใหม่ สาขา 2 | C25: โครงการบ้านเอื้ออาทรเชียงใหม่ (ไนท์ซาฟารี) | D25: I49266 | E25: แนวราบ | F25: 878 | H25: 878 | I25: 878
A26: กองบริหารงานชุมชนภาคเหนือ เขต 1 | B26: สำนักงานเคหะจังหวัดเชียงใหม่ สาขา 2 | C26: โครงการบ้านเอื้ออาทรเชียงใหม่ (หนองหาร) | D26: I50005 | E26: แนวราบ | F26: 616 | H26: 616 | I26: 616
A27: กองบริหารงานชุมชนภาคเหนือ เขต 1 | B27: สำนักงานเคหะจังหวัดเชียงใหม่ สาขา 2 | C27: โครงการบ้านเอื้ออาทรเชียงใหม่ (ป่าตัน) | D27: I49168 | E27: แนวราบ | F27: 1391 | H27: 1391 | I27: 1391
A28: กองบริหารงานชุมชนภาคเหนือ เขต 1 | B28: สำนักงานเคหะจังหวัดเชียงใหม่ สาขา 2 | C28: โครงการบ้านเอื้ออาทรลำพูน (ป่าสัก) | D28: I49245 | E28: แนวราบ | F28: 360 | H28: 360 | I28: 360
A29: กองบริหารงานชุมชนภาคเหนือ เขต 1 | B29: สำนักงานเคหะจังหวัดเชียงใหม่ สาขา 2 | C29: โครงการบ้านเอื้ออาทรลำพูน (เหมืองง่า) | D29: I46124 | E29: แนวราบ | F29: 878 | H29: 878 | I29: 878
A30: กองบริหารงานชุมชนภาคเหนือ เขต 1 | B30: สำนักงานเคหะจังหวัดเชียงใหม่ สาขา 2 | C30: โครงการเคหะชุมชนและบริการชุมชน จ.เชียงใหม่ (ไนท์ซาฟารี) ระยะ 1 ส่วนที่ 1 | D30: I58024 | E30: แนวราบ | F30: 220 | H30: 220 | I30: 220
A31: กองบริหารงานชุมชนภาคเหนือ เขต 1 | B31: สำนักงานเคหะจังหวัดเชียงใหม่ สาขา 2 | C31: โครงการเคหะชุมชนและบริการชุมชน จ.เชียงใหม่ (ไนท์ซาฟารี) ระยะ 1 ส่วนที่ 2 | D31: I58025 | E31: แนวราบ | F31: 262 | H31: 262 | I31: 262
A32: กองบริหารงานชุมชนภาคเหนือ เขต 1 | B32: สำนักงานเคหะจังหวัดเชียงใหม่ สาขา 2 | C32: โครงการเคหะชุมชนและบริการชุมชน จ.เชียงใหม่ (หนองหาร) ระยะ 1 ส่วนที่ 1 | D32: I58026 | E32: แนวราบ | F32: 156 | H32: 156 | I32: 156
A33: กองบริหารงานชุมชนภาคเหนือ เขต 1 | B33: สำนักงานเคหะจังหวัดเชียงใหม่ สาขา 2 | C33: โครงการเคหะชุมชนและบริการชุมชน จ.เชียงใหม่ (หนองหาร) ระยะ 1 ส่วนที่ 2 | D33: I58027 | E33: แนวราบ | F33: 238 | H33: 238 | I33: 238
A34: กองบริหารงานชุมชนภาคเหนือ เขต 1 | B34: สำนักงานเคหะจังหวัดเชียงใหม่ สาขา 2 | C34: โครงการเคหะชุมชนและบริการชุมชน จ.เชียงใหม่ (หนองหาร) ระยะ 2 ส่วนที่ 1 | D34: I59056 | E34: แนวราบ | F34: 192 | H34: 192 | I34: 192
A35: กองบริหารงานชุมชนภาคเหนือ เขต 1 | B35: สำนักงานเคหะจังหวัดเชียงใหม่ สาขา 2 | C35: โครงการเคหะชุมชนและบริการชุมชน จ.เชียงใหม่ (หนองหาร) ระยะ 2 ส่วนที่ 2 | D35: I59057 | E35: แนวราบ | F35: 198 | H35: 198 | I35: 198
... A38: กองบริหารงานชุมชนภาคเหนือ เขต 1 | B38: สำนักงานเคหะจังหวัดเชียงราย | C38: โครงการเคหะชุมชนเชียงราย 1 ระยะ 1 (สันทราย) | D38: I39026 | E38: บ้านเดี่ยว/ อาคารพาณิชย์ | F38: 281 | H38: 281 | I38: 281
A39: กองบริหารงานชุมชนภาคเหนือ เขต 1 | B39: สำนักงานเคหะจังหวัดเชียงราย | C39: โครงการอาคารเช่า จ.พะเยา (รับโอน) | D39: I00106 | E39: บ้านแถวชั้นครึ่ง | F39: 64 | G39: 64 | I39: 64
A40: กองบริหารงานชุมชนภาคเหนือ เขต 1 | B40: สำนักงานเคหะจังหวัดเชียงราย | C40: โครงการเคหะชุมชนเชียงราย 2 ระยะ 1 | D40: I00110 | F40: 156 | G40: 155 | I40: 127 | J40: 29
A41: กองบริหารงานชุมชนภาคเหนือ เขต 1 | B41: สำนักงานเคหะจังหวัดเชียงราย | C41: โครงการเคหะชุมชนเชียงราย 2 ระยะ 2 | D41: I39025 | F41: 178 | G41: 178 | I41: 177 | J41: 1
A42: กองบริหารงานชุมชนภาคเหนือ เขต 1 | B42: สำนักงานเคหะจังหวัดเชียงราย | C42: โครงการบ้านเอื้ออาทรเชียงราย (เดิม) | D42: I47089 | E42: บ้านแถว | F42: 205 | H42: 205 | I42: 205
A43: กองบริหารงานชุมชนภาคเหนือ เขต 1 | B43: สำนักงานเคหะจังหวัดเชียงราย | C43: โครงการบ้านเอื้ออาทรเชียงราย (ริมกก) | D43: I49148 | E43: บ้านเดี่ยว | F43: 562 | H43: 562 | I43: 562
A44: กองบริหารงานชุมชนภาคเหนือ เขต 1 | B44: สำนักงานเคหะจังหวัดเชียงราย | C44: โครงการบ้านเอื้ออาทรเชียงราย (แม่สาย 1) | D44: I49097 | E44: บ้านเดี่ยว | F44: 647 | H44: 647 | I44: 647
A45: กองบริหารงานชุมชนภาคเหนือ เขต 1 | B45: สำนักงานเคหะจังหวัดเชียงราย | C45: โครงการบ้านเอื้ออาทรเชียงราย (แม่สาย 2) | D45: I49250 | E45: บ้านเดี่ยว | F45: 496 | H45: 496 | I45: 496
A46: กองบริหารงานชุมชนภาคเหนือ เขต 1 | B46: สำนักงานเคหะจังหวัดเชียงราย | C46: โครงการบ้านเอื้ออาทรพะเยา 1 | D46: I46033 | E46: บ้านเดี่ยว | F46: 156 | H46: 156 | I46: 156
A47: กองบริหารงานชุมชนภาคเหนือ เขต 1 | B47: สำนักงานเคหะจังหวัดเชียงราย | C47: โครงการบ้านเอื้ออาทรพะเยา 2 | D47: I49252 | E47: บ้านเดี่ยว | F47: 457 | H47: 457 | I47: 457
A48: กองบริหารงานชุมชนภาคเหนือ เขต 1 | B48: สำนักงานเคหะจังหวัดเชียงราย | C48: โครงการเคหะชุมชนและบริการชุมชน จ.พะเยา | D48: I58004 | E48: บ้านเดี่ยว | F48: 158 | H48: 158 | J48: 158
A49: กองบริหารงานชุมชนภาคเหนือ เขต 1 | B49: สำนักงานเคหะจังหวัดลำปาง | C49: โครงการเคหะชุมชนลำปาง ระยะ 1 | D49: I00105 | E49: บ้านแถวชั้นเดียว แบบ เอ/ บ้านแถวชั้นเดียว แบบ บี/ บ้านแถวชั้นเดียว แบบ ซี/ บ้านแถวสองชั้น แบบ ดี/ บ้านเดี่ยวชั้นเดียว แบบ อี/ บ้านเดี่ยวสองชั้น แบบ อี 2 | F49: 333 | H49: 333 | I49: 333
A50: กองบริหารงานชุมชนภาคเหนือ เขต 1 | B50: สำนักงานเคหะจังหวัดลำปาง | C50: โครงการเคหะชุมชนลำปาง ระยะ 2 | D50: I39022 | E50: ทาวน์เฮ้าส์ชั้นเดียว แบบ เอ/ ทาวน์เฮ้าส์ชั้นเดียว แบบ บี/ ทาวน์เฮ้าส์ชั้นเดียว แบบ ซี/ ทาวน์เฮ้าส์สองชั้น แบบ ดี/ บ้านเดี่ยวชั้นเดียว แบบ อี 1/ บ้านเดี่ยวสองชั้น แบบ อี 2 | F50: 250 | H50: 250 | I50: 250
A51: กองบริหารงานชุมชนภาคเหนือ เขต 1 | B51: สำนักงานเคหะจังหวัดลำปาง | C51: โครงการเคหะชุมชนลำปาง ระยะ 3 | D51: I43004 | E51: บ้านแถวชั้นเดียว แบบ บี/ บ้านแถวชั้นเดียว แบบ ซี/ บ้านแถว 2 ชั้น / บ้านแฝด 2 ชั้น | F51: 281 | H51: 281 | I51: 281
A52: กองบริหารงานชุมชนภาคเหนือ เขต 1 | B52: สำนักงานเคหะจังหวัดลำปาง | C52: โครงการอาคารเช่าข้าราชการ จ.ลำปาง | D52: I48013 | E52: แฟลต 1 ห้องนอน | F52: 135 | G52: 135 | I52: 135
A53: กองบริหารงานชุมชนภาคเหนือ เขต 1 | B53: สำนักงานเคหะจังหวัดลำปาง | C53: โครงการอาคารเช่าผู้มีรายได้น้อย จ.ลำปาง | D53: I62002 | E53: แฟลตห้องเอนกประสงค์ | F53: 229 | G53: 229 | I53: 229
A54: กองบริหารงานชุมชนภาคเหนือ เขต 1 | B54: สำนักงานเคหะจังหวัดลำปาง | C54: โครงการบ้านเอื้ออาทรลำปาง (ต้นธงชัย) | D54: I47181 | E54: บ้านเดี่ยว 2 ชั้น | F54: 467 | H54: 467 | I54: 467
A55: กองบริหารงานชุมชนภาคเหนือ เขต 1 | B55: สำนักงานเคหะจังหวัดลำปาง | C55: โครงการบ้านเอื้ออาทรลำปาง (พิชัย) | D55: I49152 | E55: บ้านแฝด 2 ชั้น | F55: 600 | H55: 600 | I55: 600
A56: กองบริหารงานชุมชนภาคเหนือ เขต 1 | B56: สำนักงานเคหะจังหวัดลำปาง | C56: โครงการบ้านเอื้ออาทรแพร่ | D56: I47088 | E56: บ้านเดี่ยว 2 ชั้น | F56: 406 | H56: 406 | I56: 406
A57: กองบริหารงานชุมชนภาคเหนือ เขต 1 | B57: สำนักงานเคหะจังหวัดลำปาง | C57: โครงการบ้านเอื้ออาทรน่าน | D57: I46034 | E57: บ้านเดี่ยว 2 ชั้น | F57: 494 | H57: 494 | I57: 494
A58: กองบริหารงานชุมชนภาคเหนือ เขต 1 | B58: สำนักงานเคหะจังหวัดลำปาง | C58: โครงการเคหะชุมชนและบริการชุมชน จ.ลำปาง (ต้นธงชัย) ส่วนที่ 1 | D58: I58022 | E58: บ้านเดี่ยว 2 ชั้น | F58: 172 | H58: 172 | I58: 172
A59: กองบริหารงานชุมชนภาคเหนือ เขต 1 | B59: สำนักงานเคหะจังหวัดลำปาง | C59: โครงการเคหะชุมชนและบริการชุมชน จ.ลำปาง (ต้นธงชัย) ส่วนที่ 2 | D59: I58023 | E59: บ้านเดี่ยว 2 ชั้น | F59: 237 | H59: 237 | I59: 237
A60: กองบริหารงานชุมชนภาคเหนือ เขต 1 | B60: สำนักงานเคหะจังหวัดอุตรดิตถ์ | C60: โครงการอาคารเช่าสุโขทัย (รับโอน) | D60: I00273 | E60: บ้านไม้ 2 ชั้น ใต้ถุนสูง | F60: 1 | G60: 1 | I60: 1
A61: กองบริหารงานชุมชนภาคเหนือ เขต 1 | B61: สำนักงานเคหะจังหวัดอุตรดิตถ์ | C61: โครงการบ้านเอื้ออาทรอุตรดิตถ์ (ลับแล) | D61: I49126 | E61: บ้านเดี่ยว2ชั้น | F61: 495 | H61: 495 | I61: 495
A62: กองบริหารงานชุมชนภาคเหนือ เขต 1 | B62: สำนักงานเคหะจังหวัดอุตรดิตถ์ | C62: โครงการบ้านเอื้ออาทรอุตรดิตถ์ (งิ้วงาม) | D62: I49249 | E62: บ้านแฝด2ชั้น | F62: 304 | H62: 304 | I62: 304
A63: กองบริหารงานชุมชนภาคเหนือ เขต 1 | B63: สำนักงานเคหะจังหวัดอุตรดิตถ์ | C63: โครงการบ้านเอื้ออาทรอุตรดิตถ์ (พิชัย) | D63: I49192 | E63: บ้านเดี่ยว2ชั้น | F63: 290 | H63: 290 | I63: 290
A64: กองบริหารงานชุมชนภาคเหนือ เขต 1 | B64: สำนักงานเคหะจังหวัดอุตรดิตถ์ | C64: โครงการบ้านเอื้ออาทรสุโขทัย (อ.เมือง) | D64: I47080 | E64: บ้านเดี่ยว2ชั้น | F64: 411 | H64: 411 | I64: 411
A65: กองบริหารงานชุมชนภาคเหนือ เขต 1 | B65: สำนักงานเคหะจังหวัดอุตรดิตถ์ | C65: โครงการบ้านเอื้ออาทรสุโขทัย (สวรรคโลก) | D65: I49211 | E65: บ้านเดี่ยว2ชั้น | F65: 210 | H65: 210 | I65: 210
A66: กองบริหารงานชุมชนภาคเหนือ เขต 2 | B66: สำนักงานเคหะจังหวัดลพบุรี | C66: โครงการเคหะชุมชนลพบุรี 1 ระยะ 1 | D66: I00136 | E66: แนวราบ | F66: 305 | G66: 305 | I66: 305
A67: กองบริหารงานชุมชนภาคเหนือ เขต 2 | B67: สำนักงานเคหะจังหวัดลพบุรี | C67: โครงการเคหะชุมชนลพบุรี 1 ระยะ 2 | D67: I39035 | E67: แนวราบ | F67: 505 | G67: 505 | I67: 505
A68: กองบริหารงานชุมชนภาคเหนือ เขต 2 | B68: สำนักงานเคหะจังหวัดลพบุรี | C68: โครงการเคหะชุมชนลพบุรี 1 ระยะ 3 | D68: I43009 | E68: แนวราบ | F68: 263 | G68: 263 | I68: 263
A69: กองบริหารงานชุมชนภาคเหนือ เขต 2 | B69: สำนักงานเคหะจังหวัดลพบุรี | C69: โครงการอาคารเช่าลพบุรี (ราชพัสดุ) (มทบ. 13) | D69: I00137 | E69: แนวราบ | G69: 101 | I69: 101 | J69: 101
A70: กองบริหารงานชุมชนภาคเหนือ เขต 2 | B70: สำนักงานเคหะจังหวัดลพบุรี | C70: โครงการอาคารเช่าลพบุรี (ราชพัสดุ) (โคกตูม) | D70: I00137 | E70: แนวราบ | G70: 9 | I70: 9 | J70: 9
A71: กองบริหารงานชุมชนภาคเหนือ เขต 2 | B71: สำนักงานเคหะจังหวัดลพบุรี | C71: โครงการอาคารเช่า จ.ลพบุรี ระยะ 1 | D71: I60047 | E71: แนวสูง | G71: 245 | I71: 245 | J71: 245
A72: กองบริหารงานชุมชนภาคเหนือ เขต 2 | B72: สำนักงานเคหะจังหวัดลพบุรี | C72: โครงการบ้านเอื้ออาทรลพบุรี (ศรีอินทราทิตย์) | D72: I49210 | E72: แนวราบ | F72: 1030 | G72: 1030 | I72: 1030
A73: กองบริหารงานชุมชนภาคเหนือ เขต 2 | B73: สำนักงานเคหะจังหวัดลพบุรี | C73: โครงการบ้านเอื้ออาทรลพบุรี (ลำนารายณ์) | D73: I49191 | E73: แนวราบ | F73: 370 | G73: 370 | I73: 370
A74: กองบริหารงานชุมชนภาคเหนือ เขต 2 | B74: สำนักงานเคหะจังหวัดลพบุรี | C74: โครงการบ้านเอื้ออาทรลพบุรี (พัฒนานิคม 2) | D74: I50114 | E74: แนวราบ | F74: 169 | G74: 169 | I74: 169
A75: กองบริหารงานชุมชนภาคเหนือ เขต 2 | B75: สำนักงานเคหะจังหวัดลพบุรี | C75: โครงการเคหะชุมชนและบริการชุมชน จ.สิงห์บุรี (บางกระบือ) | D75: I62014 | E75: แนวราบ | F75: 224 | G75: 224 | I75: 224
A76: กองบริหารงานชุมชนภาคเหนือ เขต 2 | B76: สำนักงานเคหะจังหวัดนครสวรรค์ | C76: โครงการเคหะชุมชนนครสวรรค์ ระยะ 1 | D76: I00108 | E76: แนวราบ | F76: 535 | G76: 535 | I76: 535
A77: กองบริหารงานชุมชนภาคเหนือ เขต 2 | B77: สำนักงานเคหะจังหวัดนครสวรรค์ | C77: โครงการเคหะชุมชนนครสวรรค์ ระยะ 2 | D77: I00109 | E77: แนวราบ | F77: 228 | G77: 228 | I77: 228
A78: กองบริหารงานชุมชนภาคเหนือ เขต 2 | B78: สำนักงานเคหะจังหวัดนครสวรรค์ | C78: โครงการเคหะชุมชนนครสวรรค์ ระยะ 3 | D78: I39024 | E78: แนวราบ | F78: 324 | G78: 324 | I78: 324
A79: กองบริหารงานชุมชนภาคเหนือ เขต 2 | B79: สำนักงานเคหะจังหวัดนครสวรรค์ | C79: โครงการบ้านเช่าสำหรับผู้มีรายได้น้อย "บ้านเคหะสุขประชา" จังหวัดนครสวรรค์ (ตาคลี) | E79: ที่ดินแปลงโล่ง
A80: กองบริหารงานชุมชนภาคเหนือ เขต 2 | B80: สำนักงานเคหะจังหวัดนครสวรรค์ | C80: โครงการ Sunk cost อ.เมือง จ.อุทัยธานี | E80: ที่ดินแปลงโล่ง
A81: กองบริหารงานชุมชนภาคเหนือ เขต 2 | B81: สำนักงานเคหะจังหวัดนครสวรรค์ | C81: โครงการอาคารเช่าสงเคราะห์นครสวรรค์ | D81: I00108 | E81: แนวราบ | G81: 4 | I81: 4 | J81: 4
A82: กองบริหารงานชุมชนภาคเหนือ เขต 2 | B82: สำนักงานเคหะจังหวัดนครสวรรค์ | C82: โครงการนครสวรรค์ 2 แฟลตเช่า | D82: I39023 | E82: แนวสูง | G82: 130 | I82: 130 | J82: 130
A83: กองบริหารงานชุมชนภาคเหนือ เขต 2 | B83: สำนักงานเคหะจังหวัดนครสวรรค์ | C83: โครงการอาคารเช่าสำหรับผู้มีรายได้น้อย จังหวัดนครสวรรค์ 2 ระยะที่ 1 | D83: I60048 | E83: แนวสูง | G83: 145 | I83: 145 | J83: 145
A84: กองบริหารงานชุมชนภาคเหนือ เขต 2 | B84: สำนักงานเคหะจังหวัดนครสวรรค์ | C84: โครงการอาคารเช่าสำหรับผู้มีรายได้น้อย จังหวัดนครสวรรค์ 2 ระยะที่ 2 | D84: I61009 | E84: แนวสูง | G84: 196 | I84: 196 | J84: 196
A85: กองบริหารงานชุมชนภาคเหนือ เขต 2 | B85: สำนักงานเคหะจังหวัดนครสวรรค์ | C85: โครงการบ้านเอื้ออาทรนครสวรรค์ 1 | D85: I47087 | E85: แนวราบ | F85: 437 | G85: 437 | I85: 437
A86: กองบริหารงานชุมชนภาคเหนือ เขต 2 | B86: สำนักงานเคหะจังหวัดนครสวรรค์ | C86: โครงการบ้านเอื้ออาทรนครสวรรค์ 2 | D86: I49179 | E86: แนวราบ | F86: 986 | G86: 986 | I86: 986
A87: กองบริหารงานชุมชนภาคเหนือ เขต 2 | B87: สำนักงานเคหะจังหวัดนครสวรรค์ | C87: โครงการบ้านเอื้ออาทรชัยนาท (เขาท่าพระ) | D87: I47091 | E87: แนวราบ | F87: 267 | G87: 267 | I87: 267
A88: กองบริหารงานชุมชนภาคเหนือ เขต 2 | B88: สำนักงานเคหะจังหวัดนครสวรรค์ | C88: โครงการเคหะชุมชนและบริการชุมชนนครสวรรค์ (นิวมาร์ท) | D88: I58034 | E88: แนวราบ | F88: 18 | H88: 18 | I88: 18
A89: กองบริหารงานชุมชนภาคเหนือ เขต 2 | B89: สำนักงานเคหะจังหวัดนครสวรรค์ | C89: โครงการเคหะชุมชนและบริการชุมชน จ.นครสวรรค์ (ตาคลี) | D89: I60031 | E89: แนวราบ | F89: 103 | G89: 103 | I89: 103
A90: กองบริหารงานชุมชนภาคเหนือ เขต 2 | B90: สำนักงานเคหะจังหวัดเพชรบูรณ์ | C90: โครงการเคหะชุมชนเพชรบูรณ์ 2 ระยะ 1 | D90: I39028 | E90: แนวราบ | F90: 309 | G90: 309 | I90: 309
A91: กองบริหารงานชุมชนภาคเหนือ เขต 2 | B91: สำนักงานเคหะจังหวัดเพชรบูรณ์ | C91: โครงการที่ดินเช่า อ.หนองไผ่ จ.เพชรบูรณ์ | D91: I00283 | E91: ที่ดินเช่า
A92: กองบริหารงานชุมชนภาคเหนือ เขต 2 | B92: สำนักงานเคหะจังหวัดเพชรบูรณ์ | C92: โครงการที่ดินแปลงโล่ง อ.เมือง จ.พิจิตร | D92: I39074 | E92: ที่ดินแปลงโล่ง | F92: 158 | G92: 158 | I92: 158
A93: กองบริหารงานชุมชนภาคเหนือ เขต 2 | B93: สำนักงานเคหะจังหวัดเพชรบูรณ์ | C93: โครงการที่ดินแปลงโล่ง อ.ตะพานหิน จ.พิจิตร | D93: I38003 | E93: ที่ดินแปลงโล่ง | F93: 699 | G93: 699 | I93: 699
A94: กองบริหารงานชุมชนภาคเหนือ เขต 2 | B94: สำนักงานเคหะจังหวัดเพชรบูรณ์ | C94: โครงการที่ดินแปลงโล่ง อ.บางมูลนาก จ.พิจิตร | D94: I38004 | E94: ที่ดินแปลงโล่ง | F94: 305 | G94: 305 | I94: 305
A95: กองบริหารงานชุมชนภาคเหนือ เขต 2 | B95: สำนักงานเคหะจังหวัดเพชรบูรณ์ | C95: โครงการเคหะชุมชนเพชรบูรณ์ (อาคารเช่า) | D95: I39027 | E95: แฟลต 3 ชั้น | G95: 69 | I95: 69 | J95: 69
A96: กองบริหารงานชุมชนภาคเหนือ เขต 2 | B96: สำนักงานเคหะจังหวัดเพชรบูรณ์ | C96: โครงการบ้านเอื้ออาทรเพชรบูรณ์ | D96: I46010 | E96: บ้านเดี่ยว/ บ้านแฝด 2 ชั้น | F96: 230 | G96: 230 | I96: 230
A97: กองบริหารงานชุมชนภาคเหนือ เขต 2 | B97: สำนักงานเคหะจังหวัดเพชรบูรณ์ | C97: โครงการบ้านเอื้ออาทรพิจิตร | D97: I46032 | E97: บ้านเดี่ยว 2 ชั้น | F97: 200 | G97: 200 | I97: 200
A98: กองบริหารงานชุมชนภาคเหนือ เขต 2 | B98: สำนักงานเคหะจังหวัดเพชรบูรณ์ | C98: โครงการเคหะชุมชนและบริการชุมชนเพชรบูรณ์ ระยะ 1 ส่วนที่ 1 | D98: I58074 | E98: บ้านเดี่ยวชั้นเดียว | F98: 36 | H98: 36 | I98: 36
A99: กองบริหารงานชุมชนภาคเหนือ เขต 2 | B99: สำนักงานเคหะจังหวัดเพชรบูรณ์ | C99: โครงการเคหะชุมชนและบริการชุมชนเพชรบูรณ์ ระยะ 1 ส่วนที่ 2 | D99: I58075 | E99: บ้านเดี่ยวชั้นเดียว | F99: 36 | H99: 36 | I99: 36
A100: กองบริหารงานชุมชนภาคเหนือ เขต 2 | B100: สำนักงานเคหะจังหวัดเพชรบูรณ์ | C100: โครงการเคหะสุขประชา จ.เพชรบูรณ์ | E100: ถมดิน
A101: กองบริหารงานชุมชนภาคเหนือ เขต 2 | B101: สำนักงานเคหะจังหวัดเพชรบูรณ์ | C101: โครงการเคหะสุขประชา อ.ตะพานหิน จ.พิจิตร | E101: ถมดิน
A102: กองบริหารงานชุมชนภาคเหนือ เขต 2 | B102: สำนักงานเคหะจังหวัดเพชรบูรณ์ | C102: โครงการเคหะสุขประชา อ.บางมูลนาก จ.พิจิตร | E102: ถมดิน
...

Sheet เชียงราย
A1: ข้อมูลหน่วยโครงการในความรับผิดชอบและข้อมูลประชากร สคจ.เชียงราย
A2: ลำดับ | B2: หน่วยงาน/สังกัด | C2: ชื่อโครงการ | D2: รหัสโครงการ | E2: ลักษณะอาคาร | F2: จำนวนหน่วยตามประเภทโครงการ (ไม่รวมเช่าจัดประโยชน์) | I2: ประเภทโครงการ | K2: จำนวนหน่วยตามสัญญา | S2: อาคารคงเหลือ | W2: ข้อมูลประชากร | X2: หมายเหตุ
F3: หน่วยก่อสร้าง | G3: โครงการเพื่อเช่า | H3: โครงการเพื่อขาย | I3: เชิงสังคม | J3: เชิงพาณิชย์ | K3: เช่า | L3: เช่าเหมา | M3: เช่าจัดประโยชน์ | N3: เช่าซื้อ | O3: จะซื้อจะขาย | P3: ติดค้ำประกัน | Q3: รอโอนกรรมสิทธิ์ | R3: โอนกรรมสิทธิ์ | S3: ว่างพร้อมขาย | T3: ว่างไม่พร้อมขาย | U3: บ้านพักพนักงาน | V3: รวม | W3: จำนวนผู้อยู่อาศัยในชุมชน
A4: 3 | B4: สคจ.เชียงราย | C4: โครงการเคหะชุมชน | Z4: อัตรากำลัง
C5: โครงการเชียงราย 1 ระยะ 1 | D5: I39026 | F5: 281 | H5: 281 | I5: 271 | J5: 10 | K5: - | L5: - | M5: - | N5: 5 | O5: - | P5: - | Q5: - | R5: 276 | S5: - | T5: - | U5: - | V5: =SUM(S5:U5) -> 0 | W5: 850 | Z5: - พนักงาน = 3 คน
C6: โครงการอาคารเช่า | Z6: 1. นายคัจฉพงศ์ ไชยพล | AA6: คจ.เชียงราย
C7: โครงการอาคารสงเคราะห์ (จ.พะเยา) | D7: I00106 | F7: 64 | G7: 64 | I7: 64 | K7: 39 | L7: - | M7: 0 | N7: - | O7: - | P7: - | Q7: - | R7: - | S7: 25 | T7: - | U7: - | V7: =SUM(S7:U7) -> 25 | W7: 630 | Z7: 2. นางสาวรมณี ลีลาการพณิช | AA7: พ.จัดการฯ 6
C8: โครงการเชียงราย 2 ระยะ 1 | D8: I00110 | F8: 156 | G8: 156 | I8: =156-29 -> 127 | J8: =4+1+4+20 -> 29 | K8: 155 | L8: - | M8: 1 | N8: - | O8: - | P8: - | Q8: - | R8: - | S8: - | T8: - | U8: - | V8: =SUM(S8:U8) -> 0 | W8: 356 | Z8: 3. นายวีระ ใจมา | AA8: พ.จัดการฯ 5
C9: โครงการเชียงราย 2 ระยะ 2 | D9: I39025 | F9: 178 | G9: 178 | I9: 177 | J9: 1 | K9: 112 | L9: - | M9: 1 | N9: - | O9: - | P9: - | Q9: - | R9: - | S9: 64 | T9: 1 | U9: - | V9: =SUM(S9:U9) -> 65 | W9: 474 | Z9: - ลูกจ้าง = 1 คน
C10: โครงการบ้านเอื้ออาทร | Z10: 1. นางสาวณัชชารินทร์ ชุมภูวงศ์ | AA10: พ.ธุรการ (ปวส.)
C11: เชียงราย (เดิม) | D11: I47089 | F11: 204 | H11: 204 | I11: 204 | K11: - | L11: - | M11: - | N11: 7 | O11: - | Q11: 4 | R11: 193 | S11: - | T11: - | U11: - | V11: =SUM(S11:U11) -> 0 | W11: 1941 | Z11: - แม่บ้าน = 1 คน
C12: เชียงราย (ริมกก) | D12: I49148 | F12: 562 | H12: 562 | I12: 562 | K12: - | L12: - | M12: - | N12: 46 | O12: - | P12: - | Q12: 17 | R12: 499 | S12: - | T12: - | U12: - | V12: =SUM(S12:U12) -> 0 | W12: 1488 | Z12: 1. นางสาววิภารัศมิ์ ชมบุญ | AA12: แม่บ้าน
C13: เชียงราย (แม่สาย 1) | D13: I49097 | F13: 647 | H13: 647 | I13: 647 | K13: - | L13: - | M13: - | N13: 135 | O13: - | P13: 7 | Q13: 63 | R13: 439 | S13: - | T13: 3 | U13: - | V13: =SUM(S13:U13) -> 3 | W13: 1686
C14: เชียงราย (แม่สาย 2) | D14: I49250 | F14: 496 | H14: 496 | I14: 496 | K14: - | L14: - | M14: - | N14: 129 | O14: - | P14: - | Q14: 0 | R14: 332 | S14: 27 | T14: 8 | U14: - | V14: =SUM(S14:U14) -> 35 | W14: 612
C15: พะเยา 1 | D15: I46033 | F15: 156 | H15: 156 | I15: 156 | K15: - | L15: - | M15: - | N15: 14 | O15: - | P15: - | Q15: 13 | R15: 129 | S15: - | T15: - | U15: - | V15: =SUM(S15:U15) -> 0 | W15: 468
C16: พะเยา 2 | D16: I49252 | F16: 457 | H16: 457 | I16: 457 | K16: - | L16: - | M16: - | N16: 52 | O16: - | P16: 4 | Q16: 17 | R16: 384 | S16: - | T16: - | U16: - | V16: =SUM(S16:U16) -> 0 | W16: 1371
C17: โครงการเคหะชุมชนและบริการชุมชน (Pack)
C18: จ.พะเยา | D18: I58004 | F18: 158 | H18: 158 | I18: 158 | K18: - | L18: - | M18: - | N18: 32 | O18: - | P18: - | Q18: - | R18: 126 | S18: - | T18: - | U18: - | V18: =SUM(S18:U18) -> 0 | W18: 200
C19: รวม สคจ.เชียงราย | D19: =COUNTA(D5:D18) -> 11 | F19: =SUM(F4:F18) -> 3359 | G19: =SUM(G4:G18) -> 398 | H19: =SUM(H4:H18) -> 2961 | I19: =SUM(I4:I18) -> 3319 | J19: =SUM(J4:J18) -> 40 | K19: =SUM(K4:K18) -> 306 | L19: =SUM(L4:L18) -> 0 | M19: =SUM(M4:M18) -> 2 | ... W19: =SUM(W4:W18) -> 10076

Sheet ลำปาง
A1: ข้อมูลหน่วยโครงการในความรับผิดชอบและข้อมูลประชากร สคจ.ลำปาง
A2: ลำดับ | B2: หน่วยงาน/สังกัด | C2: ชื่อโครงการ | D2: รหัสโครงการ | E2: ลักษณะอาคาร | F2: จำนวนหน่วยตามประเภทโครงการ (ไม่รวมเช่าจัดประโยชน์) | I2: ประเภทโครงการ | K2: จำนวนหน่วยตามสัญญา | S2: อาคารคงเหลือ | W2: ข้อมูลประชากร | X2: หมายเหตุ
F3: หน่วยก่อสร้าง | G3: โครงการเพื่อเช่า | H3: โครงการเพื่อขาย | I3: เชิงสังคม | J3: เชิงพาณิชย์ | K3: เช่า | L3: เช่าเหมา | M3: เช่าจัดประโยชน์ | N3: เช่าซื้อ | O3: จะซื้อจะขาย | P3: ติดค้ำประกัน | Q3: รอโอนกรรมสิทธิ์ | R3: โอนกรรมสิทธิ์ | S3: ว่างพร้อมขาย | T3: ว่างไม่พร้อมขาย | U3: บ้านพักพนักงาน | V3: รวม | W3: จำนวนผู้อยู่อาศัยในชุมชน
A4: 4 | B4: สคจ.ลำปาง | C4: โครงการเคหะชุมชน | Z4: อัตรากำลัง
C5: โครงการลำปาง ระยะ 1 | D5: I00105 | E5: บ้านแถวชั้นเดียว แบบ เอ | F5: 333 | H5: 333 | I5: 333 | K5: - | L5: - | M5: - | N5: 6 | O5: - | P5: - | Q5: - | R5: 327 | S5: - | T5: - | U5: - | V5: =SUM(S5:U5) -> 0 | W5: 899 | Z5: - พนักงาน = 6 คน
E6: บ้านแถวชั้นเดียว แบบ บี | K6: - | L6: - | M6: - | N6: - | O6: - | P6: - | Q6: - | R6: - | S6: - | T6: - | U6: - | V6: =SUM(S6:U6) -> 0 | Z6: 1. นายวรวิทย์ นนทวงศ์ | AA6: คจ.ลำปาง
E7: บ้านแถวชั้นเดียว แบบ ซี | K7: - | L7: - | M7: - | N7: - | O7: - | P7: - | Q7: - | R7: - | S7: - | T7: - | U7: - | V7: =SUM(S7:U7) -> 0 | Z7: 2. นางสาวธิดา จินะการ | AA7: พ.การเงินฯ 6
E8: บ้านแถวสองชั้น แบบ ดี | K8: - | L8: - | M8: - | N8: - | O8: - | P8: - | Q8: - | R8: - | S8: - | T8: - | U8: - | V8: =SUM(S8:U8) -> 0 | Z8: 3. นางสาวณัฐธิดา สิทธิชุม | AA8: พ.จัดการฯ 6
E9: บ้านเดี่ยวชั้นเดียว แบบ อี | K9: - | L9: - | M9: - | N9: - | O9: - | P9: - | Q9: - | R9: - | S9: - | T9: - | U9: - | V9: =SUM(S9:U9) -> 0 | Z9: 4. นางสาวศรัญญา รัตนสากล | AA9: พ.จัดการฯ 4
E10: บ้านเดี่ยวสองชั้น แบบ อี 2 | K10: - | L10: - | M10: - | N10: - | O10: - | P10: - | Q10: - | R10: - | S10: - | T10: - | U10: - | V10: =SUM(S10:U10) -> 0 | Z10: 5. นางสาวรสลิน ฉิมวิเศษ | AA10: พ.จัดการฯ 3
C11: โครงการลำปาง ระยะ 2 | D11: I39022 | E11: ทาวน์เฮ้าส์ชั้นเดียว แบบ เอ | F11: 250 | H11: 250 | I11: 250 | K11: - | L11: - | M11: - | N11: 5 | O11: - | P11: - | Q11: - | R11: 245 | S11: - | T11: - | U11: - | V11: =SUM(S11:U11) -> 0 | W11: 675 | Z11: 6. ว่าที่ร้อยตรีวิทวัส เทพศิริ | AA11: ช่างเทคนิค 2
E12: ทาวน์เฮ้าส์ชั้นเดียว แบบ บี | K12: - | L12: - | M12: - | N12: - | O12: - | P12: - | Q12: - | R12: - | S12: - | T12: - | U12: - | V12: =SUM(S12:U12) -> 0 | Z12: - ลูกจ้าง = 1 คน
E13: ทาวน์เฮ้าส์ชั้นเดียว แบบ ซี | K13: - | L13: - | M13: - | N13: - | O13: - | P13: - | Q13: - | R13: - | S13: - | T13: - | U13: - | V13: =SUM(S13:U13) -> 0 | Z13: 1. นางสาวปัญญพัฒน์ ป้อข่วง | AA13: ธุรการ
E14: ทาวน์เฮ้าส์สองชั้น แบบ ดี | K14: - | L14: - | M14: - | N14: - | O14: - | P14: - | Q14: - | R14: - | S14: - | T14: - | U14: - | V14: =SUM(S14:U14) -> 0 | Z14: - แม่บ้าน = 1 คน
E15: บ้านเดี่ยวชั้นเดียว แบบ อี1 | K15: - | L15: - | M15: - | N15: - | O15: - | P15: - | Q15: - | R15: - | S15: - | T15: - | U15: - | V15: =SUM(S15:U15) -> 0 | Z15: 1. นางศรีทวน ป้อข่วง | AA15: แม่บ้าน
E16: บ้านเดี่ยวสองชั้น แบบ อี2 | K16: - | L16: - | M16: - | N16: - | O16: - | P16: - | Q16: - | R16: - | S16: - | T16: - | U16: - | V16: =SUM(S16:U16) -> 0
C17: โครงการลำปาง ระยะ 3 | D17: I43004 | E17: บ้านแถวชั้นเดียว แบบ บี | F17: 281 | H17: 281 | I17: 281 | K17: - | L17: - | M17: - | N17: - | O17: - | P17: - | Q17: - | R17: 281 | S17: - | T17: - | U17: - | V17: =SUM(S17:U17) -> 0 | W17: 758
E18: บ้านแถวชั้นเดียว แบบ ซี | K18: - | L18: - | M18: - | N18: - | O18: - | P18: - | Q18: - | R18: - | S18: - | T18: - | U18: - | V18: =SUM(S18:U18) -> 0
E19: บ้านแถว 2 ชั้น | K19: - | L19: - | M19: - | N19: - | O19: - | P19: - | Q19: - | R19: - | S19: - | T19: - | U19: - | V19: =SUM(S19:U19) -> 0
E20: บ้านแฝด 2 ชั้น | K20: - | L20: - | M20: - | N20: - | O20: - | P20: - | Q20: - | R20: - | S20: - | T20: - | U20: - | V20: =SUM(S20:U20) -> 0
C21: โครงการอาคารเช่า
C22: โครงการอาคารเช่า (ข้าราชการ จ.ลำปาง) | D22: I48013 | E22: แฟลต 1 ห้องนอน | F22: 135 | G22: 135 | I22: 135 | K22: 74 | L22: - | M22: - | N22: - | O22: - | P22: - | Q22: - | R22: - | S22: 60 | T22: 1 | U22: - | V22: =SUM(S22:U22) -> 61 | W22: 111
C23: อาคารเช่าผู้มีรายได้น้อย จ.ลำปาง | D23: I62002 | E23: แฟลตห้องเอนกประสงค์ | F23: 229 | G23: 229 | I23: 229 | K23: 65 | L23: - | M23: - | N23: - | O23: - | P23: - | Q23: - | R23: - | S23: 163 | T23: - | U23: 1 | V23: =SUM(S23:U23) -> 164 | W23: 100
C24: โครงการบ้านเอื้ออาทร
C25: ลำปาง (ต้นธงชัย) | D25: I47181 | E25: บ้านเดี่ยว 2 ชั้น | F25: 467 | H25: 467 | I25: 467 | K25: 2 | L25: - | N25: 11 | O25: - | P25: 1 | Q25: 7 | R25: 445 | S25: - | T25: 1 | U25: - | V25: =SUM(S25:U25) -> 1 | W25: 1100
C26: ลำปาง (พิชัย) | D26: I49152 | E26: บ้านแฝด 2 ชั้น | F26: 600 | H26: 600 | I26: 600 | K26: 1 | L26: - | N26: 59 | O26: 1 | P26: 9 | Q26: 27 | R26: 501 | S26: 1 | T26: 1 | U26: - | V26: =SUM(S26:U26) -> 2 | W26: 1440
C27: จ.แพร่ | D27: I47088 | E27: บ้านเดี่ยว 2 ชั้น | F27: 406 | H27: 406 | I27: 406 | K27: - | L27: - | N27: 37 | O27: 1 | P27: 38 | Q27: 37 | R27: 290 | T27: 3 | U27: - | V27: =SUM(S27:U27) -> 3 | W27: 974
C28: จ.น่าน | D28: I46034 | E28: บ้านเดี่ยว 2 ชั้น | F28: 494 | H28: 494 | I28: 494 | K28: - | L28: - | M28: - | N28: 10 | O28: - | P28: - | Q28: 3 | R28: 481 | S28: - | T28: - | U28: - | V28: =SUM(S28:U28) -> 0 | W28: 1333
C29: โครงการเคหะชุมชนและบริการชุมชน (Pack)
C30: จ.ลำปาง (ต้นธงชัย) ส่วนที่ 1 | D30: I58022 | E30: บ้านเดี่ยว 2 ชั้น | F30: 172 | H30: 172 | I30: 172 | K30: - | L30: - | M30: - | N30: 39 | O30: 1 | P30: - | Q30: - | R30: 132 | S30: - | T30: - | U30: - | V30: =SUM(S30:U30) -> 0 | W30: 412
C31: จ.ลำปาง (ต้นธงชัย) ส่วนที่ 2 | D31: I58023 | E31: บ้านเดี่ยว 2 ชั้น | F31: 237 | H31: 237 | I31: 237 | K31: - | L31: - | M31: - | N31: 66 | O31: - | P31: - | Q31: - | R31: 171 | S31: - | T31: - | U31: - | V31: =SUM(S31:U31) -> 0 | W31: 568
C32: รวม สคจ.ลำปาง | D32: =COUNTA(D5:D31) -> 11 | F32: =SUM(F4:F31) -> 3604 | G32: =SUM(G4:G31) -> 364 | H32: =SUM(H4:H31) -> 3240 | I32: =SUM(I4:I31) -> 3604 | J32: =SUM(J4:J31) -> 0 | K32: =SUM(K4:K31) -> 142 | L32: =SUM(L4:L31) -> 0 | M32: =SUM(M4:M31) -> 0 | ... W32: =SUM(W4:W31) -> 8370

Sheet อุตรดิตถ์
A1: ข้อมูลหน่วยโครงการในความรับผิดชอบและข้อมูลประชากร สคจ.อุตรดิตถ์
A2: ลำดับ | B2: หน่วยงาน/สังกัด | C2: ชื่อโครงการ | D2: รหัสโครงการ | E2: ลักษณะอาคาร | F2: จำนวนหน่วยตามประเภทโครงการ (ไม่รวมเช่าจัดประโยชน์) | I2: ประเภทโครงการ | K2: จำนวนหน่วยตามสัญญา | S2: อาคารคงเหลือ | W2: ข้อมูลประชากร | X2: หมายเหตุ
F3: หน่วยก่อสร้าง | G3: โครงการเพื่อเช่า | H3: โครงการเพื่อขาย | I3: เชิงสังคม | J3: เชิงพาณิชย์ | K3: เช่า | L3: เช่าเหมา | M3: เช่าจัดประโยชน์ | N3: เช่าซื้อ | O3: จะซื้อจะขาย | P3: ติดค้ำประกัน | Q3: รอโอนกรรมสิทธิ์ | R3: โอนกรรมสิทธิ์ | S3: ว่างพร้อมขาย | T3: ว่างไม่พร้อมขาย | U3: บ้านพักพนักงาน | V3: รวม | W3: จำนวนผู้อยู่อาศัยในชุมชน
A4: 5 | B4: สคจ.อุตรดิตถ์ | C4: โครงการอาคารเช่า | Z4: อัตรากำลัง
C5: โครงการเช่าสวรรคโลก | F5: 1 | G5: 1 | I5: 1 | K5: 1 | V5: =SUM(S5:U5) -> 0 | Z5: - พนักงาน = 4 คน
C6: โครงการบ้านเอื้ออาทร | V6: =SUM(S6:U6) -> 0 | Z6: 1. นายสกนธ์ หาญกาย | AA6: คจ.อุตรดิตถ์
C7: สุโขทัย (อ.เมือง) | D7: I47080 | F7: 411 | H7: 411 | I7: 411 | N7: 22 | P7: 3 | Q7: 25 | R7: 358 | S7: 3 | V7: 3 | W7: 313 | Z7: 2. นางสาวอิษฎาอร คงสมพจน์ | AA7: พ.จัดการฯ 6
C8: สุโขทัย (สวรรคโลก) | D8: I49211 | F8: 210 | H8: 210 | I8: 210 | N8: 17 | O8: 1 | P8: 2 | Q8: 17 | R8: 163 | S8: 10 | V8: 10 | W8: 155 | Z8: 3. นายชยุตม์ ตันติพลานิสงฆ์ | AA8: พ.จัดการฯ 6
C9: อุตรดิตถ์ (ลับแล) | D9: I49126 | F9: 495 | H9: 495 | I9: 495 | K9: 2 | N9: 51 | O9: 2 | P9: 43 | Q9: 103 | R9: 282 | S9: 3 | T9: 5 | U9: 4 | V9: 12 | W9: 351 | Z9: 4. นางสาวอนัญญา ชัยชอุ่ม | AA9: พ.จัดการฯ 6
C10: อุตรดิตถ์ (พิชัย) | D10: I49192 | F10: 290 | H10: 290 | I10: 290 | K10: 7 | N10: 14 | O10: 1 | P10: 18 | Q10: 20 | R10: 43 | S10: 186 | T10: 1 | V10: 187 | W10: 65 | Z10: - ลูกจ้าง = 1 คน
C11: อุตรดิตถ์ (งิ้วงาม) | D11: I49249 | F11: 304 | H11: 304 | I11: 304 | K11: 2 | N11: 31 | O11: 1 | P11: 34 | Q11: 87 | R11: 135 | S11: 10 | T11: 4 | V11: 14 | W11: 211 | Z11: 1. นางสาวณปภา แจ้งวิจารณ์ | AA11: พ.ธุรการ (ปวส.)
C12: รวม สคจ.อุตรดิตถ์ | D12: =COUNTA(D5:D11) -> 5 | F12: =SUM(F4:F11) -> 1711 | G12: =SUM(G4:G11) -> 1 | H12: =SUM(H4:H11) -> 1710 | I12: =SUM(I4:I11) -> 1711 | J12: =SUM(J4:J11) -> 0 | K12: =SUM(K4:K11) -> 12 | L12: =SUM(L4:L11) -> 0 | M12: =SUM(M4:M11) -> 0 | ... W12: =SUM(W4:W11) -> 1095 | Z12: - แม่บ้าน = 1 คน
Z13: 1. นางสาวนงเยาว์ แซ่ซื่อ | AA13: แม่บ้าน

Sheet ลพบุรี
A1: ข้อมูลหน่วยโครงการในความรับผิดชอบและข้อมูลประชากร สคจ.ลพบุรี
A2: ลำดับ | B2: หน่วยงาน/สังกัด | C2: ชื่อโครงการ | D2: รหัสโครงการ | E2: ลักษณะอาคาร | F2: จำนวนหน่วยตามประเภทโครงการ (ไม่รวมเช่าจัดประโยชน์) | I2: ประเภทโครงการ | K2: จำนวนหน่วยตามสัญญา | S2: อาคารคงเหลือ | W2: ข้อมูลประชากร | X2: หมายเหตุ
F3: หน่วยก่อสร้าง | G3: โครงการเพื่อเช่า | H3: โครงการเพื่อขาย | I3: เชิงสังคม | J3: เชิงพาณิชย์ | K3: เช่า | L3: เช่าเหมา | M3: เช่าจัดประโยชน์ | N3: เช่าซื้อ | O3: จะซื้อจะขาย | P3: ติดค้ำประกัน | Q3: รอโอนกรรมสิทธิ์ | R3: โอนกรรมสิทธิ์ | S3: ว่างพร้อมขาย | T3: ว่างไม่พร้อมขาย | U3: บ้านพักพนักงาน | V3: รวม | W3: จำนวนผู้อยู่อาศัยในชุมชน
A4: 6 | B4: สคจ.ลพบุรี | C4: โครงการเคหะชุมชน | Z4: อัตรากำลัง
C5: โครงการลพบุรี 1 ระยะ 1 | D5: I00136 | E5: แนวราบ | F5: 305 | H5: 305 | I5: 305 | N5: 1 | R5: 302 | U5: 2 | V5: 2 | W5: 1200 | X5: บ้านพักพนักงาน 2 หน่วย | Z5: - พนักงาน = 4 คน
C6: โครงการลพบุรี 1 ระยะ 2 | D6: I39035 | E6: แนวราบ | F6: 505 | H6: 505 | I6: 505 | N6: 6 | R6: 497 | S6: 1 | U6: 1 | V6: 2 | W6: 2000 | X6: อาคารสำนักงาน 1 หน่วย, อาคารคงเหลือ 1 หน่วย | Z6: 1. นางสาวกัญภัคณัฐ สำเร็จศิลป์ | AA6: คจ.ลพบุรี
C7: โครงการลพบุรี 1 ระยะ 3 | D7: I43009 | E7: แนวราบ | F7: 263 | H7: 263 | I7: 263 | R7: 261 | U7: 2 | V7: 2 | W7: 1000 | X7: บ้านพักพนักงาน 2 หน่วย | Z7: 2. นางสาวภัคพิชา ศรทอง | AA7: พ.จัดการฯ 6
C8: โครงการอาคารเช่า | Z8: 3. นางสาวมัทนา เจ๊ะซำและ | AA8: พ.จัดการฯ 6
C9: ลพบุรี (ราชพัสดุ) (มทบ. 13) | D9: I00137 | E9: แนวราบ | F9: 101 | G9: 101 | I9: 101 | K9: 101 | W9: 400 | Z9: 4. นางมนต์สวรรค์ เสนทองแก้ว | AA9: พ.จัดการฯ 3
C10: ลพบุรี (ราชพัสดุ) (โคกตูม) | D10: I00137 | E10: แนวราบ | F10: 9 | G10: 9 | I10: 9 | K10: 9 | W10: 36 | Z10: - ลูกจ้าง = 1 คน
C11: อาคารเช่า จ.ลพบุรี ระยะ 1 | D11: I60047 | E11: แนวสูง | F11: 245 | G11: 245 | I11: 245 | K11: 245 | W11: 0 | X11: อยู่ระหว่างการก่อสร้าง | Z11: 1. นางสาวกัญจนฐิศา ชื่นอารมณ์ | AA11: พ.ธุรการ (ปวส.)
C12: โครงการบ้านเอื้ออาทร
C13: ลพบุรี (ศรีอินทราทิตย์) | D13: I49210 | E13: แนวราบ | F13: 1030 | H13: 1030 | I13: 1030 | N13: 142 | O13: 1 | P13: 38 | R13: 848 | T13: 1 | V13: 1 | W13: 4000
C14: ลพบุรี (ลำนารายณ์) | D14: I49191 | E14: แนวราบ | F14: 370 | H14: 370 | I14: 370 | N14: 47 | P14: 8 | R14: 311 | S14: 4 | V14: 4 | W14: 1400
C15: ลพบุรี (พัฒนานิคม 2) | D15: I50045 | E15: แนวราบ | F15: 169 | H15: 169 | I15: 169 | N15: 20 | P15: 4 | R15: 142 | S15: 2 | T15: 1 | V15: 3 | W15: 600
C16: โครงการเคหะชุมชนและบริการชุมชน (Pack)
C17: จ.สิงห์บุรี (บางกระบือ) | D17: I62014 | E17: แนวราบ | F17: 224 | H17: 224 | I17: 224 | N17: 69 | O17: 42 | Q17: 4 | R17: 106 | S17: 3 | V17: 3 | W17: 500
C18: รวม สคจ.ลพบุรี | D18: =COUNTA(D5:D17) -> 10 | F18: =SUM(F4:F17) -> 3221 | G18: =SUM(G4:G17) -> 355 | H18: =SUM(H4:H17) -> 2866 | I18: =SUM(I4:I17) -> 3221 | J18: =SUM(J4:J17) -> 0 | K18: =SUM(K4:K17) -> 355 | L18: =SUM(L4:L17) -> 0 | M18: =SUM(M4:M17) -> 0 | ... W18: =SUM(W4:W17) -> 11136

Sheet นครสวรรค์
A1: ข้อมูลหน่วยโครงการในความรับผิดชอบและข้อมูลประชากร สคจ.นครสวรรค์
A2: ลำดับ | B2: หน่วยงาน/สังกัด | C2: ชื่อโครงการ | D2: รหัสโครงการ | E2: ลักษณะอาคาร | F2: จำนวนหน่วยตามประเภทโครงการ (ไม่รวมเช่าจัดประโยชน์) | I2: ประเภทโครงการ | K2: จำนวนหน่วยตามสัญญา | S2: อาคารคงเหลือ | W2: ข้อมูลประชากร | X2: หมายเหตุ
F3: หน่วยก่อสร้าง | G3: โครงการเพื่อเช่า | H3: โครงการเพื่อขาย | I3: เชิงสังคม | J3: เชิงพาณิชย์ | K3: เช่า | L3: เช่าเหมา | M3: เช่าจัดประโยชน์ | N3: เช่าซื้อ | O3: จะซื้อจะขาย | P3: ติดค้ำประกัน | Q3: รอโอนกรรมสิทธิ์ | R3: โอนกรรมสิทธิ์ | S3: ว่างพร้อมขาย | T3: ว่างไม่พร้อมขาย | U3: บ้านพักพนักงาน | V3: รวม | W3: จำนวนผู้อยู่อาศัยในชุมชน
A4: 7 | B4: สคจ.นครสวรรค์ | C4: โครงการเคหะชุมชน | Z4: อัตรากำลัง
C5: โครงการนครสวรรค์ ระยะ 1 | D5: I00108 | E5: แนวราบ | F5: 535 | H5: 535 | I5: 535 | K5: - | L5: - | M5: - | N5: 6 | O5: - | P5: - | Q5: - | R5: 529 | S5: - | T5: - | U5: - | V5: - | W5: 1600 | Z5: - พนักงาน = 6 คน
C6: โครงการนครสวรรค์ ระยะ 2 | D6: I00109 | E6: แนวราบ | F6: 228 | H6: 228 | I6: 228 | K6: - | L6: - | M6: - | N6: 9 | O6: - | P6: - | Q6: - | R6: 215 | S6: - | T6: - | U6: 4 | V6: =SUM(S6:U6) -> 4 | W6: 680 | Z6: 1. นางปราณี เสริมทรัพย์ | AA6: คจ.นครสวรรค์
C7: โครงนครสวรรค์ ระยะ 3 | D7: I39024 | E7: แนวราบ | F7: 324 | H7: 324 | I7: 324 | K7: - | L7: - | M7: - | N7: 2 | O7: - | P7: - | Q7: 1 | R7: 321 | S7: - | T7: - | U7: - | V7: - | W7: 970 | Z7: 2. นางสุรีย์พร ปิยสมบุญ | AA7: พ.จัดการฯ 6
C8: โครงการอาคารเช่า | Z8: 3. นางสาวณัฐธยาน์ สีละวัตร | AA8: พ.จัดการฯ 6
C9: โครงการอาคารเช่า(สงเคราะห์) | D9: I00108 | E9: แนวราบ | F9: 4 | G9: 4 | I9: 4 | K9: 2 | L9: - | M9: - | N9: - | O9: - | P9: - | Q9: - | R9: - | S9: - | T9: 2 | U9: - | V9: =SUM(S9:U9) -> 2 | W9: 6 | Z9: 4. นางสาวอภิญญ์ คุ่ยชูชีพ | AA9: พ.จัดการฯ 6
C10: โครงการนครสวรรค์ 2 แฟลตเช่า | D10: I39023 | E10: แนวสูง | F10: 130 | G10: 130 | I10: 130 | K10: 44 | L10: - | M10: - | N10: - | O10: - | P10: - | Q10: - | R10: - | S10: - | T10: 86 | U10: - | V10: =SUM(S10:U10) -> 86 | W10: 80 | Z10: 5. นางสาวอังสนา ชาติป่าสัก | AA10: พ.การเงินฯ 4
C11: โครงการอาคารเช่าฯ จ.นครสวรรค์ 2 ระยะ 1 | D11: I60048 | E11: แนวสูง | F11: 145 | G11: 145 | I11: 145 | K11: 101 | L11: - | M11: - | N11: - | O11: - | P11: - | Q11: - | R11: - | S11: 43 | T11: - | U11: 1 | V11: =SUM(S11:U11) -> 44 | W11: 190 | Z11: 6. นายวิศรุต ซีบางทราย | AA11: ช่างเทคนิค 2
C12: โครงการอาคารเช่าฯ จ.นครสวรรค์ 2 ระยะ 2 | D12: I61009 | E12: แนวสูง | F12: 196 | G12: 196 | I12: 196 | K12: 66 | L12: - | M12: - | N12: - | O12: - | P12: - | Q12: - | R12: - | S12: 125 | T12: - | U12: 5 | V12: =SUM(S12:U12) -> 130 | W12: 90 | Z12: - ลูกจ้าง = คน
C13: โครงการบ้านเอื้ออาทร
C14: นครสวรรค์ 1 | D14: I47087 | E14: แนวราบ | F14: 437 | H14: 437 | I14: 437 | K14: - | L14: - | M14: - | N14: 12 | O14: - | P14: - | Q14: 3 | R14: 422 | S14: - | T14: - | U14: - | V14: - | W14: 1200
C15: นครสวรรค์ 2 | D15: I49179 | E15: แนวราบ | F15: 986 | H15: 986 | I15: 986 | K15: - | L15: - | M15: - | N15: 3 | O15: - | P15: - | Q15: 6 | R15: 976 | S15: - | T15: - | U15: 1 | V15: =SUM(S15:U15) -> 1 | W15: 2500
C16: ชัยนาท (เขาท่าพระ) | D16: I47091 | E16: แนวราบ | F16: 267 | H16: 267 | I16: 267 | K16: - | L16: - | M16: - | N16: 2 | O16: - | P16: 3 | Q16: 4 | R16: 258 | S16: - | T16: - | U16: - | V16: - | W16: 700
C17: โครงการเคหะชุมชนและบริการชุมชน (Pack)
C18: นครสวรรค์นิวมาร์ท | D18: I58034 | E18: แนวราบ | F18: 18 | H18: 18 | J18: 18 | K18: - | L18: - | M18: - | N18: - | O18: - | P18: - | Q18: - | R18: 18 | S18: - | T18: - | U18: - | V18: - | W18: 50
C19: จ.นครสวรรค์ (ตาคลี) | D19: I60031 | E19: แนวราบ | F19: 103 | H19: 103 | I19: 103 | K19: - | L19: - | M19: - | N19: 43 | O19: 5 | P19: - | Q19: - | R19: 40 | S19: 13 | T19: 2 | U19: - | V19: =SUM(S19:U19) -> 15 | W19: 190
C20: รวม สคจ.นครสวรรค์ | D20: =COUNTA(D5:D19) -> 12 | F20: =SUM(F4:F19) -> 3373 | G20: =SUM(G4:G19) -> 475 | H20: =SUM(H4:H19) -> 2898 | I20: =SUM(I4:I19) -> 3355 | J20: =SUM(J4:J19) -> 18 | K20: =SUM(K4:K19) -> 213 | L20: =SUM(L4:L19) -> 0 | M20: =SUM(M4:M19) -> 0 | ... W20: =SUM(W4:W19) -> 8256

Sheet เพชรบูรณ์ 
A1: ข้อมูลหน่วยโครงการในความรับผิดชอบและข้อมูลประชากร สคจ.เพชรบูรณ์
A2: ลำดับ | B2: หน่วยงาน/สังกัด | C2: ชื่อโครงการ | D2: รหัสโครงการ | E2: ลักษณะอาคาร | F2: จำนวนหน่วยตามประเภทโครงการ (ไม่รวมเช่าจัดประโยชน์) | I2: ประเภทโครงการ | K2: จำนวนหน่วยตามสัญญา | S2: อาคารคงเหลือ | W2: ข้อมูลประชากร | X2: หมายเหตุ
F3: หน่วยก่อสร้าง | G3: โครงการเพื่อเช่า | H3: โครงการเพื่อขาย | I3: เชิงสังคม | J3: เชิงพาณิชย์ | K3: เช่า | L3: เช่าเหมา | M3: เช่าจัดประโยชน์ | N3: เช่าซื้อ | O3: จะซื้อจะขาย | P3: ติดค้ำประกัน | Q3: รอโอนกรรมสิทธิ์ | R3: โอนกรรมสิทธิ์ | S3: ว่างพร้อมขาย | T3: ว่างไม่พร้อมขาย | U3: บ้านพักพนักงาน | V3: รวม | W3: จำนวนผู้อยู่อาศัยในชุมชน
A4: 8 | B4: สคจ.เพชรบูรณ์ | C4: โครงการเคหะชุมชน | Z4: อัตรากำลัง
C5: เคหะชุมชนเพชรบูรณ์ 2 ระยะ 1 | D5: I39028 | E5: แนวราบ | F5: 309 | H5: 309 | I5: 309 | K5: - | L5: - | M5: - | N5: 3 | O5: - | P5: - | Q5: - | R5: 303 | S5: - | T5: - | U5: 3 | V5: =SUM(S5:U5) -> 3 | W5: 1000 | Z5: - พนักงาน = 3 คน
C6: โครงการอาคารเช่า | Z6: 1. นางสมลักษณ์ จันทพงศ์สวัสดิ์ | AA6: คจ.เพชรบูรณ์
C7: เคหะชุมชนเพชรบูรณ์ (อาคารเช่า) | D7: I39027 | E7: แฟลต 3 ชั้น | F7: 69 | G7: 69 | I7: 69 | K7: 28 | L7: - | M7: - | N7: - | O7: - | P7: - | Q7: - | R7: - | S7: 7 | T7: 34 | U7: - | V7: =SUM(S7:U7) -> 41 | W7: 50 | X7: ว่างไม่พร้อมขาย 34 หน่วย อยู่ระหว่างรอซ่อม 33 หน่วย , อยู่ระหว่างขออนุมัติทำสัญญาเช่า เพื่อใช้เป็นสำนักงาน เคหะสุขประชา ฯ 1 หน่วย | Z7: 2. นางสาวณัชชมน เพ็ญชะณิน | AA7: พ.จัดการฯ 6
C8: โครงการบ้านเอื้ออาทร | Z8: 3. นางสาวจุฑารัตน์ ไผ่ประเสริฐ | AA8: พ.จัดการฯ 6
C9: เพชรบูรณ์ | D9: I46010 | E9: บ้านเดี่ยว/แฝด 2 ชั้น | F9: 230 | H9: 230 | I9: 230 | K9: - | L9: - | M9: - | N9: - | O9: - | P9: - | Q9: - | R9: 230 | S9: - | T9: - | U9: - | V9: - | W9: 700 | Z9: - ลูกจ้าง = 1 คน
C10: พิจิตร | D10: I46032 | E10: บ้านเดี่ยว 2 ชั้น | F10: 200 | H10: 200 | I10: 200 | K10: 1 | L10: - | M10: - | N10: 2 | O10: 2 | P10: - | Q10: - | R10: 194 | S10: 1 | T10: - | U10: - | V10: =SUM(S10:U10) -> 1 | W10: 600 | Z10: 1. นางสาวกรรณภิรมย์ กลั่นทองเจริญ | AA10: พ.ธุรการ (ปวส.)
C11: โครงการเคหะชุมชนและบริการชุมชน (Pack)
C12: เพชรบูรณ์ ระยะ 1 ส่วนที่ 1 | D12: I58074 | E12: บ้านเดี่ยวชั้นเดียว | F12: 36 | H12: 36 | J12: 36 | K12: - | L12: - | M12: - | N12: - | O12: - | P12: - | Q12: - | R12: 34 | S12: 2 | T12: - | U12: - | V12: =SUM(S12:U12) -> 2 | W12: 70
C13: เพชรบูรณ์ ระยะ 1 ส่วนที่ 2 | D13: I58075 | E13: บ้านเดี่ยวชั้นเดียว | F13: 36 | H13: 36 | J13: 36 | K13: - | L13: - | M13: - | N13: - | O13: - | P13: - | Q13: - | R13: 36 | T13: - | U13: - | V13: =SUM(S13:U13) -> 0 | W13: 70
C14: โครงการที่ดินเช่า
C15: อ.หนองไผ่ จ.เพชรบูรณ์ | D15: I00283 | F15: 1 | G15: 1 | I15: - | J15: - | K15: - | L15: - | M15: 1 | N15: - | O15: - | P15: - | Q15: - | R15: - | S15: - | T15: - | U15: - | V15: - | W15: - | X15: เช่าจัดประโยชน์ เพื่อทำการเกษตร
C16: โครงการที่ดินแปลงโล่ง
C17: อ.เมือง จ.พิจิตร | D17: I39074 | E17: ที่ดินแปลงโล่ง | F17: 158 | H17: 158 | I17: 158 | K17: - | L17: - | M17: - | N17: 2 | O17: - | P17: - | Q17: - | R17: 156 | S17: - | T17: - | U17: - | V17: - | W17: 200
C18: อ.ตะพานหิน จ.พิจิตร | D18: I38003 | E18: ที่ดินแปลงโล่ง | F18: 699 | H18: 699 | I18: 699 | K18: - | L18: - | M18: - | N18: 2 | O18: - | P18: - | Q18: - | R18: 697 | S18: - | T18: - | U18: - | V18: - | W18: 700
C19: อ.บางมูลนาก จ.พิจิตร | D19: I38004 | E19: ที่ดินแปลงโล่ง | F19: 305 | H19: 305 | I19: 305 | K19: - | L19: - | M19: - | N19: - | O19: - | P19: - | Q19: - | R19: 305 | S19: - | T19: - | U19: - | V19: - | W19: 300
C20: รวม สคจ.เพชรบูรณ์ | D20: =COUNTA(D5:D19) -> 10 | F20: =SUM(F4:F19) -> 2043 | G20: =SUM(G4:G19) -> 70 | H20: =SUM(H4:H19) -> 1973 | I20: =SUM(I4:I19) -> 1970 | J20: =SUM(J4:J19) -> 72 | K20: =SUM(K4:K19) -> 29 | L20: =SUM(L4:L19) -> 0 | M20: =SUM(M4:M19) -> 1 | ... W20: =SUM(W4:W19) -> 3690

Sheet พิษณุโลก
A1: ข้อมูลหน่วยโครงการในความรับผิดชอบและข้อมูลประชากร สคจ.พิษณุโลก
A2: ลำดับ | B2: หน่วยงาน/สังกัด | C2: ชื่อโครงการ | D2: รหัสโครงการ | E2: ลักษณะอาคาร | F2: จำนวนหน่วยตามประเภทโครงการ (ไม่รวมเช่าจัดประโยชน์) | I2: ประเภทโครงการ | K2: จำนวนหน่วยตามสัญญา | S2: อาคารคงเหลือ | W2: ข้อมูลประชากร | X2: หมายเหตุ
F3: หน่วยก่อสร้าง | G3: โครงการเพื่อเช่า | H3: โครงการเพื่อขาย | I3: เชิงสังคม | J3: เชิงพาณิชย์ | K3: เช่า | L3: เช่าเหมา | M3: เช่าจัดประโยชน์ | N3: เช่าซื้อ | O3: จะซื้อจะขาย | P3: ติดค้ำประกัน | Q3: รอโอนกรรมสิทธิ์ | R3: โอนกรรมสิทธิ์ | S3: ว่างพร้อมขาย | T3: ว่างไม่พร้อมขาย | U3: บ้านพักพนักงาน | V3: รวม | W3: จำนวนผู้อยู่อาศัยในชุมชน
A4: 9 | B4: สคจ.พิษณุโลก | C4: โครงการเคหะชุมชน | Z4: อัตรากำลัง
C5: โครงการพิษณุโลก ระยะ 1 | D5: I00101 | E5: แนวราบ | F5: 357 | H5: 357 | I5: 357 | K5: - | L5: - | M5: - | N5: - | O5: - | P5: - | Q5: 1 | R5: 353 | S5: - | T5: - | U5: 3 | V5: =SUM(S5:U5) -> 3 | W5: 700 | Z5: - พนักงาน = 4 คน
C6: โครงการพิษณุโลก ระยะ 2 | D6: I00102 | E6: แนวราบ | F6: 111 | H6: 111 | I6: 111 | K6: - | L6: - | M6: - | N6: - | O6: - | P6: - | Q6: - | R6: 111 | S6: - | T6: - | U6: - | V6: - | W6: 220 | Z6: 1. นายคมกฤช จันทรสาร | AA6: คจ.พิษณุโลก
C7: ทรัพย์ทวีคอนโดมิเนียม | D7: I44006 | E7: แนวสูง | F7: 210 | H7: 210 | I7: 210 | K7: - | L7: - | M7: - | N7: - | O7: - | P7: - | Q7: - | R7: 210 | S7: - | T7: - | U7: - | V7: - | W7: 500 | Z7: 2. นายปฐวี ทองแท้ | AA7: พ.จัดการฯ 6
C8: โครงการอาคารเช่า | Z8: 3. นางสาวพิศมัย สะอาดคต | AA8: พ.จัดการฯ 6
C9: โครงการอาคารเช่าพิษณุโลก ถ.จ่านกร้อง | D9: I00101 | E9: แนวราบ | F9: 85 | G9: 85 | I9: 85 | K9: 83 | L9: - | M9: - | N9: - | O9: - | P9: - | Q9: - | R9: - | S9: - | T9: 2 | U9: - | V9: =SUM(S9:U9) -> 2 | W9: 160 | Z9: 4. นายนิติศักดิ์ วงษ์งาม | AA9: พ.จัดการฯ 3
C10: โครงการอาคารเช่าพิษณุโลก ถ.พญาลิไท, เอกาทศรฐ | D10: I00101 | E10: แนวราบ | F10: 60 | G10: 60 | I10: 60 | K10: 60 | L10: - | M10: - | N10: - | O10: - | P10: - | Q10: - | R10: - | S10: - | T10: - | U10: - | V10: - | W10: 120 | Z10: - ลูกจ้าง = 1 คน
C11: โครงการอาคารเช่าข้าราชการ จ.พิษณุโลก | D11: I48011 | E11: แนวสูง | F11: 78 | G11: 78 | I11: 78 | K11: - | L11: 78 | M11: - | N11: - | O11: - | P11: - | Q11: - | R11: - | S11: - | T11: - | U11: - | V11: - | W11: 130 | Z11: 1. นางสาวนันทิกา ชุ่มสอน | AA11: พ.ธุรการ (ปวส.)
C12: โครงการบ้านเอื้ออาทร
C13: พิษณุโลก (หัวรอ) | D13: I46009 | E13: แนวราบ | F13: 499 | H13: 499 | I13: 499 | K13: - | L13: - | M13: - | N13: 7 | O13: - | P13: 23 | Q13: 2 | R13: 466 | S13: 1 | T13: - | U13: - | V13: =SUM(S13:U13) -> 1 | W13: 1800
C14: พิษณุโลก (พลายชุมพล) | D14: I47081 | E14: แนวราบ | F14: 232 | H14: 232 | I14: 232 | K14: - | L14: - | M14: - | N14: 7 | O14: 1 | P14: 6 | Q14: - | R14: 218 | S14: - | T14: - | U14: - | V14: =SUM(S14:U14) -> 0 | W14: 650
C15: พิษณุโลก (วัดพริก) | D15: I47083 | E15: แนวราบ | F15: 244 | H15: 244 | I15: 244 | K15: - | L15: - | M15: - | N15: 10 | O15: - | P15: 18 | Q15: - | R15: 210 | S15: 6 | T15: - | U15: - | V15: =SUM(S15:U15) -> 6 | W15: 360
C16: พิษณุโลก (บึงพระ 2) | D16: I49270 | E16: แนวราบ | F16: 399 | H16: 399 | I16: 399 | K16: - | L16: - | M16: - | N16: 24 | O16: - | P16: 20 | Q16: 1 | R16: 351 | S16: 2 | T16: - | U16: 1 | V16: =SUM(S16:U16) -> 3 | W16: 1400
C17: พิษณุโลก (บึงพระ 3) | D17: I49271 | E17: แนวราบ | F17: 260 | H17: 260 | I17: 260 | K17: - | L17: - | M17: - | N17: 5 | O17: - | P17: 7 | Q17: - | R17: 248 | S17: - | T17: - | U17: - | V17: - | W17: 600
C18: โครงการเคหะชุมชนและบริการชุมชน (Pack)
C19: จ.พิษณุโลก (บึงพระ 2) | D19: I58033 | E19: แนวราบ | F19: 100 | H19: 100 | I19: 100 | K19: - | L19: - | M19: - | N19: 20 | O19: - | P19: - | Q19: - | R19: 80 | S19: - | T19: - | U19: - | V19: - | W19: 120
C20: จ.พิษณุโลก (บึงพระ 1) เฟส 1 | D20: I59091 | E20: แนวราบ | F20: 301 | H20: 301 | I20: 301 | K20: - | L20: - | M20: - | N20: 5 | O20: - | P20: - | Q20: - | R20: 296 | S20: - | T20: - | U20: - | V20: - | W20: 900
C21: จ.พิษณุโลก (บึงพระ 1) เฟส 2 | D21: I59092 | E21: แนวราบ | F21: 180 | H21: 180 | I21: 180 | K21: - | L21: - | M21: - | N21: 1 | O21: - | P21: - | Q21: - | R21: 179 | S21: - | T21: - | U21: - | V21: - | W21: 300
C22: รวม สคจ.พิษณุโลก | D22: =COUNTA(D5:D21) -> 14 | F22: =SUM(F4:F21) -> 3116 | G22: =SUM(G4:G21) -> 223 | H22: =SUM(H4:H21) -> 2893 | I22: =SUM(I4:I21) -> 3116 | J22: =SUM(J4:J21) -> 0 | K22: =SUM(K4:K21) -> 143 | L22: =SUM(L4:L21) -> 78 | M22: =SUM(M4:M21) -> 0 | ... W22: =SUM(W4:W21) -> 7960

Sheet สระบุรี 
A1: ข้อมูลหน่วยโครงการในความรับผิดชอบและข้อมูลประชากร สคจ.สระบุรี
A2: ลำดับ | B2: หน่วยงาน/สังกัด | C2: ชื่อโครงการ | D2: รหัสโครงการ | E2: ลักษณะอาคาร | F2: จำนวนหน่วยตามประเภทโครงการ (ไม่รวมเช่าจัดประโยชน์) | I2: ประเภทโครงการ | K2: จำนวนหน่วยตามสัญญา | S2: อาคารคงเหลือ | W2: ข้อมูลประชากร | X2: หมายเหตุ
F3: หน่วยก่อสร้าง | G3: โครงการเพื่อเช่า | H3: โครงการเพื่อขาย | I3: เชิงสังคม | J3: เชิงพาณิชย์ | K3: เช่า | L3: เช่าเหมา | M3: เช่าจัดประโยชน์ | N3: เช่าซื้อ | O3: จะซื้อจะขาย | P3: ติดค้ำประกัน | Q3: รอโอนกรรมสิทธิ์ | R3: โอนกรรมสิทธิ์ | S3: ว่างพร้อมขาย | T3: ว่างไม่พร้อมขาย | U3: บ้านพักพนักงาน | V3: รวม | W3: จำนวนผู้อยู่อาศัยในชุมชน
A4: 10 | B4: สคจ.สระบุรี | C4: โครงการเคหะชุมชน | Z4: อัตรากำลัง
C5: สระบุรี 1 ระยะ 1 | D5: I00118 | E5: แนวราบ | F5: 456 | H5: 456 | I5: 456 | K5: - | L5: - | M5: - | N5: - | O5: - | P5: - | Q5: 1 | R5: 455 | S5: - | T5: - | U5: - | V5: - | W5: 900 | X5: ผู้เช่าซื้อเสียชีวิตอยู่ระหว่างติดตามทายาทมารับสิทธิ | Z5: - พนักงาน = 3 คน
C6: สระบุรี 1 ระยะ 2 | D6: I00119 | E6: แนวราบ | F6: 147 | H6: 147 | I6: 147 | K6: - | L6: - | M6: - | N6: - | O6: - | P6: - | Q6: - | R6: 147 | S6: - | T6: - | U6: - | V6: - | W6: 400 | Z6: 1. ว่าง | AA6: คจ.สระบุรี
C7: สระบุรี 2 ระยะ 1 | D7: I00120 | E7: แนวราบ | F7: 295 | H7: 295 | I7: 295 | K7: - | L7: - | M7: - | N7: 7 | O7: - | P7: - | Q7: 1 | R7: 286 | S7: - | T7: - | U7: 1 | V7: =SUM(S7:U7) -> 1 | W7: 600 | X7: ผู้เช่าซื้อเสียชีวิตอยู่ระหว่างติดตามทายาทมารับสิทธิ | Z7: 2. นางสาวนงลักษณ์ จากสกุล | AA7: พ.จัดการฯ 6
C8: สระบุรี 2 ระยะ 2 | D8: I39090 | E8: แนวราบ | F8: 483 | H8: 483 | I8: 483 | K8: - | L8: - | M8: - | N8: 12 | O8: - | P8: - | Q8: 466 | R8: 1 | S8: - | T8: 1 | U8: 3 | V8: =SUM(S8:U8) -> 4 | W8: 1000 | X8: ว่างไม่พร้อมขาย เป็นสำนักงาน | Z8: 3. นางอัชรา บุญชู | AA8: พ.จัดการฯ 6
C9: โครงการอาคารเช่า | Z9: 4. นางสาวมนัสพรรณ แสงแก้ว | AA9: พ.จัดการฯ 6
C10: อาคารสงเคราะห์พระพุทธบาท | D10: I00122 | E10: ตึกแถว 2 ชั้น | F10: 6 | G10: 6 | I10: 6 | K10: 6 | L10: - | M10: - | N10: - | O10: - | P10: - | Q10: - | R10: - | S10: - | T10: - | U10: - | V10: - | W10: 20 | Z10: - ลูกจ้าง 1 คน
C11: บ้านพักข้าราชการ จ.สระบุรี | D11: I50145 | E11: อาคารสูง 3 ชั้น | F11: 50 | G11: 50 | I11: 50 | K11: 31 | L11: - | M11: - | N11: - | O11: - | P11: - | Q11: - | R11: - | S11: 18 | T11: - | U11: 1 | V11: =SUM(S11:U11) -> 19 | W11: 50 | X11: ห้อง สนง. | Z11: 1. นางแก้วกานดา เรือนเพ็ชร | AA11: พ.ธุรการ (ปริญญาตรี)
C12: โครงการบ้านเอื้ออาทร
C13: สระบุรี (บ้านหมอ) | D13: I49212 | E13: บ้านเดี่ยว 2 ชั้น | F13: 165 | H13: 165 | I13: 165 | K13: - | L13: - | M13: - | N13: 58 | O13: 1 | P13: 1 | Q13: - | R13: 101 | S13: 4 | T13: - | U13: - | V13: =SUM(S13:U13) -> 4 | W13: 500
C14: สระบุรี (หนองไข่น้ำ) | D14: I51043 | E14: อาคารสูง 3 ชั้น | F14: 718 | H14: 718 | I14: 718 | K14: 239 | L14: - | M14: - | N14: 97 | O14: - | P14: 8 | Q14: - | R14: 138 | S14: 235 | T14: 1 | U14: - | V14: =SUM(S14:U14) -> 236 | W14: 500
C15: สระบุรี (แก่งคอย) ระยะ 1 | D15: I56003 | E15: บ้านเดี่ยว 2 ชั้น | F15: 120 | H15: 120 | I15: 120 | K15: 9 | L15: - | M15: - | N15: 29 | O15: - | P15: 13 | Q15: - | R15: 61 | S15: 7 | T15: 1 | U15: - | V15: =SUM(S15:U15) -> 8 | W15: 200
C16: สระบุรี | D16: I46045 | E16: บ้านเดี่ยว 2 ชั้น | F16: 278 | H16: 278 | I16: 278 | K16: 7 | L16: - | M16: - | N16: 114 | O16: 1 | P16: 6 | Q16: 3 | R16: 138 | S16: 9 | T16: - | U16: - | V16: =SUM(S16:U16) -> 9 | W16: 600
C17: สระบุรี ระยะ 3/2 (NPA) | D17: I47043 | E17: บ้านเดี่ยว 2 ชั้น | F17: 148 | H17: 148 | I17: 148 | K17: - | L17: - | M17: - | N17: - | O17: - | P17: - | Q17: - | R17: 148 | S17: - | T17: - | U17: - | V17: - | W17: 200
C18: โครงการเคหะชุมชนและบริการชุมชน (Pack)
C19: สระบุรี (บ้านหมอ) ส่วนที่ 1 | D19: I59032 | E19: บ้านเดี่ยว 2 ชั้น | F19: 110 | H19: 110 | I19: 110 | K19: - | L19: - | M19: - | N19: 45 | O19: 3 | P19: - | Q19: - | R19: 27 | S19: 35 | T19: - | U19: - | V19: =SUM(S19:U19) -> 35 | W19: 250
C20: สระบุรี (บ้านหมอ) ส่วนที่ 2 | D20: I59033 | E20: บ้านเดี่ยว 2 ชั้น | F20: 99 | H20: 99 | I20: 99 | K20: - | L20: - | M20: - | N20: 38 | O20: 27 | P20: - | Q20: 2 | R20: 6 | S20: 26 | T20: - | U20: - | V20: =SUM(S20:U20) -> 26 | W20: 60
C21: รวม สคจ.สระบุรี | D21: =COUNTA(D5:D20) -> 13 | F21: =SUM(F4:F20) -> 3075 | G21: =SUM(G4:G20) -> 56 | H21: =SUM(H4:H20) -> 3019 | I21: =SUM(I4:I20) -> 3075 | J21: =SUM(J4:J20) -> 0 | K21: =SUM(K4:K20) -> 292 | L21: =SUM(L4:L20) -> 0 | M21: =SUM(M4:M20) -> 0 | ... W21: =SUM(W4:W20) -> 5280

Sheet กำแพงเพชร
A1: ข้อมูลหน่วยโครงการในความรับผิดชอบและข้อมูลประชากร สคจ.กำแพงเพชร
A2: ลำดับ | B2: หน่วยงาน/สังกัด | C2: ชื่อโครงการ | D2: รหัสโครงการ | E2: ลักษณะอาคาร | F2: จำนวนหน่วยตามประเภทโครงการ (ไม่รวมเช่าจัดประโยชน์) | I2: ประเภทโครงการ | K2: จำนวนหน่วยตามสัญญา | S2: อาคารคงเหลือ | W2: ข้อมูลประชากร | X2: หมายเหตุ
F3: หน่วยก่อสร้าง | G3: โครงการเพื่อเช่า | H3: โครงการเพื่อขาย | I3: เชิงสังคม | J3: เชิงพาณิชย์ | K3: เช่า | L3: เช่าเหมา | M3: เช่าจัดประโยชน์ | N3: เช่าซื้อ | O3: จะซื้อจะขาย | P3: ติดค้ำประกัน | Q3: รอโอนกรรมสิทธิ์ | R3: โอนกรรมสิทธิ์ | S3: ว่างพร้อมขาย | T3: ว่างไม่พร้อมขาย | U3: บ้านพักพนักงาน | V3: รวม | W3: จำนวนผู้อยู่อาศัยในชุมชน
A4: 11 | B4: สคจ.กำแพงเพชร | C4: โครงการเคหะชุมชน | Z4: อัตรากำลัง
C5: เคหะชุมชนกำแพงเพชร ระยะ 1 | D5: I39029 | E5: แนวราบ | F5: 299 | H5: 299 | I5: 299 | K5: - | L5: - | M5: - | N5: 5 | O5: - | P5: - | Q5: - | R5: 289 | S5: - | T5: - | U5: 5 | V5: =SUM(S5:U5) -> 5 | W5: 1196 | Z5: - พนักงาน = 4 คน
C6: โครงการอาคารเช่า | Z6: 1. นางจินตนา วิกสุวรรณ | AA6: คจ.กำแพงเพชร
C7: อาคารเช่าสงเคราะห์ จ.ตาก | D7: I00107 | E7: แนวราบ | F7: 4 | G7: 4 | I7: 4 | K7: 4 | L7: - | M7: - | N7: - | O7: - | P7: - | Q7: - | R7: - | S7: - | T7: - | U7: - | V7: - | W7: 10 | Z7: 2. นางชลภัท ทองน้อยยิ่ง | AA7: พ.จัดการฯ 6
C8: อาคารเช่าข้าราชการ อ.เมือง จ.ตาก | D8: I48012 | E8: แนวสูง | F8: 72 | G8: 72 | I8: 72 | K8: 57 | L8: - | M8: - | N8: - | O8: - | P8: - | Q8: - | R8: - | S8: 14 | T8: 1 | U8: - | V8: =SUM(S8:U8) -> 15 | X8: ห้องสำนักงาน Cemco | Z8: 3. น.ส.จิราภรณ์ พงภมร | AA8: พ.จัดการฯ 6
C9: อาคารเช่าข้าราชการ อ.แม่สอด จ.ตาก | D9: I47086 | E9: แนวสูง | F9: 79 | G9: 79 | I9: 79 | K9: - | L9: 79 | M9: - | N9: - | O9: - | P9: - | Q9: - | R9: - | S9: - | T9: - | U9: - | V9: - | Z9: 4. นายอำพล มนต์เดช | AA9: พ.จัดการฯ 4
C10: โครงการบ้านเอื้ออาทร | Z10: - ลูกจ้าง = 1 คน
C11: จ.กำแพงเพชร | D11: I49170 | E11: แนวราบ | F11: 472 | H11: 472 | I11: 472 | K11: - | L11: - | M11: - | N11: 8 | O11: - | P11: - | Q11: 4 | R11: 460 | S11: - | T11: - | U11: - | V11: - | W11: 944 | Z11: 1. น.ส.ภัทรียา วิกสุวรรณ | AA11: พ.ธุรการ (ปวส.)
C12: จ.ตาก (ไม้งาม) | D12: I47085 | E12: แนวราบ | F12: 469 | H12: 469 | I12: 469 | K12: - | L12: - | M12: - | N12: 19 | O12: - | P12: - | Q12: 19 | R12: 431 | S12: - | T12: - | U12: - | V12: - | W12: 1876
C13: จ.ตาก (แม่สอด) | D13: I47084 | E13: แนวราบ | F13: 258 | H13: 258 | I13: 258 | K13: - | L13: - | M13: - | N13: 4 | O13: - | P13: - | Q13: 8 | R13: 246 | S13: - | T13: - | U13: - | V13: - | W13: 1032
C14: โครงการเคหะชุมชนและบริการชุมชน (Pack)
C15: จ.กำแพงเพชร | D15: I59054 | E15: แนวราบ | F15: 26 | H15: 26 | J15: 26 | K15: - | L15: - | M15: - | N15: 4 | O15: - | P15: - | Q15: - | R15: 2 | S15: 18 | T15: 2 | U15: - | V15: =SUM(S15:U15) -> 20 | W15: 5 | X15: บ้านตัวอย่าง 1 หน่วย
C16: จ.ตาก ส่วน 1 (142) | D16: I59060 | E16: แนวราบ | F16: 142 | H16: 142 | I16: 142 | K16: - | L16: - | M16: - | N16: 29 | O16: - | P16: - | Q16: - | R16: 113 | S16: 1 | T16: - | U16: - | V16: 0 | W16: 560
C17: จ.ตาก ส่วน 2 (180) | D17: I59061 | E17: แนวราบ | F17: 180 | H17: 180 | I17: 180 | K17: - | L17: - | M17: - | N17: 29 | O17: 1 | P17: - | Q17: - | R17: 150 | S17: 1 | T17: - | U17: - | V17: 0 | W17: 720
C18: รวม สคจ.กำแพงเพชร | D18: =COUNTA(D5:D17) -> 10 | F18: =SUM(F4:F17) -> 2001 | G18: =SUM(G4:G17) -> 155 | H18: =SUM(H4:H17) -> 1846 | I18: =SUM(I4:I17) -> 1975 | J18: =SUM(J4:J17) -> 26 | K18: =SUM(K4:K17) -> 61 | L18: =SUM(L4:L17) -> 79 | M18: =SUM(M4:M17) -> 0 | ... W18: =SUM(W4:W17) -> 6343
